{"text_format":"1","workbook":"xlsx","n_sheets":14,"sheets":["AppQt.Data","AppAn.Data","ユーザーガイドと目次","免責事項","エグゼクティブ・サマリー","スナップショット","金需給","宝飾品","地金&金貨","消費者","国民一人当たりの需要","価格","インドにおける供給量","ETFs"],"not_rendered":{"charts":0,"images":2,"macros":1,"external_links":7,"defined_names":124,"comments":0,"pivot_tables":0},"unopened":[],"bounds":{"document_bytes":16777216,"sheet_cells":100000,"rows_first":2000,"rows_last":500,"rows_between":2000,"halvings":0,"cell_chars":16384,"cell_head_chars":4096},"cells_cut":0,"cells_raw":0,"read":"whole","date_system":"1900"}

{"sheet":"AppQt.Data","index":0,"n_rows":175,"n_cols":64,"rows_kept":175,"cut":false,"hidden":true,"merged":[]}
[null,null,null,null,null,null,null,null,null,null,null,null,76,77,78,79,80,81,82,83,84,85,86,87,88,89,90,91,92,93,94,95,96,97,98,99,100,101,102,103,104,105,106,107,108,109,110,111,112,113,114,115,116,117,118,119,120,121,122,123,124,125,126,127]
["トン","Tonnes","吨",null,null,"Dates",null,null,null,"Active quarter",null,"Dates","Q1'10","Q2'10","Q3'10","Q4'10","Q1'11","Q2'11","Q3'11","Q4'11","Q1'12","Q2'12","Q3'12","Q4'12","Q1'13","Q2'13","Q3'13","Q4'13","Q1'14","Q2'14","Q3'14","Q4'14","Q1'15","Q2'15","Q3'15","Q4'15","Q1'16","Q2'16","Q3'16","Q4'16","Q1'17","Q2'17","Q3'17","Q4'17","Q1'18","Q2'18","Q3'18","Q4'18","Q1'19","Q2'19","Q3'19","Q4'19","Q1'20","Q2'20","Q3'20","Q4'20","Q1'21","Q2'21","Q3'21","Q4'21","Q1'22","Q2'22","Q3'22","Q4'22"]
["百万米ドル","US$mn","美元$百万",null,"Current","Q4'22",64,null,null,4,null,"Quarter",1,2,3,4,1,2,3,4,1,2,3,4,1,2,3,4,1,2,3,4,1,2,3,4,1,2,3,4,1,2,3,4,1,2,3,4,1,2,3,4,1,2,3,4,1,2,3,4,1,2,3,4]
[null,31.1035,null,null,"Last qtr","Q3'22",63,null,null,null,null,"Year","2010","2010","2010","2010","2011","2011","2011","2011","2012","2012","2012","2012","2013","2013","2013","2013","2014","2014","2014","2014","2015","2015","2015","2015","2016","2016","2016","2016","2017","2017","2017","2017","2018","2018","2018","2018","2019","2019","2019","2019","2020","2020","2020","2020","2021","2021","2021","2021","2022","2022","2022","2022"]
[null,32150.746599999999,null,null,"Year ago","Q4'21",60,null,null,null,null,null,77,78,79,80,81,82,83,84,85,86,87,88,89,90,91,92,93,94,95,96,97,98,99,100,101,102,103,104,105,106,107,108,109,110,111,112,113,114,115,116,117,118,119,120,121,122,123,124,125,126,127,128]
[null,null,null,null,null,null,null,null,null,null,null,null,75,76,77,78,79,80,81,82,83,84,85,86,87,88,89,90,91,92,93,94,95,96,97,98,99,100,101,102,103,104,105,106,107,108,109,110,111,112,113,114,115,116,117,118,119,120,121,122,123,124,125,126]
[null,null,null,null,null,"LBMA Gold Price (US$/oz)",null,null,null,null,"LBMA Gold Price (US$/oz)","Gold",1109.1199999999999,1196.74,1226.75,1366.78,1386.27,1506.13,1702.12,1688.01,1690.57,1609.49,1652,1721.79,1631.77,1414.8,1326.28,1276.1600000000001,1293.06,1288.3900000000001,1281.94,1201.4000000000001,1218.45,1192.3499999999999,1124.31,1106.45,1182.56,1259.6199999999999,1334.78,1221.55,1219.49,1256.5899999999999,1277.9100000000001,1275.42,1329.28,1305.99,1213.19,1226.28,1303.79,1309.3900000000001,1472.47,1480.96,1582.8,1711.13,1908.56,1874.23,1794.01,1816.48,1789.52,1795.25,1877.16,1870.58,1728.91,1725.85]
[null,null,null,null,null,null,null,null,null,null,null,null,13,14,15,16,17,18,19,20,21,22,23,24,25,26,27,28,29,30,31,32,33,34,35,36,37,38,39,40,41,42,43,44,45,46,47,48,49,50,51,52,53,54,55,56,57,58,59,60,61,62,63,64]
[null,null,null,"Match row","Check col","Lookup","Chart Number","Ser.no","axis","Series","Legend"]
[null,"YoY",null,null,"Cover",null,"Cover"]
[null,null,null,10,"Mine production","Table1.ton",null,1,null,"Mine production","Mine production",null,631.99953088294683,674.59830558143221,729.70253344207617,718.1647315646178,667.5529702451538,719.68003710327093,752.67892458641256,736.9499911528203,685.84214021391256,729.4583714262609,769.49469946494162,772.40608322734397,720.5543294360325,770.10357413020949,838.81755168188465,837.2915144726303,749.23257531621118,792.2973962949884,862.35994102468976,866.60515105392972,787.67075235379559,838.22913331196423,867.45616130642509,867.95424506392533,853.76710906693654,859.21538742624148,881.15842779112654,915.41964391746467,830.06297231969177,883.03354972880788,924.3562618752137,935.68653500250639,851.33209746593445,898.81993398033853,955.38950505087632,949.73693695198199,845.08494742812547,878.09310695107126,933.13927859866271,938.20893048742255,838.1515647497456,787.89935045919856,920.9429062758835,925.40195440012769,830.17084712101439,873.03350728193891,927.71957580595563,938.00017308739018,844.23473065036285,892.0715368265852,945.56537279675285,930.02405806107481]
[null,null,null,11,"Net producer hedging","Table1.ton",null,2,null,"Net producer hedging","Net producer hedging",null,-11.739016255295125,14.821564422044482,-55.952728586606753,-55.938228753415366,9.8728675225179376,18.428600956949339,5.0198431726059365,-10.795815045599571,-0.38171947970013881,-10.451475821417958,1.2553548928150469,-35.737523504016707,-5.4209793160208699,-5.8187674424837557,-2.1089681583064737,-14.590727425549062,12.368479407438514,50.265012270670184,-8.1067923900384926,50.380598875882583,-2.9178221849737724,-15.066396794767968,14.203211962070299,16.672952000352723,56.067419617801448,23.819434915185639,-17.821938411996701,-24.43061075543018,-15.579329998032495,-8.5201340557490557,7.9145397225498035,-9.3351316822858852,37.521208400763555,-37.679407189204795,-24.102218908115418,12.622822860712855,-7.0098120318571846,50.905945179903625,-4.446010597738808,-33.294133389495926,40.41948551138681,-35.393829628086912,-21.876924406530943,-22.223205779415871,4.8378873581515718,-17.318278461641842,-12.375997296314267,2.2018889373865136,10.912839607602665,3.6902094705663946,-10.865596645956355,-5.238398110112537]
[null,null,null,13,"Recycled gold","Table1.ton",null,3,null,"Recycled gold","Recycled gold",null,376.28458242821159,455.23419273734811,382.24738972628302,457.39768240637022,356.97589964630549,402.82338649925373,454.36037430176117,412.17165996307222,400.9522029027446,400.79253266525177,443.8556207589325,391.16239885350603,341.75734465506372,271.37940016654386,299.73876103277314,282.43282535326523,358.72498537792768,260.67459021609835,254.1407832744554,256.04821111614012,337.5011512239837,253.62700607757517,248.82342949222109,227.12339372862897,341.55951838480468,328.2826245846976,318.46750966709612,243.83293554921124,273.24757374851112,270.25183862768478,303.50781441965967,265.38555429673715,265.46832833153604,280.09200372709103,309.05600030719393,277.08124191028014,281.87618696128902,305.66344886356723,355.76052754098635,332.35734469828191,301.00339785298013,285.19460411187578,377.95619638206688,328.90122215753132,269.67743820673331,278.55169304783232,292.85732444165768,295.07364490476289,295.98392860288936,286.05615519356712,269.8159976153587,292.25693317775671]
[null,null,null,14,"Total supply","Table1.ton",null,4,null,"Total supply","Total supply",null,996.54509705586327,1144.6540627408249,1055.9971945817524,1119.6241852175726,1034.4017374139771,1140.932024559474,1212.0591420607798,1138.325836070293,1086.4126236369571,1119.7994282700947,1214.6056751166891,1127.8309585768334,1056.8906947750754,1035.6642068542697,1136.4473445563513,1105.1336124003465,1120.3260401015773,1103.2369987817569,1108.3939319091066,1173.0339610459523,1122.2540813928056,1076.7897425947713,1130.4828027607166,1111.7505907929071,1251.3940470695427,1211.3174469261248,1181.803999046226,1134.8219687112457,1087.7312160701704,1144.7652543007437,1235.7786160174232,1191.7369576169576,1154.3216341982341,1141.2325305182248,1240.3432864499548,1239.441001722975,1119.9513223575573,1234.6625009945421,1284.4537955419103,1237.2721417962084,1179.5744481141126,1037.7001249429875,1277.0221782514195,1232.0799707782433,1104.6861726858992,1134.2669218681294,1208.200902951299,1235.2757069295396,1151.1314988608549,1181.8179014907187,1204.5157737661552,1217.0425931287191]
[null,null,null,17,"Jewellery fabrication","Table1.ton",null,5,null,"Jewellery fabrication","Jewellery fabrication",null,550.60657189275901,423.12247201041913,548.84403094124957,521.18424317581992,596.46669847646081,528.19161422805655,501.19700737856624,466.27101394530121,553.02924573468488,491.7597643615793,546.50246616546315,549.57478492428186,598.74009797816871,803.81707602059714,692.34157708309476,640.39742970231578,615.94724858867255,620.33695294574045,651.29424351569276,656.80213957917965,623.4942018217713,552.37174725711122,673.10310768984164,630.27087969372053,482.91003423479196,454.26140831585383,515.38239466598338,566.21614775589126,548.60256782686588,546.67630243129963,539.78056744758555,622.41066554881695,530.60268313030178,532.94994316695283,590.61294968990967,635.85034390354713,543.36088509511751,557.20598047847807,486.00969276063881,565.50009395544487,329.39975978842773,196.17150965850391,314.69875523607942,483.69458518057456,538.95803820049832,456.58263814187688,515.24736077948558,719.84774542533989,515.46900347456062,491.5721685766477,580.2050361460183,602.51233948795277]
[null,null,null,18,"Jewellery consumption","Table1.ton",null,6,null,"Jewellery consumption","Jewellery consumption",null,534.99436968507075,422.81721644398095,523.15108083623215,576.2849431237496,580.05925423881001,522.94729701674453,484.09458151532505,517.34456087293506,540.74934881411707,499.80288908846694,519.17214064536267,597.4806038152542,616.14121648389005,834.26159008502088,648.93661404968691,628.634939906157,627.03723228326078,603.09033614951579,610.23368100932339,693.85725788375396,615.96774517276071,533.13432378586867,641.43964037185526,670.29956407173984,491.68032235355219,461.96414418713528,508.1649282789769,643.41879727054527,529.08545471943171,532.4905129605919,514.79385351017913,665.64093022569762,529.51083081082015,522.5966222885429,548.37559769995528,649.73708600083762,536.12501462107616,530.57829964557527,469.77274485773899,590.2440946640254,311.61184180335545,243.08780225544771,333.04369271792655,510.24300267458796,512.1968862585984,437.55797324284941,477.1037405294735,720.87971057320249,474.6612783200589,457.8027112106775,524.94925024596898,628.75513363834023]
[null,null,null,19,"Jewellery inventory","Table1.ton",null,7,null,"Jewellery inventory","Jewellery inventory",null,15.612202207688256,0.30525556643817708,25.692950105017417,-55.100699947929684,16.407444237650793,5.2443172113120227,17.102425863241194,-51.073546927633856,12.279896920567808,-8.0431247268876405,27.330325520100473,-47.905818890972341,-17.401118505721342,-30.444514064423743,43.404963033407853,11.762489796158775,-11.089983694588227,17.246616796224657,41.060562506369365,-37.055118304574307,7.5264566490105835,19.23742347124255,31.663467317986374,-40.028684378019307,-8.7702881187602202,-7.7027358712814475,7.2174663870064819,-77.202649514654013,19.51711310743417,14.185789470707732,24.986713937406421,-43.230264676880665,1.0918523194816316,10.353320878409932,42.237351989954391,-13.886742097290494,7.2358704740413486,26.627680832902797,16.236947902899828,-24.744000708580529,17.787917985072283,-46.916292596943805,-18.344937481847126,-26.548417494013393,26.761151941899925,19.024664899027471,38.143620250012077,-1.0319651478625929,40.807725154501725,33.769457365970197,55.255785900049318,-26.242794150387454]
[null,null,null,20,"Technology","Table1.ton",null,8,null,"Technology","Technology",null,114.35531161060909,115.01672998316909,118.14823612480782,113.14545916792481,110.61105393639902,112.48507514772686,109.34356002256681,96.69780716066505,100.77411590951409,97.365441128704205,95.427565675604129,88.706951528972681,89.857821653900814,92.883574074460597,89.550253261103592,83.475998984537014,83.29070956963082,86.466352479891384,89.448348505833863,89.181457131950438,83.60708127472239,83.676931186633169,82.8657825497299,81.523951236352715,76.290012339931124,79.968593577467232,82.43494518341933,84.300016618280267,78.768879728220654,81.356486895742805,84.157145416528266,88.302453917405089,81.797803410494282,83.298203554253988,85.383728950275213,84.314483425066513,79.906159954353299,80.696816933833873,82.014876211563063,83.346343694437209,72.840218632172324,68.719105362006729,77.174676620756671,84.022310315582743,81.036182065989991,79.845249673008439,83.420220444733218,85.889723167756514,80.955970860229328,78.526482311424331,76.994684890161395,72.047304167732818]
[null,null,null,21,"Electronics","Table1.ton",null,9,null,"Electronics","Electronics",null,79.029973649027653,80.42565731777556,85.849570598069093,81.422780926643711,80.097600666524571,83.17678498864646,81.496125771100168,71.80098785904211,75.166511909210456,73.056314304333668,72.93488438244492,67.967800975477061,69.075200301657617,71.649848599148328,71.763365571540405,66.747745503509449,65.763523223820556,68.693070126695545,71.568899432070523,71.504573932070542,66.243848858610932,65.808876339365099,65.458118503849022,64.630110573491891,59.871097861470645,62.963158312040022,65.301994561353538,67.477432668302086,62.356411857774681,64.363364696272953,67.352579571669665,71.509637210614542,65.330381931331658,66.486454535125503,68.767147992863599,67.778947685839384,63.542816964447162,64.47381987686056,66.441844863385555,67.79784896032956,58.784721409133347,58.029667035536797,63.272194908094292,69.243330373875565,66.213946134008381,66.240461927653286,68.995787806225167,70.625002021003937,66.225699885479557,64.552811609735983,63.179446661961855,57.73744699881042]
[null,null,null,22,"Other Industrial","Table1.ton",null,10,null,"Other Industrial","Other Industrial",null,22.862685175952677,22.797552822889159,21.336289861484971,21.329571760553236,20.700363072954374,20.003628629784131,19.092271349673581,16.596797911105853,17.819146761495247,16.84840896584592,15.758892525084718,14.300529199046963,14.652034633493201,15.206867662812272,12.253553158313181,11.572415981027561,12.283872595810269,12.926398603195841,13.06949532376334,12.943359449879896,12.689695641111458,13.180054672268065,12.760836670880883,12.344014087860826,11.951576174460477,12.518124657427201,12.760869902065794,12.524073117978176,12.189703480205965,12.758101119789858,12.7737054576586,12.939738012070547,12.485713141127418,12.826505982635688,12.882246985699613,12.96510737840153,12.834209693031639,12.517409045146362,12.085819726558311,12.340582714450532,10.854742335328208,8.1159271598951293,10.765635948998503,11.834020868438536,11.92401337865638,10.719951253109096,11.580998098387369,12.538151265966571,12.006213914795428,11.32931823913102,11.344074087958283,11.870970270902879]
[null,null,null,23,"Dentistry","Table1.ton",null,11,null,"Dentistry","Dentistry",null,12.462652785628766,11.793519842504361,10.962375665253754,10.393106480727861,9.8130901969200668,9.3046615292962631,8.7551629017930566,8.3000213905170881,7.7884572388083937,7.4607178585246183,6.7337887680744917,6.4386213544486584,6.1305867187500001,6.0268578125000003,5.5333345312499995,5.1558375000000005,5.2433137500000004,4.8468837500000008,4.80995375,4.7335237499999998,4.6735367750000005,4.6880001749999991,4.646827375,4.549826575,4.4673383040000001,4.4873106079999996,4.3720807199999996,4.2985108319999998,4.2227643902399992,4.2350210796799992,4.0308603871999997,3.8530786947200002,3.9817083380351992,3.9852430364927991,3.7343339717120005,3.5704283608255998,3.5291332968744955,3.705588011826944,3.4872116216192004,3.2079120196571136,3.200754887710771,2.5735111665747965,3.1368457636638718,2.9449590732686342,2.8982225533252324,2.8848364922460568,2.8434345401206786,2.7265698807860019,2.724057059954347,2.6443524625573147,2.471164140241263,2.4388868980195215]
[null,null,null,24,"Investment","Table1.ton",null,12,null,"Investment","Investment",null,273.98438617186218,609.79209709715155,371.6926223325392,361.17787803031928,342.99557209503325,392.70192836810526,531.54468032602131,477.07172004371296,411.56078035139581,294.90904980105142,451.2092164459192,463.3351163744947,251.51304437373599,177.1478250071653,203.28905027211547,165.74971529053678,284.67266685071343,225.94057135792252,190.42822268760324,199.67961757983599,294.5129206478843,198.48317359780137,239.78171210278322,234.20325527294636,614.68352541917807,459.80541287924711,345.17485613269531,194.55957905490078,413.96649903846981,311.29418902729213,264.88100216568552,324.86585133919505,290.40475120079424,277.90397762042414,196.63611976186729,399.05486128434507,301.18781216753507,292.72540482238031,412.0637939709967,265.08397325212337,553.75291469053286,592.81201736673074,505.47556963419458,144.22047278273351,178.24533771160776,288.90560200913819,231.3267748608227,303.40052159741083,553.8546514837642,210.15295132350974,97.046176194922708,245.69896228480258]
[null,null,null,25,"Total bar and coin","Table1.ton",null,13,null,"Total bar and coin","Total bar and coin",null,252.01793543186216,306.15778790715143,317.79766550253919,328.32092443031928,396.35238455503327,333.64038851810528,418.61423416602139,353.36559729371294,346.87527773139584,296.16589811105138,303.58087185591916,375.72825777449475,443.16924888373597,599.40350003716514,326.99277432211545,360.14562556053681,293.2162371207134,248.75790804792251,240.90581708760328,283.768482629836,266.72729141788432,218.47170469780136,305.01386151278314,300.50369192294636,272.20296144917796,220.98687775924702,199.96661480269529,379.72530450490086,304.05328408846981,248.37124662729215,232.92731662568548,258.70741863919511,261.25433421079424,247.99540310042417,297.41020610186729,283.78949025434491,258.24655255753504,219.7440227723803,150.36127411099673,242.52097013212341,253.33349147053283,159.29060820673084,221.45572739419447,269.75061042273353,354.5682895116077,248.21392722913816,261.7102278308227,326.39133260741085,283.18829545376406,257.51801139350965,341.14212572492272,335.26881525480258]
[null,null,null,26,"Bars","Table1.ton",null,14,null,"Bars","Bars",null,189.79848114802644,226.86390768313976,239.62360525752359,264.89640342393068,316.5910323554823,262.63830216867433,330.05222285066066,280.22400022323995,273.07426782650697,225.33507174175432,231.42056026163945,293.36557163084552,341.87965441743233,476.42264640676524,267.34676283111594,271.72812379690293,210.60550833083593,179.65594996242783,183.06130903443434,207.22093543967472,199.52162254833448,157.47878928374635,207.62741485694721,225.76338685131478,210.20800356870831,161.14372713276521,147.26992793567268,278.73835766140309,245.57254939207067,181.24422246569461,165.0465784988954,187.98701655924182,195.29951588529713,179.17257514787426,207.5951749953141,193.5220109096162,186.09668963515153,151.03090920653636,92.678910140180861,153.64758227340693,160.07560734206166,96.20181972547968,114.74044593264919,170.82420075863683,233.96690754527631,172.58074106409913,180.31635935402241,223.94280480632094,180.56033779207982,170.58972795248818,221.19724405125032,218.57134059128694]
[null,null,null,27,"Official Coins","Table1.ton",null,15,null,"Official Coins","Official Coins",null,39.597481748265722,63.682450265064972,53.68420736227602,38.938662146854426,55.803044475148766,46.857114943526589,69.606120334381501,56.028017693924852,47.723847051231573,48.38245729083188,42.864558583101235,48.500772218486055,71.679452276996486,86.567821920180435,42.951128733627804,69.695942241321063,64.835922343075623,49.30238386049276,36.006186683886611,55.317665740225152,51.059861824921036,45.978139487640973,74.689865903474512,52.614705836955132,49.255593135468104,46.127976925230755,34.571636013626218,77.91614328989526,41.706160223219335,47.967057098481042,50.211863950728358,48.233528720352631,50.529999721754507,51.55397229376819,71.526923845117508,68.27289924950999,55.604461384719308,50.302592262880957,44.869719305568324,69.875570946297444,78.743085938028727,51.558356728623743,84.137320376668157,78.430250221841064,101.95257503205133,62.28137229394931,57.462968308511151,73.547309342998631,84.580640923328716,70.790796049322864,89.410139893449497,90.041760662364169]
[null,null,null,28,"Medals/Imitation Coins","Table1.ton",null,16,null,"Medals/Imitation Coins","Medals/Imitation Coins",null,22.621972535570027,15.611429958946696,24.489852882739577,24.48585885953419,23.958307724402228,24.144971405904371,18.955890980979234,17.113579376548106,26.077162853657263,22.448369078465166,29.295753011178469,33.861913925163115,29.610142189307158,36.413031710219421,16.694882757371776,18.721559522312806,17.774806446801794,19.79957422500193,21.838321369282294,21.229881449936222,16.145807044628778,15.014775926414055,22.696580752361427,22.125599234676436,12.739364745001527,13.715173701251002,18.12505085339637,23.070803553602495,16.774574473179801,19.159967063116515,17.668874176061703,22.486873359600722,15.424818603742674,17.268855658781685,18.288107261435695,21.994580095218758,16.545401537664191,18.410521302962991,12.81264466524758,18.997816912419108,14.514798190442507,11.530431752627436,22.57796108487711,20.496159442255664,18.648806934280117,13.351813871089787,23.930900168289156,28.901218458091286,18.047316738355452,16.137487391698539,30.53474178022293,26.655714001151456]
[null,null,null,29,"ETFs & similar products","Table1.ton",null,17,null,"ETFs & similar products","ETFs & similar products",null,21.966450740000013,303.63430919000007,53.894956830000019,32.856953599999997,-53.35681246,59.061539849999988,112.93044615999996,123.70612275000002,64.685502619999994,-1.2568483099999739,147.62834459000004,87.606858599999953,-191.65620450999998,-422.25567502999985,-123.70372404999998,-194.39591027000003,-8.5435702699999787,-22.817336689999987,-50.477594400000029,-84.08886505000001,27.785629229999991,-19.988531099999999,-65.232149409999906,-66.300436650000009,342.48056397000005,238.81853512000009,145.20824133000002,-185.16572545000008,109.91321494999998,62.922942399999997,31.953685540000045,66.158432699999963,29.15041699,29.908574519999966,-100.77408634000001,115.26537103000013,42.941259610000031,72.981382049999993,261.70251985999994,22.563003119999962,300.41942322,433.52140915999996,284.01984224000012,-125.53013764000002,-176.32295179999994,40.691674780000014,-30.383452969999993,-22.990811010000005,270.6663560300002,-47.365060069999913,-244.09594953000001,-89.569852969999985]
[null,null,null,30,"Central banks & other inst.","Table1.ton",null,18,null,"Central banks & other inst.","Central banks & other inst.",null,59.710230660943424,14.21425685564013,24.0358804834521,-18.809865495559784,142.46376118248392,69.444805288669755,148.80803935164806,120.06989158441145,122.47402309680066,170.68999645132308,117.75585547280566,158.26341333077704,170.54748589253177,181.43536849609188,126.88124796199524,150.58624953438877,118.797971592075,169.59630471407823,176.981047104867,135.75672346258781,103.06531538823977,141.35956601976693,172.40502549979351,162.72038872403883,110.58790150734346,84.924372128282158,88.950645787159829,110.39690522362274,92.042883620806009,96.26125553099844,96.593428753139875,93.658524797272833,84.797352085991974,152.77100556128966,240.54509594416706,178.11566138670523,146.23106728370047,227.81036495733701,113.45774419717108,117.91352487545171,140.7671603277517,63.736923036798871,-10.597805901357777,61.038442955950032,115.60588090574213,209.64359144938888,90.564723027824073,34.298228360943142,88.469231895360323,184.99896511436705,445.12380935930202,417.09731589610442]
[null,null,null,31,"Gold demand","Table1.ton",null,19,null,"Gold demand","Gold demand",null,998.65650033617374,1162.1455559463798,1062.7207698820487,976.69771487850426,1192.5370856903771,1102.8234230325586,1290.8932870788026,1160.1104327340906,1187.8381650923955,1054.724251742658,1210.8951037597922,1259.8802661585262,1110.6584498983373,1255.2838435983149,1112.0621285783091,1040.2093935117784,1102.7085966010918,1102.3401814976326,1108.1518618139969,1081.4199377535538,1104.6795191326178,975.89141806131261,1168.1556278421483,1108.7184749270584,1284.4714735012446,1078.9597869008503,1031.9428417692579,955.47264865269494,1133.3808302143623,1035.588233885333,985.41214378293921,1129.2374956026899,987.60258982758228,1046.9231299029207,1113.1778943462191,1297.3353499996638,1070.6859245007063,1158.438567192029,1093.5461071403697,1031.8439357774573,1096.7600534388846,921.43955542404035,886.75119558967288,772.97581123484088,913.84543888383814,1034.9770812734125,920.55907911286567,1143.4362185514503,1238.7488577139143,965.25056732594885,1199.3697065904043,1337.3559218365926]
[null,null,null,32,"OTC and other","Table1.ton",null,20,null,"OTC and other","OTC and other",null,-2.1114032803104692,-17.491493205554889,-6.723575300296261,142.92647033906837,-158.13534827640001,38.108601526915436,-78.834145018022809,-21.784596663797629,-101.42554145543841,65.075176527436724,3.710571356896935,-132.0493075816928,-53.76775512326185,-219.61963674404524,24.385215978042197,64.924218888568021,17.617443500485479,0.89681728412438133,0.24207009510973876,91.614023292398542,17.574562260187804,100.89832453345866,-37.672825081431711,3.0321158658487093,-33.077426431701952,132.35766002527453,149.86115727696802,179.3493200585508,-45.649614144191901,109.17702041541065,250.36647223448404,62.499462014267692,166.71904437065177,94.309400615304185,127.16539210373571,-57.894348276688788,49.265397856850996,76.223933802513102,190.90768840154055,205.4282060187511,82.814394675227959,116.26056951894714,390.27098266174664,459.10415954340237,190.8407338020611,99.289840594716907,287.64182383843331,91.8394883780893,-87.617358853059386,216.56733416476982,5.1460671757508862,-120.31332870787355]
[null,null,null,33,"Total demand","Table1.ton",null,21,null,"Total demand","Total demand",null,996.54509705586327,1144.6540627408249,1055.9971945817524,1119.6241852175726,1034.4017374139771,1140.932024559474,1212.0591420607798,1138.325836070293,1086.4126236369571,1119.7994282700947,1214.6056751166891,1127.8309585768334,1056.8906947750754,1035.6642068542697,1136.4473445563513,1105.1336124003465,1120.3260401015773,1103.2369987817569,1108.3939319091066,1173.0339610459523,1122.2540813928056,1076.7897425947713,1130.4828027607166,1111.7505907929071,1251.3940470695427,1211.3174469261248,1181.803999046226,1134.8219687112457,1087.7312160701704,1144.7652543007437,1235.7786160174232,1191.7369576169576,1154.3216341982341,1141.2325305182248,1240.3432864499548,1239.441001722975,1119.9513223575573,1234.6625009945421,1284.4537955419103,1237.2721417962084,1179.5744481141126,1037.7001249429875,1277.0221782514195,1232.0799707782433,1104.6861726858992,1134.2669218681294,1208.200902951299,1235.2757069295396,1151.1314988608549,1181.8179014907187,1204.5157737661552,1217.0425931287191]
[null,"YoY",null,null,"Snapshot",null,"Snapshot"]
[null,0.20592120651414203,null,49,"World total","Table2.ton",null,1,null,"World total","World total",null,534.99436968507075,422.81721644398095,523.15108083623215,576.2849431237496,580.05925423881001,522.94729701674453,484.09458151532505,517.34456087293506,540.74934881411707,499.80288908846694,519.17214064536267,597.4806038152542,616.14121648389005,834.26159008502088,648.93661404968691,628.634939906157,627.03723228326078,603.09033614951579,610.23368100932339,693.85725788375396,615.96774517276071,533.13432378586867,641.43964037185526,670.29956407173984,491.68032235355219,461.96414418713528,508.1649282789769,643.41879727054527,529.08545471943171,532.4905129605919,514.79385351017913,665.64093022569762,529.51083081082015,522.5966222885429,548.37559769995528,649.73708600083762,536.12501462107616,530.57829964557527,469.77274485773899,590.2440946640254,311.61184180335545,243.08780225544771,333.04369271792655,510.24300267458796,512.1968862585984,437.55797324284941,477.1037405294735,720.87971057320249,474.6612783200589,457.8027112106775,524.94925024596898,628.75513363834023]
[null,0.49994287633794965,null,9,"India","Table2.ton",null,2,null,"India","India",null,190.86518726172773,117.27024530928182,166.61232100456573,186.90895298625648,198.75967692652551,179.78178544067305,127.0322309722761,113.73756841237801,147.52604278294368,133.8356787238273,147.19689776680727,166.60891343254167,144.65052104445505,188.53390171165518,146.16233246560444,138.08302599790261,123.68849937180565,151.56657694526021,183.08347948089079,169.15277480971457,150.70482133800485,121.47015904540478,214.13879867766045,175.98326126082318,79.777117136462749,89.838518822237376,152.69484303324532,182.19829974779267,123.72511020516356,160.95005276780358,134.79821424274854,182.42781676708637,119.20959310823409,149.94356069198909,148.78774380416081,180.0700076737572,125.42837833676344,168.64313127578745,101.56630420270452,148.99838433648088,73.861008333646254,43.974826558568118,60.795732737081813,137.30112407542836,126.52267742523097,94.265206613627214,125.08749547978633,264.98816260626245,94.19622134219739,140.28577901804081,146.22440274173931,219.6926744400335]
[null,-3.1902367594058512E-2,null,13,"China","Table2.ton",null,3,null,"China","China",null,121.01434971672106,91.090084713148556,118.75178022784213,131.09183919589137,154.34011068977372,114.56032392038105,140.36323631772828,147.91586419667325,168.55019214673428,132.13723486262006,143.33721018578797,155.33337917504923,219.84547060050474,326.9375507124181,229.43655405348454,162.57592819573108,235.95629185094433,184.56520793657438,181.04223062275167,205.26983783961629,219.8150944560285,172.48779437834673,184.09122849525468,191.05202487432891,183.12641039032769,149.12115022159475,144.10448172096648,168.46443364317952,179.09566761948059,141.0569391483555,162.0405267228216,182.9738595967026,187.54983769159591,144.09102187790205,176.64559714107423,178.02585021483833,183.58687227647755,135.96389870447928,158.0591503746972,160.39712460999999,61.295109224648769,90.664331392963604,118.53892212000001,143.28146561000003,193.76214517079742,146.66747360635,156.04646141520004,176.86984951300002,177.44141825937081,103.17599841312199,163.15026682500002,127.16792321903999]
[null,1.3693787837154527,null,37,"Europe ex CIS","Table2.ton",null,4,null,"Europe ex CIS","Europe ex CIS",null,4.0679879474485698,7.6781980439506583,6.1524322455556035,10.850209767242914,3.9668910805804503,7.4343648142332146,5.0664329082381201,8.5505148689504136,3.7985643042199873,8.0136764454334504,5.9933873583371016,9.2571325043206709,4.6568185407878913,5.5788180637477529,5.8447115850761442,8.1580320593740652,4.2536062547448088,6.4062598664470496,5.2219305066144113,6.3445743252071694,3.8627958036042815,5.7752338753660144,4.6560657108986154,5.6756765922005776,3.5985473326697877,5.2681418061967724,4.6002879999999999,5.4663679999999992,3.6109999999999998,5.3059329999999996,4.6607880000000002,5.5868679999999991,3.6082099999999993,5.2458245899999998,4.7391437600000001,5.5971995999999997,3.5052994999999996,5.0135333604999994,4.529931509599999,5.6976155879999997,3.3300345249999994,3.6463884398499995,3.1050205067199999,4.4662911659999995,2.8502028131249992,3.7655475119600004,3.3054995670559997,4.6818181116000002,3.0243353973937497,4.0209684221668001,3.5002883585204798,4.9159090171800006]
[null,0.76294951793583765,null,49,"World total","Table3.ton",null,5,null,"World total","World total",null,252.01793543186216,306.15778790715143,317.79766550253919,328.32092443031928,396.35238455503327,333.64038851810528,418.61423416602139,353.36559729371294,346.87527773139584,296.16589811105138,303.58087185591916,375.72825777449475,443.16924888373597,599.40350003716514,326.99277432211545,360.14562556053681,293.2162371207134,248.75790804792251,240.90581708760328,283.768482629836,266.72729141788432,218.47170469780136,305.01386151278314,300.50369192294636,272.20296144917796,220.98687775924702,199.96661480269529,379.72530450490086,304.05328408846981,248.37124662729215,232.92731662568548,258.70741863919511,261.25433421079424,247.99540310042417,297.41020610186729,283.78949025434491,258.24655255753504,219.7440227723803,150.36127411099673,242.52097013212341,253.33349147053283,159.29060820673084,221.45572739419447,269.75061042273353,354.5682895116077,248.21392722913816,261.7102278308227,326.39133260741085,283.18829545376406,257.51801139350965,341.14212572492272,335.26881525480258]
[null,0.63879095694360366,null,9,"India","Table3.ton",null,6,null,"India","India",null,78.554001832331892,59.852310511279825,92.804811159685812,108.8441416008442,100.05896949525759,111.05959019752957,74.881936591088618,68.710614425763822,64.959620093194587,57.641040321586452,84.843840378068023,111.53913538451184,90.634917833187501,133.13957511019413,51.482250323253183,65.894691347931584,42.68893607375999,52.349520050374466,53.976724381360825,56.947044848393688,40.042222037186875,37.69445452800263,57.038719914599554,60.166099178833285,27.461792576249803,32.256699654389664,40.084397824803148,61.773331207412582,37.073419977937235,41.557150398984433,31.036849580758954,59.648324727487562,32.323665387945582,39.300953640630304,34.368623679968678,56.408433476842362,33.616612003463409,44.523949101393015,22.339605391979642,45.289470733315838,28.058706880848014,19.756782076478416,33.766180969952913,48.855152887623881,39.298278416317643,25.372605410684258,42.91343401510921,78.893179825654073,41.263192337133532,30.447126492821109,45.426073773252071,56.421368966960038]
[null,1.7044261470317124,null,13,"China","Table3.ton",null,7,null,"China","China",null,39.371388092676554,36.544890385825617,47.672371779129392,60.205141444213346,84.758332711364631,53.272713066889423,59.081908934936422,61.982703441409768,91.237554900604323,50.636729385698317,52.173638592053123,62.916040673778696,116.22144909867154,155.16905623439439,81.949617999247209,53.370680464633722,62.295756268656717,43.431716417910451,40.487462686567163,52.237269701492536,63.950117499999998,45.144512500000005,53.208957500000004,65.799977499999997,81.263942295081961,40.180625737704915,41.019999999999996,122.08999999999999,105.9,62.625999999999998,69.28537,68.574463000000009,77.317250000000001,69.451769999999996,87.998750000000001,73.26790355,71.188999999999993,49.455499999999994,42.835430000000002,47.641000000000005,37.074800000000003,40.667000000000002,57.56,63.572199999999995,86.463610000000003,57.431899999999999,64.701685000000012,76.89,49.331329600000004,37.438680000000005,70.106924000000006,61.349813999999995]
[null,0.56522888946898542,null,37,"Europe ex CIS","Table3.ton",null,8,null,"Europe ex CIS","Europe ex CIS",null,6.1538666666666665E-2,7.3077333333333341E-2,0.16923199999999999,0.19230933333333333,8.6793055555555554E-2,0.18830333333333335,0.20302055555555557,0.43547555555555562,0.18152875000000002,9.5293749999999997E-2,0.19964625,0.52176249999999991,0.27291976562499998,0.39045984374999998,0.39821742187500003,0.32369000000000003,0.41438999999999998,0.26169000000000003,0.31169000000000002,0.31169000000000002,0.35,0.35,0.35,0.36750000000000005,0.315,0.315,0.315,0.33075000000000004,0.28350000000000003,0.23100000000000001,0.23100000000000001,0.28505000000000003,0.25515000000000004,0.20790000000000003,0.20790000000000003,0.25654500000000002,0.24239250000000004,0.19750500000000001,0.19750500000000001,0.24371775000000001,0.23027287500000004,0.4,0.4,0.4,0.4,0.4,0.42000000000000004,0.42000000000000004,0.42000000000000004,0.39899999999999997,0.37905,0.38032312499999998]
[null,"YoY",null,null,"Jewellery",null,"Jewellery"]
[null,0.49994287633794965,null,9,"India","Table2.ton",null,1,null,"India","India",null,190.86518726172773,117.27024530928182,166.61232100456573,186.90895298625648,198.75967692652551,179.78178544067305,127.0322309722761,113.73756841237801,147.52604278294368,133.8356787238273,147.19689776680727,166.60891343254167,144.65052104445505,188.53390171165518,146.16233246560444,138.08302599790261,123.68849937180565,151.56657694526021,183.08347948089079,169.15277480971457,150.70482133800485,121.47015904540478,214.13879867766045,175.98326126082318,79.777117136462749,89.838518822237376,152.69484303324532,182.19829974779267,123.72511020516356,160.95005276780358,134.79821424274854,182.42781676708637,119.20959310823409,149.94356069198909,148.78774380416081,180.0700076737572,125.42837833676344,168.64313127578745,101.56630420270452,148.99838433648088,73.861008333646254,43.974826558568118,60.795732737081813,137.30112407542836,126.52267742523097,94.265206613627214,125.08749547978633,264.98816260626245,94.19622134219739,140.28577901804081,146.22440274173931,219.6926744400335]
[null,0.35055565577999515,null,10,"Pakistan","Table2.ton",null,2,null,"Pakistan","Pakistan",null,9.27108116764275,6.0493882686676423,6.6161042734260604,4.5366764275256219,9.4862619531349957,5.697762929267272,5.2335985415660051,3.7863947785893965,8.8621702730506833,5.7721318180027339,5.9497164554967155,5.5623294474410265,6.016551131770413,6.8076462206952302,5.1500911826748181,5.3576026677445432,4.17485173807599,6.0737194644300736,5.514184215844784,6.0865727768795459,5.3167399757477769,5.3626236029708974,5.9168985319320919,6.5772514614389648,6.4334790182700088,6.1760728850343565,6.3669320566855294,7.2425216368116407,6.5891485986354077,6.8067350862065474,6.441848244801939,8.228455685131447,6.906389000539888,6.0060615775858937,5.727663420321746,6.7494486423370903,7.8530279005938768,5.5324554198273033,4.5466307362573977,5.8590858420648075,7.0662765055641827,1.265463854956826,3.579911125818787,4.9128892219248836,6.6335350522167191,5.3127520417733756,5.405647443862045,5.7809298160551474,5.3772513232523904,6.2840216310528678,6.5227670758055112,5.2684664188220349]
[null,-0.25907346353949323,null,11,"Sri Lanka","Table2.ton",null,3,null,"Sri Lanka","Sri Lanka",null,0,0,0,0,0,0,0,0,0,0,0,0,0,0,0,0,2.6824999999999997,2.7679999999999998,1.911,1.7610000000000001,3.1257499999999996,3.0254400000000001,2.1539499999999996,2.3557100000000002,2.5886599999999995,3.2657120000000002,2.2862354999999992,2.3304897999999996,2.700593,2.8108551999999998,2.4388051999999996,3.2311612300000001,2.1435040499999998,2.2556414,2.5055813040000001,2.7000451070000007,2.0386587665000002,1.8310772600000003,2.0137743519199995,2.0035383409500001,1.3493111365499999,0.52123175330000004,0.68413230557599991,1.7176537557125002,1.7691733638599998,0.98062801373699993,0.57890820892905004,0.76574444026840749,2.2343832375477994,0.44531400686849998,0.30078260618164998,0.93204221637577045]
[null,-9.6025073339077727E-3,null,12,"Greater China","Table2.ton",null,4,null,"Greater China","Greater China",null,128.85658307352688,98.503407746685426,126.01006411135205,139.31564436562522,166.8534323492261,126.72661304229263,151.6546622311989,161.31675891253346,181.86580150533024,146.94805490030234,155.45847045269315,169.93516016689065,239.81896647356817,358.41596377677246,246.58138078618646,186.49156434765982,256.23568932871956,199.75472008319096,194.17208464079357,225.11311100400542,235.24707205991496,184.54297534165022,199.46498393562246,206.59508751676105,195.26295177991116,159.77315022159476,153.65409602096648,184.17225884317952,192.06282061948062,152.0610339608555,173.0655712684466,198.52808187470259,201.69544620659593,156.89170424290205,191.70033694337425,192.67585021483833,197.87485312991504,147.04389870447929,166.13215037469718,170.73712461,67.129109224648772,94.278331392963608,122.82092212000002,149.05446561000002,200.25214517079741,151.80847360634999,162.23246141520005,185.02184951300001,183.0354182593708,108.975998413122,170.843266825,135.44592321904]
[null,-3.1902367594058512E-2,null,13,"China","Table2.ton",null,5,null,"China","China",null,121.01434971672106,91.090084713148556,118.75178022784213,131.09183919589137,154.34011068977372,114.56032392038105,140.36323631772828,147.91586419667325,168.55019214673428,132.13723486262006,143.33721018578797,155.33337917504923,219.84547060050474,326.9375507124181,229.43655405348454,162.57592819573108,235.95629185094433,184.56520793657438,181.04223062275167,205.26983783961629,219.8150944560285,172.48779437834673,184.09122849525468,191.05202487432891,183.12641039032769,149.12115022159475,144.10448172096648,168.46443364317952,179.09566761948059,141.0569391483555,162.0405267228216,182.9738595967026,187.54983769159591,144.09102187790205,176.64559714107423,178.02585021483833,183.58687227647755,135.96389870447928,158.0591503746972,160.39712460999999,61.295109224648769,90.664331392963604,118.53892212000001,143.28146561000003,193.76214517079742,146.66747360635,156.04646141520004,176.86984951300002,177.44141825937081,103.17599841312199,163.15026682500002,127.16792321903999]
[null,0.34921653648313988,null,14,"Hong Kong","Table2.ton",null,6,null,"Hong Kong","Hong Kong",null,5.8111293522451462,5.3610932706310663,5.7057550060679612,6.1192368750000004,10.60470382867133,10.22305270979021,10.049819034965036,11.387526125874126,11.216651824817522,12.764928832116791,11.067167791970803,12.58966204379562,17.3895625,28.844625000000001,14.9828125,21.39,18.350999999999999,12.867000000000001,11.224,17.600000000000001,13.6,10.497999999999999,13.692,13.567,10.199999999999999,8.7520000000000007,8.3146142999999988,14.164075200000001,11.1918405,9.5394620000000003,9.6629360300000009,13.879222277999999,12.345608515,11.420682365000001,13.624739802300001,13.25,12.687980853437502,9.7799999999999994,6.8730000000000002,9,4.6040000000000001,2.7839999999999998,3.302,4.673,5.04,4.351,5.4660000000000002,6.952,4.0940000000000003,4.62,6.8029999999999999,6.8979999999999997]
[null,-8.625178203438888E-3,null,15,"Taiwan","Table2.ton",null,7,null,"Taiwan","Taiwan",null,2.0311040045606794,2.0522297629058057,1.5525288774419508,2.1045682947338471,1.9086178307810502,1.9432364121213606,1.2416068785055949,2.0133685899860829,2.0989575337784454,2.0458912055654879,1.0540924749343779,2.012118948045801,2.5839333730634091,2.6337880643543485,2.1620142327019338,2.525636151928754,1.9283974777752264,2.322512146616587,1.9058540180419155,2.2432731643891271,1.831977603886465,1.5571809633034952,1.681755440367775,1.9760626424321359,1.9365413895834931,1.9,1.2350000000000001,1.54375,1.7753124999999998,1.4646328124999999,1.3621085156249999,1.675,1.8,1.38,1.43,1.4,1.6,1.3,1.2,1.34,1.23,0.83,0.98,1.1000000000000001,1.45,0.79,0.72,1.2,1.5,1.18,0.89,1.38]
[null,0.36822986182092055,null,16,"Japan","Table2.ton",null,8,null,"Japan","Japan",null,4.7536462727885134,4.8053611402765473,4.2239758041437678,6.9699462314305958,3.9720346170427243,3.9464415404512678,4.1121093645359013,3.8952553872683584,3.9860438767953359,4.3610291180430929,4.105624694855881,3.6591761729503345,3.3551638460111644,3.8832287703082056,4.6787613886995487,5.0350132316946024,3.7573499233309233,3.6950231132233449,4.151921951453466,4.8454303231444396,3.1957957065799971,3.8690209501456287,4.3753416659505504,5.0667828010009428,3.5541967139835355,4.0394035758726679,4.1618557836903394,5.1706158355271459,3.2669631524209404,4.1091167287227313,4.1202372258534359,5.1189096771718745,3.3323024154693592,4.1091167287227313,3.9966301090778327,5.0165314836284365,3.3989484637787464,4.191299063297186,4.1964616145317244,5.217192742973574,3.0590536174008718,2.5147794379783117,3.5669923723519656,4.6954734686762167,2.7531482556607845,3.520691213169636,4.0999999999999996,5.0999999999999996,2.9,3.6967257738281178,4.51,4.335]
[null,0.11939354698290527,null,17,"Indonesia","Table2.ton",null,9,null,"Indonesia","Indonesia",null,9.6287269403003091,6.3022213675103504,11.015857992113618,6.4560914667547422,10.800543051406184,6.0650945729510912,9.6194458076664233,6.9037252502542499,11.583383138084308,7.0643256747384715,8.9868221230485545,7.5855827167954128,12.286987302291074,10.275912306955304,9.6303472444285951,8.9804351822052162,11.514394388149032,9.0505640333382651,8.208357510454583,7.7093889166011875,12.090114107556484,8.4630798752895391,9.3093878628184932,9.0301062269339383,10.8,9.3960000000000008,8.6913000000000018,9.4735170000000011,9.2366790750000014,10.160346982500004,9.2569999999999997,9.9049899999999997,9.4906877495625039,11.199011544483755,10.3,10.895489000000001,10.060129014536255,11.758962121707942,8.7550000000000008,9.8059401000000008,4.527058056541315,4.11563674259778,4.3775000000000004,7.8447520800000019,5.9757166346345354,4.2956651420575911,6.8289000000000009,9.8843876208000019,5.5574164702101188,5.2407114733102604,7.3752120000000012,10.082075373216004]
[null,0.12411049296874976,null,18,"Malaysia","Table2.ton",null,10,null,"Malaysia","Malaysia",null,2.7017328097313138,3.0879634762934662,4.0130659505595716,1.6949785683083862,3.5250490571221662,3.0833991831327698,2.6806542539586888,1.3515842530780153,2.7405376082675641,3.1708372068273221,3.3658303099610412,3.6836503576473563,3.2933266154265075,5.7112100140494144,5.2036802274358056,4.1149695597452194,4.878825530239765,3.6971453009180553,5.0011706268703584,5.0494532833224763,5.1227668067517538,3.0736600840510517,3.6115505987599859,3.503204080797186,3.95862061130082,3.463793034888218,3.2906033831438068,3.4551335523009969,3.282376874685947,3.7062585473303935,2.9615430448294258,3.351479545731967,3.15,3.04,3.28,3.45,3.16,3,2.9,3.15,2.2364999999999999,1.78,2.4500000000000002,2.6949999999999998,2.9045999999999998,2.3174999999999999,1.5743999999999998,3.7120000000000002,3.5726580000000001,3.13,2.5,3.8]
[null,0.17527667187499985,null,19,"Singapore","Table2.ton",null,11,null,"Singapore","Singapore",null,1.9306783074883305,2.2015464004915311,2.3024250371344461,2.102952219120195,1.9296324075134237,2.4994286127151657,1.869501369362768,2.5692168184949207,1.9699194577833561,2.1858660007865778,2.1108544065465598,3.4094654300322165,2.7897249727520914,4.5504145931503492,3.7821277479213329,3.2276736114943447,3.6103550928307704,3.8195947304828906,3.4570237375698043,3.1209904049282913,3.4298373381892318,2.6581239370966547,2.9903894292337365,3.0801011121107487,3.3111086955190543,3.0627755433551256,2.6033592118518567,3.124031054222228,3.1865116753066727,2.9953209747882719,2.620905852939738,3.01468996732445,3.125,2.734375,2.78,2.88,2.85,2.5499999999999998,2.4500000000000002,2.69,1.89,0.76,1.3680000000000001,1.68,2.19,1.66,1.18,1.95,2.5841999999999996,2.38,1.9,2.2000000000000002]
[null,0.28534475912140933,null,20,"S Korea","Table2.ton",null,12,null,"S Korea","S Korea",null,5.4353259392722117,3.3630538161625707,3.9234670368620037,5.1224450614366734,6.9482100403708138,3.0749080442583736,3.6536289249401914,4.9541070574162678,5.897233558768658,3.2069860074626861,3.8076395522388049,3.7032677238805958,6.2539687500000003,5.4665937500000004,5.5852734374999997,5.5979999999999999,6.39,5.5136250000000002,5.5507499999999999,5.4787499999999998,6.6026249999999997,5.5293749999999999,6.6026249999999997,6.8703750000000001,7.0053749999999999,4.9871249999999998,5.3235000000000001,6.7545000000000002,6.5339999999999998,5.2627499999999996,5.1423750000000004,5.7285000000000004,6.1746300000000005,4.9397040000000008,5.39,5.2,4.9800000000000004,4.75,4.91,4.82,3.98,3.65,4.2149999999999999,4.53,5.0962500000000004,4.38,4.47,4.75,4.4175000000000004,4.05,3.32,3.6349999999999998]
[null,0.11020868000000039,null,21,"Thailand","Table2.ton",null,13,null,"Thailand","Thailand",null,2.6656122611464972,1.4502348726114651,1.7130879777070063,1.2311305732484081,3.1975000000000007,1.3930164835164833,1.0298076923076922,1.304483516483516,4.8083239202657815,2.0689867109634541,1.2198322259136218,1.0516943521594682,4.2553749999999999,4.7311249999999996,2.1281249999999998,3.76,3.22,3.0720000000000001,2.88,3.1970000000000001,3.3809999999999998,2.8062300000000002,2.9465415000000004,3.0938685750000006,3.2485620037500009,2.5988496030000006,2.8847230593300011,3.1155009040764012,3.0843458950356371,2.5445853634044004,2.7481521924767529,3.0641896946115792,3.2231414603122408,2.514050339043548,3.0779304555739637,3.2786829732343898,3.2876042895184856,2.212364298358322,2.7085788009050882,2.8852410164462632,1.8081823592351673,0.66370928950749675,1.3542894004525441,2.0196687115123839,2.0251642423433873,1.7213896059918794,1.880509653604574,2.4236024538148611,2.1871773817308586,1.8935285665910673,2.5386880323661747,2.7871428218870897]
[null,4.4548429502554665E-2,null,22,"Vietnam","Table2.ton",null,14,null,"Vietnam","Vietnam",null,5.0897848045674134,3.1128211462450595,2.8879496047430826,3.0756422924901186,5.4471342577343487,2.9124534902161714,2.0473725098204265,2.4292678394248446,4.6079566893315462,2.391146537680966,1.6479807508140203,1.8248129146279883,3.370625,3.1,2.6687500000000002,2.6347826086956525,3.74,3.06,2.7,3,4.4400000000000004,3.7189999999999999,3.5430499999999996,3.9280837499999999,4.7137004999999998,3.5209603999999999,3.2920979740000003,3.8846756093200003,4.5644938409510001,3.8798197648083499,3.7440260730400579,4.3056299839960657,5.0939751265013173,4.431758360056147,4.1215352748522163,4.5639677830358298,5.3996136340913967,4.5203935272572702,3.6269510418699507,3.7424535820893801,4.5356754526367729,1.5821377345400445,1.8134755209349753,2.8068401865670354,5.0799565069531862,3.4807030159880985,0.90673776046748766,2.4700193641789912,5.5879521576485054,4.4552998604647653,3.5362772658232013,4.4954352428057636]
[null,null,null,23,"Australia","Table2.ton",null,15,null,"Australia","Australia",null,0,0,0,0,0,0,0,0,0,0,0,0,0,0,0,0,0,0,0,0,0,0,0,0,0,0,0,0,0,0,0,0,0,0,0,0,0,0,0,0,0,0,0,0,1.9648577245250631,2.3596222412048875,1.3737090749520704,2.7236288410868372,2.357471417087238,2.5555223275754271,2.7255252555169025,3.3205231573414009]
[null,-0.2292743358816357,null,24,"Middle East*","Table2.ton",null,16,null,"Middle East*","Middle East*",null,71.454161972525682,65.782352635164045,69.184626003910068,47.840401702852027,60.65118968577805,59.991582423550085,51.375495885550833,40.980552907235598,55.265026097259536,55.882040321040456,51.016025528645024,47.488836631876573,63.470872437871819,91.237145633050005,65.556900493778855,57.387041425013742,71.436451414493263,69.898194965302892,54.87091877640681,57.778776746245995,63.817512693852322,62.074709892788739,56.648665534537059,55.417537890275419,57.161381406129003,49.854382103022218,43.480257000074062,48.363919119574803,55.106874270662388,50.455660893659967,42.311950967904593,50.912770751025363,44.569323556576762,44.74830907101996,40.12327314286064,43.176858443310728,47.542794790733652,44.199228521108175,37.413485960763417,41.234252308247157,41.069389059684099,12.643218571260752,27.471293770391963,33.601612894470421,40.443639364353167,37.997277341049589,40.970439200031478,45.721510431316915,47.664823338610695,47.554090743212136,48.672826114458232,46.472363112777963]
[null,-0.32889134627660865,null,25,"Saudi Arabia","Table2.ton",null,17,null,"Saudi Arabia","Saudi Arabia",null,16.979713486605768,25.385665224850065,17.657863345112229,9.8909151981432935,13.513378791768645,19.574706974265343,12.948265698677702,8.7060229193274061,11.831962449578342,15.882461682065719,11.512733447418876,9.7771385668481923,12.287156206207555,24.104141343506246,16.721237751387644,13.308491689050905,16.461324842798224,18.92730884090534,14.984961229946643,18.002353551940999,17.37839033152656,18.774768753895859,15.955732537688995,17.40064025781275,12.929010238860595,13.09015129067647,10.785625337684825,12.599909782395045,10.41750636226077,11.986419076784363,9.48292330454629,12.560407092256032,7.4861314425207528,10.52307698501151,11.874580181190961,9.4949880148499126,9.4307590676675197,9.4767646551225191,9.4855771223808727,8.7668825652103131,6.9478952498056508,1.8693029648172421,7.2189715809890398,6.6624686711183481,7.8354286957170167,7.6666775879588833,8.4697375654607097,9.3678607364738209,9.0595096199014584,9.3913364234249475,10.170662257120545,9.2727643307471119]
[null,-0.41291013389292885,null,26,"UAE","Table2.ton",null,18,null,"UAE","UAE",null,20.559086559612751,17.606256017698762,15.597466925021408,13.180023060390397,21.26134289452207,16.495935552672027,9.8471548868704186,8.7402363552404285,16.663994522762291,14.072269988308502,9.3564962343990761,9.2688594189113207,16.740400156049354,22.723529010891934,12.721855097110042,12.175428014259037,17.971801685482408,17.029177837411954,10.375829312093433,10.635458674353359,16.289404150141497,14.877277877697136,10.006260905194043,10.236726794754514,16.728281115858259,11.717344356409505,7.7876877205707302,8.9504710703646104,15.532209461374089,12.623216967001952,7.4003195701908684,11.135069472681261,10.052428962039913,9.785574649148554,6.8672111980676513,9.4701605838464129,10.679352567785104,9.2637811039410014,5.4498247780888605,8.6203701008236191,9.5149006328254053,1.2835113034143162,3.803409015193234,6.8948578808810845,8.3308959003408738,7.3262638939837519,8.2370521500930387,9.9549041062232764,12.491775698486325,13.181305481230201,10.738060003966027,10.457315667674335]
[null,5.3871356157262351E-3,null,27,"Kuwait","Table2.ton",null,19,null,"Kuwait","Kuwait",null,2.6809957577797863,1.8521394383058787,2.7279318023094934,1.7092973669550449,2.5400164534685028,1.8190139854482272,2.3256039687250798,1.683750225560996,2.1811180896643108,1.8042509497985488,2.0944231731542242,1.5982853944696842,4.1273389549999999,3.4570193854037492,1.8872656023794563,2.203289027087747,4.0420088220000014,3.6512660233185699,2.6175634792047533,3.8769672270877469,3.7707070059000003,3.4160980320000007,2.3182698770000001,3.6658941724999998,3.4322510053099999,3.3436096768000008,2.3492849479500002,3.434501015375,3.9320804855450002,3.7244476897600003,2.4444258050575001,3.7834846802312496,3.6007793769904999,4.127944066136001,2.6473562698601247,3.6701073495128123,3.7913584541820753,3.8051496595224004,2.2717318597263056,3.4251602628798912,3.3330696583065231,2.456752731946481,1.8128023180974098,2.7077790147502001,3.4472231412218508,3.6748153780170703,2.8969480061238055,2.9618383823096024,3.1099303014250825,3.7674273353516248,3.959290698887028,3.8459673970994821]
[null,-0.32863024385465067,null,28,"Egypt","Table2.ton",null,20,null,"Egypt","Egypt",null,17.738572192101202,8.9378819920124517,15.369217889325563,10.946775580297381,8.5669233523121786,7.8515495983147865,8.8678516080382668,8.7766635051860931,9.8371499488958758,8.8333870556483127,11.115453198164953,12.298891181790026,11.882170415371338,13.299539969759508,10.584662643281794,9.8805148776822485,13.03921258344929,11.423647975965732,11.108254250032495,9.5425756599459177,9.3157033727890504,8.9095580659307014,11.842216125976535,8.1635762099674221,6.5570972361534263,5.7714264415679866,7.0600880902143253,6.0043935218608828,5.6846909180253871,4.6751846841477906,6.3476178597432034,5.3054620791195184,6.0456837511527572,5.1806566733557151,7.4338347022274123,6.0778653268785261,6.9492182642097813,5.5626883239153972,7.0583924440154693,7.1141182264377587,7.1387280623974645,1.6950587041671417,5.6967869650157681,6.6461995410518,8.1466515129410357,7.2725775503271564,8.324481729174888,7.9658583223791428,8.7131448896869994,7.0455362805915547,9.0336069220786346,8.7702102856526842]
[null,0.37840033566932796,null,29,"Iran","Table2.ton",null,21,null,"Iran","Iran",null,10.022340994120791,8.3231059593800119,13.810175040085515,9.3725240513094619,11.083161466492871,10.256123435945547,13.442548169981013,10.182592364311418,10.882436060159277,10.987524460023447,12.634426859661239,10.655716982922749,12.705014587490414,20.650001784929444,16.876935840707965,13.42778761061947,11.285926233392738,10.36440563886762,9.1134219003234094,8.5344435315679696,9.3158429712022599,7.9394540384250769,10.446131949272157,9.5158441825191176,10.198449309239818,8.8431078595473647,10.526449714390317,10.943746111596328,12.701621113299463,10.160770927306816,11.370880734073038,11.142020063830444,10.664939215141207,6.5579097559670023,4.6133086336779074,7.5370976177574009,9.6782793285783288,7.3833371248323383,6.6623694044275679,6.8179055535653008,7.7136649635704941,2.4775953759732707,4.4053708165272694,5.4131002954581042,5.9437422932930666,6.2596214743063401,7.0655188999216181,7.0665744425760968,8.3797416450831808,7.1330608032268659,7.8519121768848565,6.5251221753781383]
[null,-0.25787417680121594,null,30,"Other Middle East","Table2.ton",null,22,null,"Other Middle East","Other Middle East",null,3.473452982305393,3.6773040029168822,4.0219710020558708,2.7408664457564513,3.6863667272137794,3.9942528769041479,3.9440715532583539,2.8912875376092542,3.868365026199442,4.3021461851959133,4.3024926158466625,3.8899450869346053,5.7287921177531578,7.0029141385591345,6.7649435589119475,6.3915302063143278,8.6361772473705987,8.5023886488336693,6.6708886048060752,7.1869781013500065,7.7474648622929543,8.157553124839966,6.0800541394053358,6.4348562727216203,7.3162925007069095,7.0887424780208868,4.9711211892638598,6.4308976179829358,6.8387659301576758,7.2856215486590408,5.2657836942936971,6.9863273629068541,6.7193608087316328,8.5731469414011752,6.6869821578365789,6.9266395504656675,7.0138271083108386,8.7075076537745222,6.485590352124337,6.4898155993302691,6.4211304927785626,2.8609974909422995,4.5339530745692409,5.2772074912108868,6.739697820839317,5.7973214564563857,5.9767008492574227,8.4044744413549743,5.9107211840276488,7.0354244193869446,6.9192940555211324,7.6009832562262165]
[null,0.1732346063225676,null,31,"Turkey","Table2.ton",null,23,null,"Turkey","Turkey",null,17.484449023629541,16.304943101078564,27.489544067302216,6.6044727183990419,19.749758837258668,23.249492001798359,23.670416370127633,6.9097115922936547,16.349852361834362,20.404898870973817,22.07624176323506,7.032890638408154,16.705793294869217,27.162420559335306,23.401398000657423,12.594108070502747,14.436452880224452,16.559469558766477,16.885700595992589,20.198085523145135,10.412969130397563,11.55152863681243,12.05544307085918,14.989705306457806,8.6550515439477582,9.2435039707309947,9.3199247799951941,13.552653152634496,8.2962005984354441,11.100644334361384,10.313856683705513,11.490420526641024,10.057969184197479,9.9169225057427219,7.2039269579980925,9.1935278656351755,9.5695225055202577,9.5270663092827235,8.2654057486824861,9.0962514870303846,8.6097678536657583,3.9569713464478431,6.5247139673600252,6.8062808645833357,8.9810078614726567,8.09214904476584,9.2899512422486072,7.5046983967845193,7.5007717481196776,8.2667098340574867,11.017830660445599,9.9065767736191948]
[null,3.0453038674032928E-2,null,32,"Russia","Table2.ton",null,24,null,"Russia","Russia",null,14.218584660319307,15.340048634209213,13.683515969046233,17.088996964909363,14.938562596599692,15.324309119010818,15.70940030911901,18.378763523956721,16.303195043103447,15.38286637931034,16.70049568965517,19.269547413793099,17.841102812499997,18.236422499999996,21.349296874999997,22.277399999999997,19.555531233522224,16.993050041101519,16.820729842931936,14.220309999999998,11.932608251807739,8.9049784217016033,13.382515183246072,8.9279402942117017,9.7801463207145876,8.6934140156185791,9.6532502617801033,10.186645922609529,9.4215226286686509,8.1359131113851202,10.607068062827222,11.643975107131434,10.072598760102085,8.8795044225236328,11.477774869109945,12.53949311570195,10.506502710506167,9.1816845994245782,11.799886125654448,12.96267790917301,9.5728024394555522,3.638923839769832,7.7506976795396634,8.861208769154949,9.0301112504419425,9.3940442004596179,11.436569870505581,11.681108357556139,8.4355121860449103,7.5324816103676948,9.5934129324412325,10.122377499999999]
[null,0.51908580818522254,null,33,"Americas","Table2.ton",null,25,null,"Americas","Americas",null,34.700858197985198,42.034664368595386,44.985466926840495,68.867614101778571,31.152547680883774,38.983193645512245,42.200945373420751,62.091837445877829,28.274691771067754,35.940265735093249,40.865445745588303,57.488792631986577,31.365997981864865,36.638810002765425,37.888416598875139,59.91800661725609,32.160869465722094,38.603734554232389,38.239795975991868,59.513710694563301,32.729201815646569,39.048085439643394,38.157801717973676,60.336068373223071,32.421730458500988,38.514147964747117,37.315125024716131,59.19961548297394,32.999519363161902,39.845462040868398,38.821640565192581,61.873354201939989,34.117941307522635,41.280559756838485,40.106053417100505,63.171558175206769,34.38699498490125,41.472521198618772,40.733097694187414,64.340929861647979,32.232625687166063,27.157885727080711,36.862838337545284,61.954276871235983,34.80487574285786,48.023202903552253,40.826189191713794,67.941800957883174,35.535249432207905,47.587218921590889,39.273151775671437,65.379931177314504]
[null,0.74244474316601017,null,34,"United States","Table2.ton",null,26,null,"United States","United States",null,22.952142579583995,23.883684919066102,31.0699805039472,44.427004110488411,21.073225243510961,22.623572599017741,30.248503001876735,41.93630665465782,19.349981448600332,20.080228485150357,27.699744114312601,39.923915242504457,20.650412482246804,24.02891216612392,25.306112486098371,42.517090684675672,21.519548340618961,25.020066300968114,26.214198059353905,43.803704747627471,22.18532252786261,25.640942375103112,26.487241528878965,45.183068737191086,22.300505544934758,25.809369928834787,25.982192270429838,44.684175591334103,22.69649540872787,26.824140999667058,27.196352073191967,46.940585715718157,23.675623507239361,28.267218832858678,28.287922101001438,48.145747873525579,23.979999999999993,28.669999999999998,29.25,49.2,22.799999999999997,18.55,28.169999999999998,48.680000000000014,26.522000000000002,37.672600000000003,31.679999999999989,53.222999999999999,26.650000000000006,36.699999999999996,29.794999999999995,50.55]
[null,0.47618703893516612,null,35,"Canada","Table2.ton",null,27,null,"Canada","Canada",null,2.8614456072876675,4.477047203650959,3.7435230306801563,5.6584237802831217,2.5484860043987108,3.8591231400386854,3.2816339836480024,4.9227404619474706,2.2768841856854132,3.5339930607460053,2.975288047166404,4.4051470583375956,2.5583815693037097,3.1284910080087984,2.491524050451642,5.0198173369838059,2.6029999999999998,3.2834000000000003,2.6339999999999995,5.4360000000000008,2.7021999999999995,3.4634499999999995,2.6568999999999998,5.3442999999999996,2.6572,3.4215999999999993,2.5979299999999999,5.1127000000000002,2.7170000000000005,3.5236999999999994,2.6180500000000002,5.25786,2.7255000000000007,3.5554999999999999,2.6375000000000006,5.3554999999999993,2.7610000000000001,3.5979999999999999,2.6150000000000002,5.47,2.5829999999999993,2.016,2.629,5.8279999999999994,2.617,3.4102999999999999,2.6819999999999999,6.4610000000000003,2.851,3.6279999999999997,2.7559999999999998,6.1950000000000003]
[null,-2.5712526364842003E-2,null,36,"Mexico","Table2.ton",null,28,null,"Mexico","Mexico",null,4.8192820636649643,5.9957342019276663,4.0195311466575347,7.9319764437641247,3.5639453523936515,5.0661330922226,3.6043754796578975,6.6822754603221277,2.8492618325620223,4.3123677437634296,4.1970262257721931,3.9025978268238495,3.5003853895264601,3.9025887648849573,4.2460684772489881,4.2230665362225457,3.7847148703583233,3.8940083868172204,4.1696674100235533,3.9294316217286576,3.9788834841796779,4.168459189174273,4.3575944781960967,4.1330230438314048,3.865477580896441,4.0150362297155597,4.1347147542862928,3.9363718916398351,3.9750239544340311,4.1916880412013366,4.3464504920006073,4.0880404862218258,4.1086078002832744,4.2120163339798147,4.4414875560990712,4.0731107016811903,4.1406954849012569,4.1909878381187688,4.3381661845874113,3.9733142736479703,3.5195911621660674,2.9454972872307095,2.9588178308252804,2.9799857052359782,2.8156729297328544,3.174755391592246,3.158689624657808,3.5759828462831726,3.0099140348141544,3.2382504994240913,3.2218634171509657,3.7190221601345002]
[null,-5.3481102589363116E-2,null,37,"Brazil","Table2.ton",null,29,null,"Brazil","Brazil",null,4.0679879474485698,7.6781980439506583,6.1524322455556035,10.850209767242914,3.9668910805804503,7.4343648142332146,5.0664329082381201,8.5505148689504136,3.7985643042199873,8.0136764454334504,5.9933873583371016,9.2571325043206709,4.6568185407878913,5.5788180637477529,5.8447115850761442,8.1580320593740652,4.2536062547448088,6.4062598664470496,5.2219305066144113,6.3445743252071694,3.8627958036042815,5.7752338753660144,4.6560657108986154,5.6756765922005776,3.5985473326697877,5.2681418061967724,4.6002879999999999,5.4663679999999992,3.6109999999999998,5.3059329999999996,4.6607880000000002,5.5868679999999991,3.6082099999999993,5.2458245899999998,4.7391437600000001,5.5971995999999997,3.5052994999999996,5.0135333604999994,4.529931509599999,5.6976155879999997,3.3300345249999994,3.6463884398499995,3.1050205067199999,4.4662911659999995,2.8502028131249992,3.7655475119600004,3.3054995670559997,4.6818181116000002,3.0243353973937497,4.0209684221668001,3.5002883585204798,4.9159090171800006]
[null,1.3693787837154527,null,38,"Europe ex CIS","Table2.ton",null,30,null,"Europe ex CIS","Europe ex CIS",null,17.973179829421198,21.085756554206831,16.035556421357484,51.122887017437186,14.576800528756038,17.999482694138351,13.008477846917152,42.182261084378354,12.694180558019234,15.563041456268792,11.617890379303271,37.546387912495426,12.269818803316491,14.197083125610426,12.532967433813043,36.05572589407474,13.191429651969786,15.057227426705523,13.040955010336287,36.746036607010765,13.080630732499682,14.844117508245859,13.057107237256517,36.392308397511208,13.08369473278335,14.845206744304573,12.804146073967328,35.392076445327035,12.725734816531686,14.39927279491752,12.559133438851832,34.333499427136218,12.841819764426099,14.431118318208636,12.587690486465812,33.531381513806181,12.658911988582314,14.203611558435883,12.376081494508062,32.826579626531739,10.607379188578202,7.6451259726065661,10.29447538673595,27.394629070582543,9.7749515466103638,13.070022698745518,12.762882833997056,32.199712329600835,10.990491419304956,15.591729092108922,13.223517316524253,30.745103009611764]
[null,1.320674696365304,null,39,"France","Table2.ton",null,31,null,"France","France",null,4.087235590621904,3.7985870385282454,2.5689547974479678,10.264081330525272,3.7017948949724522,4.1001127066115703,2.4376843836088158,8.9746826446280998,3.0568122814240333,3.3057289064571815,2.0017810782617405,7.3510097349178176,2.7828940387985996,2.9202543982122586,2.139514159560854,7.0383312235147981,2.8549999999999995,2.6967999999999996,2.0549999999999997,6.5525000000000002,2.76,2.5783449999999997,1.9720000000000004,6.2629999999999999,2.8070000000000004,2.5251950000000001,1.9399999999999995,6.1035000000000004,2.7489999999999997,2.5035000000000003,1.9310000000000005,6.1280000000000001,2.7819999999999996,2.4135,1.8679999999999999,5.9338499999999996,2.6890000000000001,2.3289999999999997,1.891,5.74085,2.2969999999999997,1.244,1.915,5.0440000000000005,2.3379999999999996,2.1715,1.8869999999999996,6.0027499999999998,3.01,2.9480000000000004,2.0899999999999994,6.1782499999999994]
[null,1.5650401073776248,null,40,"Germany","Table2.ton",null,32,null,"Germany","Germany",null,2.4811652995720399,2.5608238231098426,1.4660975392296711,7.1963944365192578,2.0497665662650602,1.9911551204819271,1.4497665662650605,6.5397429718875504,1.6975435802690897,1.7883845228557573,1.3487092784853325,5.9042042046894494,1.7688341883289833,1.9846890632805858,1.2671665235767737,5.074556827351353,1.7166804115646932,2.0121951492010757,1.1674411671675329,5.1037809350055641,1.7331125160906864,2.0656597083064465,1.1950655000655572,5.1914999999999996,1.7395,2.1037500000000002,1.1837499999999999,5.2985000000000007,1.7384999999999995,2.1149999999999989,1.2119999999999993,5.3599999999999994,1.7800000000000002,2.1499999999999995,1.2499999999999991,5.4500000000000011,1.7999999999999998,2.169,1.2299999999999995,5.419999999999999,1.6570000000000005,1.0599999999999998,1.2075000000000002,5.12,1.5581500000000004,2.1299999999999994,2.1099999999999994,5.3099999999999987,1.1400000000000006,2.6199999999999997,2.1560000000000006,5.1760000000000002]
[null,1.3082706766917291,null,41,"Italy","Table2.ton",null,33,null,"Italy","Italy",null,5.1661590257879615,6.514095988538684,5.1965247134670483,17.336638968481381,3.929800724637678,5.4820652173913054,3.7554064764492754,13.752672101449278,3.3881109550561765,4.6075140449438203,3.0924087078651668,11.471404494382014,3.2323437500000014,4.3290625,3.1851562500000004,10.3675,3.0450000000000039,4.1449999999999996,3.0250000000000004,9.6750000000000007,2.8700000000000014,3.9899999999999993,2.9700000000000029,9.399999999999995,2.8099999999999965,3.9899999999999993,2.9500000000000037,9.2070000000000007,2.7549999999999994,3.9350000000000023,2.9300000000000037,9.2050000000000018,2.6917500000000012,3.9117499999999987,2.8617500000000025,9.0767499999999988,2.6573374999999988,3.8173375000000025,2.8073374999999956,8.8873375000000046,2.0000000000000009,1.7560000000000016,2.4300000000000015,7.6093499999999956,2.2300000000000004,3.4439999999999964,2.7100000000000009,8.9000000000000075,2.4040000000000084,3.7250000000000005,2.7589999999999968,8.9499999999999993]
[null,0.20718131184411215,null,42,"Spain","Table2.ton",null,34,null,"Spain","Spain",null,2.5197539974238747,3.1901258394162899,2.4500028381282268,3.4185239845432518,1.8657364239373999,2.2659193643848479,1.6739858603231963,2.3619241797664356,1.8105107474736559,2.3012973610735834,1.7338845938575167,2.5329436532828971,1.5520026779597229,1.8751986063796322,2.0114049664369196,2.3334706119734894,1.7555847500504751,2.175067750143945,1.8541870827348239,2.5224196474099707,1.7447138123488874,2.0690891085570624,2.0321162443184386,2.6456920362180978,1.7265888805341267,2.0599714368889823,1.8884212705207328,2.586316374172807,1.7476713739399079,2.088426033614267,1.9068417884619502,2.6434414799418926,1.807060819437585,2.1823724999040639,1.9831650958800837,2.7156340479950472,1.8449958119434569,2.2279831146804452,2.0205453617331877,2.755468558714973,1.7193162472671137,1.5719659535410746,1.5010821958154554,2.1040863947199782,1.5949574876926018,1.9021506663341916,1.7928671177909401,2.4648718509794909,1.7038853309283053,1.987076551594757,1.8500092487428466,2.5359921506457614]
[null,1.9453490199865833,null,43,"United Kingdom","Table2.ton",null,35,null,"United Kingdom","United Kingdom",null,3.7188659160154192,5.0221238646137714,4.3539765330845714,12.90724829736803,3.0297019189434478,4.1602302852687014,3.6916345602708045,10.553239186646989,2.7412029937962799,3.5601166209384481,3.4411067208335151,10.28682582522325,2.9337441482291822,3.0878785577379491,3.9297255342384947,11.241867231235105,3.8191644903546149,4.0281645273605031,4.9393267604339286,12.892336024595224,3.9728044040601058,4.1410236913823502,4.8879254928725189,12.892116361293116,4.0006058522492269,4.1662903074155899,4.8419748034465915,12.196760071154229,3.735563442591781,3.7573467613032512,4.5792916503898784,10.997057947194328,3.781008944988514,3.773495818304573,4.624775390585727,10.355147465811132,3.6675786766388585,3.6602909437554363,4.4271986327748793,10.022923567816758,2.9340629413110872,2.0131600190654897,3.2408931909204917,7.5171926758625673,2.0538440589177602,3.4223720324113325,4.263015716206116,9.5220904786213385,2.7326060883766412,4.3116525405141655,4.3685080677814092,7.9048608589660034]
[null,{"$error":"#N/A"},null,44,"Switzerland","Table2.ton",null,36,null,"Switzerland","Switzerland",null,0,0,0,0,0,0,0,0,0,0,0,0,0,0,0,0,0,0,0,0,0,0,0,0,0,0,0,0,0,0,0,0,0,0,0,0,0,0,0,0,0,0,0,0,0,0,0,0,0,0,0,0]
[null,{"$error":"#N/A"},null,45,"Austria","Table2.ton",null,37,null,"Austria","Austria",null,0,0,0,0,0,0,0,0,0,0,0,0,0,0,0,0,0,0,0,0,0,0,0,0,0,0,0,0,0,0,0,0,0,0,0,0,0,0,0,0,0,0,0,0,0,0,0,0,0,0,0,0]
[null,{"$error":"#N/A"},null,46,"Other Europe","Table2.ton",null,38,null,"Other Europe","Other Europe",null,0,0,0,0,0,0,0,0,0,0,0,0,0,0,0,0,0,0,0,0,0,0,0,0,0,0,0,0,0,0,0,0,0,0,0,0,0,0,0,0,0,0,0,0,0,0,0,0,0,0,0,0]
[null,0.20004843639658132,null,47,"Total above","Table2.ton",null,39,null,"Total above","Total above",null,517.0295925220729,406.69400883747988,500.69702818106396,548.93883269757282,551.98833398935233,490.72896322348402,454.8977474527685,472.79148877966298,502.73435864190543,454.17815546132158,476.12576784480245,535.85050794352651,567.74479546669716,778.94787796434753,592.29984888257559,551.51534921398923,574.67320001908342,549.18264521695266,556.4880723655366,622.97139108956105,564.62944495694899,480.94310773580088,588.35504994585028,602.14739204654518,441.75577592127314,411.27301588440611,457.82224916344609,577.6164541063506,476.78289461413982,479.22382855161214,461.95232806361827,597.15792443963051,475.20432169004027,467.32139795911661,493.16614018489554,579.09284199149204,480.99594051594107,474.61769385758487,414.39380814668169,520.36965176363515,273.53413891477294,210.1482422215779,295.92997472378897,457.87587557984858,466.20181014195816,392.67932768247243,430.90480137529829,654.61915512860821,424.13449771333319,409.92513127219098,474.07766060197349,558.62063446284503]
[null,0.26370985059500263,null,48,"Other & stock change","Table2.ton",null,40,null,"Other & stock change","Other & stock change",null,17.964777162997834,16.123207606501047,22.454052655168166,27.346110426176772,28.0709202494577,32.218333793260484,29.19683406255653,44.553072093272078,38.014990172211675,45.624733627145382,43.046372800560235,61.63009587172774,48.396421017192878,55.313712120673387,56.636765167111349,77.119590692167748,52.364032264177354,53.907690932563128,53.745608643786795,70.885866794192907,51.338300215811728,52.191216050067794,53.084590426004979,68.152172025194659,49.924546432279044,50.691128302729169,50.342679115530814,65.802343164194667,52.302560105291832,53.266684408979756,52.841525446560865,68.48300578606711,54.306509120779936,55.275224329426351,55.209457515059796,70.644244009345584,55.129074105135089,55.96060578799046,55.378936711057293,69.87444290039025,38.077702888582508,32.93956003386981,37.113717994137573,52.367127094739374,45.995076116640291,44.878645560376981,46.198939154175207,66.260555444594274,50.526780606725708,47.877579938486519,50.871589643995492,70.134499175495193]
[null,0.20592120651414203,null,49,"World Total","Table2.ton",null,41,null,"World Total","World Total",null,534.99436968507075,422.81721644398095,523.15108083623215,576.2849431237496,580.05925423881001,522.94729701674453,484.09458151532505,517.34456087293506,540.74934881411707,499.80288908846694,519.17214064536267,597.4806038152542,616.14121648389005,834.26159008502088,648.93661404968691,628.634939906157,627.03723228326078,603.09033614951579,610.23368100932339,693.85725788375396,615.96774517276071,533.13432378586867,641.43964037185526,670.29956407173984,491.68032235355219,461.96414418713528,508.1649282789769,643.41879727054527,529.08545471943171,532.4905129605919,514.79385351017913,665.64093022569762,529.51083081082015,522.5966222885429,548.37559769995528,649.73708600083762,536.12501462107616,530.57829964557527,469.77274485773899,590.2440946640254,311.61184180335545,243.08780225544771,333.04369271792655,510.24300267458796,512.1968862585984,437.55797324284941,477.1037405294735,720.87971057320249,474.6612783200589,457.8027112106775,524.94925024596898,628.75513363834023]
[null,"YoY",null,null,"Investment",null,"Investment"]
[null,0.63879095694360366,null,9,"India","Table3.ton",null,1,null,"India","India",null,78.554001832331892,59.852310511279825,92.804811159685812,108.8441416008442,100.05896949525759,111.05959019752957,74.881936591088618,68.710614425763822,64.959620093194587,57.641040321586452,84.843840378068023,111.53913538451184,90.634917833187501,133.13957511019413,51.482250323253183,65.894691347931584,42.68893607375999,52.349520050374466,53.976724381360825,56.947044848393688,40.042222037186875,37.69445452800263,57.038719914599554,60.166099178833285,27.461792576249803,32.256699654389664,40.084397824803148,61.773331207412582,37.073419977937235,41.557150398984433,31.036849580758954,59.648324727487562,32.323665387945582,39.300953640630304,34.368623679968678,56.408433476842362,33.616612003463409,44.523949101393015,22.339605391979642,45.289470733315838,28.058706880848014,19.756782076478416,33.766180969952913,48.855152887623881,39.298278416317643,25.372605410684258,42.91343401510921,78.893179825654073,41.263192337133532,30.447126492821109,45.426073773252071,56.421368966960038]
[null,0.18898642157548662,null,10,"Pakistan","Table3.ton",null,2,null,"Pakistan","Pakistan",null,7.5374999999999988,-2.734375,4.3343749999999996,-1.78125,5.310359589041096,3.6532534246575343,3.2607020547945202,3.5178082191780824,4.4785060975609756,2.1473577235772359,3.1350355691056908,3.4829268292682922,3.6704468724737267,6.5176169765561855,5.6875663146725941,5.0384017784963619,2.9290995957962811,4.1529705739692808,3.1909624090541633,3.6574155780113178,3.0570549991915921,3.7895856487469688,3.6696067704122877,3.9500088242522233,3.3933310491026676,4.206440070109136,3.9191400308003232,4.5057658797574778,3.4611976700847213,4.2721296821628947,3.7231830292603068,5.4069190557089728,3.6342575535889572,3.8541363086208174,3.2391692354564672,4.0551892917817298,3.9976833089478534,4.0083017609656508,2.5913353883651737,3.6496703626035569,4.197567474395246,1.0020754402414127,2.7209021577834331,4.014637398863913,5.2469593429940575,3.9352195072455434,4.3287414579700974,4.5451785308686024,4.3179196043251729,5.1815035251902071,6.4768794064877593,4.857659554865819]
[null,{"$error":"#N/A"},null,11,"Sri Lanka","Table3.ton",null,3,null,"Sri Lanka","Sri Lanka",null,0,0,0,0,0,0,0,0,0,0,0,0,0,0,0,0,0,0,0,0,0,0,0,0,0,0,0,0,0,0,0,0,0,0,0,0,0,0,0,0,0,0,0,0,0,0,0,0,0,0,0,0]
[null,1.6588755946070974,null,12,"Greater China","Table3.ton",null,4,null,"Greater China","Greater China",null,39.632632251555059,35.26752083753901,48.154690314954934,60.520895857505145,86.550419452018843,54.91035851081466,61.152933402745347,63.870499910776331,93.15110150864453,52.376362132766999,53.553717947161999,65.052976603426941,119.62163659867154,158.89605623439439,84.273992999247199,55.687680464633722,64.514756268656726,46.445716417910447,42.550462686567165,54.891269701492533,66.096117499999991,46.8875125,55.300457500000007,68.020602499999995,83.191207920081965,41.785328081454914,42.523526757812498,124.68455351562498,107.89929013671876,64.093924855957027,71.146808844433608,70.84840421687403,79.348108840820316,70.81284718857421,90.148749999999993,75.117903549999994,72.94,50.700499999999991,44.496430000000004,49.595000000000006,39.333800000000004,42.722000000000001,60.27,65.6922,88.998610000000014,59.716899999999995,66.51668500000001,79.149999999999991,51.826329600000001,39.413679999999999,71.821923999999996,63.574813999999989]
[null,1.7044261470317124,null,13,"China","Table3.ton",null,5,null,"China","China",null,39.371388092676554,36.544890385825617,47.672371779129392,60.205141444213346,84.758332711364631,53.272713066889423,59.081908934936422,61.982703441409768,91.237554900604323,50.636729385698317,52.173638592053123,62.916040673778696,116.22144909867154,155.16905623439439,81.949617999247209,53.370680464633722,62.295756268656717,43.431716417910451,40.487462686567163,52.237269701492536,63.950117499999998,45.144512500000005,53.208957500000004,65.799977499999997,81.263942295081961,40.180625737704915,41.019999999999996,122.08999999999999,105.9,62.625999999999998,69.28537,68.574463000000009,77.317250000000001,69.451769999999996,87.998750000000001,73.26790355,71.188999999999993,49.455499999999994,42.835430000000002,47.641000000000005,37.074800000000003,40.667000000000002,57.56,63.572199999999995,86.463610000000003,57.431899999999999,64.701685000000012,76.89,49.331329600000004,37.438680000000005,70.106924000000006,61.349813999999995]
[null,0.26500000000000012,null,14,"Hong Kong","Table3.ton",null,6,null,"Hong Kong","Hong Kong",null,0.26124415887850466,0.26158878504672894,0.37452686915887851,0.2949766355140187,0.39921874999999996,0.38906249999999998,0.42100694444444442,0.32777777777777783,0.50494660804020097,0.52571608040201012,0.52628768844221108,0.4559359296482412,0.68,1.08125,0.55312500000000009,0.6,0.49,0.28999999999999998,0.28000000000000003,0.33,0.37,0.3,0.49,0.33,0.36,0.22,0.46500000000000002,0.3795,0.432,0.26400000000000001,0.55800000000000005,0.45539999999999997,0.32832,0.23760000000000001,0.57999999999999996,0.33,0.28000000000000003,0.23,0.34,0.38500000000000001,0.28000000000000003,0.46,1,0.7,0.73,0.8,0.71,0.6,0.5,0.62,0.56999999999999995,0.44]
[null,0.47177790987318824,null,15,"Taiwan","Table3.ton",null,7,null,"Taiwan","Taiwan",null,0,-1.5389583333333334,0.10779166666666665,2.0777777777777784E-2,1.3928679906542056,1.2485829439252336,1.650017523364486,1.560018691588785,1.4086000000000001,1.213916666666667,0.85379166666666662,1.681,2.7201874999999998,2.6457499999999996,1.77125,1.7170000000000001,1.7290000000000001,2.7240000000000002,1.7829999999999999,2.3239999999999998,1.776,1.4430000000000001,1.6014999999999999,1.8906249999999998,1.5672656249999997,1.3847023437499997,1.0385267578124999,2.2150535156249997,1.5672901367187497,1.203924855957031,1.3034388444335936,1.8185412168740234,1.7025388408203121,1.1234771885742185,1.57,1.52,1.4710000000000001,1.0149999999999999,1.321,1.569,1.9790000000000001,1.595,1.71,1.42,1.8049999999999999,1.4850000000000001,1.105,1.66,1.9950000000000001,1.355,1.145,1.7849999999999999]
[null,-20.807683614359775,null,16,"Japan","Table3.ton",null,8,null,"Japan","Japan",null,-11.806719827586207,-7.7761490147783254,-9.667191502463055,-10.558233990147784,-6.0814743589743596,-10.369826923076923,-22.295334935897436,-13.537012820512821,-3.6419975247524752,2.2660767326732674,-5.3262636138613857,-4.2701138613861387,-9.8942812500000006,8.1369374999999984,-0.89593750000000016,6.5745000000000005,7.6080000000000005,-1.1099999999999999,-1.0448460000000004,-8.1939467549999989,-3.1723965000000005,-0.23227350000000024,10.764598500000002,8.8049999999999997,3.5936000000000003,5.7243999999999993,3.1820000000000004,4.6007999999999996,-1.8399999999999999,1.1020000000000001,-4.1579999999999995,1.6095999999999999,1.4556,2.7162000000000002,7.9656000000000002,0.37359999999999999,-6.1525999999999996,-3.1720000000000002,-7.8148,-2.9800000000000004,-6.5331999999999999,-2.4028,4.0399999999999964E-2,-0.43240000000000006,5.4431999999999992,-3.2824000000000004,1.8159999999999998,-3.8620000000000001,-9.7479999999999993,-3.6015999999999999,2.8444000000000003,-0.66720000000000013]
[null,0.1727529117504969,null,17,"Indonesia","Table3.ton",null,9,null,"Indonesia","Indonesia",null,3.3410457516339869,3.0468300653594773,4.3024754901960787,6.4696895424836605,5.7240801411290327,6.7953125000000005,6.5609248991935489,8.3473790322580648,10.444915158371042,5.7257918552036191,4.2425622171945694,6.0340950226244345,14.246375,15.175374999999999,8.6068749999999987,8.91,5.54,6.74,6.76,7.86,5.6849999999999996,4.5279999999999996,4.6454000000000004,5.2672100000000004,5.2288494999999999,5.9581769250000001,4.6175871168749998,5.3102251844062494,5.0030000000000001,5.615875,4.3982140000000003,5.2126000000000001,5.1155749999999998,5.9886899999999992,5.08,5.9788899999999998,5.36635375,6.228237599999999,-0.8266,3.4007599999999996,3.4725299375000005,3.1697663199999995,5.4874799999999997,4.6246239999999998,5.5399279000000012,3.7748885720000014,6.3093600000000007,4.1621615999999992,4.9859351100000016,4.1523774292000013,7.5712320000000002,4.758242759999999]
[null,0.37466511875000008,null,18,"Malaysia","Table3.ton",null,10,null,"Malaysia","Malaysia",null,1.7373071967789511,1.7726275291555433,1.1726180618757658,0.77578052980542189,2.1601090937077401,2.3674070216589209,2.5139673795033732,2.7175774569209139,2.5814568454063762,1.843861726348194,1.2989234240935952,1.9630623587321669,1.731716359609375,3.4265609064062503,2.7970304532031252,2.3199999999999998,2.27,2.0699999999999998,2.0699999999999998,1.82,2.5,1,1.7181,1.5806519999999999,1.5016194,1.22192455,1.099732095,1.3746651187500001,1.4777650026562501,1.3907517234999998,1.4380883282500001,1.45,1.58,1.357,1.65,1.41,1.39,1.3,1.42,1.2849999999999999,1.05,0.53159999999999996,1.22,1.1100000000000001,1.3282499999999999,1.02,0.58499999999999996,1.42,1.5851324999999998,1.355,1.1499999999999999,1.44]
[null,0.31402731291666686,null,19,"Singapore","Table3.ton",null,11,null,"Singapore","Singapore",null,1.1214108428880833,-0.16025073437218559,0.69515034880979754,-0.29564090561854611,1.3487291328265134,1.0845807692401976,0.92811144542905777,0.82548164150550574,1.499169593494148,1.275321792915922,1.105870034150938,1.2655470280243126,1.3837704958298978,1.8725136638865987,1.5956318319432992,1.65,1.42,1.7450000000000001,1.72,1.63,1.6,1.2,1.512,1.5909500000000001,1.1638675000000001,1.1969769000000001,1.0582792100000002,1.5768327755000002,1.3503078591750002,1.1055039838193752,1.0130911850329221,1.3456730997944448,1.3971201735420002,1.0693537353627602,1.23,1.17,1.21,1,1.08,1.1499999999999999,1.05,0.44,1.2,1.05,1.3149999999999999,1.0226999999999999,0.92500000000000004,1.21,1.53182,1.46,1.43,1.5]
[null,0.71848037109375018,null,20,"S Korea","Table3.ton",null,12,null,"S Korea","S Korea",null,2.74115625,-5.2765624999999998,7.5814375000000007,-3.7212499999999999,2.3452330508474577,2.352851694915254,0.86499788135593214,2.3642796610169494,3.4399687499999994,3.3086111111111114,2.224670138888889,2.3814583333333332,3.8358749999999997,5.1586249999999998,4.3589062500000004,4.5475000000000003,4.3710000000000004,4.2134999999999998,4.0984999999999996,4.0534999999999997,4.6115000000000004,4.2030000000000003,5.4184999999999999,5.7024999999999997,3.5024999999999999,3.2734999999999999,3.4017499999999998,4.9017499999999998,4.5685000000000002,4.1615000000000002,4.4625000000000004,5.3377499999999998,5.0529999999999999,4.0339999999999998,4.9820000000000002,5.2089999999999996,4.3899999999999997,5.4850000000000003,4.9130000000000003,4.6929999999999996,3.9630000000000001,4.05,5.71,5.29,5.7750000000000004,5.05,4.625,5.49,4.7140000000000004,4.375,3.7250000000000001,4.1550000000000002]
[null,6.6692026780279967E-2,null,21,"Thailand","Table3.ton",null,13,null,"Thailand","Thailand",null,15.655638002485711,19.827769379047197,20.479577706179445,8.2720556237235012,30.07011737466993,17.991090482431627,34.543821825067937,24.033285661970197,31.027643455471733,15.962108503967869,19.204653240423237,34.673026501420594,55.53875,35.849375000000002,24.943437500000002,22.6,24.5,17.95,25.6,28.3,19.5,16.43,20.524999999999999,21.52375,22.42,15.683999999999997,14.050599999999999,17.525749999999999,20.229612499999998,15.184709374999999,13.349120703124997,15.212243205078122,21.1106950625,15.131700444999998,16.245927257812497,15.972855365332029,21.321802013124998,12.859445378249999,-9.7308509195312531,10.954534292265624,5.6622812078749991,-40.570277310874999,-45.157076297525002,-7.2768750000000004,6.2252773286625001,5.7324909823694998,6.7359999999999998,9.9609749999999977,1.6185013971975,6.5923646297249245,9.5526250000000008,10.757852999999999]
[null,0.24566418324849648,null,22,"Vietnam","Table3.ton",null,14,null,"Vietnam","Vietnam",null,14.190097947761194,12.659748134328359,19.364225746268655,21.946977611940294,14.531043564920273,14.391657175398633,34.90316771070615,26.762357630979501,19.356532826409499,18.209875741839767,17.591246290801188,18.622700296735907,19.424999999999997,26.731249999999999,22.018750000000001,19.7,16,12.25,13.15,12.75,14.44,10.805,11.455400000000001,11.081238000000001,11.472,8.8508000000000013,9.1343400000000017,13.459401500000004,12.113461350000003,8.8657767855000014,8.1966724105150028,8.1999999999999993,12.694907494800004,9.4486633131250013,10.211956378175001,8.9215,13.329628638375002,8.9762301474687511,9.1907607403575025,7.5832750000000004,12.250868347305003,5.2160500000000001,4.7718695849859012,6.8249475000000004,13.475955182035504,9.1157850000000007,2.3859347924929506,6.0742032750000003,14.014993389316926,9.5715742499999994,8.4563322633499745,8.9898208470000007]
[null,null,null,23,"Australia","Table3.ton",null,15,null,"Australia","Australia",null,0,0,0,0,0,0,0,0,0,0,0,0,0,0,0,0,0,0,0,0,0,0,0,0,0,0,0,0,0,0,0,0,0,0,0,0,0,0,0,0,0,0,0,0,5.2000596253696703,5.17717150166889,4.7334000370819043,5.1698935021575947,6.2595646945508197,4.8607057886973069,4.7095386948193738,4.0929270921453345]
[null,-0.60991785834988743,null,24,"Middle East*","Table3.ton",null,16,null,"Middle East*","Middle East*",null,18.746205913966943,19.335023059304156,20.772871661812161,14.078713138933722,18.532488922109344,19.607159711055939,26.452397121313716,23.847790319780536,20.264170252009546,20.997598114666786,22.941329328539222,26.372598857580719,23.081722390880561,37.270871550625152,24.44132493341446,26.451303282663183,31.276901631833763,18.368022354163443,13.310486132258024,11.898338274965582,24.664406347705839,15.417056198436825,13.596893556031471,11.202439277578144,8.7320007341523098,7.2649657150331342,6.5455587481966964,7.481238077292315,9.6230263588175653,10.927595133164345,11.324616556738885,11.026511607618161,15.571939611283478,21.494019960952137,27.499769621499667,21.809162046269911,17.214354546696089,15.813769836356167,14.420729806587957,13.321221341043964,15.245142304648825,10.537072658567366,17.578073673447715,13.825355563926605,14.455958151099447,9.1970862174987804,15.615223062307551,15.483894762883118,17.055963012489755,15.778530442484385,24.942453738154974,20.021302093187504]
[null,-0.24193524991011861,null,25,"Saudi Arabia","Table3.ton",null,17,null,"Saudi Arabia","Saudi Arabia",null,3.5044018295930641,2.3057852617508843,4.8181103846114635,3.9196195833290859,3.7496776791273052,3.9628355508961586,4.8902254064149968,5.1074111981130912,3.9240582406693019,4.041469923570256,4.0556169159272812,4.9045872740862171,3.8733273170970706,6.1158678735683045,4.4392104701092778,3.8743453456120154,4.95868662425565,3.6630171532750184,3.1859123753680061,3.8409112924662168,4.7485172763820378,3.2302651423491309,3.251220839343159,3.6879122899032222,3.4166601981407982,2.6294227195732702,2.3161473169172218,2.4487501378589491,2.904161168419678,2.4979515835946069,2.2003399510713604,2.3263126309660014,2.4685369931567265,2.7477467419540678,2.7504249388392008,2.2099969994177009,2.3451101434988901,2.1981973935632544,2.2003399510713604,2.0994971494468162,2.4623656506738345,1.0990986967816272,2.4203739461784965,2.4144217218638384,3.2010753458759851,2.4008065094069893,2.5208468348773385,2.7729315183650725,2.6342849424468189,2.7659991895691598,3.3191990274829917,3.4851589788571413]
[null,-0.37220450950376027,null,26,"UAE","Table3.ton",null,18,null,"UAE","UAE",null,2.7140232904774844,2.7379147417743255,2.8312129167582696,1.6850582261937115,3.0285589615920259,2.6745209210676841,3.1044395222638346,3.0698086233678996,2.9433113517335068,2.4927131570520178,2.2985349147038749,2.9306358924269098,3.6690095528317404,4.7064784745608552,3.4655313602267444,2.2745728297874432,3.2200879646647675,2.6965468319202675,2.0705129019114992,1.9550923231559043,2.8980791681982909,2.2920648071322272,1.7599359666247743,1.7986849373034322,2.173559376148718,1.3752388842793364,1.0559615799748645,1.4389479498427458,1.9562034385338465,1.3064769400653695,0.98257225016661154,1.2950531548584714,1.7214590259097848,1.4893837116745212,1.4197667433157048,1.1389992496980255,1.6353860746142956,1.3367218812278827,0.99383672032099335,1.0820492872131242,1.7989246820757252,0.84594016055689458,1.3913714084493907,1.2010747088065681,2.3386020866984429,1.4499332937530347,1.8849132818789454,2.0734046100668402,1.9697343795634978,2.2061025051111178,2.1178584049066727,2.1072691128821393]
[null,-0.26790313875719607,null,27,"Kuwait","Table3.ton",null,19,null,"Kuwait","Kuwait",null,0.37996750558158038,0.26995125837237061,0.42487814593092649,0.27988626953553142,0.38332071004553514,0.25198939643824958,0.40397879287649902,0.25065050885828499,0.49404867706250005,0.31576794813333336,0.44345354476874999,0.37396932609,0.65432286250000016,1.281220475,0.96835390625000017,0.91412640000000012,0.90256052000000009,1.03425872,0.78366200000000019,0.85595472000000006,0.81611810400000018,0.82740697600000013,0.62692960000000009,0.72423741600000002,0.68264084400000014,0.66192558080000019,0.50154368000000016,0.61560180360000005,0.71503386818400017,0.72510938624000021,0.53573984000000019,0.64638189378000011,0.78358092437520022,0.79762032486400036,0.69646179200000025,0.67870098846900007,0.78358092437520022,0.67797727613440029,0.48752325440000016,0.61083088962210019,0.82275997059396022,0.50848295710080016,0.70690871888000018,0.68413059637675222,1.0695879617721484,0.76272443565120018,0.84829046265600017,0.92553904095744022,1.0105124770890244,1.0610381009434757,1.1671419110378232,0.94071788122914246]
[null,-0.31259313886711781,null,28,"Egypt","Table3.ton",null,20,null,"Egypt","Egypt",null,0.57690011027049848,0.59358643504241049,0.49198304380301305,0.68503501509895759,0.435006167895364,0.48293495283779664,0.65123214885879466,0.76830953181172612,0.47258887050162085,0.50489987088356092,0.58906575315100573,0.55970431904601536,0.77302459042730887,2.5434857687892443,2.1249798234789252,1.6776683570078794,1.6749067767669237,1.5716806197433126,1.4260527028221739,1.3495199781790499,1.1154659254483859,1.1574458752988295,1.4191405247691922,1.2240557478005687,0.61350625899661226,0.57872293764941474,0.70957026238459608,0.79563623607036971,0.55215563309695104,0.50522512456793911,0.67693003031490462,0.73994169954544375,0.52454785144210347,0.53048638079633603,0.74462303334639501,0.81393586949998831,0.55077524401420863,0.49335233414059254,0.59569842667711614,0.82207522819498813,0.59189416430039143,0.29594708215019572,0.53612858400940444,0.7398677053754894,0.71027299716046977,0.4971910980123288,0.62148887251541096,0.59041442888964046,0.7970594790010147,0.75720650505096387,1.5144130101019277,1.362971709091735]
[null,-0.95749079276738991,null,29,"Iran","Table3.ton",null,21,null,"Iran","Iran",null,11.228309007295833,13.166222856352752,11.788718406793187,7.2727945901892825,10.480220967686698,11.845416980570921,16.755525686975361,14.106543148271317,11.834170289253329,13.18013011773227,14.968871275248143,16.992844115500308,13.178506585315366,21.567281386174685,12.421022497196956,16.865438037050673,19.521668832657088,8.5202441630752244,5.0351258133138534,2.9840060150024765,14.151727557558742,7.0196698768669572,5.7903946853109316,3.1332063157526009,1.0243155184518709,1.1365179800641738,1.2132255531127667,1.2532825263010405,2.6632203479748648,5.0151153471114265,6.2205623773538896,5.2585345683827054,9.3127966179781723,15.162092277689142,21.131590496221584,16.171461296801841,11.178436448877081,10.420883049920228,9.52895429773295,7.9607306484009204,8.8667792549239302,7.4371734039391439,11.85265759930185,8.0947985909258833,6.2067454784467504,3.1033727392233752,8.3501041442615112,7.789817080306273,9.3477804963675286,7.3748460460042802,14.74969209200856,10.324784464405992]
[null,-0.10881757927186952,null,30,"Other Middle East","Table3.ton",null,22,null,"Other Middle East","Other Middle East",null,0.34260417074848865,0.26156250601141051,0.41796876391530208,0.23631945458715353,0.45570443576241648,0.38946190924512303,0.64699556392422974,0.54506730935821346,0.59599282278928567,0.46261709729534173,0.58578692474017047,0.61085793043126912,0.93353148270907305,1.0565375725320667,1.0222268761525557,0.84515231320517237,0.99899091348932934,0.88227486614961914,0.80922033884249167,0.91285394616193416,0.93449831611838141,0.89020352078967768,0.74927193998341335,0.63434257081832068,0.8213185384143098,0.88313761266693835,0.74911035580724805,0.92901942361921008,0.8322519026082259,0.87771675158500262,0.70847210783211878,0.76028766008553794,0.76101819842148988,0.76669052397406867,0.75690261777677859,0.79606764238335659,0.7210657113164114,0.68663790136980762,0.61437715638553658,0.74603813816601339,0.70241858208098196,0.35043035803870493,0.67063341662857368,0.69106224057807264,0.92967428114565176,0.98305814145185344,1.3895794661183434,1.3317880842978516,1.2965912380218736,1.6133380958053851,2.0741492926169927,1.8003999467213541]
[null,2.2204230158016958,null,31,"Turkey","Table3.ton",null,23,null,"Turkey","Turkey",null,9.1339147602383726,7.2053095308186448,16.412473782449126,8.1192606953437245,17.112485956623811,14.545798321085597,23.228412675301414,17.061202002619495,15.196718822887167,18.332381671312806,7.837610832791551,6.7197288488721707,31.435899411249999,37.529650730625001,8.2209785105833326,27.03401792,12.569352,15.511910400000001,5.4509327999999995,15.077726400000001,5.2266959999999996,4.5001247999999991,9.1768942459999998,4.2102101588000007,5.0499743733600013,4.4807118837599997,5.3289731249999992,14.492305479900001,8.9375708768600006,23.334226600439997,15.039700098119997,5.0575965943919989,13.130520273920002,11.6215520982,4.63447139186,8.3811219298800008,16.586831957400001,9.5847063311999996,6.7045361782400006,19.990557828150003,23.295812205819999,19.909878008711996,49.021992012563999,28.866987849500003,44.255781163616007,4.1180765506027992,9.2489624619056006,3.8138038645454402,10.141283541012481,9.5348174026618562,35.94697383850928,29.226608203516495]
[null,-0.34000000000000008,null,32,"Russia","Table3.ton",null,24,null,"Russia","Russia",null,0,0,0,0,0,0,0,0,0,0,0,0,0,0,0,0,2.1881500000000003,2.18025,2.0802499999999999,1.45675,1.25,1.25,1.2000000000000002,1.1000000000000001,0.98,0.98,0.90000000000000013,0.82499999999999996,0.66,0.66,0.60000000000000009,0.54374999999999996,0.81194999999999995,0.64874999999999994,0.60675000000000001,0.56737499999999996,1.0516799999999999,0.90480000000000005,0.86699999999999999,0.83156249999999998,1.2225000000000001,1.2225000000000001,1.2725,1.2725,1.2725,1.4000000000000001,1.3,1.3,5.5,7.5,6.5,5.5]
[null,1.2373260905365471,null,33,"Americas","Table3.ton",null,25,null,"Americas","Americas",null,18.532406751693294,35.58805916865704,26.156164632568277,32.969618868143179,23.306748278736595,22.278091258650885,24.507787552733284,22.325990104732583,16.148273696955869,13.82799477984663,12.276767543647034,19.368164690779672,25.043708448130257,29.722657377991219,12.943425813841898,17.910406004465671,13.75252273074627,13.315173295822623,12.115282232854387,16.91585908298779,13.462840294403474,13.717608164507332,32.765675323518622,18.271412217384313,22.99703507013389,29.004675734190538,18.700693362873967,28.314717601921259,17.95418767526353,5.8759917491872988,7.6232042892564955,10.390263716824526,7.2517775831160023,6.1028277390730281,8.9718600433804081,8.9029230461854389,8.8550092782816456,4.2833135902069408,5.8262418996029792,5.9977645367207213,17.058163965102707,16.873412537977526,24.808869470253974,20.392345977800577,35.161619103580321,33.97681302469806,27.260629931081613,33.297257908621724,34.95696185494522,32.925369329884994,28.414569398344828,31.704629951751969]
[null,1.3063822675597763,null,34,"United States","Table3.ton",null,26,null,"United States","United States",null,16.466782541451991,32.785963182930352,24.090031107791667,31.007381102307225,20.805980531183685,20.408634446715475,21.688869420857387,19.710423586776209,14.050851662550063,12.397989855667053,10.29236922137896,16.391303369236844,23.255979262957556,26.802150482536202,10.036618986742644,15.178270739756995,11.388299584097627,11.682910096770122,10.591564351358791,14.525795934695898,11.699114296410864,12.309618727917243,30.585410279323938,16.459478619024694,20.944392371333645,27.078255150327891,17.086040671559232,26.21208684632974,15.506605175523317,4.8440764891905346,6.0418775977649499,8.8150664107619772,5.5403999078487498,5.1840545196641425,7.6352744114981306,7.7065229828166402,7.30899704647035,3.3395058604670163,4.5650437025557355,4.4862309001769924,14.894125408746863,14.210778579081401,21.891223688445162,18.124510337169443,31.680982040484928,29.743085492963203,24.539495594607331,29.88107237477108,30.986341350062325,28.744499312795504,25.134170669139074,27.998145900966573]
[null,0.97115832155379045,null,35,"Canada","Table3.ton",null,27,null,"Canada","Canada",null,0.96779173331227752,1.2531912327622181,0.64936996576596662,0.82729598501376889,1.7867573526851634,0.68247807853038589,1.9074956577610158,1.5712962955314476,1.0950067874177272,0.70953013467325032,1.0138166344376189,1.5771544927161041,0.95817398407214593,1.9848233909187234,1.8390811495548178,1.6663052647086785,1.2628709805751752,1.0008803206879633,0.75202151834639852,1.3879160042448202,0.87736403848901778,0.63721257235569473,1.0216009590962394,0.83261098008958001,1.1072963381582757,1.285948063567786,0.63958713601007999,1.1118152002868662,1.3225105710288187,0.30716801729824783,0.57989172597880834,0.68690030540938141,0.62415330217896292,0.42827528234409074,0.62807392338377532,0.51062343235797658,0.94161244689779822,0.49906668307939422,0.66935547434135945,0.84710359883152275,1.7000121950461562,2.0768401852067333,2.2768698414108188,1.6602150533248325,2.7372152488554038,3.4872620501066054,1.9357594877834212,2.6558888798887246,3.2001149513021128,3.4264771297900349,2.5266682875024369,2.9518346064272789]
[null,0.54789488386921836,null,36,"Mexico","Table3.ton",null,28,null,"Mexico","Mexico",null,1.0362938102623565,1.4758274196311387,1.2475315590106413,0.94263244748884989,0.62721733931218804,0.9986754000716892,0.70840191855932677,0.60879466686937,0.82088649698807781,0.62518103950632709,0.77093543783045493,0.87794432882672013,0.55663543547555161,0.54522366078629048,0.66950825566943639,0.74213999999999991,0.6869621660734665,0.36969287836453696,0.46000636314919841,0.69045714404707303,0.53636195950359244,0.42077686423439403,0.80866408509844168,0.61182261827003814,0.63034636064197069,0.32547252029485862,0.66006555530465616,0.66006555530465616,0.84157192871139308,0.49374724269851639,0.77043496551273705,0.60324700065316772,0.83207437308828924,0.2825979370647948,0.50061170849850123,0.42923163101082307,0.36200728491349748,0.24723604666053095,0.39433772270588485,0.42071228771220626,0.23375348630968901,0.18579377368939287,0.24077594039799632,0.20762058730630192,0.34342181423998569,0.34646548162824731,0.36537484869085818,0.34029665396192277,0.3505055535807805,0.35539288729945173,0.37468044170331483,0.37432631935811511]
[null,-5.4999999999999827E-2,null,37,"Brazil","Table3.ton",null,29,null,"Brazil","Brazil",null,6.1538666666666665E-2,7.3077333333333341E-2,0.16923199999999999,0.19230933333333333,8.6793055555555554E-2,0.18830333333333335,0.20302055555555557,0.43547555555555562,0.18152875000000002,9.5293749999999997E-2,0.19964625,0.52176249999999991,0.27291976562499998,0.39045984374999998,0.39821742187500003,0.32369000000000003,0.41438999999999998,0.26169000000000003,0.31169000000000002,0.31169000000000002,0.35,0.35,0.35,0.36750000000000005,0.315,0.315,0.315,0.33075000000000004,0.28350000000000003,0.23100000000000001,0.23100000000000001,0.28505000000000003,0.25515000000000004,0.20790000000000003,0.20790000000000003,0.25654500000000002,0.24239250000000004,0.19750500000000001,0.19750500000000001,0.24371775000000001,0.23027287500000004,0.4,0.4,0.4,0.4,0.4,0.42000000000000004,0.42000000000000004,0.42000000000000004,0.39899999999999997,0.37905,0.38032312499999998]
[null,0.56522888946898542,null,38,"Europe ex CIS","Table3.ton",null,30,null,"Europe ex CIS","Europe ex CIS",null,47.384994754561887,111.99201107507096,53.509704081194201,75.370574753600948,77.481326234319354,57.743875947752393,117.99662326174395,80.600492865073079,57.013221611620139,66.267495391411899,59.285167852341438,57.342001375378629,45.931396636686536,80.41858456579925,58.576923628255486,76.48938563265466,51.864764628275339,38.954995717820815,44.843165811906928,60.740860886777917,58.110854329451136,45.687722120776812,58.596022478836069,57.790038558286447,55.850819283991754,41.108032849310341,33.47222011010048,71.489838247351443,64.793168636866127,39.633538482110083,46.574417389073581,41.499833496396832,40.247598724665636,33.510834838657715,51.874013653517551,46.161832536266729,43.540380251704661,30.323609137730529,32.547094584113886,46.561644729605341,74.884410833421327,71.852786601292451,49.10406945806853,60.571986703366768,76.398356551740335,74.191026397644521,58.783040635441722,66.842926052522571,81.545160427151018,79.102734940533907,72.665241991388129,80.909993796045427]
[null,-1.2419354838709684,null,39,"France","Table3.ton",null,31,null,"France","France",null,0.13076171875000001,0.40468750000000003,0.30527343750000002,0.46054687499999991,0.679522659732541,0.51139487369985148,3.7402767459138189,1.5251114413075779,0.76451002559726966,0.54739761092150163,0.54213737201365175,0.80531569965870298,0.6047499999999999,0.61499999999999966,0.40781249999999963,0.29749999999999988,5.4999999999999938E-2,0.14999999999999974,0.14999999999999974,0.62000000000000033,0.79999999999999993,-0.30999999999999994,-1.07,6.0000000000000109E-2,-0.12000000000000022,-3.2500000000000009,-0.8,-4.4999999999999873E-2,1.1199999999999992,0.81999999999999984,-0.15000000000000019,-1.8999999999999997,-0.29000000000000026,-0.7000000000000004,-0.35000000000000026,0.15000000000000024,0.40000000000000024,-0.54999999999999993,0.55000000000000004,-0.1000000000000007,0.95000000000000018,1.2116499999999997,1.2800000000000002,9.9999999999999811E-2,1.4500000000000002,0.74999999999999989,1.3,1.1500000000000004,1.4299999999999997,1.31,1.3699999999999999,1.5199999999999996]
[null,0.78534257687572295,null,40,"Germany","Table3.ton",null,32,null,"Germany","Germany",null,18.37492022674245,48.399574542626397,23.22509313943436,32.925212869954571,34.690014837962956,20.451130683333329,52.643287687534709,34.606837315251809,20.869973524143148,32.938537133416368,28.324207232084241,26.053525460380747,21.300336336078548,40.410832768764237,31.047577918533488,40.52962923800704,26.802976006491203,19.470751924402599,23.881135983300673,31.101329136335384,30.927302951394314,23.120469256079954,30.212408164076354,31.690786360664923,30.266080761960659,21.930485192088035,17.315149220467966,41.277958160225715,36.234692518307483,20.453651508815774,25.757429536901295,24.1,23.455379199999999,18.840000000000003,28.872575386318644,25.09,22.799999999999997,16.399999999999999,17.8,28.6,46,44,29.5,37.5,44.023976113928697,44.7222338352802,33.72493587544335,40.107439423041079,47.457910421106703,48.8731589367463,41.996969889334601,46.985631499384347]
[null,{"$error":"#N/A"},null,41,"Italy","Table3.ton",null,33,null,"Italy","Italy",null,0,0,0,0,0,0,0,0,0,0,0,0,0,0,0,0,0,0,0,0,0,0,0,0,0,0,0,0,0,0,0,0,0,0,0,0,0,0,0,0,0,0,0,0,0,0,0,0,0,0,0,0]
[null,{"$error":"#N/A"},null,42,"Spain","Table3.ton",null,34,null,"Spain","Spain",null,0,0,0,0,0,0,0,0,0,0,0,0,0,0,0,0,0,0,0,0,0,0,0,0,0,0,0,0,0,0,0,0,0,0,0,0,0,0,0,0,0,0,0,0,0,0,0,0,0,0,0,0]
[null,0.54477520269644386,null,43,"United Kingdom","Table3.ton",null,35,null,"United Kingdom","United Kingdom",null,3.0726077449455245,5.76622839813359,2.1452154898910489,3.8388361430791145,3.8896450749019049,4.3510208511175712,5.7682546572940003,3.3455031048626669,4.2173661164047704,5.6940022202667677,2.0379868018045908,3.019295684894189,2.9877636576894369,3.3012311871914743,2.4585871656487615,2.7191741116618573,2.5405124145856846,1.6069962960821087,1.5038584726042283,1.9921682250325037,1.9134753351358413,1.9603998330710573,2.5963793586926367,2.0171108022216626,3.0499519222959717,3.1610975538028145,2.5836322636625102,3.1296143741042264,3.3491317566436525,2.1843440735809736,2.590157774683953,2.3581456814468198,2.2507616063206251,2.8509641974227109,3.7366180785111589,3.2535788834274784,3.7899445955321625,2.2854531409530257,2.3813324434513841,1.9944449676158342,3.868203239237809,3.7904323112824523,3.1864806747810319,3.0525223438155216,3.9424249462871401,4.1411321399943208,4.0799809626658767,3.3341577903964907,4.3218592479223137,3.8362012476016081,4.2406417919986801,3.8930511324959456]
[null,0.35997855867791984,null,44,"Switzerland","Table3.ton",null,36,null,"Switzerland","Switzerland",null,13.661360841423948,33.972940291262141,15.580899029126215,23.665044012944982,24.597273753684618,17.407180432256816,30.273841426942354,24.477855025066162,21.424346328748893,13.501880627855009,13.197918798678892,14.068040693088832,11.635592022499999,19.521125793611109,12.450136177083332,18.129147033333332,12.488649999999998,9.7897777777777772,10.447605555555555,15.001333333333331,13.8409,10.986055555555556,13.620722222222222,11.9,11.68,10.7,8.3000000000000007,14.940799999999999,13.4,9,10.45,9.6300000000000008,8.23,7.05,11.14,10.130000000000001,8.91,6.74,6.4850000000000003,7.6850000000000005,14,11.8,7.5,9.6,13,12,9.1,9.6999999999999993,13.5,11.600000000000001,11,12.625]
[null,0.49126473563798267,null,45,"Austria","Table3.ton",null,37,null,"Austria","Austria",null,2.3814544718774999,6.0057268987106243,2.5397270336018751,2.81036328074125,2.3333286008264325,1.7399957407437898,6.4394259482299763,4.5866515226445852,1.5005490260597749,2.5010167149255089,3.2576129694265172,3.1572075451389554,1.9666199864846505,4.0714811478213333,2.9313896827738839,4.0174859528909348,2.8556504023252742,1.9366831031933327,2.3242501153182551,3.1145692196878221,2.9500669322249999,2.4713552112250001,3.5291816543149999,3.2497273321400009,2.9198248286499999,2.3386774427000003,1.8930666683500004,3.6854448757350005,2.9797330191000002,2.0146741102750001,2.585582648375,2.1029072939500009,1.7945149677000001,1.3884758821249998,2.7618739412150002,2.2363753321549997,1.7472593751274998,1.1708960164675002,1.0536976843499999,2.2674757620450001,2.7858122384150006,3.2508528174000002,2.4058208290500014,3.1247069544000001,3.166558770505,2.934395785025,2.5423694281499998,3.6018794835750012,3.7127748489799997,2.9922642580800005,3.2773180787842842,4.2367679529157156]
[null,0.1396322319364276,null,46,"Other Europe","Table3.ton",null,38,null,"Other Europe","Other Europe",null,9.763889750822468,17.442853444338219,9.7134959516407058,11.670571571881037,11.291541307210903,13.28315336660104,19.131536795829078,12.058534455940279,8.2364765906662871,11.084661084026756,11.925304678333546,10.238616292217205,7.4363346339338987,12.498913668411095,9.2814201842160262,10.796449296761487,7.1219758048731778,6.0007866163649997,6.5363156851282138,8.9114609723888751,7.6791091106959826,7.4594422648452392,9.7073310795298582,8.8724140632598587,8.0549617710851287,6.2277726607194879,4.1803719576200002,8.5010208372865002,7.7096113428150002,5.160868789438334,5.3412474291133334,5.2087805210000004,4.8069429506450003,4.0813947591100002,5.7129462474727495,5.3018783206842492,5.8931762810450001,4.2772599803100002,4.2770644563125,6.1147239999445002,7.2803953557685004,7.7998514726100003,5.2317679542374993,7.1947574051512504,10.8153967210195,9.6432646373450002,8.0357543691825004,8.9494493555099996,11.122615909142,10.491110498106,10.780312231270569,11.649543211249428]
[null,0.7735223502912798,null,47,"Total above","Table3.ton",null,39,null,"Total above","Total above",null,246.50159242830921,290.5998720414097,306.07338398353113,321.01133332655735,378.45063592723329,318.41120009211426,389.50044886507942,331.44774611206219,335.91930118727316,280.18187759922859,284.21513118334599,350.54730826930296,425.68693379671942,579.84564961647811,309.05115605841462,340.80788643084514,283.49348292906842,235.13705881006109,229.87192045400153,269.80481801762875,257.07429500793893,206.87779046047061,287.38326828939796,280.26211071513444,256.53859740707236,202.99663236324773,188.01879838146215,362.31617458791624,293.30450804437919,227.78067376982543,215.7684664145647,242.78946972017462,240.72671570618198,227.09152926819596,268.70889126167026,260.43978624255828,238.65773574799363,192.81986288357109,128.0244830697159,211.323461323705,224.21158315691605,154.31084633239416,211.81526102953154,254.68146288108179,349.39073276541546,239.51836316441234,254.08241139339066,312.95147432225309,271.56875746812244,248.64918423119875,331.63324410430641,327.24302026547252]
[null,0.54863705529767604,null,48,"Other & stock change","Table3.ton",null,40,null,"Other & stock change","Other & stock change",null,5.5163430035529393,15.557915865741741,11.724281519008041,7.309591103761937,17.901748627799972,15.229188425991055,29.113785300941949,21.917851181650736,10.955976544122693,15.984020511822813,19.365740672573168,25.180949505191787,17.482315087016545,19.557850420687068,17.941618263700821,19.337739129691649,9.7227541916449809,13.620849237861421,11.033896633601756,13.963664612207253,9.6529964099453878,11.59391423733075,17.630593223385176,20.241581207811919,15.664364042105603,17.990245395999295,11.947816421233142,17.409129916984625,10.748776044090619,20.590572857466725,17.158850211120779,15.917948919020517,20.527618504612292,20.903873832228214,28.701314840197028,23.349704011786628,19.588816809541413,26.924159888809214,22.336791041280833,31.197508808418405,29.121908313616785,4.9797618743366741,9.6404663646629274,15.069147541651773,5.1775567461922378,8.6955640647258292,7.6278164374320454,13.439858285157754,11.619537985641614,8.8688271623109074,9.5088816206163074,8.025794989330052]
[null,0.76294951793583765,null,49,"World Total","Table3.ton",null,41,null,"World Total","World Total",null,252.01793543186216,306.15778790715143,317.79766550253919,328.32092443031928,396.35238455503327,333.64038851810528,418.61423416602139,353.36559729371294,346.87527773139584,296.16589811105138,303.58087185591916,375.72825777449475,443.16924888373597,599.40350003716514,326.99277432211545,360.14562556053681,293.2162371207134,248.75790804792251,240.90581708760328,283.768482629836,266.72729141788432,218.47170469780136,305.01386151278314,300.50369192294636,272.20296144917796,220.98687775924702,199.96661480269529,379.72530450490086,304.05328408846981,248.37124662729215,232.92731662568548,258.70741863919511,261.25433421079424,247.99540310042417,297.41020610186729,283.78949025434491,258.24655255753504,219.7440227723803,150.36127411099673,242.52097013212341,253.33349147053283,159.29060820673084,221.45572739419447,269.75061042273353,354.5682895116077,248.21392722913816,261.7102278308227,326.39133260741085,283.18829545376406,257.51801139350965,341.14212572492272,335.26881525480258]
[null,"YoY",null,null,"Consumer",null,"Consumer"]
[null,0.53282583030105779,null,9,"India","Table4.ton",null,1,null,"India","India",null,269.41918909405962,177.12255582056164,259.41713216425154,295.75309458710069,298.81864642178311,290.84137563820263,201.91416756336471,182.44818283814183,212.48566287613826,191.47671904541374,232.04073814487529,278.14804881705351,235.28543887764255,321.67347682184931,197.64458278885763,203.97771734583421,166.37743544556565,203.91609699563469,237.06020386225163,226.09981965810826,190.74704337519171,159.16461357340742,271.17751859226001,236.14936043965648,107.23890971271256,122.09521847662704,192.77924085804847,243.97163095520526,160.79853018310081,202.50720316678803,165.83506382350748,242.07614149457393,151.53325849617966,189.24451433261939,183.15636748412948,236.47844115059956,159.04499034022686,213.16708037718047,123.90590959468416,194.28785506979671,101.91971521449426,63.731608635046534,94.561913707034734,186.15627696305225,165.8209558415486,119.63781202431147,168.00092949489553,343.88134243191655,135.45941367933091,170.73290551086191,191.6504765149914,276.11404340699352]
[null,0.28365591229942289,null,10,"Pakistan","Table4.ton",null,2,null,"Pakistan","Pakistan",null,16.80858116764275,3.3150132686676423,10.95047927342606,2.7554264275256219,14.796621542176091,9.3510163539248055,8.4943005963605245,7.3042029977674794,13.340676370611659,7.9194895415799698,9.0847520246024054,9.0452562767093188,9.6869980042441401,13.325263197251417,10.837657497347411,10.396004446240905,7.1039513338722706,10.226690038399354,8.7051466248989477,9.7439883548908632,8.3737949749393685,9.152209251717867,9.5865053023443796,10.527260285691188,9.8268100673726764,10.382512955143493,10.286072087485852,11.748287516569118,10.05034626872013,11.078864768369442,10.165031274062246,13.635374740840419,10.540646554128845,9.860197886206711,8.9668326557782123,10.804637934118819,11.85071120954173,9.540757180792955,7.1379661246225714,9.508756204668364,11.263843979959429,2.2675392951982385,6.3008132836022206,8.9275266207887967,11.880494395210777,9.2479715490189189,9.7343889018321423,10.32610834692375,9.6951709275775642,11.465525156243075,12.99964648229327,10.126125973687854]
[null,-0.25907346353949323,null,11,"Sri Lanka","Table4.ton",null,3,null,"Sri Lanka","Sri Lanka",null,0,0,0,0,0,0,0,0,0,0,0,0,0,0,0,0,2.6824999999999997,2.7679999999999998,1.911,1.7610000000000001,3.1257499999999996,3.0254400000000001,2.1539499999999996,2.3557100000000002,2.5886599999999995,3.2657120000000002,2.2862354999999992,2.3304897999999996,2.700593,2.8108551999999998,2.4388051999999996,3.2311612300000001,2.1435040499999998,2.2556414,2.5055813040000001,2.7000451070000007,2.0386587665000002,1.8310772600000003,2.0137743519199995,2.0035383409500001,1.3493111365499999,0.52123175330000004,0.68413230557599991,1.7176537557125002,1.7691733638599998,0.98062801373699993,0.57890820892905004,0.76574444026840749,2.2343832375477994,0.44531400686849998,0.30078260618164998,0.93204221637577045]
[null,0.33325322202140972,null,12,"Greater China","Table4.ton",null,4,null,"Greater China","Greater China",null,168.48921532508194,133.77092858422444,174.16475442630698,199.83654022313036,253.40385180124494,181.63697155310729,212.80759563394423,225.18725882330978,275.0169030139748,199.32441703306932,209.01218839985515,234.9881367703176,359.4406030722397,517.31202001116685,330.85537378543364,242.17924481229355,320.75044559737626,246.20043650110142,236.72254732736073,280.00438070549797,301.34318955991495,231.43048784165023,254.76544143562245,274.61569001676105,278.45415969999311,201.55847830304967,196.17762277877898,308.85681235880452,299.96211075619937,216.15495881681252,244.21238011288023,269.37648609157662,281.04355504741625,227.70455143147626,281.84908694337423,267.79375376483836,270.81485312991504,197.74439870447929,210.62858037469718,220.33212460999999,106.46290922464877,137.0003313929636,183.09092212000002,214.74666561000004,289.25075517079745,211.52537360635,228.74914641520007,264.17184951299998,234.86174785937081,148.389678413122,242.665190825,199.02073721903997]
[null,0.33415965020861793,null,13,"China","Table4.ton",null,5,null,"China","China",null,160.3857378093976,127.63497509897417,166.42415200697152,191.29698064010472,239.09844340113835,167.83303698727048,199.4451452526647,209.89856763808302,259.7877470473386,182.77396424831838,195.51084877784109,218.24941984882793,336.06691969917631,482.10660694681246,311.38617205273175,215.9466086603648,298.25204811960106,227.99692435448483,221.52969330931884,257.50710754110884,283.76521195602851,217.63230687834675,237.30018599525468,256.85200237432889,264.39035268540965,189.30177595929968,185.12448172096646,290.55443364317949,284.99566761948063,203.6829391483555,231.3258967228216,251.5483225967026,264.86708769159588,213.54279187790206,264.64434714107426,251.29375376483833,254.77587227647754,185.41939870447928,200.8945803746972,208.03812461000001,98.369909224648779,131.33133139296359,176.09892212,206.85366561000001,280.22575517079741,204.09937360635001,220.74814641520004,253.75984951300001,226.77274785937081,140.61467841312199,233.25719082500001,188.51773721903999]
[null,0.34687675495462122,null,14,"Hong Kong","Table4.ton",null,6,null,"Hong Kong","Hong Kong",null,6.0723735111236508,5.622682055677795,6.0802818752268397,6.4142135105140188,11.003922578671329,10.612115209790209,10.470825979409481,11.715303903651904,11.721598432857723,13.2906449125188,11.593455480413015,13.045597973443861,18.0695625,29.925875000000001,15.535937499999999,21.990000000000002,18.840999999999998,13.157,11.504,17.93,13.969999999999999,10.798,14.182,13.897,10.559999999999999,8.9720000000000013,8.7796142999999987,14.543575200000001,11.6238405,9.8034619999999997,10.220936030000001,14.334622277999998,12.673928515,11.658282365000002,14.204739802300001,13.58,12.967980853437501,10.01,7.2130000000000001,9.3849999999999998,4.8840000000000003,3.2439999999999998,4.3019999999999996,5.3730000000000002,5.77,5.1509999999999998,6.1760000000000002,7.5519999999999996,4.5940000000000003,5.24,7.3730000000000002,7.3380000000000001]
[null,0.21708657392507402,null,15,"Taiwan","Table4.ton",null,7,null,"Taiwan","Taiwan",null,2.0311040045606794,0.51327142957247229,1.6603205441086175,2.1253460725116247,3.3014858214352558,3.1918193560465942,2.891624401870081,3.5733872815748677,3.5075575337784457,3.2598078722321548,1.9078841416010444,3.6931189480458011,5.3041208730634093,5.2795380643543481,3.9332642327019336,4.2426361519287541,3.6573974777752265,5.0465121466165872,3.6888540180419156,4.5672731643891264,3.6079776038864653,3.000180963303495,3.2832554403677747,3.8666876424321357,3.5038070145834928,3.2847023437499994,2.2735267578125002,3.7588035156249999,3.3426026367187496,2.6685576684570309,2.6655473600585937,3.4935412168740232,3.5025388408203124,2.5034771885742186,3,2.92,3.0710000000000002,2.3149999999999999,2.5209999999999999,2.9089999999999998,3.2090000000000001,2.4249999999999998,2.69,2.52,3.2549999999999999,2.2750000000000004,1.825,2.86,3.4950000000000001,2.5350000000000001,2.0350000000000001,3.165]
[null,1.7207030830815015,null,16,"Japan","Table4.ton",null,8,null,"Japan","Japan",null,-7.0530735547976935,-2.9707878745017782,-5.4432156983192872,-3.588287758717188,-2.1094397419316353,-6.4233853826256553,-18.183225571361536,-9.6417574332444627,0.34404635204286071,6.6271058507163598,-1.2206389190055047,-0.6109376884358042,-6.5391174039888362,12.020166270308204,3.7828238886995487,11.609513231694603,11.365349923330925,2.585023113223345,3.1070759514534654,-3.3485164318555594,2.3399206579996612E-2,3.6367474501456285,15.139940165950552,13.871782801000943,7.1477967139835359,9.763803575872668,7.3438557836903398,9.7714158355271454,1.4269631524209405,5.2111167287227316,-3.7762774146563594E-2,6.7285096771718749,4.7879024154693592,6.825316728722731,11.962230109077833,5.3901314836284362,-2.7536515362212532,1.0192990632971859,-3.6183383854682756,2.2371927429735736,-3.4741463825991281,0.11197943797831167,3.6073923723519656,4.2630734686762164,8.1963482556607836,0.23829121316963553,5.9159999999999995,1.2379999999999995,-6.847999999999999,9.5125773828117932E-2,7.3544,3.6677999999999997]
[null,0.13799178561949654,null,17,"Indonesia","Table4.ton",null,9,null,"Indonesia","Indonesia",null,12.969772691934295,9.3490514328698282,15.318333482309697,12.925781009238403,16.524623192535216,12.860407072951091,16.180370706859971,15.251104282512316,22.02829829645535,12.790117529942091,13.229384340243124,13.619677739419847,26.533362302291074,25.451287306955301,18.237222244428594,17.890435182205216,17.054394388149031,15.790564033338265,14.968357510454583,15.569388916601188,17.775114107556483,12.99107987528954,13.954787862818494,14.297316226933939,16.0288495,15.354176925000001,13.308887116875002,14.78374218440625,14.239679075000002,15.776221982500005,13.655214000000001,15.11759,14.606262749562504,17.187701544483755,15.38,16.874379000000001,15.426482764536255,17.987199721707942,7.9284000000000008,13.206700100000001,7.999587994041315,7.2854030625977799,9.8649799999999992,12.469376080000002,11.515644534634536,8.070553714057592,13.138260000000002,14.046549220800001,10.543351580210121,9.3930889025102609,14.946444000000001,14.840318133216002]
[null,0.21739228655858001,null,18,"Malaysia","Table4.ton",null,10,null,"Malaysia","Malaysia",null,4.4390400065102646,4.8605910054490096,5.1856840124353374,2.4707590981138079,5.6851581508299063,5.4508062047916912,5.1946216334620621,4.0691617099989292,5.3219944536739403,5.0146989331755165,4.6647537340546368,5.6467127163795237,5.0250429750358823,9.1377709204556652,8.0007106806389316,6.4349695597452197,7.1488255302397654,5.7671453009180551,7.0711706268703587,6.8694532833224766,7.6227668067517538,4.0736600840510517,5.3296505987599856,5.0838560807971858,5.4602400113008205,4.6857175848882182,4.3903354781438066,4.8297986710509972,4.7601418773421971,5.0970102708303937,4.3996313730794263,4.8014795457319668,4.7300000000000004,4.3970000000000002,4.93,4.8600000000000003,4.55,4.3,4.32,4.4349999999999996,3.2865000000000002,2.3115999999999999,3.67,3.8049999999999997,4.23285,3.3374999999999999,2.1593999999999998,5.1319999999999997,5.1577904999999999,4.4849999999999994,3.65,5.24]
[null,0.21843256110112397,null,19,"Singapore","Table4.ton",null,11,null,"Singapore","Singapore",null,3.052089150376414,2.0412956661193453,2.9975753859442436,1.807311313501649,3.2783615403399371,3.5840093819553633,2.797612814791826,3.3946984600004262,3.4690890512775043,3.4611877937025,3.2167244406974977,4.6750124580565293,4.1734954685819892,6.4229282570369479,5.377759579864632,4.8776736114943446,5.0303550928307708,5.5645947304828907,5.1770237375698045,4.7509904049282916,5.0298373381892318,3.8581239370966545,4.5023894292337365,4.6710511121107485,4.4749761955190541,4.2597524433551257,3.661638421851857,4.7008638297222287,4.5368195344816726,4.1008249586076468,3.63399703797266,4.3603630671188949,4.5221201735420005,3.8037287353627605,4.01,4.05,4.0600000000000005,3.55,3.5300000000000002,3.84,2.94,1.2,2.5680000000000001,2.73,3.5049999999999999,2.6826999999999996,2.105,3.16,4.1160199999999998,3.84,3.33,3.7]
[null,0.39415571518291737,null,20,"S Korea","Table4.ton",null,12,null,"S Korea","S Korea",null,8.1764821892722122,-1.9135086838374291,11.504904536862004,1.4011950614366735,9.2934430912182719,5.4277597391736272,4.5186268062961235,7.3183867184332172,9.3372023087686564,6.5155971185737975,6.0323096911276934,6.0847260572139295,10.08984375,10.62521875,9.9441796875000001,10.1455,10.760999999999999,9.7271250000000009,9.6492499999999986,9.5322499999999994,11.214124999999999,9.7323750000000011,12.021125,12.572875,10.507875,8.2606249999999992,8.7252499999999991,11.65625,11.102499999999999,9.4242500000000007,9.6048749999999998,11.06625,11.227630000000001,8.9737040000000015,10.372,10.408999999999999,9.370000000000001,10.234999999999999,9.8230000000000004,9.5129999999999999,7.9429999999999996,7.6999999999999993,9.9250000000000007,9.82,10.87125,9.43,9.0949999999999989,10.24,9.1315000000000008,8.4250000000000007,7.0449999999999999,7.79]
[null,7.3040346475187867E-2,null,21,"Thailand","Table4.ton",null,13,null,"Thailand","Thailand",null,18.321250263632209,21.278004251658661,22.19266568388645,9.5031861969719102,33.267617374669932,19.38410696594811,35.573629517375629,25.337769178453712,35.835967375737511,18.031095214931323,20.424485466336858,35.72472085358006,59.794125000000001,40.580500000000001,27.071562500000002,26.36,27.72,21.021999999999998,28.48,31.497,22.881,19.236229999999999,23.471541500000001,24.617618575000002,25.668562003750004,18.282849602999999,16.935323059329999,20.641250904076401,23.313958395035634,17.729294738404398,16.097272895601751,18.276432899689702,24.333836522812241,17.645750784043546,19.32385771338646,19.251538338566419,24.609406302643485,15.071809676608321,-7.022272118626165,13.839775308711888,7.4704635671101665,-39.906568021367505,-43.802786897072458,-5.2572062884876161,8.2504415710058865,7.453880588361379,8.6165096536045738,12.38457745381486,3.8056787789283586,8.4858931963159918,12.091313032366175,13.544995821887088]
[null,0.19416669714403789,null,22,"Vietnam","Table4.ton",null,14,null,"Vietnam","Vietnam",null,19.279882752328607,15.772569280573418,22.252175351011736,25.022619904430414,19.978177822654622,17.304110665614804,36.950540220526577,29.191625470404347,23.964489515741043,20.601022279520734,19.239227041615209,20.447513211363894,22.795624999999998,29.831250000000001,24.6875,22.334782608695651,19.740000000000002,15.31,15.850000000000001,15.75,18.88,14.523999999999999,14.99845,15.009321750000002,16.185700499999999,12.371760400000001,12.426437974000002,17.344077109320004,16.677955190951003,12.745596550308351,11.94069848355506,12.505629983996066,17.788882621301322,13.880421673181148,14.333491653027217,13.48546778303583,18.729242272466401,13.49662367472602,12.817711782227454,11.325728582089381,16.786543799941775,6.7981877345400443,6.5853451059208767,9.6317876865670353,18.55591168898869,12.596488015988099,3.2926725529604384,8.5442226391789919,19.602945546965429,14.026874110464764,11.992609529173176,13.485256089805764]
[null,null,null,23,"Australia","Table4.ton",null,15,null,"Australia","Australia",null,0,0,0,0,0,0,0,0,0,0,0,0,0,0,0,0,0,0,0,0,0,0,0,0,0,0,0,0,0,0,0,0,0,0,0,0,0,0,0,0,0,0,0,0,7.1649173498947336,7.5367937428737779,6.1071091120339744,7.8935223432444319,8.6170361116380576,7.4162281162727339,7.4350639503362768,7.4134502494867354]
[null,-0.30461999586453914,null,24,"Middle East*","Table4.ton",null,16,null,"Middle East*","Middle East*",null,90.200367886492629,85.117375694468194,89.957497665722229,61.919114841785749,79.183678607887401,79.598742134606027,77.827893006864542,64.828343227016134,75.529196349269085,76.87963843570725,73.957354857184242,73.861435489457293,86.552594828752376,128.50801718367515,89.998225427193319,83.838344707676924,102.71335304632703,88.266217319466335,68.181404908664831,69.677115021211577,88.481919041558157,77.491766091225571,70.245559090568534,66.619977167853563,65.893382140281318,57.119347818055353,50.025815748270759,55.84515719686712,64.729900629479957,61.383256026824313,53.636567524643482,61.939282358643524,60.141263167860238,66.242329031972105,67.623042764360306,64.986020489580639,64.757149337429738,60.01299835746434,51.834215767351374,54.555473649291123,56.314531364332922,23.180291229828118,45.049367443839678,47.426968458397027,54.899597515452612,47.194363558548368,56.585662262339028,61.205405194200033,64.720786351100458,63.332621185696524,73.615279852613213,66.49366520596547]
[null,-0.31612648309430924,null,25,"Saudi Arabia","Table4.ton",null,17,null,"Saudi Arabia","Saudi Arabia",null,20.484115316198832,27.691450486600949,22.475973729723691,13.810534781472379,17.26305647089595,23.537542525161502,17.8384911050927,13.813434117440497,15.756020690247643,19.923931605635975,15.568350363346157,14.681725840934408,16.160483523304627,30.220009217074551,21.160448221496921,17.182837034662921,21.420011467053875,22.590325994180358,18.17087360531465,21.843264844407216,22.126907607908599,22.005033896244989,19.206953377032153,21.08855254771597,16.345670437001395,15.71957401024974,13.101772654602048,15.048659920253995,13.321667530680449,14.484370660378971,11.68326325561765,14.886719723222033,9.9546684356774797,13.270823726965578,14.625005120030162,11.704985014267614,11.775869211166409,11.674962048685774,11.685917073452233,10.866379714657128,9.4102609004794857,2.9684016615988691,9.6393455271675368,9.076890392982186,11.036504041593002,10.067484097365872,10.990584400338047,12.140792254838892,11.693794562348277,12.157335612994107,13.489861284603537,12.757923309604253]
[null,-0.40747603365814267,null,26,"UAE","Table4.ton",null,18,null,"UAE","UAE",null,23.273109850090236,20.344170759473087,18.428679841779676,14.865081286584108,24.289901856114096,19.170456473739712,12.951594409134254,11.810044978608328,19.607305874495797,16.564983145360522,11.655031149102951,12.199495311338231,20.409409708881093,27.430007485452791,16.187386457336785,14.45000084404648,21.191889650147175,19.725724669332223,12.446342214004932,12.590550997509263,19.187483318339787,17.169342684829363,11.766196871818817,12.035411732057947,18.901840492006976,13.092583240688842,8.8436493005455947,10.389419020207356,17.488412899907935,13.929693907067321,8.3828918203574805,12.430122627539733,11.773887987949699,11.274958360823074,8.2869779413833555,10.609159833544439,12.3147386423994,10.600502985168884,6.4436614984098535,9.7024193880367431,11.313825314901131,2.1294514639712108,5.1947804236426247,8.0959325896876528,10.669497987039318,8.7761971877367859,10.121965431971985,12.028308716290116,14.461510078049823,15.387407986341319,12.8559184088727,12.564584780556475]
[null,-1.1546930897164964E-2,null,27,"Kuwait","Table4.ton",null,19,null,"Kuwait","Kuwait",null,3.0609632633613666,2.1220906966782493,3.1528099482404199,1.9891836364905764,2.9233371635140379,2.0710033818864768,2.7295827616015789,1.9344007344192811,2.6751667667268109,2.1200188979318821,2.5378767179229742,1.9722547205596843,4.7816618174999999,4.7382398604037492,2.8556195086294567,3.1174154270877472,4.9445693420000012,4.6855247433185703,3.4012254792047534,4.732921947087747,4.5868251099000004,4.2435050080000005,2.9451994770000001,4.3901315885000001,4.1148918493100002,4.005535257600001,2.8508286279500004,4.0501028189749997,4.6471143537290001,4.4495570760000005,2.9801656450575003,4.4298665740112497,4.3843603013657004,4.9255643910000018,3.3438180618601248,4.3488083379818123,4.5749393785572758,4.4831269356568004,2.7592551141263058,4.0359911525019916,4.1558296289004835,2.9652356890472813,2.5197110369774101,3.3919096111269522,4.5168111029939997,4.4375398136682707,3.7452384687798057,3.8873774232670426,4.1204427785141071,4.8284654362951009,5.1264326099248514,4.7866852783286244]
[null,-0.32678929276104207,null,28,"Egypt","Table4.ton",null,20,null,"Egypt","Egypt",null,18.315472302371699,9.5314684270548629,15.861200933128575,11.631810595396338,9.0019295202075433,8.3344845511525829,9.5190837568970608,9.5449730369978187,10.309738819397497,9.3382869265318735,11.70451895131596,12.858595500836042,12.655195005798646,15.843025738548752,12.70964246676072,11.558183234690128,14.714119360216213,12.995328595709045,12.534306952854669,10.892095638124967,10.431169298237435,10.067003941229531,13.261356650745727,9.3876319577679901,7.1706034951500381,6.3501493792174015,7.7696583525989213,6.8000297579312523,6.2368465511223379,5.18040980871573,7.0245478900581082,6.0454037786649621,6.5702316025948608,5.7111430541520516,8.178457735573808,6.8918011963785144,7.4999935082239899,6.0560406580559896,7.6540908706925856,7.9361934546327468,7.7306222266978555,1.9910057863173374,6.2329155490251722,7.3860672464272898,8.8569245101015053,7.7697686483394852,8.9459706016902985,8.5562727512687839,9.5102043686880133,7.8027427856425184,10.548019932180562,10.133181994744419]
[null,-0.24847559410854014,null,29,"Iran","Table4.ton",null,21,null,"Iran","Iran",null,21.250650001416624,21.489328815732762,25.598893446878701,16.645318641498744,21.563382434179569,22.101540416516468,30.198073856956373,24.289135512582735,22.716606349412608,24.167654577755719,27.60329813490938,27.648561098423059,25.883521172805779,42.217283171104128,29.297958337904923,30.293225647670141,30.807595066049828,18.884649801942842,14.148547713637264,11.518449546570446,23.467570528761001,14.959123915292034,16.23652663458309,12.649050498271718,11.222764827691689,9.979625839611538,11.739675267503085,12.197028637897368,15.364841461274327,15.175886274418243,17.591443111426926,16.400554632213151,19.977735833119379,21.720002033656144,25.74489912989949,23.708558914559241,20.85671577745541,17.804220174752565,16.191323702160517,14.778636201966222,16.580444218494424,9.9147687799124142,16.25802841582912,13.507898886383988,12.150487771739817,9.3629942135297153,15.415623044183128,14.856391522882369,17.727522141450709,14.507906849231146,22.601604268893418,16.84990663978413]
[null,-0.24207050640505356,null,30,"Other Middle East","Table4.ton",null,22,null,"Other Middle East","Other Middle East",null,3.8160571530538818,3.9388665089282928,4.4399397659711726,2.977185900343605,4.1420711629761957,4.3837147861492713,4.5910671171825834,3.4363548469674674,4.4643578489887279,4.7647632824912547,4.8882795405868329,4.5008030173658744,6.6623236004622308,8.0594517110912012,7.7871704350645032,7.2366825195195004,9.6351681608599282,9.3846635149832878,7.4801089436485668,8.0998320475119403,8.6819631784113351,9.0477566456296437,6.8293260793887489,7.0691988435399411,8.1376110391212197,7.9718800906878249,5.7202315450711083,7.359917041602146,7.6710178327659015,8.1633383002440425,5.9742558021258159,7.7466150229923922,7.4803790071531227,9.3398374653752434,7.4438847756133573,7.7227071928490236,7.7348928196272499,9.3941455551443305,7.0999675085098737,7.2358537374962824,7.1235490748595449,3.2114278489810042,5.2045864911978148,5.9682697317889595,7.669372101984969,6.7803795979082393,7.3662803153757661,9.7362625256528261,7.2073124220495224,8.6487625151923293,8.9934433481381255,9.4013832029475708]
[null,0.7471694578339787,null,31,"Turkey","Table4.ton",null,23,null,"Turkey",null,null,26.618363783867913,23.51025263189721,43.902017849751346,14.723733413742767,36.862244793882482,37.795290322883957,46.898829045429046,23.970913594913149,31.546571184721529,38.737280542286626,29.913852596026612,13.752619487280324,48.141692706119215,64.69207128996031,31.622376511240756,39.628125990502745,27.005804880224453,32.071379958766478,22.336633395992589,35.275811923145135,15.639665130397564,16.05165343681243,21.23233731685918,19.199915465257806,13.70502591730776,13.724215854490994,14.648897904995193,28.044958632534495,17.233771475295445,34.434870934801381,25.35355678182551,16.548017121033023,23.188489458117481,21.538474603942724,11.838398349858092,17.574649795515178,26.156354462920259,19.111772640482723,14.969941926922488,29.086809315180389,31.905580059485757,23.86684935515984,55.546705979924027,35.673268714083335,53.236789025088662,12.210225595368639,18.538913704154208,11.318502261329959,17.642055289132159,17.801527236719345,46.964804498954877,39.133184977135691]
[null,-1.4504854368932341E-2,null,32,"Russia","Table4.ton",null,24,null,"Russia","Russia",null,14.218584660319307,15.340048634209213,13.683515969046233,17.088996964909363,14.938562596599692,15.324309119010818,15.70940030911901,18.378763523956721,16.303195043103447,15.38286637931034,16.70049568965517,19.269547413793099,17.841102812499997,18.236422499999996,21.349296874999997,22.277399999999997,21.743681233522224,19.17330004110152,18.900979842931935,15.677059999999997,13.182608251807739,10.154978421701603,14.582515183246073,10.027940294211701,10.760146320714588,9.6734140156185795,10.553250261780104,11.011645922609528,10.081522628668651,8.7959131113851203,11.207068062827222,12.187725107131433,10.884548760102085,9.5282544225236325,12.084524869109945,13.10686811570195,11.558182710506166,10.086484599424578,12.666886125654447,13.79424040917301,10.795302439455552,4.8614238397698326,9.0231976795396633,10.13370876915495,10.302611250441942,10.794044200459618,12.736569870505582,12.98110835755614,13.93551218604491,15.032481610367695,16.093412932441232,15.622377499999999]
[null,0.70444450958239035,null,33,"Americas","Table4.ton",null,25,null,"Americas","Americas",null,53.233264949678492,77.622723537252426,71.141631559408779,101.83723296992176,54.45929595962037,61.261284904163134,66.708732926154028,84.417827550610411,44.422965468023619,49.768260514939882,53.142213289235336,76.856957322766249,56.409706429995126,66.361467380756636,50.831842412717037,77.828412621721753,45.913392196468365,51.918907850055014,50.355078208846251,76.429569777551094,46.192042110050039,52.765693604150727,70.923477041492305,78.607480590607381,55.418765528634879,67.518823698937652,56.015818387590102,87.514333084895199,50.953707038425435,45.721453790055698,46.444844854449073,72.26361791876451,41.369718890638637,47.383387495911514,49.077913460480914,72.074481221392205,43.242004263182892,45.755834788825709,46.559339593790391,70.338694398368702,49.290789652268771,44.03129826505824,61.671707807799258,82.346622849036564,69.966494846438181,82.00001592825032,68.086819122795404,101.23905886650491,70.492211287153125,80.512588251475876,67.687721174016261,97.084561129066472]
[null,0.92558797970314854,null,34,"United States","Table4.ton",null,26,null,"United States","United States",null,39.418925121035983,56.669648101996458,55.160011611738867,75.434385212795632,41.879205774694647,43.032207045733216,51.937372422734121,61.646730241434028,33.400833111150391,32.478218340817406,37.992113335691563,56.315218611741301,43.90639174520436,50.831062648660122,35.342731472841017,57.695361424432669,32.907847924716592,36.70297639773824,36.805762410712695,58.329500682323371,33.884436824273472,37.950561103020355,57.072651808202906,61.642547356215779,43.2448979162684,52.887625079162675,43.068232941989066,70.896262437663836,38.203100584251189,31.668217488857593,33.238229670956919,55.755652126480136,29.21602341508811,33.451273352522819,35.923196512499572,55.852270856342216,31.288997046470342,32.009505860467016,33.815043702555734,53.686230900176994,37.694125408746856,32.760778579081403,50.06122368844516,66.804510337169461,58.202982040484926,67.415685492963206,56.219495594607324,83.104072374771079,57.636341350062331,65.4444993127955,54.929170669139069,78.548145900966574]
[null,0.54130297635538249,null,35,"Canada","Table4.ton",null,27,null,"Canada","Canada",null,3.8292373405999451,5.7302384364131775,4.3928929964461227,6.4857197652968903,4.3352433570838738,4.5416012185690713,5.1891296414090178,6.4940367574789182,3.3718909731031403,4.2435231954192556,3.9891046816040232,5.9823015510537001,3.5165555533758557,5.113314398927522,4.3306052000064597,6.6861226016924844,3.865870980575175,4.284280320687964,3.3860215183463982,6.823916004244821,3.5795640384890173,4.1006625723556942,3.6785009590962394,6.1769109800895796,3.7644963381582759,4.7075480635677849,3.2375171360100801,6.2245152002868664,4.0395105710288188,3.830868017298247,3.1979417259788088,5.9447603054093818,3.3496533021789636,3.9837752823440908,3.2655739233837759,5.8661234323579761,3.7026124468977981,4.0970666830793938,3.2843554743413597,6.3171035988315225,4.2830121950461555,4.0928401852067333,4.9058698414108193,7.4882150533248319,5.3542152488554038,6.8975620501066057,4.6177594877834212,9.1168888798887249,6.0511149513021127,7.0544771297900351,5.2826682875024371,9.1468346064272801]
[null,2.179460115091425E-2,null,36,"Mexico","Table4.ton",null,28,null,"Mexico","Mexico",null,5.8555758739273207,7.4715616215588048,5.2670627056681756,8.8746088912529739,4.1911626917058395,6.0648084922942891,4.3127773982172242,7.2910701271914977,3.6701483295501003,4.9375487832697562,4.9679616636026482,4.7805421556505694,4.0570208250020112,4.4478124256712475,4.9155767329184243,4.9652065362225457,4.4716770364317897,4.2637012651817576,4.629673773172752,4.6198887657757304,4.5152454436832699,4.5892360534086674,5.1662585632945381,4.7448456621014428,4.4958239415384114,4.340508750010418,4.7947803095909487,4.5964374469444911,4.8165958831454239,4.685435283899853,5.1168854575133444,4.6912874868749936,4.940682173371564,4.4946142710446093,4.9420992645975721,4.5023423326920131,4.5027027698147544,4.4382238847792994,4.732503907293296,4.3940265613601763,3.7533446484757564,3.1312910609201023,3.1995937712232765,3.1876062925422799,3.1590947439728403,3.5212208732204933,3.5240644733486661,3.9162795002450954,3.3604195883949348,3.5936433867235431,3.5965438588542806,4.0933484794926152]
[null,-5.3567893413116074E-2,null,37,"Brazil","Table4.ton",null,29,null,"Brazil","Brazil",null,4.1295266141152362,7.7512753772839913,6.3216642455556036,11.042519100576248,4.0536841361360061,7.6226681475665483,5.2694534637936759,8.9859904245059692,3.9800930542199873,8.1089701954334501,6.1930336083371014,9.7788950043206704,4.929738306412891,5.9692779074977533,6.2429290069511438,8.4817220593740643,4.6679962547448088,6.6679498664470493,5.5336205066144117,6.6562643252071698,4.2127958036042816,6.125233875366014,5.0060657108986151,6.0431765922005773,3.9135473326697876,5.5831418061967728,4.9152880000000003,5.7971179999999993,3.8944999999999999,5.5369329999999994,4.891788,5.8719179999999991,3.8633599999999992,5.4537245900000002,4.9470437600000006,5.8537445999999997,3.7476919999999998,5.211038360499999,4.7274365095999986,5.9413333379999997,3.5603073999999992,4.0463884398499994,3.5050205067199998,4.8662911659999999,3.2502028131249991,4.1655475119600007,3.7254995670559996,5.1018181116000001,3.4443353973937496,4.4199684221668001,3.8793383585204797,5.2962321421800009]
[null,0.7630620660512164,null,38,"Europe ex CIS","Table4.ton",null,30,null,"Europe ex CIS","Europe ex CIS",null,65.358174583983086,133.07776762927779,69.545260502551685,126.49346177103814,92.058126763075393,75.743358641890751,131.00510110866111,122.78275394945143,69.70740216963938,81.83053684768069,70.903058231644707,94.888389287874048,58.201215440003025,94.615667691409669,71.109891062068527,112.5451115267294,65.056194280245123,54.012223144526338,57.884120822243219,97.486897493788689,71.191485061950814,60.53183962902267,71.653129716092593,94.182346955797655,68.934514016775097,55.95323959361491,46.276366184067811,106.88191469267848,77.518903453397812,54.032811277027605,59.133550827925411,75.83333292353305,53.089418489091734,47.941953156866347,64.461704139983368,79.69321405007291,56.199292240286979,44.52722069616641,44.92317607862195,79.388224356137073,85.491790021999535,79.497912573899015,59.398544844804476,87.966615773949314,86.173308098350702,87.261049096390039,71.545923469438776,99.042638382123414,92.535651846455977,94.694464032642827,85.88875930791238,111.65509680565719]
[null,1.670890010117509,null,39,"France","Table4.ton",null,31,null,"France","France",null,4.2179973093719036,4.2032745385282455,2.8742282349479678,10.724628205525272,4.3813175547049932,4.6115075803114216,6.1779611295226342,10.499794085935678,3.8213223070213029,3.8531265173786831,2.5439184502753922,8.1563254345765213,3.3876440387985998,3.5352543982122584,2.5473266595608535,7.3358312235147984,2.9099999999999993,2.8467999999999996,2.2049999999999996,7.1725000000000003,3.5599999999999996,2.2683449999999996,0.90200000000000036,6.3230000000000004,2.6870000000000003,-0.72480500000000081,1.1399999999999995,6.0585000000000004,3.8689999999999989,3.3235000000000001,1.7810000000000004,4.2280000000000006,2.4919999999999991,1.7134999999999996,1.5179999999999996,6.08385,3.0890000000000004,1.7789999999999999,2.4409999999999998,5.6408499999999995,3.2469999999999999,2.4556499999999994,3.1950000000000003,5.1440000000000001,3.7879999999999998,2.9215,3.1869999999999994,7.1527500000000002,4.4399999999999995,4.2580000000000009,3.4599999999999991,7.6982499999999989]
[null,0.84929006859631317,null,40,"Germany","Table4.ton",null,32,null,"Germany","Germany",null,20.856085526314491,50.960398365736239,24.691190678664032,40.121607306473827,36.739781404228019,22.442285803815256,54.093054253799771,41.146580287139358,22.567517104412239,34.726921656272125,29.672916510569575,31.957729665070197,23.069170524407532,42.395521832044821,32.314744442110261,45.604186065358391,28.519656418055895,21.482947073603675,25.048577150468205,36.205110071340947,32.660415467485002,25.186128964386398,31.407473664141911,36.882286360664921,32.005580761960658,24.034235192088037,18.498899220467965,46.576458160225712,37.973192518307485,22.568651508815773,26.969429536901295,29.46,25.235379200000001,20.990000000000002,30.122575386318644,30.54,24.599999999999998,18.568999999999999,19.03,34.020000000000003,47.657000000000004,45.06,30.7075,42.62,45.582126113928695,46.852233835280202,35.83493587544335,45.417439423041074,48.597910421106704,51.493158936746298,44.152969889334599,52.161631499384349]
[null,1.3082706766917291,null,41,"Italy","Table4.ton",null,33,null,"Italy","Italy",null,5.1661590257879615,6.514095988538684,5.1965247134670483,17.336638968481381,3.929800724637678,5.4820652173913054,3.7554064764492754,13.752672101449278,3.3881109550561765,4.6075140449438203,3.0924087078651668,11.471404494382014,3.2323437500000014,4.3290625,3.1851562500000004,10.3675,3.0450000000000039,4.1449999999999996,3.0250000000000004,9.6750000000000007,2.8700000000000014,3.9899999999999993,2.9700000000000029,9.399999999999995,2.8099999999999965,3.9899999999999993,2.9500000000000037,9.2070000000000007,2.7549999999999994,3.9350000000000023,2.9300000000000037,9.2050000000000018,2.6917500000000012,3.9117499999999987,2.8617500000000025,9.0767499999999988,2.6573374999999988,3.8173375000000025,2.8073374999999956,8.8873375000000046,2.0000000000000009,1.7560000000000016,2.4300000000000015,7.6093499999999956,2.2300000000000004,3.4439999999999964,2.7100000000000009,8.9000000000000075,2.4040000000000084,3.7250000000000005,2.7589999999999968,8.9499999999999993]
[null,0.20718131184411215,null,42,"Spain","Table4.ton",null,34,null,"Spain","Spain",null,2.5197539974238747,3.1901258394162899,2.4500028381282268,3.4185239845432518,1.8657364239373999,2.2659193643848479,1.6739858603231963,2.3619241797664356,1.8105107474736559,2.3012973610735834,1.7338845938575167,2.5329436532828971,1.5520026779597229,1.8751986063796322,2.0114049664369196,2.3334706119734894,1.7555847500504751,2.175067750143945,1.8541870827348239,2.5224196474099707,1.7447138123488874,2.0690891085570624,2.0321162443184386,2.6456920362180978,1.7265888805341267,2.0599714368889823,1.8884212705207328,2.586316374172807,1.7476713739399079,2.088426033614267,1.9068417884619502,2.6434414799418926,1.807060819437585,2.1823724999040639,1.9831650958800837,2.7156340479950472,1.8449958119434569,2.2279831146804452,2.0205453617331877,2.755468558714973,1.7193162472671137,1.5719659535410746,1.5010821958154554,2.1040863947199782,1.5949574876926018,1.9021506663341916,1.7928671177909401,2.4648718509794909,1.7038853309283053,1.987076551594757,1.8500092487428466,2.5359921506457614]
[null,1.5198893561115319,null,43,"United Kingdom","Table4.ton",null,35,null,"United Kingdom","United Kingdom",null,6.7914736609609436,10.788352262747361,6.4991920229756204,16.746084440447145,6.9193469938453527,8.5112511363862726,9.4598892175648039,13.898742291509656,6.9585691102010507,9.2541188412052158,5.4790935226381059,13.306121510117439,5.921507805918619,6.3891097449294234,6.3883126998872566,13.961041342896962,6.359676904940299,5.6351608234426118,6.4431852330381574,14.884504249627728,5.8862797391959472,6.1014235244534074,7.484304851565156,14.909227163514778,7.0505577745451991,7.3273878612184049,7.4256070671091017,15.326374445258455,7.0846951992354334,5.9416908348842252,7.1694494250738314,13.355203628641148,6.0317705513091386,6.6244600157272835,8.3613934690968854,13.60872634923861,7.457523272171021,5.9457440847084619,6.808531076226263,12.017368535432592,6.8022661805488962,5.803592330347942,6.427373865701524,10.569715019678089,5.9962690052049004,7.5635041724056533,8.3429966788719927,12.856248269017829,7.0544653362989553,8.1478537881157731,8.6091498597800893,11.797911991461948]
[null,0.35997855867791984,null,44,"Switzerland","Table4.ton",null,36,null,"Switzerland","Switzerland",null,13.661360841423948,33.972940291262141,15.580899029126215,23.665044012944982,24.597273753684618,17.407180432256816,30.273841426942354,24.477855025066162,21.424346328748893,13.501880627855009,13.197918798678892,14.068040693088832,11.635592022499999,19.521125793611109,12.450136177083332,18.129147033333332,12.488649999999998,9.7897777777777772,10.447605555555555,15.001333333333331,13.8409,10.986055555555556,13.620722222222222,11.9,11.68,10.7,8.3000000000000007,14.940799999999999,13.4,9,10.45,9.6300000000000008,8.23,7.05,11.14,10.130000000000001,8.91,6.74,6.4850000000000003,7.6850000000000005,14,11.8,7.5,9.6,13,12,9.1,9.6999999999999993,13.5,11.600000000000001,11,12.625]
[null,0.49126473563798267,null,45,"Austria","Table4.ton",null,37,null,"Austria","Austria",null,2.3814544718774999,6.0057268987106243,2.5397270336018751,2.81036328074125,2.3333286008264325,1.7399957407437898,6.4394259482299763,4.5866515226445852,1.5005490260597749,2.5010167149255089,3.2576129694265172,3.1572075451389554,1.9666199864846505,4.0714811478213333,2.9313896827738839,4.0174859528909348,2.8556504023252742,1.9366831031933327,2.3242501153182551,3.1145692196878221,2.9500669322249999,2.4713552112250001,3.5291816543149999,3.2497273321400009,2.9198248286499999,2.3386774427000003,1.8930666683500004,3.6854448757350005,2.9797330191000002,2.0146741102750001,2.585582648375,2.1029072939500009,1.7945149677000001,1.3884758821249998,2.7618739412150002,2.2363753321549997,1.7472593751274998,1.1708960164675002,1.0536976843499999,2.2674757620450001,2.7858122384150006,3.2508528174000002,2.4058208290500014,3.1247069544000001,3.166558770505,2.934395785025,2.5423694281499998,3.6018794835750012,3.7127748489799997,2.9922642580800005,3.2773180787842842,4.2367679529157156]
[null,0.1396322319364276,null,46,"Other Europe","Table4.ton",null,38,null,"Other Europe","Other Europe",null,9.763889750822468,17.442853444338219,9.7134959516407058,11.670571571881037,11.291541307210903,13.28315336660104,19.131536795829078,12.058534455940279,8.2364765906662871,11.084661084026756,11.925304678333546,10.238616292217205,7.4363346339338987,12.498913668411095,9.2814201842160262,10.796449296761487,7.1219758048731778,6.0007866163649997,6.5363156851282138,8.9114609723888751,7.6791091106959826,7.4594422648452392,9.7073310795298582,8.8724140632598587,8.0549617710851287,6.2277726607194879,4.1803719576200002,8.5010208372865002,7.7096113428150002,5.160868789438334,5.3412474291133334,5.2087805210000004,4.8069429506450003,4.0813947591100002,5.7129462474727495,5.3018783206842492,5.8931762810450001,4.2772599803100002,4.2770644563125,6.1147239999445002,7.2803953557685004,7.7998514726100003,5.2317679542374993,7.1947574051512504,10.8153967210195,9.6432646373450002,8.0357543691825004,8.9494493555099996,11.122615909142,10.491110498106,10.780312231270569,11.649543211249428]
[null,0.37258028053985459,null,47,"Total above","Table4.ton",null,39,null,"Total above","Total above",null,763.53118495038211,697.29388087888958,806.77041216459509,869.95016602413011,930.43896991658562,809.14016331559833,844.39819631784792,804.23923489172512,838.65365982917865,734.36003306055022,760.34089902814844,886.39781621282941,993.43172926341663,1358.7935275808256,901.35100494099015,892.32323564483431,858.1666829481519,784.31970402701381,786.35999281953809,892.77620910718974,821.70373996488797,687.82089819627151,875.73831823524824,882.40950276167962,698.2943733283455,614.26964824765378,645.84104754490818,939.9326286942669,770.08740265851907,707.0045023214376,677.72079447818294,839.94739415980507,715.93103739622222,694.41292722731259,761.8750314465658,839.53262823405032,719.6536762639347,667.43755674115596,542.41829121639762,731.69311308734018,497.74572207168899,364.45908855397204,507.74523575332051,712.5573384609304,815.59254290737363,632.19769084688483,684.98721276868901,967.57062945086136,695.70325518145569,658.5743155033897,805.71090470627996,885.86365472831756]
[null,0.31294506962546409,null,48,"Other & stock change","Table4.ton",null,40,null,"Other & stock change","Other & stock change",null,23.481120166550774,31.681123472242788,34.178334174176207,34.65570152993871,45.972668877257675,47.447522219251539,58.310619363498475,66.470923274922811,48.970966716334367,61.608754138968195,62.412113473133402,86.811045376919523,65.878736104209423,74.871562541360447,74.578383430812167,96.457329821859389,62.086786455822335,67.528540170424549,64.779505277388552,84.84953140640016,60.991296625757116,63.785130287398545,70.715183649390156,88.393753233006578,65.588910474384647,68.681373698728464,62.290495536763956,83.211473081179292,63.05133614938245,73.857257266446481,70.000375657681644,84.400954705087628,74.834127625392227,76.179098161654565,83.910772355256825,93.993948021132212,74.717890914676502,82.884765676799674,77.715727752338125,101.07195170880865,67.199611202199293,37.919321908206484,46.754184358800501,67.436274636391147,51.172632862832529,53.57420962510281,53.826755591607252,79.700413729752029,62.146318592367322,56.746407100797427,60.380471264611799,78.160294164825245]
[null,0.36786319988484584,null,49,"World Total","Table4.ton",null,41,null,"World Total","World Total",null,787.01230511693291,728.97500435113238,840.94874633877134,904.60586755406894,976.41163879384328,856.58768553484981,902.70881568134644,870.71015816664794,887.62462654551291,795.96878719951837,822.75301250128177,973.20886158974895,1059.310465367626,1433.665090122186,975.92938837180236,988.78056546669382,920.25346940397412,851.84824419743836,851.13949809692667,977.62574051359002,882.69503659064503,751.60602848367,946.4535018846384,970.8032559946862,763.88328380273015,682.9510219463823,708.13154308167213,1023.1441017754462,833.13873880790152,780.86175958788408,747.72117013586467,924.34834886489273,790.76516502161439,770.59202538896704,845.78580380182257,933.52657625518259,794.37156717861126,750.32232241795555,620.13401896873575,832.76506479614886,564.94533327388831,402.37841046217852,554.49942011212102,779.99361309732149,866.76517577020604,685.77190047198758,738.81396836029626,1047.2710431806133,757.84957377382295,715.32072260418715,866.0913759708917,964.0239488931428]
[null,"YoY",null,null,"Prices",null,"Prices",null,null,null,null,null,135,136,137,138,139,140,141,142,143,144,145,146,147,148,149,150,151,152,153,154,155,156,157,158,159,160,161,162,163,164,165,166,167,168,169,170,171,172,173,174,175,176,177,178,179,180,181,182,183,184,185,186]
[null,2.4489453600033517E-2,null,5,"USD","Qtr.Avg",null,1,null,"USD","US$/oz",null,1109.1199999999999,1196.74,1226.75,1366.78,1386.27,1506.13,1702.12,1688.01,1690.57,1609.49,1652,1721.79,1631.77,1414.8,1326.28,1276.1600000000001,1293.06,1288.3900000000001,1281.94,1201.4000000000001,1218.45,1192.3499999999999,1124.31,1106.45,1182.56,1259.6199999999999,1334.78,1221.55,1219.49,1256.5899999999999,1277.9100000000001,1275.42,1329.28,1305.99,1213.19,1226.28,1303.79,1309.3900000000001,1472.47,1480.96,1582.8,1711.13,1908.56,1874.23,1794.01,1816.48,1789.52,1795.25,1877.16,1870.58,1728.91,1725.85]
[null,4.9140102269441099E-2,null,8,"EUR","Qtr.Avg",null,2,null,"EUR","€/oz",null,802.43462,944.83171000000004,948.75427999999999,1005.89333,1012.3323799999999,1047.74657,1206.7613699999999,1250.3278499999999,1289.2899,1254.6768199999999,1320.2419199999999,1328.84483,1235.5876499999999,1083.2170900000001,1001.46777,937.81866000000002,943.48690999999997,939.72796000000005,967.00121999999999,960.34020999999996,1083.0982899999999,1077.9857500000001,1011.54357,1010.11151,1072.2665300000001,1115.68652,1195.9323999999999,1130.9580800000001,1144.09176,1140.41615,1087.6826699999999,1083.8657599999999,1081.52469,1096.3759399999999,1043.0148899999999,1074.7388100000001,1148.24881,1165.02044,1324.6387400000001,1338.0031799999999,1436.5892899999999,1552.65717,1632.5073299999999,1574.07241,1488.90113,1506.0895599999999,1518.11751,1569.78052,1674.1819,1757.59727,1716.3688099999999,1693.5794900000001]
[null,0.2652223835465306,null,26,"GBP","Qtr.Avg",null,3,null,"GBP","£/oz",null,712.36563000000001,803.58326999999997,791.02653999999995,864.19195999999999,864.57411000000002,924.85829999999999,1058.0663,1073.3501100000001,1075.8479400000001,1016.55603,1045.29573,1072.55566,1051.59321,921.35350000000005,855.48590999999999,789.15531999999996,781.13715999999999,765.43371000000002,767.58439999999996,758.21542999999997,804.88891000000001,777.66746999999998,725.96852999999999,728.56142999999997,826.91449,879.06858,1016.82497,983.92228999999998,984.03683999999998,981.4076,976.44748000000004,961.93059000000005,955.14935000000003,960.34325999999999,930.64621,952.80542000000003,1001.04052,1019.25371,1194.7508800000001,1152.0240200000001,1238.4590700000001,1378.23343,1477.5934199999999,1421.3874000000001,1301.3777,1298.5379600000001,1298.6956499999999,1331.89741,1400.4487799999999,1491.2716399999999,1468.76602,1471.64975]
[null,8.8114349319462271E-2,null,23,"CHF","Qtr.Avg",null,4,null,"CHF","CHF/kg",null,37726.947449643929,42700.537238574434,40639.192373848608,42845.714790939921,41937.571012908513,42088.454675518835,45147.12910122655,49439.277894770683,50061.736139019718,48464.65478161622,51088.443744273158,51603.644605912516,48792.453260887036,42865.674281029467,39744.184416544762,37072.26325011655,37107.488224797846,36831.486488658833,37668.271737907315,37189.495394408987,37292.44265114858,36082.710627421358,34875.897889305066,35230.1503046281,37774.341472824599,39294.289067146783,41860.191939813842,39262.115196039034,39338.007298214034,39741.632292185765,39560.854887713605,40478.7027183436,40520.082627357049,41381.096339640229,38388.623145305188,39276.591058884042,41790.599771729874,42177.151124471522,46679.184657675178,47160.659089813045,49269.711768771995,52985.031588084938,56436.816435449386,54513.059945022265,52220.106097384538,53136.656967865354,52828.158567363811,53229.855160994746,55768.072081920036,58044.801067403991,53725.485877795101,53531.325735045895]
[null,-8.1554281866621392E-2,null,13,"JPY","Qtr.Avg",null,5,null,"JPY","¥/g",null,3234.1323204784026,3538.5146870930921,3381.2426514700915,3628.5718870866622,3667.2802501326219,3948.592530744128,4246.9523468419948,4195.3797980934623,4312.8434443069109,4144.401076084685,4174.7521397913415,4478.5975465783595,4834.6540161075127,4492.4496346070382,4216.7840136962086,4107.101371871333,4271.1136280482906,4228.9238162907714,4282.4116343819833,4407.4140463291915,4666.7902091404503,4656.3882698088637,4416.1688183001916,4320.4126853891039,4374.4498908482965,4367.2678926808885,4392.3098014692878,4276.6398675390228,4451.3366576108801,4490.7677814393874,4558.70027810375,4628.6268439243177,4628.2253881395982,4584.4262237368785,4348.2857900236304,4450.8018647419094,4617.3132534923716,4624.1221286993423,5081.4136023277115,5174.7223164595625,5544.8721439709352,5915.7587769865122,6511.7575906248494,6299.0085353738323,6115.2651826964811,6388.6322648576524,6333.6055678621369,6560.3496519684286,7023.2697284871474,7806.3746150754741,7679.8453341263848,7860.3363171347282]
[null,8.7013067072920114E-2,null,11,"INR","Qtr.Avg",null,6,null,"INR","Rs/10g",null,16369.077563618244,17590.665327053226,18324.420563602165,19708.941855418201,20176.25010047101,21669.937724050353,25100.097191634381,27534.271995113086,27287.803880592219,28004.731750446088,29302.077901200828,29964.666934589353,28420.799395566421,25380.94407381806,26503.475332358095,25452.338482807398,25671.550886556175,24777.903708585851,24970.787242593273,23899.005899657597,24377.916504573441,24332.811484238111,23476.093622904176,23445.976915781182,25676.986062661759,27099.401353545421,28733.924220746856,26450.084041988845,26249.421608500652,26048.142588454677,26414.106997604773,26566.130821290208,27503.781471538572,28143.650328741136,27345.740704422333,28474.278457408327,29554.50222643754,29282.985869757424,33329.011075923932,33912.635941292778,36874.377996045463,41734.383654572637,45639.983281624241,44474.844856688149,42045.83831401611,43076.614979021651,42635.26394135708,43264.996961756711,45433.630909704698,46430.331120291929,44354.470011413505,45601.176748597427]
[null,0.12642445504079336,null,25,"CNY","Qtr.Avg",null,7,null,"CNY","RMB/g",null,243.45889497966468,262.55406529811756,266.93791631166908,292.56482550195312,293.38013406851314,314.70110405581369,351.06742006526594,345.2298924558329,343.01157233108813,327.62407446107352,337.3037275547768,345.72928802224828,326.50130371180092,279.96667416850198,261.20033533203662,249.96973427427781,253.70951564936422,258.12088060829166,254.12283215715274,237.34441140064624,244.31215393765976,237.83725754336328,227.81832333981706,227.17248862668185,248.6867532592795,264.65861848345043,286.06207661517192,267.9057032166798,270.0669198000225,277.14172585078853,273.99287507836738,271.35443760348511,271.7581873422605,267.82365553715823,265.3892532994679,272.77998778272541,282.75440738180589,287.40964393074734,332.2196723841368,335.59309949041102,355.15235680871928,389.95641197935925,424.51325188483611,399.64746796984264,373.67602906425321,376.9992084492099,372.191051167875,369.09090070249329,383.11134373945055,397.64382143488677,380.58719597472953,395.08138762518689]
[null,0.256357283599848,null,20,"TRY","Qtr.Avg",null,8,null,"TRY","TL/g",null,53.843760027006603,59.364243895381549,59.681596926390924,64.220237272332696,70.302792290256718,76.043743630138081,95.288217724693354,99.517059494912147,97.588256627067693,93.45411609625927,95.768413201086702,99.344983040493844,93.626769977655258,83.617639493947621,84.006782837944286,82.798342630250602,92.049568055042045,87.476511003584804,89.101734209976371,87.223748131239248,96.504404327487265,102.33597151445979,103.14501712025978,103.43922195251338,111.89717813107849,117.34866204767953,127.22904817785781,128.57054318645811,144.92995707878535,144.39041844165448,144.3565196842799,155.93808703200605,163.04368575883743,183.91091549182568,220.09047341939009,217.67203112189944,225.34853440931084,247.07484013053192,268.59942707412347,275.71514073978813,311.20931213529019,377.90360441750931,444.08676290449631,475.68182294597074,426.68146350089216,490.85665632485092,491.7814438889514,647.53375632967357,844.5766762582989,950.06394264311086,996.90650216213612,1032.7712585400357]

{"sheet":"AppAn.Data","index":1,"n_rows":165,"n_cols":24,"rows_kept":165,"cut":false,"hidden":true,"merged":[]}
[null,null,null,null,null,null,null,null,null,1,null,18,19,20,21,22,23,24,25,26,27,28,29,30]
[null,"Tonnes",null,null,null,null,"Dates",null,null,null,"Dates",2010,2011,2012,2013,2014,2015,2016,2017,2018,2019,2020,2021,2022]
[null,"US$mn",null,null,null,"Current",2022,24,null,null,null,19,20,21,22,23,24,25,26,27,28,29,30,31]
[null,31.1035,null,null,null,"Last",2021,23]
[]
[null,null,null,null,null,null,"LBMA Gold Price (US$/oz)",null,null,"LBMA Gold Price (US$/oz)","Gold",1224.52,1571.52,1668.98,1411.23,1266.4000000000001,1160.06,1250.8,1257.1500000000001,1268.49,1392.6,1769.59,1798.61,1800.09]
[null,null,null,null,null,null,null,null,null,null,null,12,13,14,15,16,17,18,19,20,21,22,23,24]
[null,null,null,null,"Match row","Check col","Lookup","Chart Number",null,"Legend"]
[null,"YoY",null,null,null,"Share of gold demand by category"]
[null,null,null,null,10,"Mine production","Table1.ton",null,null,"Mine production",null,2754.465101471073,2876.8619230876575,2957.2012943324589,3166.7669697207571,3270.4950636898188,3361.3102920361107,3509.5605682017695,3573.1393189262199,3655.2784734491315,3594.5262634652818,3472.3957758849551,3568.9241032962991,3611.8956983347757]
[null,null,null,null,11,"Net producer hedging","Table1.ton",null,null,"Net producer hedging",null,-108.80840917327276,22.525496606473641,-45.315363912319754,-27.939442342360163,104.90729816395279,12.891944982681281,37.634305365560209,-25.520056013517632,-11.637594835843803,6.155989160811707,-39.074474302646919,-22.654499462418023,-1.5009456778998329]
[null,null,null,null,13,"Recycled gold","Table1.ton",null,null,"Recycled gold",null,1671.1638472982129,1626.3313204103927,1636.7627551804349,1195.308331207646,1129.5885699846217,1067.0749805224089,1232.1425881858095,1112.3927810925927,1131.697574276101,1275.6575080641246,1293.0554205044541,1136.1601006009862,1144.1130145895718]
[null,null,null,null,14,"Total supply","Table1.ton",null,null,"Total supply",null,4316.8205395960131,4525.7187401045239,4548.648685600574,4334.1358585860435,4504.9909318383934,4441.277217541201,4779.337461753139,4660.0120440052951,4775.3384528893894,4876.3397606902181,4726.3767220867621,4682.4297044348668,4754.5077672464477]
[null,null,null,null,17,"Jewellery fabrication","Table1.ton",null,null,"Jewellery fabrication",null,2043.7573180202476,2092.1263340283849,2140.8662611860091,2735.2961807841766,2544.3805846292857,2479.2399364624448,2018.7699849725204,2257.4701032545681,2290.0159198907113,2152.0766522896793,1323.9646098635858,2230.6357825472005,2189.7585476851796]
[null,null,null,null,18,"Jewellery consumption","Table1.ton",null,null,"Jewellery consumption",null,2057.2476100890326,2104.4456936438141,2157.2049823632019,2727.974360524754,2534.2185073258543,2460.8412734022254,2105.2281920902083,2242.0107514159004,2250.2201368001561,2126.7201537884152,1397.9863394513181,2147.7383106041243,2086.1683734150452]
[null,null,null,null,19,"Jewellery inventory","Table1.ton",null,null,"Jewellery inventory",null,-13.490292068785038,-12.319359615429221,-16.338721177192838,7.3218202594225659,10.162077303431488,18.398663060219405,-86.458207117687834,15.459351838667772,39.795783090555233,25.356498501264014,-74.021729587732352,82.897471943076198,103.59017427013441]
[null,null,null,null,20,"Technology","Table1.ton",null,null,"Technology",null,460.66573688651079,429.13749626735773,382.27407424279517,355.76764797400199,348.38686768730651,331.6737462474382,322.99356771909794,332.58496595789683,334.79421934009002,325.96419679418739,302.7563109305184,330.19137535148815,308.52444222954784]
[null,null,null,null,21,"Electronics","Table1.ton",null,null,"Electronics",null,326.727982491516,316.57149928531334,289.12551157146612,279.2361599758558,277.53006671465721,262.14095427531697,255.61368340316631,265.58199333633183,268.36293214516019,262.2563306650228,249.32991372663997,272.07519788889078,251.6954051559878]
[null,null,null,null,22,"Other Industrial","Table1.ton",null,null,"Other Industrial",null,88.326099620880044,76.393060963517939,64.726977451472848,53.684871435646215,51.223125972649342,50.974601072121231,49.754643851931647,50.661248069724977,51.15957348786425,49.778021179186844,41.570326312660377,46.763113996119415,46.550576512787607]
[null,null,null,null,23,"Dentistry","Table1.ton",null,null,"Dentistry",null,45.611654774114747,36.172936018526485,28.421585219856158,22.8466165625,19.633675000000004,18.5581909,17.625240464000001,16.341724551839999,15.271713707065601,13.929844949977754,11.856070891218073,11.35306346647797,10.278460560772446]
[null,null,null,null,24,"Investment","Table1.ton",null,null,"Investment",null,1616.6469836318722,1744.3139008328728,1621.014162972861,797.69963494355352,900.72107847607515,966.98106162141517,1614.2233734860213,1315.0075415706424,1163.9997098674307,1271.0609842130355,1796.2609744741917,1001.8782361789795,1106.7527412869993]
[null,null,null,null,25,"Total bar and coin","Table1.ton",null,null,"Total bar and coin",null,1204.2943132718719,1501.9726045328728,1322.3503054728612,1729.7111488035534,1066.6484448860751,1090.716549551415,1072.8817585160211,1044.0592659806425,1090.4494336674306,870.87281957303549,903.83043749419164,1190.8837771789795,1217.1172478269991]
[null,null,null,null,26,"Bars","Table1.ton",null,null,"Bars",null,921.18239751262047,1189.5055575980573,1023.1954714607464,1357.3771874522165,780.54370276737279,790.39121354034285,797.36001629854923,779.85036691590255,775.58927693810165,583.45409125527567,541.84207375882738,810.80681276971882,790.91865038710523]
[null,null,null,null,27,"Official Coins","Table1.ton",null,null,"Official Coins",null,195.90280152246115,228.29429744698172,187.47163514365073,270.89434517212578,205.46215862768014,224.34257305299167,207.87134936422035,188.11860999278139,241.88379511015017,220.65234389946602,292.8690132651617,295.24422497751044,334.82333752846523]
[null,null,null,null,28,"Medals/Imitation Coins","Table1.ton",null,null,"Medals/Imitation Coins",null,87.209114236790498,84.17274948783394,111.68319886846402,101.43961617921116,80.642583491022236,75.982762958080698,67.65039285325139,76.090289071958736,72.976361619178817,66.766384418293867,69.119350470202718,84.832739431750355,91.375259911428373]
[null,null,null,null,29,"ETFs & similar products","Table1.ton",null,null,"ETFs & similar products",null,412.3526703600001,242.34129629999995,298.66385750000001,-932.01151385999992,-165.92736640999999,-123.73548792999992,541.34161497000014,270.94827558999998,73.550276200000084,400.18816463999991,892.43053698000006,-189.00554099999994,-110.36450653999971]
[null,null,null,null,30,"Central banks & other inst.","Table1.ton",null,null,"Central banks & other inst.",null,79.150502504475867,480.78649740721318,569.18328835170644,629.45035188500765,601.13204687360803,579.55029563183905,394.85982464640819,378.5560927022172,656.22911497815392,605.41270131366025,254.94472041914281,450.1124237438982,1135.6893222651338]
[null,null,null,null,31,"Gold demand","Table1.ton",null,null,"Gold demand",null,4200.220541043107,4746.3642285358292,4713.3377867533718,4518.2138155867397,4394.6205776662755,4357.4450399631369,4350.8467508240483,4283.6187034853247,4445.038964076386,4354.5145346105619,3677.9266156874387,4012.8178178215662,4740.7250534668601]
[null,null,null,null,32,"OTC and other","Table1.ton",null,null,"OTC and other",null,116.59999855290607,-220.64548843130524,-164.68910115279778,-184.07795700069619,110.37035417211791,83.832177578064147,428.49071092909071,376.39334051997048,330.29948881300334,521.8252260796562,1048.4501063993234,669.61188661330061,13.782713779587539]
[null,null,null,null,33,"Total demand","Table1.ton",null,null,"Total demand",null,4316.8205395960131,4525.7187401045239,4548.648685600574,4334.1358585860435,4504.9909318383934,4441.277217541201,4779.337461753139,4660.0120440052951,4775.3384528893894,4876.3397606902181,4726.3767220867621,4682.4297044348668,4754.5077672464477]
[null,"YoY",null,null,null,"Jewellery"]
[null,-0.2382439479202052,null,null,9,"India","Table2.ton",null,null,"India",null,661.65670656183181,619.31126175185261,595.16753270612003,617.42978121961733,627.49133060767122,662.29704032189329,504.50877873973809,601.90119398280206,598.01090527814119,544.63619815173627,315.93269170472456,610.86354212490699,600.39907754201101]
[null,0.13142124586492598,null,null,10,"Pakistan","Table2.ton",null,null,"Pakistan",null,26.473250137262077,24.20401820255767,26.14634799399116,23.331891202885004,21.849328195230392,23.173513572089732,26.219005596801534,28.066187614775341,25.389562640784618,23.791199898743386,16.824540708264678,23.132864353907287,23.452506448932802]
[null,-2.4190932160208289E-2,null,null,11,"Sri Lanka","Table2.ton",null,null,"Sri Lanka",null,0,0,0,0,9.1224999999999987,10.66085,10.471097299999997,11.181414629999999,9.6047718610000015,7.8870487193700001,4.2723289511385003,4.0944540267944571,3.91252206697372]
[null,-0.16597694754447823,null,null,12,"Greater China","Table2.ton",null,null,"Greater China",null,492.68569929718961,606.55146653525105,654.20748702521632,1031.3078753841869,875.27560505670954,825.85011885394874,692.86245686565189,715.71750772348526,742.9633376077104,681.78802681909156,433.28282834761234,699.31492970534748,598.3006067165328]
[null,-0.16509528931521322,null,null,13,"China","Table2.ton",null,null,"China",null,461.94805385360314,557.17953512455631,599.35801637019154,938.79550356213849,806.83356824988664,767.44614220395886,644.81647597606843,665.16699308736031,686.31230692541044,638.00704596565402,413.77982834761235,673.34592970534754,570.93560671653279]
[null,-0.1932805751893607,null,null,14,"Hong Kong","Table2.ton",null,null,"Hong Kong",null,22.997214503944171,42.2651016993007,47.638410492700736,82.606999999999999,60.042000000000002,51.356999999999999,41.4306895,44.273460807999996,50.641030682299998,38.3409808534375,15.363,21.808999999999997,22.414999999999999]
[null,-6.1258222050018851E-2,null,null,15,"Taiwan","Table2.ton",null,null,"Taiwan",null,7.7404309396422821,7.1068297113940879,7.2110601623241122,9.9053718220484459,8.4000368068228557,7.0469766499898707,6.6152913895834935,6.2770538281249992,6.01,5.44,4.1400000000000006,4.16,4.9499999999999993]
[null,3.0558023437769588E-2,null,null,16,"Japan","Table2.ton",null,null,"Japan",null,20.752929448639424,15.925840909298252,16.111873862644646,16.952167236713521,16.449725311152172,16.50694112367712,16.926071909073691,16.615226784168982,16.454580736898361,17.003901884581232,13.836298896407367,15.47383946883042,15.441725773828118]
[null,-1.3675348734076831E-2,null,null,17,"Indonesia","Table2.ton",null,null,"Indonesia",null,33.402897766679018,33.388808682277947,35.220113652666747,41.173682035880191,36.482704848543065,38.89268807259846,38.360817000000004,38.559016057500003,41.885188294046259,40.3800312362442,20.864946879139097,26.98466939749213,28.255415316736386]
[null,-7.4653349480151454E-2,null,null,18,"Malaysia","Table2.ton",null,null,"Malaysia",null,11.497740804892738,10.640686747291639,12.960855482703284,18.323186416656945,18.626594741350655,15.311181570359977,14.168150581633842,13.301658012577734,12.919999999999998,12.21,9.1615000000000002,10.5085,13.002658]
[null,-4.702680287296146E-3,null,null,19,"Singapore","Table2.ton",null,null,"Singapore",null,8.5376019642345025,8.8677792080862776,9.6761052951487105,14.349940925318117,14.007963965811756,12.158451816630372,12.101274504948265,11.817428470359133,11.519375,10.540000000000001,5.6979999999999995,6.9799999999999995,9.0641999999999996]
[null,-7.4331419366961193E-2,null,null,20,"S Korea","Table2.ton",null,null,"S Korea",null,17.844291853733459,18.630854066985648,16.615126842350744,22.903835937499998,22.933124999999997,25.605,24.070499999999999,22.667625000000001,21.704333999999999,19.46,16.375,18.696249999999999,15.422500000000001]
[null,-3.1077501669396934E-2,null,null,21,"Thailand","Table2.ton",null,null,"Thailand",null,7.0600656847133765,6.9248076923076916,9.1488372093023251,14.874625,12.369,12.227640075,11.847635570156402,11.441273145528369,12.093805228164143,11.093788405228159,5.8458497607075923,8.0506659557547025,9.4065368025751894]
[null,-1.3992155804808615E-2,null,null,22,"Vietnam","Table2.ton",null,null,"Vietnam",null,14.166197848045673,12.836228097195793,10.471896892454522,11.774157608695653,12.5,15.630133749999999,15.411434483320001,16.493969662795472,18.211236544445512,17.289411785307998,10.738128894678828,11.937416647587764,18.074964526742235]
[null,null,null,null,23,"Australia","Table2.ton",null,null,"Australia",null,{"$error":"#N/A"},{"$error":"#N/A"},{"$error":"#N/A"},{"$error":"#N/A"},{"$error":"#N/A"},{"$error":"#N/A"},{"$error":"#N/A"},{"$error":"#N/A"},{"$error":"#N/A"},{"$error":"#N/A"},{"$error":"#N/A"},8.4218178817688578,10.959042157520969]
[null,-0.17894987453395561,null,null,24,"Middle East","Table2.ton",null,null,"Middle East",null,254.26154231445187,212.99882090211455,209.65192857882155,277.65195998971438,253.98434190244899,237.95842601145355,198.85993962880011,198.78725688325233,172.61776421376811,170.38976158085239,114.78551429580725,165.13286633675114,190.36410330905903]
[null,-0.2892385358852444,null,null,25,"Saudi Arabia","Table2.ton",null,null,"Saudi Arabia",null,69.914157254711355,54.742374384039096,49.004296145911127,66.421026990152356,68.375948465591193,69.509531880924158,49.404696649616938,44.447255835847457,39.378776623573138,37.15998341038123,22.69863846673028,33.339704585610434,37.89427263119407]
[null,-0.16363860761406734,null,null,26,"UAE","Table2.ton",null,null,"UAE",null,66.942832562723311,56.344669689304943,49.361620164381186,64.361212278310362,56.012267509341157,51.40966972778719,45.183784263203108,46.690815471248165,36.175375393102534,34.013328550638583,21.496678832314039,33.849116050640937,46.868456851356889]
[null,-4.6414385904969047E-2,null,null,27,"Kuwait","Table2.ton",null,null,"Kuwait",null,8.9703643653502034,8.3683846332028065,7.6780776070867685,11.674912969870952,14.187805551611071,13.170969087400001,12.559646645435,13.884438660593752,14.046187062499438,13.293400236310671,10.310403723100613,12.98082490767233,14.682615732763217]
[null,-0.33323300495115848,null,null,28,"Egypt","Table2.ton",null,null,"Egypt",null,52.99244765373659,34.062988063851321,42.08488138449917,45.646887906094889,45.113690469393433,38.231053774663707,25.393005289796623,22.0129555410359,24.73804045361441,26.684417258578407,21.176773272632175,31.709569114822223,33.562498378009877]
[null,0.1019548057413262,null,null,29,"Iran","Table2.ton",null,null,"Iran",null,41.528146044895784,44.964425436730849,45.16010436276671,63.659739823747287,39.298197304151742,37.217273141418616,40.511752994773829,45.375292838509765,29.373255222543516,30.541891411403537,20.009731451529138,26.335457110097121,29.889836800573043]
[null,-0.14938749695313003,null,null,30,"Other Middle East","Table2.ton",null,null,"Other Middle East",null,13.913594433034596,14.515978694985535,16.362948914176624,25.88818002153857,30.99643260236035,28.419928399259877,25.807053785974592,26.376498536017266,28.906129458435053,28.696740713539967,19.09328854950099,26.918194567908099,27.466422915161942]
[null,-0.16809982004202972,null,null,31,"Turkey","Table2.ton",null,null,"Turkey",null,67.883408910409358,73.579378801478327,65.863883634451383,79.863719925364691,68.079708558128658,49.009646144526982,40.771133447308443,41.201122143143365,36.372346513573468,36.458246050515854,25.897734032056963,33.86780654527162,36.691889016241959]
[null,-0.10990526315789462,null,null,32,"Russia","Table2.ton",null,null,"Russia",null,60.331146228484116,64.351035548686241,67.656104525862048,79.704222187499994,67.58962111755568,43.148042150967115,38.313456520722795,39.808478910012425,42.969371167437615,44.450751344758203,29.823632727919996,41.541833678963279,35.683784228853838]
[null,-1.1062617546742981E-2,null,null,33,"Americas","Table2.ton",null,null,"Americas",null,190.58860359519966,174.42852414569461,162.56919588373586,165.81123120076154,168.51811069050964,170.27115734648672,167.45061893093819,173.53997617116286,178.67611265666844,180.93354373935537,158.20762662302806,191.59606879600707,187.77555130678473]
[null,-6.0087489236445579E-3,null,null,34,"United States","Table2.ton",null,null,"United States",null,122.33281211308571,115.88160749906325,107.05386929056775,112.50252781914477,116.55751744856846,119.49657516903576,118.77624333553348,123.65757419730505,128.37651231462507,131.1,118.20000000000002,149.0976,143.69499999999999]
[null,-2.6641066997956542E-2,null,null,35,"Canada","Table2.ton",null,null,"Canada",null,16.740439621901906,14.611983590032867,13.191312351935418,13.198213964747957,13.956399999999999,14.16685,13.789429999999999,14.116610000000001,14.274000000000001,14.443999999999999,13.055999999999999,15.170300000000001,15.43]
[null,1.4923505931595527E-2,null,null,36,"Mexico","Table2.ton",null,null,"Mexico",null,22.766523856014288,18.916729384596277,15.261253628921494,15.87210916788295,15.777822288927755,16.637960195381453,15.951600456538129,16.601202973857799,16.835222392043349,16.64316378125541,12.403891985458035,12.725100792266081,13.189050111523711]
[null,-5.1900192749886553E-2,null,null,37,"Brazil","Table2.ton",null,null,"Brazil",null,28.748828004197748,25.018203672002201,27.062760612311209,24.238380248985855,22.226370953013436,19.969771982069489,18.93334513886656,19.164588999999999,19.190377949999998,18.746379958099997,14.547734637569997,14.603068003740999,15.461501195261031]
[null,-1.4593402752057449E-2,null,null,38,"Europe ex CIS","Table2.ton",null,null,"Europe ex CIS",null,106.21737982242271,87.767022154189902,77.421500306086728,75.055595256814698,78.035648696022349,77.374163875513261,76.125123996382285,74.017640477437254,73.392010082906722,72.065184668057995,55.941609618503257,67.807569408953782,70.550840837549885]
[null,-2.7822913217044221E-2,null,null,39,"France","Table2.ton",null,null,"France",null,20.718858757123389,19.214274629820938,15.715332001060773,14.880993820086509,14.159299999999998,13.573345,13.375695,13.311500000000001,12.997349999999999,12.649850000000001,10.5,12.399249999999999,14.22625]
[null,1.3761180957277075E-2,null,null,40,"Germany","Table2.ton",null,null,"Germany",null,13.704481098430811,12.030431224899598,10.738841586299628,10.095246602537696,10.000097662938867,10.185337724462689,10.325500000000002,10.425499999999998,10.629999999999999,10.619,9.0445000000000011,11.108149999999998,11.092000000000001]
[null,-1.4040561622465031E-2,null,null,41,"Italy","Table2.ton",null,null,"Italy",null,34.21341869627507,26.919944519927537,22.559438202247179,21.114062500000003,19.890000000000004,19.229999999999997,18.957000000000001,18.825000000000006,18.542000000000002,18.169350000000001,13.795349999999999,17.284000000000006,17.838000000000005]
[null,8.6278514779314364E-3,null,null,42,"Spain","Table2.ton",null,null,"Spain",null,11.578406659511643,8.1675658284118811,8.3786363556876537,7.7720768627497634,8.3072592303392145,8.4916112014424865,8.2612979621166485,8.3863806759580175,8.6882324632167798,8.8489928470720631,6.8964507913436224,7.7548471227972247,8.0769632819116701]
[null,-2.657922190394213E-2,null,null,43,"United Kingdom","Table2.ton",null,null,"United Kingdom",null,26.00221461108179,21.434805951129945,20.029252160791494,21.19321547144073,25.678991802744271,25.893869949608089,25.205631034265636,23.069259801479241,22.534427619689946,21.777991820985932,15.705308827159635,19.261322286156549,19.317627555638218]
[null,{"$error":"#N/A"},null,null,44,"Switzerland","Table2.ton",null,null,"Switzerland",null,0,0,0,0,0,0,0,0,0,0,0,0,0]
[null,{"$error":"#N/A"},null,null,45,"Austria","Table2.ton",null,null,"Austria",null,0,0,0,0,0,0,0,0,0,0,0,0,0]
[null,{"$error":"#N/A"},null,null,46,"Other Europe","Table2.ton",null,null,"Other Europe",null,0,0,0,0,0,0,0,0,0,0,0,0,0]
[null,-0.15907522668532192,null,null,47,"Total above","Table2.ton",null,null,"Total above",null,1973.3594622381886,1970.4065334452675,1968.8887898915571,2490.5078715276086,2303.3153086911343,2236.0749946851461,1888.4674950754747,2015.1169756690008,2014.7847018255443,1890.3770942838423,1237.4882314399888,1944.4050943283378,1866.7579240503424]
[null,-5.365936369331803E-2,null,null,48,"Other & stock change","Table2.ton",null,null,"Other & stock change",null,83.888147850843808,134.0391601985468,188.31619247164502,237.46648899714538,230.90319863472018,224.76627871707916,216.76069701473369,226.89377574689956,235.43543497461167,236.34305950457309,160.49810801132926,203.33321627578675,219.41044936470291]
[null,-0.14997307520662928,null,null,49,"World Total","Table2.ton",null,null,"World Total",null,2057.2476100890326,2104.4456936438141,2157.2049823632019,2727.974360524754,2534.2185073258543,2460.8412734022254,2105.2281920902083,2242.0107514159004,2250.2201368001561,2126.7201537884152,1397.9863394513181,2147.7383106041243,2086.1683734150452]
[null,"YoY",null,null,null,"Investment"]
[null,-0.1711553216673567,null,null,9,"India","Table3.ton",null,null,"India",null,340.05526510414171,354.71111070963963,318.98363617736089,341.15143461456643,205.96222535388895,194.94149565862233,161.5762212628552,169.31574468516817,162.40167618538692,145.76963723015191,130.43682281490322,186.47749766776519,173.55776157016675]
[null,0.10772799548351664,null,null,10,"Pakistan","Table3.ton",null,null,"Pakistan",null,7.3562499999999993,15.742123287671234,13.243826219512195,20.914031942198868,13.930448156831043,14.46625624260307,16.024677029769606,16.863429437216894,14.782752389447971,14.246990820882234,11.935182471284005,18.056098839078302,20.833962090868958]
[null,{"$error":"#DIV/0!"},null,null,11,"Sri Lanka","Table3.ton",null,null,"Sri Lanka",null,0,0,0,0,0,0,0,0,0,0,0,0,0]
[null,0.23682704768817686,null,null,12,"Greater China","Table3.ton",null,null,"Greater China",null,183.57573926155413,266.48421127635515,264.13415819200048,418.47936629694686,208.40220507462686,236.30469000000002,292.18461627497436,313.98842805398345,315.42760957939453,217.73193000000001,208.01800000000003,294.38219499999997,226.63674760000001]
[null,0.24747970525049379,null,null,13,"China","Table3.ton",null,null,"China",null,183.7937917018449,259.09565815460024,256.96396355213449,406.71080379694683,198.45220507462687,228.103565,284.55456803278685,306.38583300000005,308.03567355000001,211.12092999999999,198.87400000000002,285.48719499999999,218.22674760000001]
[null,-4.3959731543624203E-2,null,null,14,"Hong Kong","Table3.ton",null,null,"Hong Kong",null,1.1923364485981307,1.5370659722222224,2.0128863065326636,2.9143750000000002,1.3900000000000001,1.49,1.4244999999999999,1.7094,1.4759199999999999,1.2350000000000001,2.44,2.8400000000000003,2.13]
[null,-7.9297005451331004E-2,null,null,15,"Taiwan","Table3.ton",null,null,"Taiwan",null,-1.4103888888888889,5.8514871495327103,5.1573083333333329,8.8541875000000001,8.56,6.711125,6.2055482421874988,5.8931950539833977,5.9160160293945303,5.3759999999999994,6.7039999999999997,6.0549999999999997,6.28]
[null,5.789518339038735E-2,null,null,16,"Japan","Table3.ton",null,null,"Japan",null,-39.808294334975372,-52.28364903846154,-10.972298267326732,3.9212187499999982,-2.7407927549999984,16.164928500000002,17.1008,-3.2863999999999991,12.510999999999999,-20.119400000000002,-9.3279999999999994,0.11479999999999846,-11.172399999999998]
[null,4.9152732577111724E-2,null,null,17,"Indonesia","Table3.ton",null,null,"Indonesia",null,17.160040849673202,27.427696572580647,26.447364253393665,46.938625000000002,26.9,20.125610000000002,21.114838726281249,20.229689,22.163154999999996,14.168751349999999,16.754400257499999,19.786338071999999,21.467787299200001]
[null,-0.23545657147811827,null,null,18,"Malaysia","Table3.ton",null,null,"Malaysia",null,5.4583333176156819,9.7590609517909481,7.6873043545803323,10.27530771921875,8.23,6.7987519999999995,5.1979411637500004,5.7566050544062497,5.9969999999999999,5.3949999999999996,3.9116,4.3532500000000001,5.5301324999999988]
[null,-0.15365090581827701,null,null,19,"Singapore","Table3.ton",null,null,"Singapore",null,1.3606695517071492,4.1869029890012746,5.1459084485853204,6.5019159916597964,6.5149999999999997,5.9029499999999997,4.9959563855000013,4.8145761278217423,4.8664739089047604,4.4399999999999995,3.74,4.4726999999999997,5.9218199999999994]
[null,-0.26818474123539227,null,null,20,"S Korea","Table3.ton",null,null,"S Korea",null,1.3247812500000005,7.9273622881355932,11.354708333333333,17.900906249999998,16.736499999999999,19.935500000000001,15.079499999999999,18.530250000000002,19.277999999999999,19.481000000000002,19.012999999999998,20.939999999999998,16.969000000000001]
[null,-0.1064187358735551,null,null,21,"Thailand","Table3.ton",null,null,"Thailand",null,64.235040711435857,106.63831534413968,100.86743170128344,138.93156250000001,96.350000000000009,77.978749999999991,69.680350000000004,63.975685783203119,68.461178130644527,35.404930764109366,-87.341947400525001,28.654743311031996,28.521344026922421]
[null,-0.10181937463089885,null,null,22,"Vietnam","Table3.ton",null,null,"Vietnam",null,68.161049440298498,90.588226082004553,73.780355155786367,87.875,54.15,47.781638000000001,42.916541500000008,37.375910546015007,41.277027186100007,39.079894526201258,29.063735432290905,31.051878249528457,41.032720749666908]
[null,null,null,null,23,"Australia","Table3.ton",null,null,"Australia",null,{"$error":"#N/A"},{"$error":"#N/A"},{"$error":"#N/A"},{"$error":"#N/A"},{"$error":"#N/A"},{"$error":"#N/A"},{"$error":"#N/A"},{"$error":"#N/A"},{"$error":"#N/A"},{"$error":"#N/A"},{"$error":"#N/A"},20.280524666278058,19.922736270212837]
[null,-0.71208340615355603,null,null,24,"Middle East","Table3.ton",null,null,"Middle East",null,72.932813774016992,88.439836074259517,90.575696552796259,111.24522215758337,74.853748393220812,64.880795379752286,30.023763274674458,42.901749656338957,86.374891240005184,60.770075530684181,57.185644200590517,54.752162193788884,77.798249286316619]
[null,-0.27530221378978748,null,null,25,"Saudi Arabia","Table3.ton",null,null,"Saudi Arabia",null,14.547917059284497,17.710149834551551,16.925732354253057,18.302751006386671,15.648527445364891,14.91791554797755,10.81098037249024,9.9287653340516453,10.176705673367696,8.8431446375803198,8.3962600154977967,10.895660208525385,12.204642138356112]
[null,-0.30919302625518241,null,null,26,"UAE","Table3.ton",null,null,"UAE",null,9.9682091752037927,11.877328028291444,10.665195315916309,14.115592217406784,9.942240021652438,8.748764879258724,6.043707790245664,5.5403057836242988,5.769608730598037,5.047993963376296,5.2373109598885792,7.7468532723972636,8.400964402463428]
[null,-0.17890346752185504,null,null,27,"Kuwait","Table3.ton",null,null,"Kuwait",null,1.3546831794204088,1.2899394082185687,1.6272394960545835,3.8180236437500006,3.5764359600000004,2.9946920960000005,2.4617119084000008,2.6222649882040008,2.956364029708201,2.5599123445317007,2.7222822429515126,3.6061419010367888,4.1794103702994656]
[null,-0.45130667290619786,null,null,28,"Egypt","Table3.ton",null,null,"Egypt",null,2.3475046042148797,2.3374828014036817,2.1262588135822029,7.1191585397033581,6.0221600775114599,4.916108073316976,2.6974356951009928,2.4742524875252387,2.6135931350848232,2.4619012330269054,2.1638375358354809,2.4193673965778499,4.4316507032456407]
[null,-1.1449713372174586,null,null,29,"Iran","Table3.ton",null,null,"Iran",null,43.45604486063106,53.187706783504296,56.97601579773405,64.032248505737684,36.061044824048643,30.094998435489234,4.6273415779298519,19.157432640822886,61.777940688690734,39.089004444931177,36.251408849090808,25.450039442237909,41.797103098786366]
[null,-0.19764354019008068,null,null,30,"Other Middle East","Table3.ton",null,null,"Other Middle East",null,1.2584548952623549,2.0372292182899825,2.2552547752560668,3.857448244598868,3.6033400646433744,3.2083163477097933,3.3825859305077062,3.1787284221108854,3.0806789825556939,2.7681189072377688,2.4145445973263335,4.6340999730136998,6.7844785731656057]
[null,0.26988231561485576,null,null,31,"Turkey","Table3.ton",null,null,"Turkey",null,40.870958768849874,71.947898955630308,48.086440175863693,104.22054657245833,48.6099216,23.113925204799997,29.351964862020001,52.369094169811987,37.767665693860003,52.866632294990005,121.094670076596,61.436624040669848,84.849682985700113]
[null,-0.23229166666666667,null,null,32,"Russia","Table3.ton",null,null,"Russia",null,0,0,0,0,7.9054000000000002,4.8000000000000007,3.6850000000000005,2.4637500000000001,2.6348250000000002,3.6550425,4.99,5.2725,25]
[null,0.29597441510489442,null,null,33,"Americas","Table3.ton",null,null,"Americas",null,113.24624942106178,92.41861719485334,61.621200711229193,85.620197644429041,56.098837342411073,78.217535999813734,99.017121769119669,41.843647430531853,31.229388411754876,24.962329304812286,79.132791951134791,129.69631996798168,128.00153053492699]
[null,0.31731992263982289,null,null,34,"United States","Table3.ton",null,null,"United States",null,104.35015793448123,82.613907985532762,53.132514108832922,75.273019471993393,48.188569966922437,71.05362192267674,91.320775039550512,35.207625673240784,26.066251821827663,19.699777509670096,69.120638013442871,115.84463550282653,112.86315723296347]
[null,0.24962544726565761,null,null,35,"Canada","Table3.ton",null,null,"Canada",null,3.6976489168542308,5.9480273845080127,4.3955080492447003,6.4483837892543656,4.403688823854357,3.3687885500305317,4.1446467380230079,2.8964706197152563,2.1911259402648056,2.9571382031500746,7.7139372749885409,10.816125666634155,12.105094975021863]
[null,-8.8361713659717234E-2,null,null,36,"Mexico","Table3.ton",null,null,"Mexico",null,4.7022852363929859,2.9430893248125738,3.0949473031515797,2.5135073519312785,2.2071185516342746,2.3776255271064661,2.2759499915461419,2.7090011375758145,2.044515649662408,1.4242933419921195,0.86794378770338021,1.3955587985210138,1.4549052019416622]
[null,-9.9999999999999867E-2,null,null,37,"Brazil","Table3.ton",null,null,"Brazil",null,0.49615733333333334,0.91359250000000003,0.9982312499999999,1.3852870312500001,1.2994600000000001,1.4175,1.2757500000000002,1.0305500000000001,0.92749500000000018,0.88112025000000016,1.430272875,1.6400000000000001,1.5783731249999997]
[null,-8.6989117763040413E-2,null,null,38,"Europe ex CIS","Table3.ton",null,null,"Europe ex CIS",null,288.25728466442797,333.82231830888878,239.90788623075213,261.41629046339591,196.40378704478098,220.18463748735047,201.92091049075404,192.50095800444663,171.79427975310765,152.97272870315439,256.4132535961491,276.21534963734916,314.22313115511849]
[null,6.8750000000000009,null,null,39,"France","Table3.ton",null,null,"France",null,1.30126953125,6.4563057206537895,2.6593607081911257,1.925062499999999,0.97499999999999976,-0.52,-4.2150000000000007,-0.11000000000000076,-1.1900000000000008,0.29999999999999966,3.5416499999999997,4.6500000000000004,5.629999999999999]
[null,-4.4512724153417005E-2,null,null,40,"Germany","Table3.ton",null,null,"Germany",null,122.92480077875777,142.39127052408281,108.18624335002451,133.28837626138332,101.25619305052984,115.95096673221553,110.78967333474239,106.54577356402456,96.257954586318647,85.6,157,162.57858524769333,185.31367074657194]
[null,{"$error":"#N/A"},null,null,41,"Italy","Table3.ton",null,null,"Italy",null,0,0,0,0,0,0,0,0,0,0,0,0,0]
[null,{"$error":"#N/A"},null,null,42,"Spain","Table3.ton",null,null,"Spain",null,0,0,0,0,0,0,0,0,0,0,0,0,0]
[null,0.28207192804390102,null,null,43,"United Kingdom","Table3.ton",null,null,"United Kingdom",null,14.822887776049278,17.354423688176141,14.968650823370318,11.46675612219153,7.6435354083045262,8.4873653291211983,11.924296113865523,10.481779286355399,12.091922765681973,10.451175147552407,13.897638569116815,15.497695839343828,16.291753420018548]
[null,-9.3884722918920804E-2,null,null,44,"Switzerland","Table3.ton",null,null,"Switzerland",null,86.88024417475728,96.756150637949958,62.192186448371622,61.736001026527774,47.727366666666668,50.347677777777776,45.620800000000003,42.48,36.550000000000004,29.82,42.9,43.8,48.725000000000001]
[null,-0.11174428791758673,null,null,45,"Austria","Table3.ton",null,null,"Austria",null,13.737271684931248,15.099401812444784,10.416386255550757,12.986976769970804,10.231152840524683,12.200331129905001,10.837013815435,9.6828970717000011,8.1812401231949998,6.2393288379899996,11.567192839265003,12.245203467255001,14.219125138759999]
[null,-0.20031169984960295,null,null,46,"Other Europe","Table3.ton",null,null,"Other Europe",null,48.590810718682434,55.764765925581301,41.485058645243797,40.013117783322507,28.570539078755267,33.718296518330938,26.964127226711117,23.42050808236667,19.903162277911999,20.562224717612001,27.50677218776725,37.443865083056998,44.043581849768003]
[null,-2.6340653364538502E-2,null,null,47,"Total above","Table3.ton",null,null,"Total above",null,1164.1861817798076,1417.8100309964891,1250.8636182391506,1655.391625902457,1018.3072802107595,1031.5974644729422,1009.8702027396989,979.64311794894388,996.96692247860608,770.82554302498522,845.01915339992365,1155.9429816454719,1179.0942060691004]
[null,5.5369139268587997E-2,null,null,48,"Other & stock change","Table3.ton",null,null,"Other & stock change",null,40.108131492064665,84.162573536383718,71.486687233710455,74.319522901096093,48.341164675315412,59.119085078473233,63.011555776322666,64.41614803169864,93.482511188824162,100.04727654804987,58.81128409426816,34.940795533507867,38.023041757898881]
[null,-2.2489595238123772E-2,null,null,49,"World Total","Table3.ton",null,null,"World Total",null,1204.2943132718722,1501.9726045328728,1322.350305472861,1729.711148803553,1066.6484448860749,1090.7165495514155,1072.8817585160216,1044.0592659806425,1090.4494336674302,870.87281957303503,903.83043749419176,1190.8837771789799,1217.1172478269993]
[null,"YoY",null,null,null,"Consumer"]
[null,-0.22298756758441751,null,null,9,"India","Table4.ton",null,null,"India",null,1001.7119716659736,974.0223724614923,914.15116888348098,958.58121583418369,833.45355596156014,857.23853598051562,666.08500000259323,771.21693866797023,760.41258146352811,690.40583538188821,446.36951451962778,797.34103979267218,773.9568391121777]
[null,0.12231511602074652,null,null,10,"Pakistan","Table4.ton",null,null,"Pakistan",null,33.829500137262073,39.946141490228904,39.390174213503357,44.245923145083871,35.779776352061432,37.639769814692798,42.243682626571143,44.929617051992238,40.172315030232589,38.038190719625618,28.759723179548683,41.18896319298559,44.28646853980176]
[null,-2.4190932160208289E-2,null,null,11,"Sri Lanka","Table4.ton",null,null,"Sri Lanka",null,0,0,0,0,9.1224999999999987,10.66085,10.471097299999997,11.181414629999999,9.6047718610000015,7.8870487193700001,4.2723289511385003,4.0944540267944571,3.91252206697372]
[null,-7.5269102710153302E-2,null,null,12,"Greater China","Table4.ton",null,null,"Greater China",null,676.26143855874375,873.03567781160621,918.34164521721686,1449.7872416811338,1083.6778101313364,1062.1548088539487,985.04707314062625,1029.7059357774688,1058.390947187105,899.51995681909159,641.30082834761242,993.69712470534751,824.93735431653283]
[null,-6.9216469934405112E-2,null,null,13,"China","Table4.ton",null,null,"China",null,645.74184555544798,816.27519327915661,856.32197992232602,1345.5063073590854,1005.2857733245135,995.54970720395886,929.37104400885528,971.55282608736036,994.3479804754104,849.12797596565406,612.65382834761238,958.83312470534747,789.16235431653286]
[null,-0.18907053380513561,null,null,14,"Hong Kong","Table4.ton",null,null,"Hong Kong",null,24.189550952542302,43.802167671522923,49.6512967992334,85.521375000000006,61.432000000000002,52.847000000000001,42.855189500000002,45.982860807999998,52.116950682300001,39.5759808534375,17.803000000000001,24.648999999999997,24.544999999999998]
[null,-6.9817667505867487E-2,null,null,15,"Taiwan","Table4.ton",null,null,"Taiwan",null,6.3300420507533932,12.958316860926798,12.368368495657446,18.759559322048446,16.960036806822856,13.758101649989872,12.820839631770992,12.170248882108396,11.92601602939453,10.815999999999999,10.844000000000001,10.215,11.23]
[null,4.408451748287745E-2,null,null,16,"Japan","Table4.ton",null,null,"Japan",null,-19.055364886335948,-36.357808129163288,5.1395755953179147,20.873385986713519,13.708932556152174,32.671869623677125,34.026871909073691,13.328826784168983,28.96558073689836,-3.1154981154187702,4.5082988964073678,15.588639468830419,4.2693257738281201]
[null,7.7494212577968735E-3,null,null,17,"Indonesia","Table4.ton",null,null,"Indonesia",null,50.56293861635222,60.816505254858598,61.667477906060412,88.112307035880193,63.382704848543064,59.018298072598462,59.475655726281254,58.788705057500003,64.048343294046248,54.548782586244201,37.619347136639092,46.771007469492133,49.723202615936387]
[null,-0.14659070696209575,null,null,18,"Malaysia","Table4.ton",null,null,"Malaysia",null,16.956074122508419,20.399747699082589,20.648159837283615,28.598494135875697,26.856594741350655,22.109933570359978,19.366091745383841,19.058263066983983,18.916999999999998,17.605,13.0731,14.861750000000001,18.532790499999997]
[null,-5.3382950890020542E-2,null,null,19,"Singapore","Table4.ton",null,null,"Singapore",null,9.8982715159416514,13.054682197087551,14.822013743734031,20.851856916977916,20.522963965811755,18.061401816630372,17.097230890448266,16.632004598180874,16.385848908904762,14.98,9.4379999999999988,11.4527,14.98602]
[null,-0.13048540901379779,null,null,20,"S Korea","Table4.ton",null,null,"S Korea",null,19.16907310373346,26.558216355121242,27.969835175684075,40.804742187499997,39.669624999999996,45.540500000000002,39.15,41.197875000000003,40.982333999999994,38.941000000000003,35.387999999999998,39.636249999999997,32.391500000000001]
[null,-9.6206094686065224E-2,null,null,21,"Thailand","Table4.ton",null,null,"Thailand",null,71.295106396149237,113.56312303644738,110.01626891058577,153.80618750000002,108.71900000000001,90.206390074999987,81.527985570156403,75.416958928731489,80.55498335880867,46.498719169337527,-81.496097639817407,36.705409266786702,37.92788082949761]
[null,-8.0171167377609098E-2,null,null,22,"Vietnam","Table4.ton",null,null,"Vietnam",null,82.327247288344168,103.42445417920035,84.252252048240891,99.649157608695646,66.650000000000006,63.41177175,58.327975983320009,53.869880208810478,59.488263730545519,56.369306311509256,39.801864326969735,42.989294897116224,59.107685276409143]
[null,null,null,null,23,"Australia","Table4.ton",null,null,"Australia",null,0,0,0,0,0,0,0,0,0,0,0,28.702342548046914,30.881778427733806]
[null,-0.29239346336177718,null,null,24,"Middle East","Table4.ton",null,null,"Middle East",null,327.19435608846885,301.43865697637409,300.2276251316178,388.89718214729777,328.83809029566982,302.83922139120585,228.88370290347456,241.68900653959128,258.9926554537733,231.15983711153658,171.97115849639778,219.88502853054001,268.16235259537564]
[null,-0.28677605617751045,null,null,25,"Saudi Arabia","Table4.ton",null,null,"Saudi Arabia",null,84.462074313995856,72.452524218590639,65.930028500164184,84.723777996539027,84.024475910956085,84.427447428901701,60.21567702210718,54.376021169899104,49.555482296940838,46.003128047961553,31.094898482228075,44.235364794135819,50.098914769550184]
[null,-0.18480640219094224,null,null,26,"UAE","Table4.ton",null,null,"UAE",null,76.911041737927107,68.221997717596395,60.026815480297493,78.476804495717147,65.954507530993595,60.158434607045912,51.227492053448771,52.231121254872463,41.944984123700571,39.061322514014876,26.733989792202618,41.595969323038204,55.269421253820319]
[null,-5.41182612188148E-2,null,null,27,"Kuwait","Table4.ton",null,null,"Kuwait",null,10.325047544770612,9.6583240414213751,9.305317103141352,15.492936613620953,17.764241511611072,16.165661183400001,15.021358553835,16.506703648797753,17.002551092207639,15.85331258084237,13.032685966052126,16.586966808709118,18.862026103062682]
[null,-0.34667764002061974,null,null,28,"Egypt","Table4.ton",null,null,"Egypt",null,55.339952257951467,36.400470865255002,44.211140198081374,52.766046445798246,51.135850546904891,43.147161847980684,28.090440984897615,24.487208028561138,27.351633588699233,29.146318491605314,23.340610808467655,34.12893651140007,37.994149081255514]
[null,-0.45553997852902084,null,null,29,"Iran","Table4.ton",null,null,"Iran",null,84.984190905526845,98.152132220235146,102.13612016050075,127.69198832948497,75.359242128200378,67.312271576907847,45.139094572703684,64.532725479332655,91.151195911234254,69.630895856334718,56.261140300619942,51.785496552335033,71.686939899359402]
[null,-0.15477486385720463,null,null,30,"Other Middle East","Table4.ton",null,null,"Other Middle East",null,15.172049328296952,16.553207913275518,18.61820368943269,29.745628266137437,34.599772667003727,31.628244746969671,29.189639716482297,29.555226958128152,31.986808440990746,31.464859620777737,21.507833146827323,31.5522945409218,34.25090148832755]
[null,-2.7736744070941066E-2,null,null,31,"Turkey","Table4.ton",null,null,"Turkey",null,108.75436767925923,145.52727775710864,113.95032381031507,184.08426649782302,116.68963015812867,72.12357134932698,70.123098309328441,93.570216312955353,74.140012207433472,89.324878345505851,146.99240410865298,95.304430585941475,121.54157200194207]
[null,-0.12363084112149525,null,null,32,"Russia","Table4.ton",null,null,"Russia",null,60.331146228484116,64.351035548686241,67.656104525862048,79.704222187499994,75.49502111755568,47.948042150967112,41.998456520722797,42.272228910012423,45.604196167437614,48.105793844758203,34.813632727919995,46.81433367896328,60.683784228853838]
[null,8.5403328319713756E-2,null,null,33,"Americas","Table4.ton",null,null,"Americas",null,303.83485301626143,266.84714134054798,224.19039659496505,251.43142884519057,224.61694803292073,248.48869334630047,266.46774070005785,215.38362360169472,209.90550106842332,205.89587304416767,237.34041857416287,321.29238876398875,315.77708184171172]
[null,0.11505027983748506,null,null,34,"United States","Table4.ton",null,null,"United States",null,226.68297004756693,198.49551548459601,160.18638339940065,187.77554729113817,164.7460874154909,190.5501970917125,210.09701837508399,158.86519987054584,154.44276413645275,150.79977750967009,187.32063801344287,264.94223550282652,256.55815723296348]
[null,2.0416929466546385E-2,null,null,35,"Canada","Table4.ton",null,null,"Canada",null,20.438088538756137,20.56001097454088,17.58682040118012,19.646597754002322,18.360088823854355,17.535638550030534,17.934076738023009,17.013080619715257,16.465125940264805,17.401138203150072,20.769937274988539,25.986425666634155,27.535094975021863]
[null,3.0530285785983491E-3,null,null,36,"Mexico","Table4.ton",null,null,"Mexico",null,27.468809092407273,21.859818709408849,18.356200932073072,18.385616519814228,17.984940840562029,19.01558572248792,18.227550448084273,19.310204111433613,18.879738041705757,18.067457123247529,13.271835773161415,14.120659590787096,14.643955313465373]
[null,-5.508813915250399E-2,null,null,37,"Brazil","Table4.ton",null,null,"Brazil",null,29.24498533753108,25.931796172002201,28.060991862311209,25.623667280235857,23.525830953013436,21.387271982069489,20.209095138866559,20.195139000000001,20.117872949999999,19.627500208099995,15.978007512569997,16.243068003740998,17.039874320261031]
[null,-6.8221625903126193E-2,null,null,38,"Europe ex CIS","Table4.ton",null,null,"Europe ex CIS",null,394.47466448685066,421.58934046307866,317.32938653683885,336.47188572021059,274.43943574080333,297.55880136286373,278.04603448713635,266.51859848188388,245.18628983601437,225.03791337121237,312.35486321465237,344.02291904630295,384.77397199266841]
[null,-0.30280744131102044,null,null,39,"France","Table4.ton",null,null,"France",null,22.020128288373389,25.670580350474729,18.374692709251899,16.806056320086508,15.134299999999998,13.053345,9.1606950000000005,13.201499999999999,11.807349999999998,12.94985,14.041650000000001,17.049250000000001,19.856249999999999]
[null,-3.9807184327810607E-2,null,null,40,"Germany","Table4.ton",null,null,"Germany",null,136.62928187718859,154.4217017489824,118.92508493632414,143.383622863921,111.25629071346872,126.13630445667822,121.11517333474239,116.97127356402456,106.88795458631864,96.218999999999994,166.0445,173.68673524769332,196.40567074657196]
[null,-1.4040561622465031E-2,null,null,41,"Italy","Table4.ton",null,null,"Italy",null,34.21341869627507,26.919944519927537,22.559438202247179,21.114062500000003,19.890000000000004,19.229999999999997,18.957000000000001,18.825000000000006,18.542000000000002,18.169350000000001,13.795349999999999,17.284000000000006,17.838000000000005]
[null,8.6278514779314364E-3,null,null,42,"Spain","Table4.ton",null,null,"Spain",null,11.578406659511643,8.1675658284118811,8.3786363556876537,7.7720768627497634,8.3072592303392145,8.4916112014424865,8.2612979621166485,8.3863806759580175,8.6882324632167798,8.8489928470720631,6.8964507913436224,7.7548471227972247,8.0769632819116701]
[null,5.0216471980306876E-2,null,null,43,"United Kingdom","Table4.ton",null,null,"United Kingdom",null,40.825102387131068,38.789229639306086,34.997902984161811,32.659971593632264,33.322527211048794,34.381235278729285,37.129927148131159,33.551039087834639,34.626350385371921,32.229166968538337,29.602947396276448,34.759018125500376,35.609380975656762]
[null,-9.3884722918920804E-2,null,null,44,"Switzerland","Table4.ton",null,null,"Switzerland",null,86.88024417475728,96.756150637949958,62.192186448371622,61.736001026527774,47.727366666666668,50.347677777777776,45.620800000000003,42.48,36.550000000000004,29.82,42.9,43.8,48.725000000000001]
[null,-0.11174428791758673,null,null,45,"Austria","Table4.ton",null,null,"Austria",null,13.737271684931248,15.099401812444784,10.416386255550757,12.986976769970804,10.231152840524683,12.200331129905001,10.837013815435,9.6828970717000011,8.1812401231949998,6.2393288379899996,11.567192839265003,12.245203467255001,14.219125138759999]
[null,-0.20031169984960295,null,null,46,"Other Europe","Table4.ton",null,null,"Other Europe",null,48.590810718682434,55.764765925581301,41.485058645243797,40.013117783322507,28.570539078755267,33.718296518330938,26.964127226711117,23.42050808236667,19.903162277911999,20.562224717612001,27.50677218776725,37.443865083056998,44.043581849768003]
[null,-0.11705707146462629,null,null,47,"Total above","Table4.ton",null,null,"Total above",null,3137.545644017996,3388.2165644417564,3219.7524081307074,4145.8994974300658,3321.6225889018938,3267.6724591580883,2898.3376978151737,2994.7600936179447,3011.7516243041505,2661.2026373088274,2082.5073848399124,3100.3480759738095,3045.8521301194428]
[null,-3.2385831436782864E-2,null,null,48,"Other & stock change","Table4.ton",null,null,"Other & stock change",null,123.99627934290848,218.20173373493051,259.80287970535551,311.78601189824144,279.24436331003562,283.88536379555239,279.77225279105636,291.3099237785982,328.91794616343583,336.39033605262296,219.30939210559742,238.27401180929462,257.43349112260182]
[null,-0.11076723793487264,null,null,49,"World Total","Table4.ton",null,null,"World Total",null,3261.5419233609045,3606.4182981766871,3479.5552878360631,4457.6855093283066,3600.8669522119289,3551.5578229536409,3178.1099506062301,3286.0700173965429,3340.6695704675863,2997.5929733614503,2301.8167769455099,3338.6220877831042,3303.2856212420447]
[null,"YoY",null,null,"Prices",null,"Prices",null,null,null,null,42,43,44,45,46,47,48,49,50,51,52,52,53]
[null,7.822009206420355E-2,null,null,5,"USD","Ann.Avg",null,null,"USD","US$/oz",1224.52,1571.52,1668.98,1411.23,1266.4000000000001,1160.06,1250.8,1257.1500000000001,1268.49,1392.6,1769.59,1769.59,1798.61]
[null,8.0509542028859737E-2,null,null,8,"EUR","Ann.Avg",null,null,"EUR","€/oz",925.18935999999997,1129.9245900000001,1298.7161000000001,1063.7691500000001,952.82570999999996,1045.29709,1129.4534799999999,1114.0590400000001,1073.6976999999999,1244.8750500000001,1549.0447099999999,1549.0447099999999,1520.62257]
[null,0.22182377476440518,null,null,26,"GBP","Ann.Avg",null,null,"GBP","£/oz",792.40733,980.75635999999997,1052.9800299999999,903.81239000000005,768.14916000000005,758.98199,927.34223999999995,976.05850999999996,949.60551999999996,1092.9256,1378.98099,1378.98099,1307.5317399999999]
[null,0.10351176683824259,null,null,23,"CHF","Ann.Avg",null,null,"CHF","CHF/kg",40954.232160367799,44649.532367739965,50323.667111418326,42090.263796678832,37205.891619914153,35863.234684199524,39575.501470895557,39771.870368286531,39882.12644879194,44476.979439612915,53307.743180027966,53307.743180027966,52849.737489350067]
[null,-3.5513120618004157E-2,null,null,13,"JPY","Ann.Avg",null,null,"JPY","¥/g",3443.6333126497016,4015.7601520729177,4278.1729194463642,4410.4050688829229,4297.4539383027641,4513.8009056858546,4353.5017509283516,4531.7017441767011,4502.2017190991373,4876.8400501551268,6069.5868063079715,6069.5868063079715,6348.1845219991319]
[null,0.13012114475251768,null,null,11,"INR","Ann.Avg",null,null,"INR","Rs/10g",17997.307569887635,23624.084041988845,28639.382770427765,26440.155287990096,24835.057244361567,23903.214718600797,27013.528381050364,26319.746041442275,27861.263844904915,31542.489751957179,42181.733695564806,42181.733695564806,42750.132653881403]
[null,0.14008102317381521,null,null,25,"CNY","Ann.Avg",null,null,"CNY","RMB/g",266.30953011718941,326.27879691996077,338.53135820727567,279.19187229732989,250.84625813815163,234.23356053177295,267.04523735270948,273.11237127654442,269.41475653865319,309.74727828057934,392.41506486408286,392.41506486408286,372.96651662996129]
[null,0.19667320218021467,null,null,20,"TRY","Ann.Avg",null,null,"TRY","TL/g",59.260295786647809,85.365362740527587,96.565851110003692,85.988412558072241,88.982769141736469,101.35430128442135,121.28797627276674,147.33749320815986,196.23778963782212,254.27021685662385,402.09297024450626,402.09297024450626,513.68954169144945]

{"sheet":"ユーザーガイドと目次","index":2,"n_rows":27,"n_cols":8,"rows_kept":27,"cut":false,"hidden":false,"merged":[[5,1,7,3],[11,1,28,3]]}
[]
[]
[]
[]
[]
[null,"ゴールド・デマンド・トレンド データ表"]
[]
[]
[]
[]
[null,"ユーザーガイド",null,null,null,"目次"]
[null,"本資料には金の需給データを記載しており、4つに分けて表示しています。\n\nGDTのサマリー図表：最新の「ゴールド・デマンド・トレンド」に掲載されている図表です。\n\nグローバルデータ：供給、需要およびそれぞれの構成要素ごとに全世界で集計したデータです。需要の構成要素には宝飾品、金地金・金貨、ETF、中央銀行、テクノロジーがあり、供給の構成要素には鉱山生産、産金会社のネットヘッジ、リサイクル金があります。2010年以降のデータを四半期および年間ベースで掲載しています。\n\n国別データ：宝飾品、金地金・金貨、消費者需要（宝飾品と金地金・金貨の需要合計）の国別データです。2010年以降のデータを四半期および年間ベースで掲載しています。\n\nこれらの需給データの集計方法に関する詳細は、集計方法の説明を参照してください。\nhttps://www.gold.org/goldhub/research/creating-consistent-historical-demand-and-supply-data-series\nその他データ：価格、インドにおける推定供給量、中央銀行の金保有量、ETF保有残高に関するデータがあります。\n\n需給の動きに影響を及ぼす要因の詳細については、「ゴールド・デマンド・トレンド」をご参照ください。\nhttps://www.gold.org/goldhub/research/gold-demand-trends\n",null,null,null,"名称","ワークシート","説明"]
[null,null,null,null,null,"免責事項","免責事項","著作権および利用に関する情報"]
[null,null,null,null,null,"GDT表 >>"]
[null,null,null,null,null,"要約","エグゼクティブ・サマリー","最新の1年と四半期の金需要合計"]
[null,null,null,null,null,"スナップショットサマリー","スナップショット","最新四半期における需要部門の主たる変化"]
[null,null,null,null,null,"グローバルデータ >>"]
[null,null,null,null,null,"金全体バランス","金需給","金の需給バランス（トン／金額）"]
[null,null,null,null,null,"国別データ >>"]
[null,null,null,null,null,"国別宝飾品需要","宝飾品","宝飾品需要（トン／金額）"]
[null,null,null,null,null,"国別地金&通貨需要","地金&金貨","投資需要（トン／金額）"]
[null,null,null,null,null,"国別消費者需要","消費者","消費者需要（トン／金額）"]
[null,null,null,null,null,"国別消費者1人当り需要","国民一人当たりの需要","国別1人当り消費者需要"]
[null,null,null,null,null,"その他データ>>"]
[null,null,null,null,null,"年間および四半期平均価格","価格","主要金需要通貨別LBMA金価格(PM)"]
[null,null,null,null,null,"インド供給見積り","インドにおける供給","インド供給内訳（トン）"]
[null,null,null,null,null,"金ETFおよび類似商品","ETFs","グローバル金ETF保有上位10銘柄および地域別内訳"]

{"sheet":"免責事項","index":3,"n_rows":6,"n_cols":2,"rows_kept":6,"cut":false,"hidden":false,"merged":[[5,1,43,12]]}
[]
[]
[]
[]
[]
[null,"免責事項\n© 2023 ワールド・ゴールド・カウンシル。著作権所有。   \n\n本資料に記載されている情報は一般的な情報提供および啓蒙のみを目的として提供しているものであり、金、金関連商品または有価証券、投資商品等その他の商品の売買提案または売買提案の勧誘と解釈されるものでも、解釈すべきものでもありません。また、本資料は金、金関連商品または有価証券、投資商品等その他の商品を後援、提唱、推奨または奨励するものでも、そう解釈すべきものでもありません。\n\n本資料中の情報は、潜在的投資家の投資目的または財務状況に何らかの金関連取引が適切であるという趣旨の助言などに限らず、いかなるものであれ、金、金関連商品または有価証券、投資商品等のその他の商品の売買またはその他の処分に関して提案しているもの、あるいは投資等の助言を提供しているものではありません。本資料中の何らかの記述に依拠して、金、金関連商品または有価証券、投資商品等のその他の商品への投資判断を行うべきではありません。潜在的投資家は投資判断を行う前に、各自の財務アドバイザーに助言を求め、各自の財務的ニーズおよび状況を勘案し、かかる投資判断に付随するリスクを慎重に検討すべきです。\n\n本レポート内の統計および情報は、ワールド ゴールド カウンシルまたはレポート内で明示したサードパーティーのコピーライトおよび/または知的財産である。それぞれの所有者のすべての権利は留保されています。本レポート内の統計および情報を転載、配布またはその他の方法で使用することを目的として、内容を複製、再発行または再配布することは、フレームリンクまたは類似の手法を含め、いかなる場合も明示的に禁じられています。ただし、ワールド ゴールド カウンシルまたは適切な著作権者から書面による事前許可を得、以下の方法に従う場合にはこの限りではありません。\n \n本レポート内の分析を使用することは、公正な業界慣行に従って検討および解説（メディアの解説も含む）を目的とする場合に許可され、次の2つの前提条件に従うものとします。（i）データまたは分析の限定的部分を抜粋して使用する、かつ（ii）かかる統計を使用する際はいかなる場合においても、ワールド ゴールド カウンシルおよび適切な場合には、適切なサードパーティーを出典元として明記する。本レポートまたは本レポート内の統計のすべてあるいは相当部分を転載、配布またはその他の方法で使用することを禁じます。\n\n本資料内に記載した情報の正確性については確認を行っていますが、ワールド ゴールド カウンシルおよびその関連会社はかかる情報の正確性について保証しません。ワールド ゴールド カウンシルまたはその関連会社は、本資料内の情報に依拠して下された判断や取られた行動、またはかかる情報に起因または関連する結果的、特例的、懲罰的、付随的、間接的、または類似的な損害のいずれについても、かかる損害の可能性を通知された場合であったとしても、一切責任を負いません。"]

{"sheet":"エグゼクティブ・サマリー","index":4,"n_rows":14,"n_cols":12,"rows_kept":14,"cut":false,"hidden":false,"merged":[]}
["▲"]
["▼"]
[]
[null,"データハイライト",null,null,null,null,null,"データハイライト"]
[]
[null,null,2021,2022,null,"前年同期比%",null,null,"2021年第4四半期","2022年第4四半期",null,"前年同期比%"]
[null,"金需要",4012.8178178215662,4740.7250534668601,"▲",18.139553518042639,null,"金需要",1143.4362185514503,1337.3559218365926,"▲",16.959380867855266]
[null,"宝飾品",2230.6357825472005,2189.7585476851796,"▼",-1.8325373950265678,null,"宝飾品",719.84774542533989,602.51233948795277,"▼",-16.300031038932627]
[null,"テクノロジー",330.19137535148815,308.52444222954784,"▼",-6.5619318793157078,null,"テクノロジー",85.889723167756514,72.047304167732818,"▼",-16.116502055766567]
[null,"投資",1001.8782361789795,1106.7527412869993,"▲",10.467789529793169,null,"投資",303.40052159741083,245.69896228480258,"▼",-19.01827953650449]
[null,"地金&コイン合計",1190.8837771789795,1217.1172478269991,"▲",2.2028573359327064,null,"地金&コイン合計",326.39133260741085,335.26881525480258,"▲",2.7198892128884156]
[null,"金ETFおよび類似商品",-189.00554099999994,-110.36450653999971,"▲","-",null,"金ETFおよび類似商品",-22.990811010000005,-89.569852969999985,"▲","-"]
[null,"中央銀行&その他機関",450.1124237438982,1135.6893222651338,"▲",152.31236961175512,null,"中央銀行&その他機関",34.298228360943142,417.09731589610442,"▲",">300"]
[null,"出所：Metals Focus, ワールド・ゴールド・カウンシル",null,null,null,null,null,"出所：Metals Focus, ワールド・ゴールド・カウンシル"]

{"sheet":"スナップショット","index":5,"n_rows":22,"n_cols":12,"rows_kept":22,"cut":false,"hidden":false,"merged":[]}
["▲"]
["▼"]
[]
[null,"宝飾品",null,null,null,null,null,"テクノロジー"]
[null,"トン",2021,2022,null,"前年同期比%",null,"トン",2021,2022,null,"前年同期比%"]
[null,"世界合計",2147.7383106041243,2086.1683734150452,"▼",-2.866733665134491,null,"テクノロジー",330.19137535148815,308.52444222954784,"▼",-6.5619318793157078]
[null,"インド",610.86354212490699,600.39907754201101,"▼",-1.7130609147985809,null,"エレクトロニクス",272.07519788889078,251.6954051559878,"▼",-7.4905000128771881]
[null,"中国",673.34592970534754,570.93560671653279,"▼",-15.209169383949339,null,"その他工業用",46.763113996119415,46.550576512787607,"▼",-0.4544981400285808]
[null,null,null,null,null,null,null,"歯科用",11.35306346647797,10.278460560772446,"▼",-9.4653122382208803]
[]
[null,"投資",null,null,null,null,null,"供給"]
[null,"トン",2021,2022,null,"前年同期比%",null,"トン",2021,2022,null,"前年同期比%"]
[null,"投資",1001.8782361789795,1106.7527412869993,"▲",10.467789529793169,null,"供給合計",4682.4297044348668,4754.5077672464477,"▲",1.539330376776693]
[null,"地金&金貨",1190.8837771789795,1217.1172478269991,"▲",2.2028573359327064,null,"鉱山生産",3568.9241032962991,3611.8956983347757,"▲",1.2040490017366068]
[null,"インド",186.47749766776519,173.55776157016675,"▼",-6.9283083799294047,null,"正味生産者ヘッジ",-22.654499462418023,-1.5009456778998329,"▲","-"]
[null,"中国",285.48719499999999,218.22674760000001,"▼",-23.559882396826936,null,"リサイクル金",1136.1601006009862,1144.1130145895718,"▲",0.69998180576653635]
[null,"金ETF",-189.00554099999994,-110.36450653999971,"▲","-"]
[]
[]
[null,"中央銀行&その他機関"]
[null,"トン",2021,2022,null,"前年同期比%"]
[null,"中央銀行&その他機関",450.1124237438982,1135.6893222651338,"▲",152.31236961175512]

{"sheet":"金需給","index":6,"n_rows":32,"n_cols":72,"rows_kept":32,"cut":false,"hidden":false,"merged":[]}
["▲"]
["▼","トン"]
[]
[null,"金需給WGCまとめ"]
[null,null,{"$f":"AppAn.Data!L$2","v":2010},{"$f":"AppAn.Data!M$2","v":2011},{"$f":"AppAn.Data!N$2","v":2012},{"$f":"AppAn.Data!O$2","v":2013},{"$f":"AppAn.Data!P$2","v":2014},{"$f":"AppAn.Data!Q$2","v":2015},{"$f":"AppAn.Data!R$2","v":2016},{"$f":"AppAn.Data!S$2","v":2017},{"$f":"AppAn.Data!T$2","v":2018},{"$f":"AppAn.Data!U$2","v":2019},{"$f":"AppAn.Data!V$2","v":2020},{"$f":"AppAn.Data!W$2","v":2021},{"$f":"AppAn.Data!X$2","v":2022},null,"前年同期比%",null,"2010年第1四半期","2010年第2四半期","2010年第3四半期","2010年第4四半期","2011年第1四半期","2011年第2四半期","2011年第3四半期","2011年第4四半期","2012年第1四半期","2012年第2四半期","2012年第3四半期","2012年第4四半期","2013年第1四半期","2013年第2四半期","2013年第3四半期","2013年第4四半期","2014年第1四半期","2014年第2四半期","2014年第3四半期","2014年第4四半期","2015年第1四半期","2015年第2四半期","2015年第3四半期","2015年第4四半期","2016年第1四半期","2016年第2四半期","2016年第3四半期","2016年第4四半期","2017年第1四半期","2017年第2四半期","2017年第3四半期","2017年第4四半期","2018年第1四半期","2018年第2四半期","2018年第3四半期","2018年第4四半期","2019年第1四半期","2019年第2四半期","2019年第3四半期","2019年第4四半期","2020年第1四半期","2020年第2四半期","2020年第3四半期","2020年第4四半期","2021年第1四半期","2021年第2四半期","2021年第3四半期","2021年第4四半期","2022年第1四半期","2022年第2四半期","2022年第3四半期","2022年第4四半期",null,"前年同期比%"]
[null,"供給"]
[null,"鉱山生産",{"$f":"IF($B$2=\"トン\",AppAn.Data!L10,(AppAn.Data!L10*ozton*AppAn.Data!L$6)/1000000)","v":2754.465101471073},{"$f":"IF($B$2=\"トン\",AppAn.Data!M10,(AppAn.Data!M10*ozton*AppAn.Data!M$6)/1000000)","v":2876.8619230876575},{"$f":"IF($B$2=\"トン\",AppAn.Data!N10,(AppAn.Data!N10*ozton*AppAn.Data!N$6)/1000000)","v":2957.2012943324589},{"$f":"IF($B$2=\"トン\",AppAn.Data!O10,(AppAn.Data!O10*ozton*AppAn.Data!O$6)/1000000)","v":3166.7669697207571},{"$f":"IF($B$2=\"トン\",AppAn.Data!P10,(AppAn.Data!P10*ozton*AppAn.Data!P$6)/1000000)","v":3270.4950636898188},{"$f":"IF($B$2=\"トン\",AppAn.Data!Q10,(AppAn.Data!Q10*ozton*AppAn.Data!Q$6)/1000000)","v":3361.3102920361107},{"$f":"IF($B$2=\"トン\",AppAn.Data!R10,(AppAn.Data!R10*ozton*AppAn.Data!R$6)/1000000)","v":3509.5605682017695},{"$f":"IF($B$2=\"トン\",AppAn.Data!S10,(AppAn.Data!S10*ozton*AppAn.Data!S$6)/1000000)","v":3573.1393189262199},{"$f":"IF($B$2=\"トン\",AppAn.Data!T10,(AppAn.Data!T10*ozton*AppAn.Data!T$6)/1000000)","v":3655.2784734491315},{"$f":"IF($B$2=\"トン\",AppAn.Data!U10,(AppAn.Data!U10*ozton*AppAn.Data!U$6)/1000000)","v":3594.5262634652818},{"$f":"IF($B$2=\"トン\",AppAn.Data!V10,(AppAn.Data!V10*ozton*AppAn.Data!V$6)/1000000)","v":3472.3957758849551},{"$f":"IF($B$2=\"トン\",AppAn.Data!W10,(AppAn.Data!W10*ozton*AppAn.Data!W$6)/1000000)","v":3568.9241032962991},{"$f":"IF($B$2=\"トン\",AppAn.Data!X10,(AppAn.Data!X10*ozton*AppAn.Data!X$6)/1000000)","v":3611.8956983347757},{"$f":"IF(Q7<0,$A$2,IF(Q7>0,$A$1,\"-\"))","v":"▲"},{"$f":"IF(AND(O7>0,N7>0),(O7/N7-1)*100,\"-\")","v":1.2040490017366068},null,{"$f":"IF($B$2=\"トン\",AppQt.Data!M11,(AppQt.Data!M11*ozton*AppQt.Data!M$7)/1000000)","v":631.99953088294683},{"$f":"IF($B$2=\"トン\",AppQt.Data!N11,(AppQt.Data!N11*ozton*AppQt.Data!N$7)/1000000)","v":674.59830558143221},{"$f":"IF($B$2=\"トン\",AppQt.Data!O11,(AppQt.Data!O11*ozton*AppQt.Data!O$7)/1000000)","v":729.70253344207617},{"$f":"IF($B$2=\"トン\",AppQt.Data!P11,(AppQt.Data!P11*ozton*AppQt.Data!P$7)/1000000)","v":718.1647315646178},{"$f":"IF($B$2=\"トン\",AppQt.Data!Q11,(AppQt.Data!Q11*ozton*AppQt.Data!Q$7)/1000000)","v":667.5529702451538},{"$f":"IF($B$2=\"トン\",AppQt.Data!R11,(AppQt.Data!R11*ozton*AppQt.Data!R$7)/1000000)","v":719.68003710327093},{"$f":"IF($B$2=\"トン\",AppQt.Data!S11,(AppQt.Data!S11*ozton*AppQt.Data!S$7)/1000000)","v":752.67892458641256},{"$f":"IF($B$2=\"トン\",AppQt.Data!T11,(AppQt.Data!T11*ozton*AppQt.Data!T$7)/1000000)","v":736.9499911528203},{"$f":"IF($B$2=\"トン\",AppQt.Data!U11,(AppQt.Data!U11*ozton*AppQt.Data!U$7)/1000000)","v":685.84214021391256},{"$f":"IF($B$2=\"トン\",AppQt.Data!V11,(AppQt.Data!V11*ozton*AppQt.Data!V$7)/1000000)","v":729.4583714262609},{"$f":"IF($B$2=\"トン\",AppQt.Data!W11,(AppQt.Data!W11*ozton*AppQt.Data!W$7)/1000000)","v":769.49469946494162},{"$f":"IF($B$2=\"トン\",AppQt.Data!X11,(AppQt.Data!X11*ozton*AppQt.Data!X$7)/1000000)","v":772.40608322734397},{"$f":"IF($B$2=\"トン\",AppQt.Data!Y11,(AppQt.Data!Y11*ozton*AppQt.Data!Y$7)/1000000)","v":720.5543294360325},{"$f":"IF($B$2=\"トン\",AppQt.Data!Z11,(AppQt.Data!Z11*ozton*AppQt.Data!Z$7)/1000000)","v":770.10357413020949},{"$f":"IF($B$2=\"トン\",AppQt.Data!AA11,(AppQt.Data!AA11*ozton*AppQt.Data!AA$7)/1000000)","v":838.81755168188465},{"$f":"IF($B$2=\"トン\",AppQt.Data!AB11,(AppQt.Data!AB11*ozton*AppQt.Data!AB$7)/1000000)","v":837.2915144726303},{"$f":"IF($B$2=\"トン\",AppQt.Data!AC11,(AppQt.Data!AC11*ozton*AppQt.Data!AC$7)/1000000)","v":749.23257531621118},{"$f":"IF($B$2=\"トン\",AppQt.Data!AD11,(AppQt.Data!AD11*ozton*AppQt.Data!AD$7)/1000000)","v":792.2973962949884},{"$f":"IF($B$2=\"トン\",AppQt.Data!AE11,(AppQt.Data!AE11*ozton*AppQt.Data!AE$7)/1000000)","v":862.35994102468976},{"$f":"IF($B$2=\"トン\",AppQt.Data!AF11,(AppQt.Data!AF11*ozton*AppQt.Data!AF$7)/1000000)","v":866.60515105392972},{"$f":"IF($B$2=\"トン\",AppQt.Data!AG11,(AppQt.Data!AG11*ozton*AppQt.Data!AG$7)/1000000)","v":787.67075235379559},{"$f":"IF($B$2=\"トン\",AppQt.Data!AH11,(AppQt.Data!AH11*ozton*AppQt.Data!AH$7)/1000000)","v":838.22913331196423},{"$f":"IF($B$2=\"トン\",AppQt.Data!AI11,(AppQt.Data!AI11*ozton*AppQt.Data!AI$7)/1000000)","v":867.45616130642509},{"$f":"IF($B$2=\"トン\",AppQt.Data!AJ11,(AppQt.Data!AJ11*ozton*AppQt.Data!AJ$7)/1000000)","v":867.95424506392533},{"$f":"IF($B$2=\"トン\",AppQt.Data!AK11,(AppQt.Data!AK11*ozton*AppQt.Data!AK$7)/1000000)","v":853.76710906693654},{"$f":"IF($B$2=\"トン\",AppQt.Data!AL11,(AppQt.Data!AL11*ozton*AppQt.Data!AL$7)/1000000)","v":859.21538742624148},{"$f":"IF($B$2=\"トン\",AppQt.Data!AM11,(AppQt.Data!AM11*ozton*AppQt.Data!AM$7)/1000000)","v":881.15842779112654},{"$f":"IF($B$2=\"トン\",AppQt.Data!AN11,(AppQt.Data!AN11*ozton*AppQt.Data!AN$7)/1000000)","v":915.41964391746467},{"$f":"IF($B$2=\"トン\",AppQt.Data!AO11,(AppQt.Data!AO11*ozton*AppQt.Data!AO$7)/1000000)","v":830.06297231969177},{"$f":"IF($B$2=\"トン\",AppQt.Data!AP11,(AppQt.Data!AP11*ozton*AppQt.Data!AP$7)/1000000)","v":883.03354972880788},{"$f":"IF($B$2=\"トン\",AppQt.Data!AQ11,(AppQt.Data!AQ11*ozton*AppQt.Data!AQ$7)/1000000)","v":924.3562618752137},{"$f":"IF($B$2=\"トン\",AppQt.Data!AR11,(AppQt.Data!AR11*ozton*AppQt.Data!AR$7)/1000000)","v":935.68653500250639},{"$f":"IF($B$2=\"トン\",AppQt.Data!AS11,(AppQt.Data!AS11*ozton*AppQt.Data!AS$7)/1000000)","v":851.33209746593445},{"$f":"IF($B$2=\"トン\",AppQt.Data!AT11,(AppQt.Data!AT11*ozton*AppQt.Data!AT$7)/1000000)","v":898.81993398033853},{"$f":"IF($B$2=\"トン\",AppQt.Data!AU11,(AppQt.Data!AU11*ozton*AppQt.Data!AU$7)/1000000)","v":955.38950505087632},{"$f":"IF($B$2=\"トン\",AppQt.Data!AV11,(AppQt.Data!AV11*ozton*AppQt.Data!AV$7)/1000000)","v":949.73693695198199},{"$f":"IF($B$2=\"トン\",AppQt.Data!AW11,(AppQt.Data!AW11*ozton*AppQt.Data!AW$7)/1000000)","v":845.08494742812547},{"$f":"IF($B$2=\"トン\",AppQt.Data!AX11,(AppQt.Data!AX11*ozton*AppQt.Data!AX$7)/1000000)","v":878.09310695107126},{"$f":"IF($B$2=\"トン\",AppQt.Data!AY11,(AppQt.Data!AY11*ozton*AppQt.Data!AY$7)/1000000)","v":933.13927859866271},{"$f":"IF($B$2=\"トン\",AppQt.Data!AZ11,(AppQt.Data!AZ11*ozton*AppQt.Data!AZ$7)/1000000)","v":938.20893048742255},{"$f":"IF($B$2=\"トン\",AppQt.Data!BA11,(AppQt.Data!BA11*ozton*AppQt.Data!BA$7)/1000000)","v":838.1515647497456},{"$f":"IF($B$2=\"トン\",AppQt.Data!BB11,(AppQt.Data!BB11*ozton*AppQt.Data!BB$7)/1000000)","v":787.89935045919856},{"$f":"IF($B$2=\"トン\",AppQt.Data!BC11,(AppQt.Data!BC11*ozton*AppQt.Data!BC$7)/1000000)","v":920.9429062758835},{"$f":"IF($B$2=\"トン\",AppQt.Data!BD11,(AppQt.Data!BD11*ozton*AppQt.Data!BD$7)/1000000)","v":925.40195440012769},{"$f":"IF($B$2=\"トン\",AppQt.Data!BE11,(AppQt.Data!BE11*ozton*AppQt.Data!BE$7)/1000000)","v":830.17084712101439},{"$f":"IF($B$2=\"トン\",AppQt.Data!BF11,(AppQt.Data!BF11*ozton*AppQt.Data!BF$7)/1000000)","v":873.03350728193891},{"$f":"IF($B$2=\"トン\",AppQt.Data!BG11,(AppQt.Data!BG11*ozton*AppQt.Data!BG$7)/1000000)","v":927.71957580595563},{"$f":"IF($B$2=\"トン\",AppQt.Data!BH11,(AppQt.Data!BH11*ozton*AppQt.Data!BH$7)/1000000)","v":938.00017308739018},{"$f":"IF($B$2=\"トン\",AppQt.Data!BI11,(AppQt.Data!BI11*ozton*AppQt.Data!BI$7)/1000000)","v":844.23473065036285},{"$f":"IF($B$2=\"トン\",AppQt.Data!BJ11,(AppQt.Data!BJ11*ozton*AppQt.Data!BJ$7)/1000000)","v":892.0715368265852},{"$f":"IF($B$2=\"トン\",AppQt.Data!BK11,(AppQt.Data!BK11*ozton*AppQt.Data!BK$7)/1000000)","v":945.56537279675285},{"$f":"IF($B$2=\"トン\",AppQt.Data!BL11,(AppQt.Data!BL11*ozton*AppQt.Data!BL$7)/1000000)","v":930.02405806107481},{"$f":"IF(BT7<0,$A$2,IF(BT7>0,$A$1,\"-\"))","v":"▼"},{"$f":"IF(AND(ISNUMBER(BR7),ISNUMBER(BN7),BR7>0,BN7>0,(BR7/BN7-1)*100<300),(BR7/BN7-1)*100,IF(AND(ISNUMBER(BR7),ISNUMBER(BN7),BR7>0,BN7>0,(BR7/BN7-1)*100>300),\">300\",\"-\"))","v":-0.85033193544754582}]
[null,"正味生産者ヘッジ",{"$f":"IF($B$2=\"トン\",AppAn.Data!L11,(AppAn.Data!L11*ozton*AppAn.Data!L$6)/1000000)","v":-108.80840917327276},{"$f":"IF($B$2=\"トン\",AppAn.Data!M11,(AppAn.Data!M11*ozton*AppAn.Data!M$6)/1000000)","v":22.525496606473641},{"$f":"IF($B$2=\"トン\",AppAn.Data!N11,(AppAn.Data!N11*ozton*AppAn.Data!N$6)/1000000)","v":-45.315363912319754},{"$f":"IF($B$2=\"トン\",AppAn.Data!O11,(AppAn.Data!O11*ozton*AppAn.Data!O$6)/1000000)","v":-27.939442342360163},{"$f":"IF($B$2=\"トン\",AppAn.Data!P11,(AppAn.Data!P11*ozton*AppAn.Data!P$6)/1000000)","v":104.90729816395279},{"$f":"IF($B$2=\"トン\",AppAn.Data!Q11,(AppAn.Data!Q11*ozton*AppAn.Data!Q$6)/1000000)","v":12.891944982681281},{"$f":"IF($B$2=\"トン\",AppAn.Data!R11,(AppAn.Data!R11*ozton*AppAn.Data!R$6)/1000000)","v":37.634305365560209},{"$f":"IF($B$2=\"トン\",AppAn.Data!S11,(AppAn.Data!S11*ozton*AppAn.Data!S$6)/1000000)","v":-25.520056013517632},{"$f":"IF($B$2=\"トン\",AppAn.Data!T11,(AppAn.Data!T11*ozton*AppAn.Data!T$6)/1000000)","v":-11.637594835843803},{"$f":"IF($B$2=\"トン\",AppAn.Data!U11,(AppAn.Data!U11*ozton*AppAn.Data!U$6)/1000000)","v":6.155989160811707},{"$f":"IF($B$2=\"トン\",AppAn.Data!V11,(AppAn.Data!V11*ozton*AppAn.Data!V$6)/1000000)","v":-39.074474302646919},{"$f":"IF($B$2=\"トン\",AppAn.Data!W11,(AppAn.Data!W11*ozton*AppAn.Data!W$6)/1000000)","v":-22.654499462418023},{"$f":"IF($B$2=\"トン\",AppAn.Data!X11,(AppAn.Data!X11*ozton*AppAn.Data!X$6)/1000000)","v":-1.5009456778998329},{"$f":"IF(Q8<0,$A$2,IF(Q8>0,$A$1,\"-\"))","v":"▲"},{"$f":"IF(AND(O8>0,N8>0),(O8/N8-1)*100,\"-\")","v":"-"},null,{"$f":"IF($B$2=\"トン\",AppQt.Data!M12,(AppQt.Data!M12*ozton*AppQt.Data!M$7)/1000000)","v":-11.739016255295125},{"$f":"IF($B$2=\"トン\",AppQt.Data!N12,(AppQt.Data!N12*ozton*AppQt.Data!N$7)/1000000)","v":14.821564422044482},{"$f":"IF($B$2=\"トン\",AppQt.Data!O12,(AppQt.Data!O12*ozton*AppQt.Data!O$7)/1000000)","v":-55.952728586606753},{"$f":"IF($B$2=\"トン\",AppQt.Data!P12,(AppQt.Data!P12*ozton*AppQt.Data!P$7)/1000000)","v":-55.938228753415366},{"$f":"IF($B$2=\"トン\",AppQt.Data!Q12,(AppQt.Data!Q12*ozton*AppQt.Data!Q$7)/1000000)","v":9.8728675225179376},{"$f":"IF($B$2=\"トン\",AppQt.Data!R12,(AppQt.Data!R12*ozton*AppQt.Data!R$7)/1000000)","v":18.428600956949339},{"$f":"IF($B$2=\"トン\",AppQt.Data!S12,(AppQt.Data!S12*ozton*AppQt.Data!S$7)/1000000)","v":5.0198431726059365},{"$f":"IF($B$2=\"トン\",AppQt.Data!T12,(AppQt.Data!T12*ozton*AppQt.Data!T$7)/1000000)","v":-10.795815045599571},{"$f":"IF($B$2=\"トン\",AppQt.Data!U12,(AppQt.Data!U12*ozton*AppQt.Data!U$7)/1000000)","v":-0.38171947970013881},{"$f":"IF($B$2=\"トン\",AppQt.Data!V12,(AppQt.Data!V12*ozton*AppQt.Data!V$7)/1000000)","v":-10.451475821417958},{"$f":"IF($B$2=\"トン\",AppQt.Data!W12,(AppQt.Data!W12*ozton*AppQt.Data!W$7)/1000000)","v":1.2553548928150469},{"$f":"IF($B$2=\"トン\",AppQt.Data!X12,(AppQt.Data!X12*ozton*AppQt.Data!X$7)/1000000)","v":-35.737523504016707},{"$f":"IF($B$2=\"トン\",AppQt.Data!Y12,(AppQt.Data!Y12*ozton*AppQt.Data!Y$7)/1000000)","v":-5.4209793160208699},{"$f":"IF($B$2=\"トン\",AppQt.Data!Z12,(AppQt.Data!Z12*ozton*AppQt.Data!Z$7)/1000000)","v":-5.8187674424837557},{"$f":"IF($B$2=\"トン\",AppQt.Data!AA12,(AppQt.Data!AA12*ozton*AppQt.Data!AA$7)/1000000)","v":-2.1089681583064737},{"$f":"IF($B$2=\"トン\",AppQt.Data!AB12,(AppQt.Data!AB12*ozton*AppQt.Data!AB$7)/1000000)","v":-14.590727425549062},{"$f":"IF($B$2=\"トン\",AppQt.Data!AC12,(AppQt.Data!AC12*ozton*AppQt.Data!AC$7)/1000000)","v":12.368479407438514},{"$f":"IF($B$2=\"トン\",AppQt.Data!AD12,(AppQt.Data!AD12*ozton*AppQt.Data!AD$7)/1000000)","v":50.265012270670184},{"$f":"IF($B$2=\"トン\",AppQt.Data!AE12,(AppQt.Data!AE12*ozton*AppQt.Data!AE$7)/1000000)","v":-8.1067923900384926},{"$f":"IF($B$2=\"トン\",AppQt.Data!AF12,(AppQt.Data!AF12*ozton*AppQt.Data!AF$7)/1000000)","v":50.380598875882583},{"$f":"IF($B$2=\"トン\",AppQt.Data!AG12,(AppQt.Data!AG12*ozton*AppQt.Data!AG$7)/1000000)","v":-2.9178221849737724},{"$f":"IF($B$2=\"トン\",AppQt.Data!AH12,(AppQt.Data!AH12*ozton*AppQt.Data!AH$7)/1000000)","v":-15.066396794767968},{"$f":"IF($B$2=\"トン\",AppQt.Data!AI12,(AppQt.Data!AI12*ozton*AppQt.Data!AI$7)/1000000)","v":14.203211962070299},{"$f":"IF($B$2=\"トン\",AppQt.Data!AJ12,(AppQt.Data!AJ12*ozton*AppQt.Data!AJ$7)/1000000)","v":16.672952000352723},{"$f":"IF($B$2=\"トン\",AppQt.Data!AK12,(AppQt.Data!AK12*ozton*AppQt.Data!AK$7)/1000000)","v":56.067419617801448},{"$f":"IF($B$2=\"トン\",AppQt.Data!AL12,(AppQt.Data!AL12*ozton*AppQt.Data!AL$7)/1000000)","v":23.819434915185639},{"$f":"IF($B$2=\"トン\",AppQt.Data!AM12,(AppQt.Data!AM12*ozton*AppQt.Data!AM$7)/1000000)","v":-17.821938411996701},{"$f":"IF($B$2=\"トン\",AppQt.Data!AN12,(AppQt.Data!AN12*ozton*AppQt.Data!AN$7)/1000000)","v":-24.43061075543018},{"$f":"IF($B$2=\"トン\",AppQt.Data!AO12,(AppQt.Data!AO12*ozton*AppQt.Data!AO$7)/1000000)","v":-15.579329998032495},{"$f":"IF($B$2=\"トン\",AppQt.Data!AP12,(AppQt.Data!AP12*ozton*AppQt.Data!AP$7)/1000000)","v":-8.5201340557490557},{"$f":"IF($B$2=\"トン\",AppQt.Data!AQ12,(AppQt.Data!AQ12*ozton*AppQt.Data!AQ$7)/1000000)","v":7.9145397225498035},{"$f":"IF($B$2=\"トン\",AppQt.Data!AR12,(AppQt.Data!AR12*ozton*AppQt.Data!AR$7)/1000000)","v":-9.3351316822858852},{"$f":"IF($B$2=\"トン\",AppQt.Data!AS12,(AppQt.Data!AS12*ozton*AppQt.Data!AS$7)/1000000)","v":37.521208400763555},{"$f":"IF($B$2=\"トン\",AppQt.Data!AT12,(AppQt.Data!AT12*ozton*AppQt.Data!AT$7)/1000000)","v":-37.679407189204795},{"$f":"IF($B$2=\"トン\",AppQt.Data!AU12,(AppQt.Data!AU12*ozton*AppQt.Data!AU$7)/1000000)","v":-24.102218908115418},{"$f":"IF($B$2=\"トン\",AppQt.Data!AV12,(AppQt.Data!AV12*ozton*AppQt.Data!AV$7)/1000000)","v":12.622822860712855},{"$f":"IF($B$2=\"トン\",AppQt.Data!AW12,(AppQt.Data!AW12*ozton*AppQt.Data!AW$7)/1000000)","v":-7.0098120318571846},{"$f":"IF($B$2=\"トン\",AppQt.Data!AX12,(AppQt.Data!AX12*ozton*AppQt.Data!AX$7)/1000000)","v":50.905945179903625},{"$f":"IF($B$2=\"トン\",AppQt.Data!AY12,(AppQt.Data!AY12*ozton*AppQt.Data!AY$7)/1000000)","v":-4.446010597738808},{"$f":"IF($B$2=\"トン\",AppQt.Data!AZ12,(AppQt.Data!AZ12*ozton*AppQt.Data!AZ$7)/1000000)","v":-33.294133389495926},{"$f":"IF($B$2=\"トン\",AppQt.Data!BA12,(AppQt.Data!BA12*ozton*AppQt.Data!BA$7)/1000000)","v":40.41948551138681},{"$f":"IF($B$2=\"トン\",AppQt.Data!BB12,(AppQt.Data!BB12*ozton*AppQt.Data!BB$7)/1000000)","v":-35.393829628086912},{"$f":"IF($B$2=\"トン\",AppQt.Data!BC12,(AppQt.Data!BC12*ozton*AppQt.Data!BC$7)/1000000)","v":-21.876924406530943},{"$f":"IF($B$2=\"トン\",AppQt.Data!BD12,(AppQt.Data!BD12*ozton*AppQt.Data!BD$7)/1000000)","v":-22.223205779415871},{"$f":"IF($B$2=\"トン\",AppQt.Data!BE12,(AppQt.Data!BE12*ozton*AppQt.Data!BE$7)/1000000)","v":4.8378873581515718},{"$f":"IF($B$2=\"トン\",AppQt.Data!BF12,(AppQt.Data!BF12*ozton*AppQt.Data!BF$7)/1000000)","v":-17.318278461641842},{"$f":"IF($B$2=\"トン\",AppQt.Data!BG12,(AppQt.Data!BG12*ozton*AppQt.Data!BG$7)/1000000)","v":-12.375997296314267},{"$f":"IF($B$2=\"トン\",AppQt.Data!BH12,(AppQt.Data!BH12*ozton*AppQt.Data!BH$7)/1000000)","v":2.2018889373865136},{"$f":"IF($B$2=\"トン\",AppQt.Data!BI12,(AppQt.Data!BI12*ozton*AppQt.Data!BI$7)/1000000)","v":10.912839607602665},{"$f":"IF($B$2=\"トン\",AppQt.Data!BJ12,(AppQt.Data!BJ12*ozton*AppQt.Data!BJ$7)/1000000)","v":3.6902094705663946},{"$f":"IF($B$2=\"トン\",AppQt.Data!BK12,(AppQt.Data!BK12*ozton*AppQt.Data!BK$7)/1000000)","v":-10.865596645956355},{"$f":"IF($B$2=\"トン\",AppQt.Data!BL12,(AppQt.Data!BL12*ozton*AppQt.Data!BL$7)/1000000)","v":-5.238398110112537},{"$f":"IF(BT8<0,$A$2,IF(BT8>0,$A$1,\"-\"))","v":"▲"},{"$f":"IF(AND(ISNUMBER(BR8),ISNUMBER(BN8),BR8>0,BN8>0,(BR8/BN8-1)*100<300),(BR8/BN8-1)*100,IF(AND(ISNUMBER(BR8),ISNUMBER(BN8),BR8>0,BN8>0,(BR8/BN8-1)*100>300),\">300\",\"-\"))","v":"-"}]
[null,"リサイクル金",{"$f":"IF($B$2=\"トン\",AppAn.Data!L12,(AppAn.Data!L12*ozton*AppAn.Data!L$6)/1000000)","v":1671.1638472982129},{"$f":"IF($B$2=\"トン\",AppAn.Data!M12,(AppAn.Data!M12*ozton*AppAn.Data!M$6)/1000000)","v":1626.3313204103927},{"$f":"IF($B$2=\"トン\",AppAn.Data!N12,(AppAn.Data!N12*ozton*AppAn.Data!N$6)/1000000)","v":1636.7627551804349},{"$f":"IF($B$2=\"トン\",AppAn.Data!O12,(AppAn.Data!O12*ozton*AppAn.Data!O$6)/1000000)","v":1195.308331207646},{"$f":"IF($B$2=\"トン\",AppAn.Data!P12,(AppAn.Data!P12*ozton*AppAn.Data!P$6)/1000000)","v":1129.5885699846217},{"$f":"IF($B$2=\"トン\",AppAn.Data!Q12,(AppAn.Data!Q12*ozton*AppAn.Data!Q$6)/1000000)","v":1067.0749805224089},{"$f":"IF($B$2=\"トン\",AppAn.Data!R12,(AppAn.Data!R12*ozton*AppAn.Data!R$6)/1000000)","v":1232.1425881858095},{"$f":"IF($B$2=\"トン\",AppAn.Data!S12,(AppAn.Data!S12*ozton*AppAn.Data!S$6)/1000000)","v":1112.3927810925927},{"$f":"IF($B$2=\"トン\",AppAn.Data!T12,(AppAn.Data!T12*ozton*AppAn.Data!T$6)/1000000)","v":1131.697574276101},{"$f":"IF($B$2=\"トン\",AppAn.Data!U12,(AppAn.Data!U12*ozton*AppAn.Data!U$6)/1000000)","v":1275.6575080641246},{"$f":"IF($B$2=\"トン\",AppAn.Data!V12,(AppAn.Data!V12*ozton*AppAn.Data!V$6)/1000000)","v":1293.0554205044541},{"$f":"IF($B$2=\"トン\",AppAn.Data!W12,(AppAn.Data!W12*ozton*AppAn.Data!W$6)/1000000)","v":1136.1601006009862},{"$f":"IF($B$2=\"トン\",AppAn.Data!X12,(AppAn.Data!X12*ozton*AppAn.Data!X$6)/1000000)","v":1144.1130145895718},{"$f":"IF(Q9<0,$A$2,IF(Q9>0,$A$1,\"-\"))","v":"▲"},{"$f":"IF(AND(O9>0,N9>0),(O9/N9-1)*100,\"-\")","v":0.69998180576653635},null,{"$f":"IF($B$2=\"トン\",AppQt.Data!M13,(AppQt.Data!M13*ozton*AppQt.Data!M$7)/1000000)","v":376.28458242821159},{"$f":"IF($B$2=\"トン\",AppQt.Data!N13,(AppQt.Data!N13*ozton*AppQt.Data!N$7)/1000000)","v":455.23419273734811},{"$f":"IF($B$2=\"トン\",AppQt.Data!O13,(AppQt.Data!O13*ozton*AppQt.Data!O$7)/1000000)","v":382.24738972628302},{"$f":"IF($B$2=\"トン\",AppQt.Data!P13,(AppQt.Data!P13*ozton*AppQt.Data!P$7)/1000000)","v":457.39768240637022},{"$f":"IF($B$2=\"トン\",AppQt.Data!Q13,(AppQt.Data!Q13*ozton*AppQt.Data!Q$7)/1000000)","v":356.97589964630549},{"$f":"IF($B$2=\"トン\",AppQt.Data!R13,(AppQt.Data!R13*ozton*AppQt.Data!R$7)/1000000)","v":402.82338649925373},{"$f":"IF($B$2=\"トン\",AppQt.Data!S13,(AppQt.Data!S13*ozton*AppQt.Data!S$7)/1000000)","v":454.36037430176117},{"$f":"IF($B$2=\"トン\",AppQt.Data!T13,(AppQt.Data!T13*ozton*AppQt.Data!T$7)/1000000)","v":412.17165996307222},{"$f":"IF($B$2=\"トン\",AppQt.Data!U13,(AppQt.Data!U13*ozton*AppQt.Data!U$7)/1000000)","v":400.9522029027446},{"$f":"IF($B$2=\"トン\",AppQt.Data!V13,(AppQt.Data!V13*ozton*AppQt.Data!V$7)/1000000)","v":400.79253266525177},{"$f":"IF($B$2=\"トン\",AppQt.Data!W13,(AppQt.Data!W13*ozton*AppQt.Data!W$7)/1000000)","v":443.8556207589325},{"$f":"IF($B$2=\"トン\",AppQt.Data!X13,(AppQt.Data!X13*ozton*AppQt.Data!X$7)/1000000)","v":391.16239885350603},{"$f":"IF($B$2=\"トン\",AppQt.Data!Y13,(AppQt.Data!Y13*ozton*AppQt.Data!Y$7)/1000000)","v":341.75734465506372},{"$f":"IF($B$2=\"トン\",AppQt.Data!Z13,(AppQt.Data!Z13*ozton*AppQt.Data!Z$7)/1000000)","v":271.37940016654386},{"$f":"IF($B$2=\"トン\",AppQt.Data!AA13,(AppQt.Data!AA13*ozton*AppQt.Data!AA$7)/1000000)","v":299.73876103277314},{"$f":"IF($B$2=\"トン\",AppQt.Data!AB13,(AppQt.Data!AB13*ozton*AppQt.Data!AB$7)/1000000)","v":282.43282535326523},{"$f":"IF($B$2=\"トン\",AppQt.Data!AC13,(AppQt.Data!AC13*ozton*AppQt.Data!AC$7)/1000000)","v":358.72498537792768},{"$f":"IF($B$2=\"トン\",AppQt.Data!AD13,(AppQt.Data!AD13*ozton*AppQt.Data!AD$7)/1000000)","v":260.67459021609835},{"$f":"IF($B$2=\"トン\",AppQt.Data!AE13,(AppQt.Data!AE13*ozton*AppQt.Data!AE$7)/1000000)","v":254.1407832744554},{"$f":"IF($B$2=\"トン\",AppQt.Data!AF13,(AppQt.Data!AF13*ozton*AppQt.Data!AF$7)/1000000)","v":256.04821111614012},{"$f":"IF($B$2=\"トン\",AppQt.Data!AG13,(AppQt.Data!AG13*ozton*AppQt.Data!AG$7)/1000000)","v":337.5011512239837},{"$f":"IF($B$2=\"トン\",AppQt.Data!AH13,(AppQt.Data!AH13*ozton*AppQt.Data!AH$7)/1000000)","v":253.62700607757517},{"$f":"IF($B$2=\"トン\",AppQt.Data!AI13,(AppQt.Data!AI13*ozton*AppQt.Data!AI$7)/1000000)","v":248.82342949222109},{"$f":"IF($B$2=\"トン\",AppQt.Data!AJ13,(AppQt.Data!AJ13*ozton*AppQt.Data!AJ$7)/1000000)","v":227.12339372862897},{"$f":"IF($B$2=\"トン\",AppQt.Data!AK13,(AppQt.Data!AK13*ozton*AppQt.Data!AK$7)/1000000)","v":341.55951838480468},{"$f":"IF($B$2=\"トン\",AppQt.Data!AL13,(AppQt.Data!AL13*ozton*AppQt.Data!AL$7)/1000000)","v":328.2826245846976},{"$f":"IF($B$2=\"トン\",AppQt.Data!AM13,(AppQt.Data!AM13*ozton*AppQt.Data!AM$7)/1000000)","v":318.46750966709612},{"$f":"IF($B$2=\"トン\",AppQt.Data!AN13,(AppQt.Data!AN13*ozton*AppQt.Data!AN$7)/1000000)","v":243.83293554921124},{"$f":"IF($B$2=\"トン\",AppQt.Data!AO13,(AppQt.Data!AO13*ozton*AppQt.Data!AO$7)/1000000)","v":273.24757374851112},{"$f":"IF($B$2=\"トン\",AppQt.Data!AP13,(AppQt.Data!AP13*ozton*AppQt.Data!AP$7)/1000000)","v":270.25183862768478},{"$f":"IF($B$2=\"トン\",AppQt.Data!AQ13,(AppQt.Data!AQ13*ozton*AppQt.Data!AQ$7)/1000000)","v":303.50781441965967},{"$f":"IF($B$2=\"トン\",AppQt.Data!AR13,(AppQt.Data!AR13*ozton*AppQt.Data!AR$7)/1000000)","v":265.38555429673715},{"$f":"IF($B$2=\"トン\",AppQt.Data!AS13,(AppQt.Data!AS13*ozton*AppQt.Data!AS$7)/1000000)","v":265.46832833153604},{"$f":"IF($B$2=\"トン\",AppQt.Data!AT13,(AppQt.Data!AT13*ozton*AppQt.Data!AT$7)/1000000)","v":280.09200372709103},{"$f":"IF($B$2=\"トン\",AppQt.Data!AU13,(AppQt.Data!AU13*ozton*AppQt.Data!AU$7)/1000000)","v":309.05600030719393},{"$f":"IF($B$2=\"トン\",AppQt.Data!AV13,(AppQt.Data!AV13*ozton*AppQt.Data!AV$7)/1000000)","v":277.08124191028014},{"$f":"IF($B$2=\"トン\",AppQt.Data!AW13,(AppQt.Data!AW13*ozton*AppQt.Data!AW$7)/1000000)","v":281.87618696128902},{"$f":"IF($B$2=\"トン\",AppQt.Data!AX13,(AppQt.Data!AX13*ozton*AppQt.Data!AX$7)/1000000)","v":305.66344886356723},{"$f":"IF($B$2=\"トン\",AppQt.Data!AY13,(AppQt.Data!AY13*ozton*AppQt.Data!AY$7)/1000000)","v":355.76052754098635},{"$f":"IF($B$2=\"トン\",AppQt.Data!AZ13,(AppQt.Data!AZ13*ozton*AppQt.Data!AZ$7)/1000000)","v":332.35734469828191},{"$f":"IF($B$2=\"トン\",AppQt.Data!BA13,(AppQt.Data!BA13*ozton*AppQt.Data!BA$7)/1000000)","v":301.00339785298013},{"$f":"IF($B$2=\"トン\",AppQt.Data!BB13,(AppQt.Data!BB13*ozton*AppQt.Data!BB$7)/1000000)","v":285.19460411187578},{"$f":"IF($B$2=\"トン\",AppQt.Data!BC13,(AppQt.Data!BC13*ozton*AppQt.Data!BC$7)/1000000)","v":377.95619638206688},{"$f":"IF($B$2=\"トン\",AppQt.Data!BD13,(AppQt.Data!BD13*ozton*AppQt.Data!BD$7)/1000000)","v":328.90122215753132},{"$f":"IF($B$2=\"トン\",AppQt.Data!BE13,(AppQt.Data!BE13*ozton*AppQt.Data!BE$7)/1000000)","v":269.67743820673331},{"$f":"IF($B$2=\"トン\",AppQt.Data!BF13,(AppQt.Data!BF13*ozton*AppQt.Data!BF$7)/1000000)","v":278.55169304783232},{"$f":"IF($B$2=\"トン\",AppQt.Data!BG13,(AppQt.Data!BG13*ozton*AppQt.Data!BG$7)/1000000)","v":292.85732444165768},{"$f":"IF($B$2=\"トン\",AppQt.Data!BH13,(AppQt.Data!BH13*ozton*AppQt.Data!BH$7)/1000000)","v":295.07364490476289},{"$f":"IF($B$2=\"トン\",AppQt.Data!BI13,(AppQt.Data!BI13*ozton*AppQt.Data!BI$7)/1000000)","v":295.98392860288936},{"$f":"IF($B$2=\"トン\",AppQt.Data!BJ13,(AppQt.Data!BJ13*ozton*AppQt.Data!BJ$7)/1000000)","v":286.05615519356712},{"$f":"IF($B$2=\"トン\",AppQt.Data!BK13,(AppQt.Data!BK13*ozton*AppQt.Data!BK$7)/1000000)","v":269.8159976153587},{"$f":"IF($B$2=\"トン\",AppQt.Data!BL13,(AppQt.Data!BL13*ozton*AppQt.Data!BL$7)/1000000)","v":292.25693317775671},{"$f":"IF(BT9<0,$A$2,IF(BT9>0,$A$1,\"-\"))","v":"▼"},{"$f":"IF(AND(ISNUMBER(BR9),ISNUMBER(BN9),BR9>0,BN9>0,(BR9/BN9-1)*100<300),(BR9/BN9-1)*100,IF(AND(ISNUMBER(BR9),ISNUMBER(BN9),BR9>0,BN9>0,(BR9/BN9-1)*100>300),\">300\",\"-\"))","v":-0.95457922984456545}]
[null,"供給合計",{"$f":"IF($B$2=\"トン\",AppAn.Data!L13,(AppAn.Data!L13*ozton*AppAn.Data!L$6)/1000000)","v":4316.8205395960131},{"$f":"IF($B$2=\"トン\",AppAn.Data!M13,(AppAn.Data!M13*ozton*AppAn.Data!M$6)/1000000)","v":4525.7187401045239},{"$f":"IF($B$2=\"トン\",AppAn.Data!N13,(AppAn.Data!N13*ozton*AppAn.Data!N$6)/1000000)","v":4548.648685600574},{"$f":"IF($B$2=\"トン\",AppAn.Data!O13,(AppAn.Data!O13*ozton*AppAn.Data!O$6)/1000000)","v":4334.1358585860435},{"$f":"IF($B$2=\"トン\",AppAn.Data!P13,(AppAn.Data!P13*ozton*AppAn.Data!P$6)/1000000)","v":4504.9909318383934},{"$f":"IF($B$2=\"トン\",AppAn.Data!Q13,(AppAn.Data!Q13*ozton*AppAn.Data!Q$6)/1000000)","v":4441.277217541201},{"$f":"IF($B$2=\"トン\",AppAn.Data!R13,(AppAn.Data!R13*ozton*AppAn.Data!R$6)/1000000)","v":4779.337461753139},{"$f":"IF($B$2=\"トン\",AppAn.Data!S13,(AppAn.Data!S13*ozton*AppAn.Data!S$6)/1000000)","v":4660.0120440052951},{"$f":"IF($B$2=\"トン\",AppAn.Data!T13,(AppAn.Data!T13*ozton*AppAn.Data!T$6)/1000000)","v":4775.3384528893894},{"$f":"IF($B$2=\"トン\",AppAn.Data!U13,(AppAn.Data!U13*ozton*AppAn.Data!U$6)/1000000)","v":4876.3397606902181},{"$f":"IF($B$2=\"トン\",AppAn.Data!V13,(AppAn.Data!V13*ozton*AppAn.Data!V$6)/1000000)","v":4726.3767220867621},{"$f":"IF($B$2=\"トン\",AppAn.Data!W13,(AppAn.Data!W13*ozton*AppAn.Data!W$6)/1000000)","v":4682.4297044348668},{"$f":"IF($B$2=\"トン\",AppAn.Data!X13,(AppAn.Data!X13*ozton*AppAn.Data!X$6)/1000000)","v":4754.5077672464477},{"$f":"IF(Q10<0,$A$2,IF(Q10>0,$A$1,\"-\"))","v":"▲"},{"$f":"IF(AND(O10>0,N10>0),(O10/N10-1)*100,\"-\")","v":1.539330376776693},null,{"$f":"IF($B$2=\"トン\",AppQt.Data!M14,(AppQt.Data!M14*ozton*AppQt.Data!M$7)/1000000)","v":996.54509705586327},{"$f":"IF($B$2=\"トン\",AppQt.Data!N14,(AppQt.Data!N14*ozton*AppQt.Data!N$7)/1000000)","v":1144.6540627408249},{"$f":"IF($B$2=\"トン\",AppQt.Data!O14,(AppQt.Data!O14*ozton*AppQt.Data!O$7)/1000000)","v":1055.9971945817524},{"$f":"IF($B$2=\"トン\",AppQt.Data!P14,(AppQt.Data!P14*ozton*AppQt.Data!P$7)/1000000)","v":1119.6241852175726},{"$f":"IF($B$2=\"トン\",AppQt.Data!Q14,(AppQt.Data!Q14*ozton*AppQt.Data!Q$7)/1000000)","v":1034.4017374139771},{"$f":"IF($B$2=\"トン\",AppQt.Data!R14,(AppQt.Data!R14*ozton*AppQt.Data!R$7)/1000000)","v":1140.932024559474},{"$f":"IF($B$2=\"トン\",AppQt.Data!S14,(AppQt.Data!S14*ozton*AppQt.Data!S$7)/1000000)","v":1212.0591420607798},{"$f":"IF($B$2=\"トン\",AppQt.Data!T14,(AppQt.Data!T14*ozton*AppQt.Data!T$7)/1000000)","v":1138.325836070293},{"$f":"IF($B$2=\"トン\",AppQt.Data!U14,(AppQt.Data!U14*ozton*AppQt.Data!U$7)/1000000)","v":1086.4126236369571},{"$f":"IF($B$2=\"トン\",AppQt.Data!V14,(AppQt.Data!V14*ozton*AppQt.Data!V$7)/1000000)","v":1119.7994282700947},{"$f":"IF($B$2=\"トン\",AppQt.Data!W14,(AppQt.Data!W14*ozton*AppQt.Data!W$7)/1000000)","v":1214.6056751166891},{"$f":"IF($B$2=\"トン\",AppQt.Data!X14,(AppQt.Data!X14*ozton*AppQt.Data!X$7)/1000000)","v":1127.8309585768334},{"$f":"IF($B$2=\"トン\",AppQt.Data!Y14,(AppQt.Data!Y14*ozton*AppQt.Data!Y$7)/1000000)","v":1056.8906947750754},{"$f":"IF($B$2=\"トン\",AppQt.Data!Z14,(AppQt.Data!Z14*ozton*AppQt.Data!Z$7)/1000000)","v":1035.6642068542697},{"$f":"IF($B$2=\"トン\",AppQt.Data!AA14,(AppQt.Data!AA14*ozton*AppQt.Data!AA$7)/1000000)","v":1136.4473445563513},{"$f":"IF($B$2=\"トン\",AppQt.Data!AB14,(AppQt.Data!AB14*ozton*AppQt.Data!AB$7)/1000000)","v":1105.1336124003465},{"$f":"IF($B$2=\"トン\",AppQt.Data!AC14,(AppQt.Data!AC14*ozton*AppQt.Data!AC$7)/1000000)","v":1120.3260401015773},{"$f":"IF($B$2=\"トン\",AppQt.Data!AD14,(AppQt.Data!AD14*ozton*AppQt.Data!AD$7)/1000000)","v":1103.2369987817569},{"$f":"IF($B$2=\"トン\",AppQt.Data!AE14,(AppQt.Data!AE14*ozton*AppQt.Data!AE$7)/1000000)","v":1108.3939319091066},{"$f":"IF($B$2=\"トン\",AppQt.Data!AF14,(AppQt.Data!AF14*ozton*AppQt.Data!AF$7)/1000000)","v":1173.0339610459523},{"$f":"IF($B$2=\"トン\",AppQt.Data!AG14,(AppQt.Data!AG14*ozton*AppQt.Data!AG$7)/1000000)","v":1122.2540813928056},{"$f":"IF($B$2=\"トン\",AppQt.Data!AH14,(AppQt.Data!AH14*ozton*AppQt.Data!AH$7)/1000000)","v":1076.7897425947713},{"$f":"IF($B$2=\"トン\",AppQt.Data!AI14,(AppQt.Data!AI14*ozton*AppQt.Data!AI$7)/1000000)","v":1130.4828027607166},{"$f":"IF($B$2=\"トン\",AppQt.Data!AJ14,(AppQt.Data!AJ14*ozton*AppQt.Data!AJ$7)/1000000)","v":1111.7505907929071},{"$f":"IF($B$2=\"トン\",AppQt.Data!AK14,(AppQt.Data!AK14*ozton*AppQt.Data!AK$7)/1000000)","v":1251.3940470695427},{"$f":"IF($B$2=\"トン\",AppQt.Data!AL14,(AppQt.Data!AL14*ozton*AppQt.Data!AL$7)/1000000)","v":1211.3174469261248},{"$f":"IF($B$2=\"トン\",AppQt.Data!AM14,(AppQt.Data!AM14*ozton*AppQt.Data!AM$7)/1000000)","v":1181.803999046226},{"$f":"IF($B$2=\"トン\",AppQt.Data!AN14,(AppQt.Data!AN14*ozton*AppQt.Data!AN$7)/1000000)","v":1134.8219687112457},{"$f":"IF($B$2=\"トン\",AppQt.Data!AO14,(AppQt.Data!AO14*ozton*AppQt.Data!AO$7)/1000000)","v":1087.7312160701704},{"$f":"IF($B$2=\"トン\",AppQt.Data!AP14,(AppQt.Data!AP14*ozton*AppQt.Data!AP$7)/1000000)","v":1144.7652543007437},{"$f":"IF($B$2=\"トン\",AppQt.Data!AQ14,(AppQt.Data!AQ14*ozton*AppQt.Data!AQ$7)/1000000)","v":1235.7786160174232},{"$f":"IF($B$2=\"トン\",AppQt.Data!AR14,(AppQt.Data!AR14*ozton*AppQt.Data!AR$7)/1000000)","v":1191.7369576169576},{"$f":"IF($B$2=\"トン\",AppQt.Data!AS14,(AppQt.Data!AS14*ozton*AppQt.Data!AS$7)/1000000)","v":1154.3216341982341},{"$f":"IF($B$2=\"トン\",AppQt.Data!AT14,(AppQt.Data!AT14*ozton*AppQt.Data!AT$7)/1000000)","v":1141.2325305182248},{"$f":"IF($B$2=\"トン\",AppQt.Data!AU14,(AppQt.Data!AU14*ozton*AppQt.Data!AU$7)/1000000)","v":1240.3432864499548},{"$f":"IF($B$2=\"トン\",AppQt.Data!AV14,(AppQt.Data!AV14*ozton*AppQt.Data!AV$7)/1000000)","v":1239.441001722975},{"$f":"IF($B$2=\"トン\",AppQt.Data!AW14,(AppQt.Data!AW14*ozton*AppQt.Data!AW$7)/1000000)","v":1119.9513223575573},{"$f":"IF($B$2=\"トン\",AppQt.Data!AX14,(AppQt.Data!AX14*ozton*AppQt.Data!AX$7)/1000000)","v":1234.6625009945421},{"$f":"IF($B$2=\"トン\",AppQt.Data!AY14,(AppQt.Data!AY14*ozton*AppQt.Data!AY$7)/1000000)","v":1284.4537955419103},{"$f":"IF($B$2=\"トン\",AppQt.Data!AZ14,(AppQt.Data!AZ14*ozton*AppQt.Data!AZ$7)/1000000)","v":1237.2721417962084},{"$f":"IF($B$2=\"トン\",AppQt.Data!BA14,(AppQt.Data!BA14*ozton*AppQt.Data!BA$7)/1000000)","v":1179.5744481141126},{"$f":"IF($B$2=\"トン\",AppQt.Data!BB14,(AppQt.Data!BB14*ozton*AppQt.Data!BB$7)/1000000)","v":1037.7001249429875},{"$f":"IF($B$2=\"トン\",AppQt.Data!BC14,(AppQt.Data!BC14*ozton*AppQt.Data!BC$7)/1000000)","v":1277.0221782514195},{"$f":"IF($B$2=\"トン\",AppQt.Data!BD14,(AppQt.Data!BD14*ozton*AppQt.Data!BD$7)/1000000)","v":1232.0799707782433},{"$f":"IF($B$2=\"トン\",AppQt.Data!BE14,(AppQt.Data!BE14*ozton*AppQt.Data!BE$7)/1000000)","v":1104.6861726858992},{"$f":"IF($B$2=\"トン\",AppQt.Data!BF14,(AppQt.Data!BF14*ozton*AppQt.Data!BF$7)/1000000)","v":1134.2669218681294},{"$f":"IF($B$2=\"トン\",AppQt.Data!BG14,(AppQt.Data!BG14*ozton*AppQt.Data!BG$7)/1000000)","v":1208.200902951299},{"$f":"IF($B$2=\"トン\",AppQt.Data!BH14,(AppQt.Data!BH14*ozton*AppQt.Data!BH$7)/1000000)","v":1235.2757069295396},{"$f":"IF($B$2=\"トン\",AppQt.Data!BI14,(AppQt.Data!BI14*ozton*AppQt.Data!BI$7)/1000000)","v":1151.1314988608549},{"$f":"IF($B$2=\"トン\",AppQt.Data!BJ14,(AppQt.Data!BJ14*ozton*AppQt.Data!BJ$7)/1000000)","v":1181.8179014907187},{"$f":"IF($B$2=\"トン\",AppQt.Data!BK14,(AppQt.Data!BK14*ozton*AppQt.Data!BK$7)/1000000)","v":1204.5157737661552},{"$f":"IF($B$2=\"トン\",AppQt.Data!BL14,(AppQt.Data!BL14*ozton*AppQt.Data!BL$7)/1000000)","v":1217.0425931287191},{"$f":"IF(BT10<0,$A$2,IF(BT10>0,$A$1,\"-\"))","v":"▼"},{"$f":"IF(AND(ISNUMBER(BR10),ISNUMBER(BN10),BR10>0,BN10>0,(BR10/BN10-1)*100<300),(BR10/BN10-1)*100,IF(AND(ISNUMBER(BR10),ISNUMBER(BN10),BR10>0,BN10>0,(BR10/BN10-1)*100>300),\">300\",\"-\"))","v":-1.4760359730656147}]
[]
[null,"需要"]
[null,"宝石加工",{"$f":"IF($B$2=\"トン\",AppAn.Data!L14,(AppAn.Data!L14*ozton*AppAn.Data!L$6)/1000000)","v":2043.7573180202476},{"$f":"IF($B$2=\"トン\",AppAn.Data!M14,(AppAn.Data!M14*ozton*AppAn.Data!M$6)/1000000)","v":2092.1263340283849},{"$f":"IF($B$2=\"トン\",AppAn.Data!N14,(AppAn.Data!N14*ozton*AppAn.Data!N$6)/1000000)","v":2140.8662611860091},{"$f":"IF($B$2=\"トン\",AppAn.Data!O14,(AppAn.Data!O14*ozton*AppAn.Data!O$6)/1000000)","v":2735.2961807841766},{"$f":"IF($B$2=\"トン\",AppAn.Data!P14,(AppAn.Data!P14*ozton*AppAn.Data!P$6)/1000000)","v":2544.3805846292857},{"$f":"IF($B$2=\"トン\",AppAn.Data!Q14,(AppAn.Data!Q14*ozton*AppAn.Data!Q$6)/1000000)","v":2479.2399364624448},{"$f":"IF($B$2=\"トン\",AppAn.Data!R14,(AppAn.Data!R14*ozton*AppAn.Data!R$6)/1000000)","v":2018.7699849725204},{"$f":"IF($B$2=\"トン\",AppAn.Data!S14,(AppAn.Data!S14*ozton*AppAn.Data!S$6)/1000000)","v":2257.4701032545681},{"$f":"IF($B$2=\"トン\",AppAn.Data!T14,(AppAn.Data!T14*ozton*AppAn.Data!T$6)/1000000)","v":2290.0159198907113},{"$f":"IF($B$2=\"トン\",AppAn.Data!U14,(AppAn.Data!U14*ozton*AppAn.Data!U$6)/1000000)","v":2152.0766522896793},{"$f":"IF($B$2=\"トン\",AppAn.Data!V14,(AppAn.Data!V14*ozton*AppAn.Data!V$6)/1000000)","v":1323.9646098635858},{"$f":"IF($B$2=\"トン\",AppAn.Data!W14,(AppAn.Data!W14*ozton*AppAn.Data!W$6)/1000000)","v":2230.6357825472005},{"$f":"IF($B$2=\"トン\",AppAn.Data!X14,(AppAn.Data!X14*ozton*AppAn.Data!X$6)/1000000)","v":2189.7585476851796},{"$f":"IF(Q13<0,$A$2,IF(Q13>0,$A$1,\"-\"))","v":"▼"},{"$f":"IF(AND(O13>0,N13>0),(O13/N13-1)*100,\"-\")","v":-1.8325373950265678},null,{"$f":"IF($B$2=\"トン\",AppQt.Data!M15,(AppQt.Data!M15*ozton*AppQt.Data!M$7)/1000000)","v":550.60657189275901},{"$f":"IF($B$2=\"トン\",AppQt.Data!N15,(AppQt.Data!N15*ozton*AppQt.Data!N$7)/1000000)","v":423.12247201041913},{"$f":"IF($B$2=\"トン\",AppQt.Data!O15,(AppQt.Data!O15*ozton*AppQt.Data!O$7)/1000000)","v":548.84403094124957},{"$f":"IF($B$2=\"トン\",AppQt.Data!P15,(AppQt.Data!P15*ozton*AppQt.Data!P$7)/1000000)","v":521.18424317581992},{"$f":"IF($B$2=\"トン\",AppQt.Data!Q15,(AppQt.Data!Q15*ozton*AppQt.Data!Q$7)/1000000)","v":596.46669847646081},{"$f":"IF($B$2=\"トン\",AppQt.Data!R15,(AppQt.Data!R15*ozton*AppQt.Data!R$7)/1000000)","v":528.19161422805655},{"$f":"IF($B$2=\"トン\",AppQt.Data!S15,(AppQt.Data!S15*ozton*AppQt.Data!S$7)/1000000)","v":501.19700737856624},{"$f":"IF($B$2=\"トン\",AppQt.Data!T15,(AppQt.Data!T15*ozton*AppQt.Data!T$7)/1000000)","v":466.27101394530121},{"$f":"IF($B$2=\"トン\",AppQt.Data!U15,(AppQt.Data!U15*ozton*AppQt.Data!U$7)/1000000)","v":553.02924573468488},{"$f":"IF($B$2=\"トン\",AppQt.Data!V15,(AppQt.Data!V15*ozton*AppQt.Data!V$7)/1000000)","v":491.7597643615793},{"$f":"IF($B$2=\"トン\",AppQt.Data!W15,(AppQt.Data!W15*ozton*AppQt.Data!W$7)/1000000)","v":546.50246616546315},{"$f":"IF($B$2=\"トン\",AppQt.Data!X15,(AppQt.Data!X15*ozton*AppQt.Data!X$7)/1000000)","v":549.57478492428186},{"$f":"IF($B$2=\"トン\",AppQt.Data!Y15,(AppQt.Data!Y15*ozton*AppQt.Data!Y$7)/1000000)","v":598.74009797816871},{"$f":"IF($B$2=\"トン\",AppQt.Data!Z15,(AppQt.Data!Z15*ozton*AppQt.Data!Z$7)/1000000)","v":803.81707602059714},{"$f":"IF($B$2=\"トン\",AppQt.Data!AA15,(AppQt.Data!AA15*ozton*AppQt.Data!AA$7)/1000000)","v":692.34157708309476},{"$f":"IF($B$2=\"トン\",AppQt.Data!AB15,(AppQt.Data!AB15*ozton*AppQt.Data!AB$7)/1000000)","v":640.39742970231578},{"$f":"IF($B$2=\"トン\",AppQt.Data!AC15,(AppQt.Data!AC15*ozton*AppQt.Data!AC$7)/1000000)","v":615.94724858867255},{"$f":"IF($B$2=\"トン\",AppQt.Data!AD15,(AppQt.Data!AD15*ozton*AppQt.Data!AD$7)/1000000)","v":620.33695294574045},{"$f":"IF($B$2=\"トン\",AppQt.Data!AE15,(AppQt.Data!AE15*ozton*AppQt.Data!AE$7)/1000000)","v":651.29424351569276},{"$f":"IF($B$2=\"トン\",AppQt.Data!AF15,(AppQt.Data!AF15*ozton*AppQt.Data!AF$7)/1000000)","v":656.80213957917965},{"$f":"IF($B$2=\"トン\",AppQt.Data!AG15,(AppQt.Data!AG15*ozton*AppQt.Data!AG$7)/1000000)","v":623.4942018217713},{"$f":"IF($B$2=\"トン\",AppQt.Data!AH15,(AppQt.Data!AH15*ozton*AppQt.Data!AH$7)/1000000)","v":552.37174725711122},{"$f":"IF($B$2=\"トン\",AppQt.Data!AI15,(AppQt.Data!AI15*ozton*AppQt.Data!AI$7)/1000000)","v":673.10310768984164},{"$f":"IF($B$2=\"トン\",AppQt.Data!AJ15,(AppQt.Data!AJ15*ozton*AppQt.Data!AJ$7)/1000000)","v":630.27087969372053},{"$f":"IF($B$2=\"トン\",AppQt.Data!AK15,(AppQt.Data!AK15*ozton*AppQt.Data!AK$7)/1000000)","v":482.91003423479196},{"$f":"IF($B$2=\"トン\",AppQt.Data!AL15,(AppQt.Data!AL15*ozton*AppQt.Data!AL$7)/1000000)","v":454.26140831585383},{"$f":"IF($B$2=\"トン\",AppQt.Data!AM15,(AppQt.Data!AM15*ozton*AppQt.Data!AM$7)/1000000)","v":515.38239466598338},{"$f":"IF($B$2=\"トン\",AppQt.Data!AN15,(AppQt.Data!AN15*ozton*AppQt.Data!AN$7)/1000000)","v":566.21614775589126},{"$f":"IF($B$2=\"トン\",AppQt.Data!AO15,(AppQt.Data!AO15*ozton*AppQt.Data!AO$7)/1000000)","v":548.60256782686588},{"$f":"IF($B$2=\"トン\",AppQt.Data!AP15,(AppQt.Data!AP15*ozton*AppQt.Data!AP$7)/1000000)","v":546.67630243129963},{"$f":"IF($B$2=\"トン\",AppQt.Data!AQ15,(AppQt.Data!AQ15*ozton*AppQt.Data!AQ$7)/1000000)","v":539.78056744758555},{"$f":"IF($B$2=\"トン\",AppQt.Data!AR15,(AppQt.Data!AR15*ozton*AppQt.Data!AR$7)/1000000)","v":622.41066554881695},{"$f":"IF($B$2=\"トン\",AppQt.Data!AS15,(AppQt.Data!AS15*ozton*AppQt.Data!AS$7)/1000000)","v":530.60268313030178},{"$f":"IF($B$2=\"トン\",AppQt.Data!AT15,(AppQt.Data!AT15*ozton*AppQt.Data!AT$7)/1000000)","v":532.94994316695283},{"$f":"IF($B$2=\"トン\",AppQt.Data!AU15,(AppQt.Data!AU15*ozton*AppQt.Data!AU$7)/1000000)","v":590.61294968990967},{"$f":"IF($B$2=\"トン\",AppQt.Data!AV15,(AppQt.Data!AV15*ozton*AppQt.Data!AV$7)/1000000)","v":635.85034390354713},{"$f":"IF($B$2=\"トン\",AppQt.Data!AW15,(AppQt.Data!AW15*ozton*AppQt.Data!AW$7)/1000000)","v":543.36088509511751},{"$f":"IF($B$2=\"トン\",AppQt.Data!AX15,(AppQt.Data!AX15*ozton*AppQt.Data!AX$7)/1000000)","v":557.20598047847807},{"$f":"IF($B$2=\"トン\",AppQt.Data!AY15,(AppQt.Data!AY15*ozton*AppQt.Data!AY$7)/1000000)","v":486.00969276063881},{"$f":"IF($B$2=\"トン\",AppQt.Data!AZ15,(AppQt.Data!AZ15*ozton*AppQt.Data!AZ$7)/1000000)","v":565.50009395544487},{"$f":"IF($B$2=\"トン\",AppQt.Data!BA15,(AppQt.Data!BA15*ozton*AppQt.Data!BA$7)/1000000)","v":329.39975978842773},{"$f":"IF($B$2=\"トン\",AppQt.Data!BB15,(AppQt.Data!BB15*ozton*AppQt.Data!BB$7)/1000000)","v":196.17150965850391},{"$f":"IF($B$2=\"トン\",AppQt.Data!BC15,(AppQt.Data!BC15*ozton*AppQt.Data!BC$7)/1000000)","v":314.69875523607942},{"$f":"IF($B$2=\"トン\",AppQt.Data!BD15,(AppQt.Data!BD15*ozton*AppQt.Data!BD$7)/1000000)","v":483.69458518057456},{"$f":"IF($B$2=\"トン\",AppQt.Data!BE15,(AppQt.Data!BE15*ozton*AppQt.Data!BE$7)/1000000)","v":538.95803820049832},{"$f":"IF($B$2=\"トン\",AppQt.Data!BF15,(AppQt.Data!BF15*ozton*AppQt.Data!BF$7)/1000000)","v":456.58263814187688},{"$f":"IF($B$2=\"トン\",AppQt.Data!BG15,(AppQt.Data!BG15*ozton*AppQt.Data!BG$7)/1000000)","v":515.24736077948558},{"$f":"IF($B$2=\"トン\",AppQt.Data!BH15,(AppQt.Data!BH15*ozton*AppQt.Data!BH$7)/1000000)","v":719.84774542533989},{"$f":"IF($B$2=\"トン\",AppQt.Data!BI15,(AppQt.Data!BI15*ozton*AppQt.Data!BI$7)/1000000)","v":515.46900347456062},{"$f":"IF($B$2=\"トン\",AppQt.Data!BJ15,(AppQt.Data!BJ15*ozton*AppQt.Data!BJ$7)/1000000)","v":491.5721685766477},{"$f":"IF($B$2=\"トン\",AppQt.Data!BK15,(AppQt.Data!BK15*ozton*AppQt.Data!BK$7)/1000000)","v":580.2050361460183},{"$f":"IF($B$2=\"トン\",AppQt.Data!BL15,(AppQt.Data!BL15*ozton*AppQt.Data!BL$7)/1000000)","v":602.51233948795277},{"$f":"IF(BT13<0,$A$2,IF(BT13>0,$A$1,\"-\"))","v":"▼"},{"$f":"IF(AND(ISNUMBER(BR13),ISNUMBER(BN13),BR13>0,BN13>0,(BR13/BN13-1)*100<300),(BR13/BN13-1)*100,IF(AND(ISNUMBER(BR13),ISNUMBER(BN13),BR13>0,BN13>0,(BR13/BN13-1)*100>300),\">300\",\"-\"))","v":-16.300031038932627}]
[null,"宝石消費",{"$f":"IF($B$2=\"トン\",AppAn.Data!L15,(AppAn.Data!L15*ozton*AppAn.Data!L$6)/1000000)","v":2057.2476100890326},{"$f":"IF($B$2=\"トン\",AppAn.Data!M15,(AppAn.Data!M15*ozton*AppAn.Data!M$6)/1000000)","v":2104.4456936438141},{"$f":"IF($B$2=\"トン\",AppAn.Data!N15,(AppAn.Data!N15*ozton*AppAn.Data!N$6)/1000000)","v":2157.2049823632019},{"$f":"IF($B$2=\"トン\",AppAn.Data!O15,(AppAn.Data!O15*ozton*AppAn.Data!O$6)/1000000)","v":2727.974360524754},{"$f":"IF($B$2=\"トン\",AppAn.Data!P15,(AppAn.Data!P15*ozton*AppAn.Data!P$6)/1000000)","v":2534.2185073258543},{"$f":"IF($B$2=\"トン\",AppAn.Data!Q15,(AppAn.Data!Q15*ozton*AppAn.Data!Q$6)/1000000)","v":2460.8412734022254},{"$f":"IF($B$2=\"トン\",AppAn.Data!R15,(AppAn.Data!R15*ozton*AppAn.Data!R$6)/1000000)","v":2105.2281920902083},{"$f":"IF($B$2=\"トン\",AppAn.Data!S15,(AppAn.Data!S15*ozton*AppAn.Data!S$6)/1000000)","v":2242.0107514159004},{"$f":"IF($B$2=\"トン\",AppAn.Data!T15,(AppAn.Data!T15*ozton*AppAn.Data!T$6)/1000000)","v":2250.2201368001561},{"$f":"IF($B$2=\"トン\",AppAn.Data!U15,(AppAn.Data!U15*ozton*AppAn.Data!U$6)/1000000)","v":2126.7201537884152},{"$f":"IF($B$2=\"トン\",AppAn.Data!V15,(AppAn.Data!V15*ozton*AppAn.Data!V$6)/1000000)","v":1397.9863394513181},{"$f":"IF($B$2=\"トン\",AppAn.Data!W15,(AppAn.Data!W15*ozton*AppAn.Data!W$6)/1000000)","v":2147.7383106041243},{"$f":"IF($B$2=\"トン\",AppAn.Data!X15,(AppAn.Data!X15*ozton*AppAn.Data!X$6)/1000000)","v":2086.1683734150452},{"$f":"IF(Q14<0,$A$2,IF(Q14>0,$A$1,\"-\"))","v":"▼"},-2.866733665134491,null,{"$f":"IF($B$2=\"トン\",AppQt.Data!M16,(AppQt.Data!M16*ozton*AppQt.Data!M$7)/1000000)","v":534.99436968507075},{"$f":"IF($B$2=\"トン\",AppQt.Data!N16,(AppQt.Data!N16*ozton*AppQt.Data!N$7)/1000000)","v":422.81721644398095},{"$f":"IF($B$2=\"トン\",AppQt.Data!O16,(AppQt.Data!O16*ozton*AppQt.Data!O$7)/1000000)","v":523.15108083623215},{"$f":"IF($B$2=\"トン\",AppQt.Data!P16,(AppQt.Data!P16*ozton*AppQt.Data!P$7)/1000000)","v":576.2849431237496},{"$f":"IF($B$2=\"トン\",AppQt.Data!Q16,(AppQt.Data!Q16*ozton*AppQt.Data!Q$7)/1000000)","v":580.05925423881001},{"$f":"IF($B$2=\"トン\",AppQt.Data!R16,(AppQt.Data!R16*ozton*AppQt.Data!R$7)/1000000)","v":522.94729701674453},{"$f":"IF($B$2=\"トン\",AppQt.Data!S16,(AppQt.Data!S16*ozton*AppQt.Data!S$7)/1000000)","v":484.09458151532505},{"$f":"IF($B$2=\"トン\",AppQt.Data!T16,(AppQt.Data!T16*ozton*AppQt.Data!T$7)/1000000)","v":517.34456087293506},{"$f":"IF($B$2=\"トン\",AppQt.Data!U16,(AppQt.Data!U16*ozton*AppQt.Data!U$7)/1000000)","v":540.74934881411707},{"$f":"IF($B$2=\"トン\",AppQt.Data!V16,(AppQt.Data!V16*ozton*AppQt.Data!V$7)/1000000)","v":499.80288908846694},{"$f":"IF($B$2=\"トン\",AppQt.Data!W16,(AppQt.Data!W16*ozton*AppQt.Data!W$7)/1000000)","v":519.17214064536267},{"$f":"IF($B$2=\"トン\",AppQt.Data!X16,(AppQt.Data!X16*ozton*AppQt.Data!X$7)/1000000)","v":597.4806038152542},{"$f":"IF($B$2=\"トン\",AppQt.Data!Y16,(AppQt.Data!Y16*ozton*AppQt.Data!Y$7)/1000000)","v":616.14121648389005},{"$f":"IF($B$2=\"トン\",AppQt.Data!Z16,(AppQt.Data!Z16*ozton*AppQt.Data!Z$7)/1000000)","v":834.26159008502088},{"$f":"IF($B$2=\"トン\",AppQt.Data!AA16,(AppQt.Data!AA16*ozton*AppQt.Data!AA$7)/1000000)","v":648.93661404968691},{"$f":"IF($B$2=\"トン\",AppQt.Data!AB16,(AppQt.Data!AB16*ozton*AppQt.Data!AB$7)/1000000)","v":628.634939906157},{"$f":"IF($B$2=\"トン\",AppQt.Data!AC16,(AppQt.Data!AC16*ozton*AppQt.Data!AC$7)/1000000)","v":627.03723228326078},{"$f":"IF($B$2=\"トン\",AppQt.Data!AD16,(AppQt.Data!AD16*ozton*AppQt.Data!AD$7)/1000000)","v":603.09033614951579},{"$f":"IF($B$2=\"トン\",AppQt.Data!AE16,(AppQt.Data!AE16*ozton*AppQt.Data!AE$7)/1000000)","v":610.23368100932339},{"$f":"IF($B$2=\"トン\",AppQt.Data!AF16,(AppQt.Data!AF16*ozton*AppQt.Data!AF$7)/1000000)","v":693.85725788375396},{"$f":"IF($B$2=\"トン\",AppQt.Data!AG16,(AppQt.Data!AG16*ozton*AppQt.Data!AG$7)/1000000)","v":615.96774517276071},{"$f":"IF($B$2=\"トン\",AppQt.Data!AH16,(AppQt.Data!AH16*ozton*AppQt.Data!AH$7)/1000000)","v":533.13432378586867},{"$f":"IF($B$2=\"トン\",AppQt.Data!AI16,(AppQt.Data!AI16*ozton*AppQt.Data!AI$7)/1000000)","v":641.43964037185526},{"$f":"IF($B$2=\"トン\",AppQt.Data!AJ16,(AppQt.Data!AJ16*ozton*AppQt.Data!AJ$7)/1000000)","v":670.29956407173984},{"$f":"IF($B$2=\"トン\",AppQt.Data!AK16,(AppQt.Data!AK16*ozton*AppQt.Data!AK$7)/1000000)","v":491.68032235355219},{"$f":"IF($B$2=\"トン\",AppQt.Data!AL16,(AppQt.Data!AL16*ozton*AppQt.Data!AL$7)/1000000)","v":461.96414418713528},{"$f":"IF($B$2=\"トン\",AppQt.Data!AM16,(AppQt.Data!AM16*ozton*AppQt.Data!AM$7)/1000000)","v":508.1649282789769},{"$f":"IF($B$2=\"トン\",AppQt.Data!AN16,(AppQt.Data!AN16*ozton*AppQt.Data!AN$7)/1000000)","v":643.41879727054527},{"$f":"IF($B$2=\"トン\",AppQt.Data!AO16,(AppQt.Data!AO16*ozton*AppQt.Data!AO$7)/1000000)","v":529.08545471943171},{"$f":"IF($B$2=\"トン\",AppQt.Data!AP16,(AppQt.Data!AP16*ozton*AppQt.Data!AP$7)/1000000)","v":532.4905129605919},{"$f":"IF($B$2=\"トン\",AppQt.Data!AQ16,(AppQt.Data!AQ16*ozton*AppQt.Data!AQ$7)/1000000)","v":514.79385351017913},{"$f":"IF($B$2=\"トン\",AppQt.Data!AR16,(AppQt.Data!AR16*ozton*AppQt.Data!AR$7)/1000000)","v":665.64093022569762},{"$f":"IF($B$2=\"トン\",AppQt.Data!AS16,(AppQt.Data!AS16*ozton*AppQt.Data!AS$7)/1000000)","v":529.51083081082015},{"$f":"IF($B$2=\"トン\",AppQt.Data!AT16,(AppQt.Data!AT16*ozton*AppQt.Data!AT$7)/1000000)","v":522.5966222885429},{"$f":"IF($B$2=\"トン\",AppQt.Data!AU16,(AppQt.Data!AU16*ozton*AppQt.Data!AU$7)/1000000)","v":548.37559769995528},{"$f":"IF($B$2=\"トン\",AppQt.Data!AV16,(AppQt.Data!AV16*ozton*AppQt.Data!AV$7)/1000000)","v":649.73708600083762},{"$f":"IF($B$2=\"トン\",AppQt.Data!AW16,(AppQt.Data!AW16*ozton*AppQt.Data!AW$7)/1000000)","v":536.12501462107616},{"$f":"IF($B$2=\"トン\",AppQt.Data!AX16,(AppQt.Data!AX16*ozton*AppQt.Data!AX$7)/1000000)","v":530.57829964557527},{"$f":"IF($B$2=\"トン\",AppQt.Data!AY16,(AppQt.Data!AY16*ozton*AppQt.Data!AY$7)/1000000)","v":469.77274485773899},{"$f":"IF($B$2=\"トン\",AppQt.Data!AZ16,(AppQt.Data!AZ16*ozton*AppQt.Data!AZ$7)/1000000)","v":590.2440946640254},{"$f":"IF($B$2=\"トン\",AppQt.Data!BA16,(AppQt.Data!BA16*ozton*AppQt.Data!BA$7)/1000000)","v":311.61184180335545},{"$f":"IF($B$2=\"トン\",AppQt.Data!BB16,(AppQt.Data!BB16*ozton*AppQt.Data!BB$7)/1000000)","v":243.08780225544771},{"$f":"IF($B$2=\"トン\",AppQt.Data!BC16,(AppQt.Data!BC16*ozton*AppQt.Data!BC$7)/1000000)","v":333.04369271792655},{"$f":"IF($B$2=\"トン\",AppQt.Data!BD16,(AppQt.Data!BD16*ozton*AppQt.Data!BD$7)/1000000)","v":510.24300267458796},{"$f":"IF($B$2=\"トン\",AppQt.Data!BE16,(AppQt.Data!BE16*ozton*AppQt.Data!BE$7)/1000000)","v":512.1968862585984},{"$f":"IF($B$2=\"トン\",AppQt.Data!BF16,(AppQt.Data!BF16*ozton*AppQt.Data!BF$7)/1000000)","v":437.55797324284941},{"$f":"IF($B$2=\"トン\",AppQt.Data!BG16,(AppQt.Data!BG16*ozton*AppQt.Data!BG$7)/1000000)","v":477.1037405294735},{"$f":"IF($B$2=\"トン\",AppQt.Data!BH16,(AppQt.Data!BH16*ozton*AppQt.Data!BH$7)/1000000)","v":720.87971057320249},{"$f":"IF($B$2=\"トン\",AppQt.Data!BI16,(AppQt.Data!BI16*ozton*AppQt.Data!BI$7)/1000000)","v":474.6612783200589},{"$f":"IF($B$2=\"トン\",AppQt.Data!BJ16,(AppQt.Data!BJ16*ozton*AppQt.Data!BJ$7)/1000000)","v":457.8027112106775},{"$f":"IF($B$2=\"トン\",AppQt.Data!BK16,(AppQt.Data!BK16*ozton*AppQt.Data!BK$7)/1000000)","v":524.94925024596898},{"$f":"IF($B$2=\"トン\",AppQt.Data!BL16,(AppQt.Data!BL16*ozton*AppQt.Data!BL$7)/1000000)","v":628.75513363834023},{"$f":"IF(BT14<0,$A$2,IF(BT14>0,$A$1,\"-\"))","v":"▼"},-12.779465919717737]
[null,"宝石在庫",{"$f":"IF($B$2=\"トン\",AppAn.Data!L16,(AppAn.Data!L16*ozton*AppAn.Data!L$6)/1000000)","v":-13.490292068785038},{"$f":"IF($B$2=\"トン\",AppAn.Data!M16,(AppAn.Data!M16*ozton*AppAn.Data!M$6)/1000000)","v":-12.319359615429221},{"$f":"IF($B$2=\"トン\",AppAn.Data!N16,(AppAn.Data!N16*ozton*AppAn.Data!N$6)/1000000)","v":-16.338721177192838},{"$f":"IF($B$2=\"トン\",AppAn.Data!O16,(AppAn.Data!O16*ozton*AppAn.Data!O$6)/1000000)","v":7.3218202594225659},{"$f":"IF($B$2=\"トン\",AppAn.Data!P16,(AppAn.Data!P16*ozton*AppAn.Data!P$6)/1000000)","v":10.162077303431488},{"$f":"IF($B$2=\"トン\",AppAn.Data!Q16,(AppAn.Data!Q16*ozton*AppAn.Data!Q$6)/1000000)","v":18.398663060219405},{"$f":"IF($B$2=\"トン\",AppAn.Data!R16,(AppAn.Data!R16*ozton*AppAn.Data!R$6)/1000000)","v":-86.458207117687834},{"$f":"IF($B$2=\"トン\",AppAn.Data!S16,(AppAn.Data!S16*ozton*AppAn.Data!S$6)/1000000)","v":15.459351838667772},{"$f":"IF($B$2=\"トン\",AppAn.Data!T16,(AppAn.Data!T16*ozton*AppAn.Data!T$6)/1000000)","v":39.795783090555233},{"$f":"IF($B$2=\"トン\",AppAn.Data!U16,(AppAn.Data!U16*ozton*AppAn.Data!U$6)/1000000)","v":25.356498501264014},{"$f":"IF($B$2=\"トン\",AppAn.Data!V16,(AppAn.Data!V16*ozton*AppAn.Data!V$6)/1000000)","v":-74.021729587732352},{"$f":"IF($B$2=\"トン\",AppAn.Data!W16,(AppAn.Data!W16*ozton*AppAn.Data!W$6)/1000000)","v":82.897471943076198},{"$f":"IF($B$2=\"トン\",AppAn.Data!X16,(AppAn.Data!X16*ozton*AppAn.Data!X$6)/1000000)","v":103.59017427013441},"▲",24.961801418102869,null,{"$f":"IF($B$2=\"トン\",AppQt.Data!M17,(AppQt.Data!M17*ozton*AppQt.Data!M$7)/1000000)","v":15.612202207688256},{"$f":"IF($B$2=\"トン\",AppQt.Data!N17,(AppQt.Data!N17*ozton*AppQt.Data!N$7)/1000000)","v":0.30525556643817708},{"$f":"IF($B$2=\"トン\",AppQt.Data!O17,(AppQt.Data!O17*ozton*AppQt.Data!O$7)/1000000)","v":25.692950105017417},{"$f":"IF($B$2=\"トン\",AppQt.Data!P17,(AppQt.Data!P17*ozton*AppQt.Data!P$7)/1000000)","v":-55.100699947929684},{"$f":"IF($B$2=\"トン\",AppQt.Data!Q17,(AppQt.Data!Q17*ozton*AppQt.Data!Q$7)/1000000)","v":16.407444237650793},{"$f":"IF($B$2=\"トン\",AppQt.Data!R17,(AppQt.Data!R17*ozton*AppQt.Data!R$7)/1000000)","v":5.2443172113120227},{"$f":"IF($B$2=\"トン\",AppQt.Data!S17,(AppQt.Data!S17*ozton*AppQt.Data!S$7)/1000000)","v":17.102425863241194},{"$f":"IF($B$2=\"トン\",AppQt.Data!T17,(AppQt.Data!T17*ozton*AppQt.Data!T$7)/1000000)","v":-51.073546927633856},{"$f":"IF($B$2=\"トン\",AppQt.Data!U17,(AppQt.Data!U17*ozton*AppQt.Data!U$7)/1000000)","v":12.279896920567808},{"$f":"IF($B$2=\"トン\",AppQt.Data!V17,(AppQt.Data!V17*ozton*AppQt.Data!V$7)/1000000)","v":-8.0431247268876405},{"$f":"IF($B$2=\"トン\",AppQt.Data!W17,(AppQt.Data!W17*ozton*AppQt.Data!W$7)/1000000)","v":27.330325520100473},{"$f":"IF($B$2=\"トン\",AppQt.Data!X17,(AppQt.Data!X17*ozton*AppQt.Data!X$7)/1000000)","v":-47.905818890972341},{"$f":"IF($B$2=\"トン\",AppQt.Data!Y17,(AppQt.Data!Y17*ozton*AppQt.Data!Y$7)/1000000)","v":-17.401118505721342},{"$f":"IF($B$2=\"トン\",AppQt.Data!Z17,(AppQt.Data!Z17*ozton*AppQt.Data!Z$7)/1000000)","v":-30.444514064423743},{"$f":"IF($B$2=\"トン\",AppQt.Data!AA17,(AppQt.Data!AA17*ozton*AppQt.Data!AA$7)/1000000)","v":43.404963033407853},{"$f":"IF($B$2=\"トン\",AppQt.Data!AB17,(AppQt.Data!AB17*ozton*AppQt.Data!AB$7)/1000000)","v":11.762489796158775},{"$f":"IF($B$2=\"トン\",AppQt.Data!AC17,(AppQt.Data!AC17*ozton*AppQt.Data!AC$7)/1000000)","v":-11.089983694588227},{"$f":"IF($B$2=\"トン\",AppQt.Data!AD17,(AppQt.Data!AD17*ozton*AppQt.Data!AD$7)/1000000)","v":17.246616796224657},{"$f":"IF($B$2=\"トン\",AppQt.Data!AE17,(AppQt.Data!AE17*ozton*AppQt.Data!AE$7)/1000000)","v":41.060562506369365},{"$f":"IF($B$2=\"トン\",AppQt.Data!AF17,(AppQt.Data!AF17*ozton*AppQt.Data!AF$7)/1000000)","v":-37.055118304574307},{"$f":"IF($B$2=\"トン\",AppQt.Data!AG17,(AppQt.Data!AG17*ozton*AppQt.Data!AG$7)/1000000)","v":7.5264566490105835},{"$f":"IF($B$2=\"トン\",AppQt.Data!AH17,(AppQt.Data!AH17*ozton*AppQt.Data!AH$7)/1000000)","v":19.23742347124255},{"$f":"IF($B$2=\"トン\",AppQt.Data!AI17,(AppQt.Data!AI17*ozton*AppQt.Data!AI$7)/1000000)","v":31.663467317986374},{"$f":"IF($B$2=\"トン\",AppQt.Data!AJ17,(AppQt.Data!AJ17*ozton*AppQt.Data!AJ$7)/1000000)","v":-40.028684378019307},{"$f":"IF($B$2=\"トン\",AppQt.Data!AK17,(AppQt.Data!AK17*ozton*AppQt.Data!AK$7)/1000000)","v":-8.7702881187602202},{"$f":"IF($B$2=\"トン\",AppQt.Data!AL17,(AppQt.Data!AL17*ozton*AppQt.Data!AL$7)/1000000)","v":-7.7027358712814475},{"$f":"IF($B$2=\"トン\",AppQt.Data!AM17,(AppQt.Data!AM17*ozton*AppQt.Data!AM$7)/1000000)","v":7.2174663870064819},{"$f":"IF($B$2=\"トン\",AppQt.Data!AN17,(AppQt.Data!AN17*ozton*AppQt.Data!AN$7)/1000000)","v":-77.202649514654013},{"$f":"IF($B$2=\"トン\",AppQt.Data!AO17,(AppQt.Data!AO17*ozton*AppQt.Data!AO$7)/1000000)","v":19.51711310743417},{"$f":"IF($B$2=\"トン\",AppQt.Data!AP17,(AppQt.Data!AP17*ozton*AppQt.Data!AP$7)/1000000)","v":14.185789470707732},{"$f":"IF($B$2=\"トン\",AppQt.Data!AQ17,(AppQt.Data!AQ17*ozton*AppQt.Data!AQ$7)/1000000)","v":24.986713937406421},{"$f":"IF($B$2=\"トン\",AppQt.Data!AR17,(AppQt.Data!AR17*ozton*AppQt.Data!AR$7)/1000000)","v":-43.230264676880665},{"$f":"IF($B$2=\"トン\",AppQt.Data!AS17,(AppQt.Data!AS17*ozton*AppQt.Data!AS$7)/1000000)","v":1.0918523194816316},{"$f":"IF($B$2=\"トン\",AppQt.Data!AT17,(AppQt.Data!AT17*ozton*AppQt.Data!AT$7)/1000000)","v":10.353320878409932},{"$f":"IF($B$2=\"トン\",AppQt.Data!AU17,(AppQt.Data!AU17*ozton*AppQt.Data!AU$7)/1000000)","v":42.237351989954391},{"$f":"IF($B$2=\"トン\",AppQt.Data!AV17,(AppQt.Data!AV17*ozton*AppQt.Data!AV$7)/1000000)","v":-13.886742097290494},{"$f":"IF($B$2=\"トン\",AppQt.Data!AW17,(AppQt.Data!AW17*ozton*AppQt.Data!AW$7)/1000000)","v":7.2358704740413486},{"$f":"IF($B$2=\"トン\",AppQt.Data!AX17,(AppQt.Data!AX17*ozton*AppQt.Data!AX$7)/1000000)","v":26.627680832902797},{"$f":"IF($B$2=\"トン\",AppQt.Data!AY17,(AppQt.Data!AY17*ozton*AppQt.Data!AY$7)/1000000)","v":16.236947902899828},{"$f":"IF($B$2=\"トン\",AppQt.Data!AZ17,(AppQt.Data!AZ17*ozton*AppQt.Data!AZ$7)/1000000)","v":-24.744000708580529},{"$f":"IF($B$2=\"トン\",AppQt.Data!BA17,(AppQt.Data!BA17*ozton*AppQt.Data!BA$7)/1000000)","v":17.787917985072283},{"$f":"IF($B$2=\"トン\",AppQt.Data!BB17,(AppQt.Data!BB17*ozton*AppQt.Data!BB$7)/1000000)","v":-46.916292596943805},{"$f":"IF($B$2=\"トン\",AppQt.Data!BC17,(AppQt.Data!BC17*ozton*AppQt.Data!BC$7)/1000000)","v":-18.344937481847126},{"$f":"IF($B$2=\"トン\",AppQt.Data!BD17,(AppQt.Data!BD17*ozton*AppQt.Data!BD$7)/1000000)","v":-26.548417494013393},{"$f":"IF($B$2=\"トン\",AppQt.Data!BE17,(AppQt.Data!BE17*ozton*AppQt.Data!BE$7)/1000000)","v":26.761151941899925},{"$f":"IF($B$2=\"トン\",AppQt.Data!BF17,(AppQt.Data!BF17*ozton*AppQt.Data!BF$7)/1000000)","v":19.024664899027471},{"$f":"IF($B$2=\"トン\",AppQt.Data!BG17,(AppQt.Data!BG17*ozton*AppQt.Data!BG$7)/1000000)","v":38.143620250012077},{"$f":"IF($B$2=\"トン\",AppQt.Data!BH17,(AppQt.Data!BH17*ozton*AppQt.Data!BH$7)/1000000)","v":-1.0319651478625929},{"$f":"IF($B$2=\"トン\",AppQt.Data!BI17,(AppQt.Data!BI17*ozton*AppQt.Data!BI$7)/1000000)","v":40.807725154501725},{"$f":"IF($B$2=\"トン\",AppQt.Data!BJ17,(AppQt.Data!BJ17*ozton*AppQt.Data!BJ$7)/1000000)","v":33.769457365970197},{"$f":"IF($B$2=\"トン\",AppQt.Data!BK17,(AppQt.Data!BK17*ozton*AppQt.Data!BK$7)/1000000)","v":55.255785900049318},{"$f":"IF($B$2=\"トン\",AppQt.Data!BL17,(AppQt.Data!BL17*ozton*AppQt.Data!BL$7)/1000000)","v":-26.242794150387454},"▲","-"]
[null,"テクノロジー",{"$f":"IF($B$2=\"トン\",AppAn.Data!L17,(AppAn.Data!L17*ozton*AppAn.Data!L$6)/1000000)","v":460.66573688651079},{"$f":"IF($B$2=\"トン\",AppAn.Data!M17,(AppAn.Data!M17*ozton*AppAn.Data!M$6)/1000000)","v":429.13749626735773},{"$f":"IF($B$2=\"トン\",AppAn.Data!N17,(AppAn.Data!N17*ozton*AppAn.Data!N$6)/1000000)","v":382.27407424279517},{"$f":"IF($B$2=\"トン\",AppAn.Data!O17,(AppAn.Data!O17*ozton*AppAn.Data!O$6)/1000000)","v":355.76764797400199},{"$f":"IF($B$2=\"トン\",AppAn.Data!P17,(AppAn.Data!P17*ozton*AppAn.Data!P$6)/1000000)","v":348.38686768730651},{"$f":"IF($B$2=\"トン\",AppAn.Data!Q17,(AppAn.Data!Q17*ozton*AppAn.Data!Q$6)/1000000)","v":331.6737462474382},{"$f":"IF($B$2=\"トン\",AppAn.Data!R17,(AppAn.Data!R17*ozton*AppAn.Data!R$6)/1000000)","v":322.99356771909794},{"$f":"IF($B$2=\"トン\",AppAn.Data!S17,(AppAn.Data!S17*ozton*AppAn.Data!S$6)/1000000)","v":332.58496595789683},{"$f":"IF($B$2=\"トン\",AppAn.Data!T17,(AppAn.Data!T17*ozton*AppAn.Data!T$6)/1000000)","v":334.79421934009002},{"$f":"IF($B$2=\"トン\",AppAn.Data!U17,(AppAn.Data!U17*ozton*AppAn.Data!U$6)/1000000)","v":325.96419679418739},{"$f":"IF($B$2=\"トン\",AppAn.Data!V17,(AppAn.Data!V17*ozton*AppAn.Data!V$6)/1000000)","v":302.7563109305184},{"$f":"IF($B$2=\"トン\",AppAn.Data!W17,(AppAn.Data!W17*ozton*AppAn.Data!W$6)/1000000)","v":330.19137535148815},{"$f":"IF($B$2=\"トン\",AppAn.Data!X17,(AppAn.Data!X17*ozton*AppAn.Data!X$6)/1000000)","v":308.52444222954784},"▼",-6.5619318793157078,null,{"$f":"IF($B$2=\"トン\",AppQt.Data!M18,(AppQt.Data!M18*ozton*AppQt.Data!M$7)/1000000)","v":114.35531161060909},{"$f":"IF($B$2=\"トン\",AppQt.Data!N18,(AppQt.Data!N18*ozton*AppQt.Data!N$7)/1000000)","v":115.01672998316909},{"$f":"IF($B$2=\"トン\",AppQt.Data!O18,(AppQt.Data!O18*ozton*AppQt.Data!O$7)/1000000)","v":118.14823612480782},{"$f":"IF($B$2=\"トン\",AppQt.Data!P18,(AppQt.Data!P18*ozton*AppQt.Data!P$7)/1000000)","v":113.14545916792481},{"$f":"IF($B$2=\"トン\",AppQt.Data!Q18,(AppQt.Data!Q18*ozton*AppQt.Data!Q$7)/1000000)","v":110.61105393639902},{"$f":"IF($B$2=\"トン\",AppQt.Data!R18,(AppQt.Data!R18*ozton*AppQt.Data!R$7)/1000000)","v":112.48507514772686},{"$f":"IF($B$2=\"トン\",AppQt.Data!S18,(AppQt.Data!S18*ozton*AppQt.Data!S$7)/1000000)","v":109.34356002256681},{"$f":"IF($B$2=\"トン\",AppQt.Data!T18,(AppQt.Data!T18*ozton*AppQt.Data!T$7)/1000000)","v":96.69780716066505},{"$f":"IF($B$2=\"トン\",AppQt.Data!U18,(AppQt.Data!U18*ozton*AppQt.Data!U$7)/1000000)","v":100.77411590951409},{"$f":"IF($B$2=\"トン\",AppQt.Data!V18,(AppQt.Data!V18*ozton*AppQt.Data!V$7)/1000000)","v":97.365441128704205},{"$f":"IF($B$2=\"トン\",AppQt.Data!W18,(AppQt.Data!W18*ozton*AppQt.Data!W$7)/1000000)","v":95.427565675604129},{"$f":"IF($B$2=\"トン\",AppQt.Data!X18,(AppQt.Data!X18*ozton*AppQt.Data!X$7)/1000000)","v":88.706951528972681},{"$f":"IF($B$2=\"トン\",AppQt.Data!Y18,(AppQt.Data!Y18*ozton*AppQt.Data!Y$7)/1000000)","v":89.857821653900814},{"$f":"IF($B$2=\"トン\",AppQt.Data!Z18,(AppQt.Data!Z18*ozton*AppQt.Data!Z$7)/1000000)","v":92.883574074460597},{"$f":"IF($B$2=\"トン\",AppQt.Data!AA18,(AppQt.Data!AA18*ozton*AppQt.Data!AA$7)/1000000)","v":89.550253261103592},{"$f":"IF($B$2=\"トン\",AppQt.Data!AB18,(AppQt.Data!AB18*ozton*AppQt.Data!AB$7)/1000000)","v":83.475998984537014},{"$f":"IF($B$2=\"トン\",AppQt.Data!AC18,(AppQt.Data!AC18*ozton*AppQt.Data!AC$7)/1000000)","v":83.29070956963082},{"$f":"IF($B$2=\"トン\",AppQt.Data!AD18,(AppQt.Data!AD18*ozton*AppQt.Data!AD$7)/1000000)","v":86.466352479891384},{"$f":"IF($B$2=\"トン\",AppQt.Data!AE18,(AppQt.Data!AE18*ozton*AppQt.Data!AE$7)/1000000)","v":89.448348505833863},{"$f":"IF($B$2=\"トン\",AppQt.Data!AF18,(AppQt.Data!AF18*ozton*AppQt.Data!AF$7)/1000000)","v":89.181457131950438},{"$f":"IF($B$2=\"トン\",AppQt.Data!AG18,(AppQt.Data!AG18*ozton*AppQt.Data!AG$7)/1000000)","v":83.60708127472239},{"$f":"IF($B$2=\"トン\",AppQt.Data!AH18,(AppQt.Data!AH18*ozton*AppQt.Data!AH$7)/1000000)","v":83.676931186633169},{"$f":"IF($B$2=\"トン\",AppQt.Data!AI18,(AppQt.Data!AI18*ozton*AppQt.Data!AI$7)/1000000)","v":82.8657825497299},{"$f":"IF($B$2=\"トン\",AppQt.Data!AJ18,(AppQt.Data!AJ18*ozton*AppQt.Data!AJ$7)/1000000)","v":81.523951236352715},{"$f":"IF($B$2=\"トン\",AppQt.Data!AK18,(AppQt.Data!AK18*ozton*AppQt.Data!AK$7)/1000000)","v":76.290012339931124},{"$f":"IF($B$2=\"トン\",AppQt.Data!AL18,(AppQt.Data!AL18*ozton*AppQt.Data!AL$7)/1000000)","v":79.968593577467232},{"$f":"IF($B$2=\"トン\",AppQt.Data!AM18,(AppQt.Data!AM18*ozton*AppQt.Data!AM$7)/1000000)","v":82.43494518341933},{"$f":"IF($B$2=\"トン\",AppQt.Data!AN18,(AppQt.Data!AN18*ozton*AppQt.Data!AN$7)/1000000)","v":84.300016618280267},{"$f":"IF($B$2=\"トン\",AppQt.Data!AO18,(AppQt.Data!AO18*ozton*AppQt.Data!AO$7)/1000000)","v":78.768879728220654},{"$f":"IF($B$2=\"トン\",AppQt.Data!AP18,(AppQt.Data!AP18*ozton*AppQt.Data!AP$7)/1000000)","v":81.356486895742805},{"$f":"IF($B$2=\"トン\",AppQt.Data!AQ18,(AppQt.Data!AQ18*ozton*AppQt.Data!AQ$7)/1000000)","v":84.157145416528266},{"$f":"IF($B$2=\"トン\",AppQt.Data!AR18,(AppQt.Data!AR18*ozton*AppQt.Data!AR$7)/1000000)","v":88.302453917405089},{"$f":"IF($B$2=\"トン\",AppQt.Data!AS18,(AppQt.Data!AS18*ozton*AppQt.Data!AS$7)/1000000)","v":81.797803410494282},{"$f":"IF($B$2=\"トン\",AppQt.Data!AT18,(AppQt.Data!AT18*ozton*AppQt.Data!AT$7)/1000000)","v":83.298203554253988},{"$f":"IF($B$2=\"トン\",AppQt.Data!AU18,(AppQt.Data!AU18*ozton*AppQt.Data!AU$7)/1000000)","v":85.383728950275213},{"$f":"IF($B$2=\"トン\",AppQt.Data!AV18,(AppQt.Data!AV18*ozton*AppQt.Data!AV$7)/1000000)","v":84.314483425066513},{"$f":"IF($B$2=\"トン\",AppQt.Data!AW18,(AppQt.Data!AW18*ozton*AppQt.Data!AW$7)/1000000)","v":79.906159954353299},{"$f":"IF($B$2=\"トン\",AppQt.Data!AX18,(AppQt.Data!AX18*ozton*AppQt.Data!AX$7)/1000000)","v":80.696816933833873},{"$f":"IF($B$2=\"トン\",AppQt.Data!AY18,(AppQt.Data!AY18*ozton*AppQt.Data!AY$7)/1000000)","v":82.014876211563063},{"$f":"IF($B$2=\"トン\",AppQt.Data!AZ18,(AppQt.Data!AZ18*ozton*AppQt.Data!AZ$7)/1000000)","v":83.346343694437209},{"$f":"IF($B$2=\"トン\",AppQt.Data!BA18,(AppQt.Data!BA18*ozton*AppQt.Data!BA$7)/1000000)","v":72.840218632172324},{"$f":"IF($B$2=\"トン\",AppQt.Data!BB18,(AppQt.Data!BB18*ozton*AppQt.Data!BB$7)/1000000)","v":68.719105362006729},{"$f":"IF($B$2=\"トン\",AppQt.Data!BC18,(AppQt.Data!BC18*ozton*AppQt.Data!BC$7)/1000000)","v":77.174676620756671},{"$f":"IF($B$2=\"トン\",AppQt.Data!BD18,(AppQt.Data!BD18*ozton*AppQt.Data!BD$7)/1000000)","v":84.022310315582743},{"$f":"IF($B$2=\"トン\",AppQt.Data!BE18,(AppQt.Data!BE18*ozton*AppQt.Data!BE$7)/1000000)","v":81.036182065989991},{"$f":"IF($B$2=\"トン\",AppQt.Data!BF18,(AppQt.Data!BF18*ozton*AppQt.Data!BF$7)/1000000)","v":79.845249673008439},{"$f":"IF($B$2=\"トン\",AppQt.Data!BG18,(AppQt.Data!BG18*ozton*AppQt.Data!BG$7)/1000000)","v":83.420220444733218},{"$f":"IF($B$2=\"トン\",AppQt.Data!BH18,(AppQt.Data!BH18*ozton*AppQt.Data!BH$7)/1000000)","v":85.889723167756514},{"$f":"IF($B$2=\"トン\",AppQt.Data!BI18,(AppQt.Data!BI18*ozton*AppQt.Data!BI$7)/1000000)","v":80.955970860229328},{"$f":"IF($B$2=\"トン\",AppQt.Data!BJ18,(AppQt.Data!BJ18*ozton*AppQt.Data!BJ$7)/1000000)","v":78.526482311424331},{"$f":"IF($B$2=\"トン\",AppQt.Data!BK18,(AppQt.Data!BK18*ozton*AppQt.Data!BK$7)/1000000)","v":76.994684890161395},{"$f":"IF($B$2=\"トン\",AppQt.Data!BL18,(AppQt.Data!BL18*ozton*AppQt.Data!BL$7)/1000000)","v":72.047304167732818},"▼",-16.116502055766567]
[null,"エレクトロニクス",{"$f":"IF($B$2=\"トン\",AppAn.Data!L18,(AppAn.Data!L18*ozton*AppAn.Data!L$6)/1000000)","v":326.727982491516},{"$f":"IF($B$2=\"トン\",AppAn.Data!M18,(AppAn.Data!M18*ozton*AppAn.Data!M$6)/1000000)","v":316.57149928531334},{"$f":"IF($B$2=\"トン\",AppAn.Data!N18,(AppAn.Data!N18*ozton*AppAn.Data!N$6)/1000000)","v":289.12551157146612},{"$f":"IF($B$2=\"トン\",AppAn.Data!O18,(AppAn.Data!O18*ozton*AppAn.Data!O$6)/1000000)","v":279.2361599758558},{"$f":"IF($B$2=\"トン\",AppAn.Data!P18,(AppAn.Data!P18*ozton*AppAn.Data!P$6)/1000000)","v":277.53006671465721},{"$f":"IF($B$2=\"トン\",AppAn.Data!Q18,(AppAn.Data!Q18*ozton*AppAn.Data!Q$6)/1000000)","v":262.14095427531697},{"$f":"IF($B$2=\"トン\",AppAn.Data!R18,(AppAn.Data!R18*ozton*AppAn.Data!R$6)/1000000)","v":255.61368340316631},{"$f":"IF($B$2=\"トン\",AppAn.Data!S18,(AppAn.Data!S18*ozton*AppAn.Data!S$6)/1000000)","v":265.58199333633183},{"$f":"IF($B$2=\"トン\",AppAn.Data!T18,(AppAn.Data!T18*ozton*AppAn.Data!T$6)/1000000)","v":268.36293214516019},{"$f":"IF($B$2=\"トン\",AppAn.Data!U18,(AppAn.Data!U18*ozton*AppAn.Data!U$6)/1000000)","v":262.2563306650228},{"$f":"IF($B$2=\"トン\",AppAn.Data!V18,(AppAn.Data!V18*ozton*AppAn.Data!V$6)/1000000)","v":249.32991372663997},{"$f":"IF($B$2=\"トン\",AppAn.Data!W18,(AppAn.Data!W18*ozton*AppAn.Data!W$6)/1000000)","v":272.07519788889078},{"$f":"IF($B$2=\"トン\",AppAn.Data!X18,(AppAn.Data!X18*ozton*AppAn.Data!X$6)/1000000)","v":251.6954051559878},"▼",-7.4905000128771881,null,{"$f":"IF($B$2=\"トン\",AppQt.Data!M19,(AppQt.Data!M19*ozton*AppQt.Data!M$7)/1000000)","v":79.029973649027653},{"$f":"IF($B$2=\"トン\",AppQt.Data!N19,(AppQt.Data!N19*ozton*AppQt.Data!N$7)/1000000)","v":80.42565731777556},{"$f":"IF($B$2=\"トン\",AppQt.Data!O19,(AppQt.Data!O19*ozton*AppQt.Data!O$7)/1000000)","v":85.849570598069093},{"$f":"IF($B$2=\"トン\",AppQt.Data!P19,(AppQt.Data!P19*ozton*AppQt.Data!P$7)/1000000)","v":81.422780926643711},{"$f":"IF($B$2=\"トン\",AppQt.Data!Q19,(AppQt.Data!Q19*ozton*AppQt.Data!Q$7)/1000000)","v":80.097600666524571},{"$f":"IF($B$2=\"トン\",AppQt.Data!R19,(AppQt.Data!R19*ozton*AppQt.Data!R$7)/1000000)","v":83.17678498864646},{"$f":"IF($B$2=\"トン\",AppQt.Data!S19,(AppQt.Data!S19*ozton*AppQt.Data!S$7)/1000000)","v":81.496125771100168},{"$f":"IF($B$2=\"トン\",AppQt.Data!T19,(AppQt.Data!T19*ozton*AppQt.Data!T$7)/1000000)","v":71.80098785904211},{"$f":"IF($B$2=\"トン\",AppQt.Data!U19,(AppQt.Data!U19*ozton*AppQt.Data!U$7)/1000000)","v":75.166511909210456},{"$f":"IF($B$2=\"トン\",AppQt.Data!V19,(AppQt.Data!V19*ozton*AppQt.Data!V$7)/1000000)","v":73.056314304333668},{"$f":"IF($B$2=\"トン\",AppQt.Data!W19,(AppQt.Data!W19*ozton*AppQt.Data!W$7)/1000000)","v":72.93488438244492},{"$f":"IF($B$2=\"トン\",AppQt.Data!X19,(AppQt.Data!X19*ozton*AppQt.Data!X$7)/1000000)","v":67.967800975477061},{"$f":"IF($B$2=\"トン\",AppQt.Data!Y19,(AppQt.Data!Y19*ozton*AppQt.Data!Y$7)/1000000)","v":69.075200301657617},{"$f":"IF($B$2=\"トン\",AppQt.Data!Z19,(AppQt.Data!Z19*ozton*AppQt.Data!Z$7)/1000000)","v":71.649848599148328},{"$f":"IF($B$2=\"トン\",AppQt.Data!AA19,(AppQt.Data!AA19*ozton*AppQt.Data!AA$7)/1000000)","v":71.763365571540405},{"$f":"IF($B$2=\"トン\",AppQt.Data!AB19,(AppQt.Data!AB19*ozton*AppQt.Data!AB$7)/1000000)","v":66.747745503509449},{"$f":"IF($B$2=\"トン\",AppQt.Data!AC19,(AppQt.Data!AC19*ozton*AppQt.Data!AC$7)/1000000)","v":65.763523223820556},{"$f":"IF($B$2=\"トン\",AppQt.Data!AD19,(AppQt.Data!AD19*ozton*AppQt.Data!AD$7)/1000000)","v":68.693070126695545},{"$f":"IF($B$2=\"トン\",AppQt.Data!AE19,(AppQt.Data!AE19*ozton*AppQt.Data!AE$7)/1000000)","v":71.568899432070523},{"$f":"IF($B$2=\"トン\",AppQt.Data!AF19,(AppQt.Data!AF19*ozton*AppQt.Data!AF$7)/1000000)","v":71.504573932070542},{"$f":"IF($B$2=\"トン\",AppQt.Data!AG19,(AppQt.Data!AG19*ozton*AppQt.Data!AG$7)/1000000)","v":66.243848858610932},{"$f":"IF($B$2=\"トン\",AppQt.Data!AH19,(AppQt.Data!AH19*ozton*AppQt.Data!AH$7)/1000000)","v":65.808876339365099},{"$f":"IF($B$2=\"トン\",AppQt.Data!AI19,(AppQt.Data!AI19*ozton*AppQt.Data!AI$7)/1000000)","v":65.458118503849022},{"$f":"IF($B$2=\"トン\",AppQt.Data!AJ19,(AppQt.Data!AJ19*ozton*AppQt.Data!AJ$7)/1000000)","v":64.630110573491891},{"$f":"IF($B$2=\"トン\",AppQt.Data!AK19,(AppQt.Data!AK19*ozton*AppQt.Data!AK$7)/1000000)","v":59.871097861470645},{"$f":"IF($B$2=\"トン\",AppQt.Data!AL19,(AppQt.Data!AL19*ozton*AppQt.Data!AL$7)/1000000)","v":62.963158312040022},{"$f":"IF($B$2=\"トン\",AppQt.Data!AM19,(AppQt.Data!AM19*ozton*AppQt.Data!AM$7)/1000000)","v":65.301994561353538},{"$f":"IF($B$2=\"トン\",AppQt.Data!AN19,(AppQt.Data!AN19*ozton*AppQt.Data!AN$7)/1000000)","v":67.477432668302086},{"$f":"IF($B$2=\"トン\",AppQt.Data!AO19,(AppQt.Data!AO19*ozton*AppQt.Data!AO$7)/1000000)","v":62.356411857774681},{"$f":"IF($B$2=\"トン\",AppQt.Data!AP19,(AppQt.Data!AP19*ozton*AppQt.Data!AP$7)/1000000)","v":64.363364696272953},{"$f":"IF($B$2=\"トン\",AppQt.Data!AQ19,(AppQt.Data!AQ19*ozton*AppQt.Data!AQ$7)/1000000)","v":67.352579571669665},{"$f":"IF($B$2=\"トン\",AppQt.Data!AR19,(AppQt.Data!AR19*ozton*AppQt.Data!AR$7)/1000000)","v":71.509637210614542},{"$f":"IF($B$2=\"トン\",AppQt.Data!AS19,(AppQt.Data!AS19*ozton*AppQt.Data!AS$7)/1000000)","v":65.330381931331658},{"$f":"IF($B$2=\"トン\",AppQt.Data!AT19,(AppQt.Data!AT19*ozton*AppQt.Data!AT$7)/1000000)","v":66.486454535125503},{"$f":"IF($B$2=\"トン\",AppQt.Data!AU19,(AppQt.Data!AU19*ozton*AppQt.Data!AU$7)/1000000)","v":68.767147992863599},{"$f":"IF($B$2=\"トン\",AppQt.Data!AV19,(AppQt.Data!AV19*ozton*AppQt.Data!AV$7)/1000000)","v":67.778947685839384},{"$f":"IF($B$2=\"トン\",AppQt.Data!AW19,(AppQt.Data!AW19*ozton*AppQt.Data!AW$7)/1000000)","v":63.542816964447162},{"$f":"IF($B$2=\"トン\",AppQt.Data!AX19,(AppQt.Data!AX19*ozton*AppQt.Data!AX$7)/1000000)","v":64.47381987686056},{"$f":"IF($B$2=\"トン\",AppQt.Data!AY19,(AppQt.Data!AY19*ozton*AppQt.Data!AY$7)/1000000)","v":66.441844863385555},{"$f":"IF($B$2=\"トン\",AppQt.Data!AZ19,(AppQt.Data!AZ19*ozton*AppQt.Data!AZ$7)/1000000)","v":67.79784896032956},{"$f":"IF($B$2=\"トン\",AppQt.Data!BA19,(AppQt.Data!BA19*ozton*AppQt.Data!BA$7)/1000000)","v":58.784721409133347},{"$f":"IF($B$2=\"トン\",AppQt.Data!BB19,(AppQt.Data!BB19*ozton*AppQt.Data!BB$7)/1000000)","v":58.029667035536797},{"$f":"IF($B$2=\"トン\",AppQt.Data!BC19,(AppQt.Data!BC19*ozton*AppQt.Data!BC$7)/1000000)","v":63.272194908094292},{"$f":"IF($B$2=\"トン\",AppQt.Data!BD19,(AppQt.Data!BD19*ozton*AppQt.Data!BD$7)/1000000)","v":69.243330373875565},{"$f":"IF($B$2=\"トン\",AppQt.Data!BE19,(AppQt.Data!BE19*ozton*AppQt.Data!BE$7)/1000000)","v":66.213946134008381},{"$f":"IF($B$2=\"トン\",AppQt.Data!BF19,(AppQt.Data!BF19*ozton*AppQt.Data!BF$7)/1000000)","v":66.240461927653286},{"$f":"IF($B$2=\"トン\",AppQt.Data!BG19,(AppQt.Data!BG19*ozton*AppQt.Data!BG$7)/1000000)","v":68.995787806225167},{"$f":"IF($B$2=\"トン\",AppQt.Data!BH19,(AppQt.Data!BH19*ozton*AppQt.Data!BH$7)/1000000)","v":70.625002021003937},{"$f":"IF($B$2=\"トン\",AppQt.Data!BI19,(AppQt.Data!BI19*ozton*AppQt.Data!BI$7)/1000000)","v":66.225699885479557},{"$f":"IF($B$2=\"トン\",AppQt.Data!BJ19,(AppQt.Data!BJ19*ozton*AppQt.Data!BJ$7)/1000000)","v":64.552811609735983},{"$f":"IF($B$2=\"トン\",AppQt.Data!BK19,(AppQt.Data!BK19*ozton*AppQt.Data!BK$7)/1000000)","v":63.179446661961855},{"$f":"IF($B$2=\"トン\",AppQt.Data!BL19,(AppQt.Data!BL19*ozton*AppQt.Data!BL$7)/1000000)","v":57.73744699881042},"▼",-18.247864995969486]
[null,"その他工業用",{"$f":"IF($B$2=\"トン\",AppAn.Data!L19,(AppAn.Data!L19*ozton*AppAn.Data!L$6)/1000000)","v":88.326099620880044},{"$f":"IF($B$2=\"トン\",AppAn.Data!M19,(AppAn.Data!M19*ozton*AppAn.Data!M$6)/1000000)","v":76.393060963517939},{"$f":"IF($B$2=\"トン\",AppAn.Data!N19,(AppAn.Data!N19*ozton*AppAn.Data!N$6)/1000000)","v":64.726977451472848},{"$f":"IF($B$2=\"トン\",AppAn.Data!O19,(AppAn.Data!O19*ozton*AppAn.Data!O$6)/1000000)","v":53.684871435646215},{"$f":"IF($B$2=\"トン\",AppAn.Data!P19,(AppAn.Data!P19*ozton*AppAn.Data!P$6)/1000000)","v":51.223125972649342},{"$f":"IF($B$2=\"トン\",AppAn.Data!Q19,(AppAn.Data!Q19*ozton*AppAn.Data!Q$6)/1000000)","v":50.974601072121231},{"$f":"IF($B$2=\"トン\",AppAn.Data!R19,(AppAn.Data!R19*ozton*AppAn.Data!R$6)/1000000)","v":49.754643851931647},{"$f":"IF($B$2=\"トン\",AppAn.Data!S19,(AppAn.Data!S19*ozton*AppAn.Data!S$6)/1000000)","v":50.661248069724977},{"$f":"IF($B$2=\"トン\",AppAn.Data!T19,(AppAn.Data!T19*ozton*AppAn.Data!T$6)/1000000)","v":51.15957348786425},{"$f":"IF($B$2=\"トン\",AppAn.Data!U19,(AppAn.Data!U19*ozton*AppAn.Data!U$6)/1000000)","v":49.778021179186844},{"$f":"IF($B$2=\"トン\",AppAn.Data!V19,(AppAn.Data!V19*ozton*AppAn.Data!V$6)/1000000)","v":41.570326312660377},{"$f":"IF($B$2=\"トン\",AppAn.Data!W19,(AppAn.Data!W19*ozton*AppAn.Data!W$6)/1000000)","v":46.763113996119415},{"$f":"IF($B$2=\"トン\",AppAn.Data!X19,(AppAn.Data!X19*ozton*AppAn.Data!X$6)/1000000)","v":46.550576512787607},"▼",-0.4544981400285808,null,{"$f":"IF($B$2=\"トン\",AppQt.Data!M20,(AppQt.Data!M20*ozton*AppQt.Data!M$7)/1000000)","v":22.862685175952677},{"$f":"IF($B$2=\"トン\",AppQt.Data!N20,(AppQt.Data!N20*ozton*AppQt.Data!N$7)/1000000)","v":22.797552822889159},{"$f":"IF($B$2=\"トン\",AppQt.Data!O20,(AppQt.Data!O20*ozton*AppQt.Data!O$7)/1000000)","v":21.336289861484971},{"$f":"IF($B$2=\"トン\",AppQt.Data!P20,(AppQt.Data!P20*ozton*AppQt.Data!P$7)/1000000)","v":21.329571760553236},{"$f":"IF($B$2=\"トン\",AppQt.Data!Q20,(AppQt.Data!Q20*ozton*AppQt.Data!Q$7)/1000000)","v":20.700363072954374},{"$f":"IF($B$2=\"トン\",AppQt.Data!R20,(AppQt.Data!R20*ozton*AppQt.Data!R$7)/1000000)","v":20.003628629784131},{"$f":"IF($B$2=\"トン\",AppQt.Data!S20,(AppQt.Data!S20*ozton*AppQt.Data!S$7)/1000000)","v":19.092271349673581},{"$f":"IF($B$2=\"トン\",AppQt.Data!T20,(AppQt.Data!T20*ozton*AppQt.Data!T$7)/1000000)","v":16.596797911105853},{"$f":"IF($B$2=\"トン\",AppQt.Data!U20,(AppQt.Data!U20*ozton*AppQt.Data!U$7)/1000000)","v":17.819146761495247},{"$f":"IF($B$2=\"トン\",AppQt.Data!V20,(AppQt.Data!V20*ozton*AppQt.Data!V$7)/1000000)","v":16.84840896584592},{"$f":"IF($B$2=\"トン\",AppQt.Data!W20,(AppQt.Data!W20*ozton*AppQt.Data!W$7)/1000000)","v":15.758892525084718},{"$f":"IF($B$2=\"トン\",AppQt.Data!X20,(AppQt.Data!X20*ozton*AppQt.Data!X$7)/1000000)","v":14.300529199046963},{"$f":"IF($B$2=\"トン\",AppQt.Data!Y20,(AppQt.Data!Y20*ozton*AppQt.Data!Y$7)/1000000)","v":14.652034633493201},{"$f":"IF($B$2=\"トン\",AppQt.Data!Z20,(AppQt.Data!Z20*ozton*AppQt.Data!Z$7)/1000000)","v":15.206867662812272},{"$f":"IF($B$2=\"トン\",AppQt.Data!AA20,(AppQt.Data!AA20*ozton*AppQt.Data!AA$7)/1000000)","v":12.253553158313181},{"$f":"IF($B$2=\"トン\",AppQt.Data!AB20,(AppQt.Data!AB20*ozton*AppQt.Data!AB$7)/1000000)","v":11.572415981027561},{"$f":"IF($B$2=\"トン\",AppQt.Data!AC20,(AppQt.Data!AC20*ozton*AppQt.Data!AC$7)/1000000)","v":12.283872595810269},{"$f":"IF($B$2=\"トン\",AppQt.Data!AD20,(AppQt.Data!AD20*ozton*AppQt.Data!AD$7)/1000000)","v":12.926398603195841},{"$f":"IF($B$2=\"トン\",AppQt.Data!AE20,(AppQt.Data!AE20*ozton*AppQt.Data!AE$7)/1000000)","v":13.06949532376334},{"$f":"IF($B$2=\"トン\",AppQt.Data!AF20,(AppQt.Data!AF20*ozton*AppQt.Data!AF$7)/1000000)","v":12.943359449879896},{"$f":"IF($B$2=\"トン\",AppQt.Data!AG20,(AppQt.Data!AG20*ozton*AppQt.Data!AG$7)/1000000)","v":12.689695641111458},{"$f":"IF($B$2=\"トン\",AppQt.Data!AH20,(AppQt.Data!AH20*ozton*AppQt.Data!AH$7)/1000000)","v":13.180054672268065},{"$f":"IF($B$2=\"トン\",AppQt.Data!AI20,(AppQt.Data!AI20*ozton*AppQt.Data!AI$7)/1000000)","v":12.760836670880883},{"$f":"IF($B$2=\"トン\",AppQt.Data!AJ20,(AppQt.Data!AJ20*ozton*AppQt.Data!AJ$7)/1000000)","v":12.344014087860826},{"$f":"IF($B$2=\"トン\",AppQt.Data!AK20,(AppQt.Data!AK20*ozton*AppQt.Data!AK$7)/1000000)","v":11.951576174460477},{"$f":"IF($B$2=\"トン\",AppQt.Data!AL20,(AppQt.Data!AL20*ozton*AppQt.Data!AL$7)/1000000)","v":12.518124657427201},{"$f":"IF($B$2=\"トン\",AppQt.Data!AM20,(AppQt.Data!AM20*ozton*AppQt.Data!AM$7)/1000000)","v":12.760869902065794},{"$f":"IF($B$2=\"トン\",AppQt.Data!AN20,(AppQt.Data!AN20*ozton*AppQt.Data!AN$7)/1000000)","v":12.524073117978176},{"$f":"IF($B$2=\"トン\",AppQt.Data!AO20,(AppQt.Data!AO20*ozton*AppQt.Data!AO$7)/1000000)","v":12.189703480205965},{"$f":"IF($B$2=\"トン\",AppQt.Data!AP20,(AppQt.Data!AP20*ozton*AppQt.Data!AP$7)/1000000)","v":12.758101119789858},{"$f":"IF($B$2=\"トン\",AppQt.Data!AQ20,(AppQt.Data!AQ20*ozton*AppQt.Data!AQ$7)/1000000)","v":12.7737054576586},{"$f":"IF($B$2=\"トン\",AppQt.Data!AR20,(AppQt.Data!AR20*ozton*AppQt.Data!AR$7)/1000000)","v":12.939738012070547},{"$f":"IF($B$2=\"トン\",AppQt.Data!AS20,(AppQt.Data!AS20*ozton*AppQt.Data!AS$7)/1000000)","v":12.485713141127418},{"$f":"IF($B$2=\"トン\",AppQt.Data!AT20,(AppQt.Data!AT20*ozton*AppQt.Data!AT$7)/1000000)","v":12.826505982635688},{"$f":"IF($B$2=\"トン\",AppQt.Data!AU20,(AppQt.Data!AU20*ozton*AppQt.Data!AU$7)/1000000)","v":12.882246985699613},{"$f":"IF($B$2=\"トン\",AppQt.Data!AV20,(AppQt.Data!AV20*ozton*AppQt.Data!AV$7)/1000000)","v":12.96510737840153},{"$f":"IF($B$2=\"トン\",AppQt.Data!AW20,(AppQt.Data!AW20*ozton*AppQt.Data!AW$7)/1000000)","v":12.834209693031639},{"$f":"IF($B$2=\"トン\",AppQt.Data!AX20,(AppQt.Data!AX20*ozton*AppQt.Data!AX$7)/1000000)","v":12.517409045146362},{"$f":"IF($B$2=\"トン\",AppQt.Data!AY20,(AppQt.Data!AY20*ozton*AppQt.Data!AY$7)/1000000)","v":12.085819726558311},{"$f":"IF($B$2=\"トン\",AppQt.Data!AZ20,(AppQt.Data!AZ20*ozton*AppQt.Data!AZ$7)/1000000)","v":12.340582714450532},{"$f":"IF($B$2=\"トン\",AppQt.Data!BA20,(AppQt.Data!BA20*ozton*AppQt.Data!BA$7)/1000000)","v":10.854742335328208},{"$f":"IF($B$2=\"トン\",AppQt.Data!BB20,(AppQt.Data!BB20*ozton*AppQt.Data!BB$7)/1000000)","v":8.1159271598951293},{"$f":"IF($B$2=\"トン\",AppQt.Data!BC20,(AppQt.Data!BC20*ozton*AppQt.Data!BC$7)/1000000)","v":10.765635948998503},{"$f":"IF($B$2=\"トン\",AppQt.Data!BD20,(AppQt.Data!BD20*ozton*AppQt.Data!BD$7)/1000000)","v":11.834020868438536},{"$f":"IF($B$2=\"トン\",AppQt.Data!BE20,(AppQt.Data!BE20*ozton*AppQt.Data!BE$7)/1000000)","v":11.92401337865638},{"$f":"IF($B$2=\"トン\",AppQt.Data!BF20,(AppQt.Data!BF20*ozton*AppQt.Data!BF$7)/1000000)","v":10.719951253109096},{"$f":"IF($B$2=\"トン\",AppQt.Data!BG20,(AppQt.Data!BG20*ozton*AppQt.Data!BG$7)/1000000)","v":11.580998098387369},{"$f":"IF($B$2=\"トン\",AppQt.Data!BH20,(AppQt.Data!BH20*ozton*AppQt.Data!BH$7)/1000000)","v":12.538151265966571},{"$f":"IF($B$2=\"トン\",AppQt.Data!BI20,(AppQt.Data!BI20*ozton*AppQt.Data!BI$7)/1000000)","v":12.006213914795428},{"$f":"IF($B$2=\"トン\",AppQt.Data!BJ20,(AppQt.Data!BJ20*ozton*AppQt.Data!BJ$7)/1000000)","v":11.32931823913102},{"$f":"IF($B$2=\"トン\",AppQt.Data!BK20,(AppQt.Data!BK20*ozton*AppQt.Data!BK$7)/1000000)","v":11.344074087958283},{"$f":"IF($B$2=\"トン\",AppQt.Data!BL20,(AppQt.Data!BL20*ozton*AppQt.Data!BL$7)/1000000)","v":11.870970270902879},"▼",-5.3212070975302446]
[null,"歯科用",{"$f":"IF($B$2=\"トン\",AppAn.Data!L20,(AppAn.Data!L20*ozton*AppAn.Data!L$6)/1000000)","v":45.611654774114747},{"$f":"IF($B$2=\"トン\",AppAn.Data!M20,(AppAn.Data!M20*ozton*AppAn.Data!M$6)/1000000)","v":36.172936018526485},{"$f":"IF($B$2=\"トン\",AppAn.Data!N20,(AppAn.Data!N20*ozton*AppAn.Data!N$6)/1000000)","v":28.421585219856158},{"$f":"IF($B$2=\"トン\",AppAn.Data!O20,(AppAn.Data!O20*ozton*AppAn.Data!O$6)/1000000)","v":22.8466165625},{"$f":"IF($B$2=\"トン\",AppAn.Data!P20,(AppAn.Data!P20*ozton*AppAn.Data!P$6)/1000000)","v":19.633675000000004},{"$f":"IF($B$2=\"トン\",AppAn.Data!Q20,(AppAn.Data!Q20*ozton*AppAn.Data!Q$6)/1000000)","v":18.5581909},{"$f":"IF($B$2=\"トン\",AppAn.Data!R20,(AppAn.Data!R20*ozton*AppAn.Data!R$6)/1000000)","v":17.625240464000001},{"$f":"IF($B$2=\"トン\",AppAn.Data!S20,(AppAn.Data!S20*ozton*AppAn.Data!S$6)/1000000)","v":16.341724551839999},{"$f":"IF($B$2=\"トン\",AppAn.Data!T20,(AppAn.Data!T20*ozton*AppAn.Data!T$6)/1000000)","v":15.271713707065601},{"$f":"IF($B$2=\"トン\",AppAn.Data!U20,(AppAn.Data!U20*ozton*AppAn.Data!U$6)/1000000)","v":13.929844949977754},{"$f":"IF($B$2=\"トン\",AppAn.Data!V20,(AppAn.Data!V20*ozton*AppAn.Data!V$6)/1000000)","v":11.856070891218073},{"$f":"IF($B$2=\"トン\",AppAn.Data!W20,(AppAn.Data!W20*ozton*AppAn.Data!W$6)/1000000)","v":11.35306346647797},{"$f":"IF($B$2=\"トン\",AppAn.Data!X20,(AppAn.Data!X20*ozton*AppAn.Data!X$6)/1000000)","v":10.278460560772446},"▼",-9.4653122382208803,null,{"$f":"IF($B$2=\"トン\",AppQt.Data!M21,(AppQt.Data!M21*ozton*AppQt.Data!M$7)/1000000)","v":12.462652785628766},{"$f":"IF($B$2=\"トン\",AppQt.Data!N21,(AppQt.Data!N21*ozton*AppQt.Data!N$7)/1000000)","v":11.793519842504361},{"$f":"IF($B$2=\"トン\",AppQt.Data!O21,(AppQt.Data!O21*ozton*AppQt.Data!O$7)/1000000)","v":10.962375665253754},{"$f":"IF($B$2=\"トン\",AppQt.Data!P21,(AppQt.Data!P21*ozton*AppQt.Data!P$7)/1000000)","v":10.393106480727861},{"$f":"IF($B$2=\"トン\",AppQt.Data!Q21,(AppQt.Data!Q21*ozton*AppQt.Data!Q$7)/1000000)","v":9.8130901969200668},{"$f":"IF($B$2=\"トン\",AppQt.Data!R21,(AppQt.Data!R21*ozton*AppQt.Data!R$7)/1000000)","v":9.3046615292962631},{"$f":"IF($B$2=\"トン\",AppQt.Data!S21,(AppQt.Data!S21*ozton*AppQt.Data!S$7)/1000000)","v":8.7551629017930566},{"$f":"IF($B$2=\"トン\",AppQt.Data!T21,(AppQt.Data!T21*ozton*AppQt.Data!T$7)/1000000)","v":8.3000213905170881},{"$f":"IF($B$2=\"トン\",AppQt.Data!U21,(AppQt.Data!U21*ozton*AppQt.Data!U$7)/1000000)","v":7.7884572388083937},{"$f":"IF($B$2=\"トン\",AppQt.Data!V21,(AppQt.Data!V21*ozton*AppQt.Data!V$7)/1000000)","v":7.4607178585246183},{"$f":"IF($B$2=\"トン\",AppQt.Data!W21,(AppQt.Data!W21*ozton*AppQt.Data!W$7)/1000000)","v":6.7337887680744917},{"$f":"IF($B$2=\"トン\",AppQt.Data!X21,(AppQt.Data!X21*ozton*AppQt.Data!X$7)/1000000)","v":6.4386213544486584},{"$f":"IF($B$2=\"トン\",AppQt.Data!Y21,(AppQt.Data!Y21*ozton*AppQt.Data!Y$7)/1000000)","v":6.1305867187500001},{"$f":"IF($B$2=\"トン\",AppQt.Data!Z21,(AppQt.Data!Z21*ozton*AppQt.Data!Z$7)/1000000)","v":6.0268578125000003},{"$f":"IF($B$2=\"トン\",AppQt.Data!AA21,(AppQt.Data!AA21*ozton*AppQt.Data!AA$7)/1000000)","v":5.5333345312499995},{"$f":"IF($B$2=\"トン\",AppQt.Data!AB21,(AppQt.Data!AB21*ozton*AppQt.Data!AB$7)/1000000)","v":5.1558375000000005},{"$f":"IF($B$2=\"トン\",AppQt.Data!AC21,(AppQt.Data!AC21*ozton*AppQt.Data!AC$7)/1000000)","v":5.2433137500000004},{"$f":"IF($B$2=\"トン\",AppQt.Data!AD21,(AppQt.Data!AD21*ozton*AppQt.Data!AD$7)/1000000)","v":4.8468837500000008},{"$f":"IF($B$2=\"トン\",AppQt.Data!AE21,(AppQt.Data!AE21*ozton*AppQt.Data!AE$7)/1000000)","v":4.80995375},{"$f":"IF($B$2=\"トン\",AppQt.Data!AF21,(AppQt.Data!AF21*ozton*AppQt.Data!AF$7)/1000000)","v":4.7335237499999998},{"$f":"IF($B$2=\"トン\",AppQt.Data!AG21,(AppQt.Data!AG21*ozton*AppQt.Data!AG$7)/1000000)","v":4.6735367750000005},{"$f":"IF($B$2=\"トン\",AppQt.Data!AH21,(AppQt.Data!AH21*ozton*AppQt.Data!AH$7)/1000000)","v":4.6880001749999991},{"$f":"IF($B$2=\"トン\",AppQt.Data!AI21,(AppQt.Data!AI21*ozton*AppQt.Data!AI$7)/1000000)","v":4.646827375},{"$f":"IF($B$2=\"トン\",AppQt.Data!AJ21,(AppQt.Data!AJ21*ozton*AppQt.Data!AJ$7)/1000000)","v":4.549826575},{"$f":"IF($B$2=\"トン\",AppQt.Data!AK21,(AppQt.Data!AK21*ozton*AppQt.Data!AK$7)/1000000)","v":4.4673383040000001},{"$f":"IF($B$2=\"トン\",AppQt.Data!AL21,(AppQt.Data!AL21*ozton*AppQt.Data!AL$7)/1000000)","v":4.4873106079999996},{"$f":"IF($B$2=\"トン\",AppQt.Data!AM21,(AppQt.Data!AM21*ozton*AppQt.Data!AM$7)/1000000)","v":4.3720807199999996},{"$f":"IF($B$2=\"トン\",AppQt.Data!AN21,(AppQt.Data!AN21*ozton*AppQt.Data!AN$7)/1000000)","v":4.2985108319999998},{"$f":"IF($B$2=\"トン\",AppQt.Data!AO21,(AppQt.Data!AO21*ozton*AppQt.Data!AO$7)/1000000)","v":4.2227643902399992},{"$f":"IF($B$2=\"トン\",AppQt.Data!AP21,(AppQt.Data!AP21*ozton*AppQt.Data!AP$7)/1000000)","v":4.2350210796799992},{"$f":"IF($B$2=\"トン\",AppQt.Data!AQ21,(AppQt.Data!AQ21*ozton*AppQt.Data!AQ$7)/1000000)","v":4.0308603871999997},{"$f":"IF($B$2=\"トン\",AppQt.Data!AR21,(AppQt.Data!AR21*ozton*AppQt.Data!AR$7)/1000000)","v":3.8530786947200002},{"$f":"IF($B$2=\"トン\",AppQt.Data!AS21,(AppQt.Data!AS21*ozton*AppQt.Data!AS$7)/1000000)","v":3.9817083380351992},{"$f":"IF($B$2=\"トン\",AppQt.Data!AT21,(AppQt.Data!AT21*ozton*AppQt.Data!AT$7)/1000000)","v":3.9852430364927991},{"$f":"IF($B$2=\"トン\",AppQt.Data!AU21,(AppQt.Data!AU21*ozton*AppQt.Data!AU$7)/1000000)","v":3.7343339717120005},{"$f":"IF($B$2=\"トン\",AppQt.Data!AV21,(AppQt.Data!AV21*ozton*AppQt.Data!AV$7)/1000000)","v":3.5704283608255998},{"$f":"IF($B$2=\"トン\",AppQt.Data!AW21,(AppQt.Data!AW21*ozton*AppQt.Data!AW$7)/1000000)","v":3.5291332968744955},{"$f":"IF($B$2=\"トン\",AppQt.Data!AX21,(AppQt.Data!AX21*ozton*AppQt.Data!AX$7)/1000000)","v":3.705588011826944},{"$f":"IF($B$2=\"トン\",AppQt.Data!AY21,(AppQt.Data!AY21*ozton*AppQt.Data!AY$7)/1000000)","v":3.4872116216192004},{"$f":"IF($B$2=\"トン\",AppQt.Data!AZ21,(AppQt.Data!AZ21*ozton*AppQt.Data!AZ$7)/1000000)","v":3.2079120196571136},{"$f":"IF($B$2=\"トン\",AppQt.Data!BA21,(AppQt.Data!BA21*ozton*AppQt.Data!BA$7)/1000000)","v":3.200754887710771},{"$f":"IF($B$2=\"トン\",AppQt.Data!BB21,(AppQt.Data!BB21*ozton*AppQt.Data!BB$7)/1000000)","v":2.5735111665747965},{"$f":"IF($B$2=\"トン\",AppQt.Data!BC21,(AppQt.Data!BC21*ozton*AppQt.Data!BC$7)/1000000)","v":3.1368457636638718},{"$f":"IF($B$2=\"トン\",AppQt.Data!BD21,(AppQt.Data!BD21*ozton*AppQt.Data!BD$7)/1000000)","v":2.9449590732686342},{"$f":"IF($B$2=\"トン\",AppQt.Data!BE21,(AppQt.Data!BE21*ozton*AppQt.Data!BE$7)/1000000)","v":2.8982225533252324},{"$f":"IF($B$2=\"トン\",AppQt.Data!BF21,(AppQt.Data!BF21*ozton*AppQt.Data!BF$7)/1000000)","v":2.8848364922460568},{"$f":"IF($B$2=\"トン\",AppQt.Data!BG21,(AppQt.Data!BG21*ozton*AppQt.Data!BG$7)/1000000)","v":2.8434345401206786},{"$f":"IF($B$2=\"トン\",AppQt.Data!BH21,(AppQt.Data!BH21*ozton*AppQt.Data!BH$7)/1000000)","v":2.7265698807860019},{"$f":"IF($B$2=\"トン\",AppQt.Data!BI21,(AppQt.Data!BI21*ozton*AppQt.Data!BI$7)/1000000)","v":2.724057059954347},{"$f":"IF($B$2=\"トン\",AppQt.Data!BJ21,(AppQt.Data!BJ21*ozton*AppQt.Data!BJ$7)/1000000)","v":2.6443524625573147},{"$f":"IF($B$2=\"トン\",AppQt.Data!BK21,(AppQt.Data!BK21*ozton*AppQt.Data!BK$7)/1000000)","v":2.471164140241263},{"$f":"IF($B$2=\"トン\",AppQt.Data!BL21,(AppQt.Data!BL21*ozton*AppQt.Data!BL$7)/1000000)","v":2.4388868980195215},"▼",-10.551095161498248]
[null,"投資",{"$f":"IF($B$2=\"トン\",AppAn.Data!L21,(AppAn.Data!L21*ozton*AppAn.Data!L$6)/1000000)","v":1616.6469836318722},{"$f":"IF($B$2=\"トン\",AppAn.Data!M21,(AppAn.Data!M21*ozton*AppAn.Data!M$6)/1000000)","v":1744.3139008328728},{"$f":"IF($B$2=\"トン\",AppAn.Data!N21,(AppAn.Data!N21*ozton*AppAn.Data!N$6)/1000000)","v":1621.014162972861},{"$f":"IF($B$2=\"トン\",AppAn.Data!O21,(AppAn.Data!O21*ozton*AppAn.Data!O$6)/1000000)","v":797.69963494355352},{"$f":"IF($B$2=\"トン\",AppAn.Data!P21,(AppAn.Data!P21*ozton*AppAn.Data!P$6)/1000000)","v":900.72107847607515},{"$f":"IF($B$2=\"トン\",AppAn.Data!Q21,(AppAn.Data!Q21*ozton*AppAn.Data!Q$6)/1000000)","v":966.98106162141517},{"$f":"IF($B$2=\"トン\",AppAn.Data!R21,(AppAn.Data!R21*ozton*AppAn.Data!R$6)/1000000)","v":1614.2233734860213},{"$f":"IF($B$2=\"トン\",AppAn.Data!S21,(AppAn.Data!S21*ozton*AppAn.Data!S$6)/1000000)","v":1315.0075415706424},{"$f":"IF($B$2=\"トン\",AppAn.Data!T21,(AppAn.Data!T21*ozton*AppAn.Data!T$6)/1000000)","v":1163.9997098674307},{"$f":"IF($B$2=\"トン\",AppAn.Data!U21,(AppAn.Data!U21*ozton*AppAn.Data!U$6)/1000000)","v":1271.0609842130355},{"$f":"IF($B$2=\"トン\",AppAn.Data!V21,(AppAn.Data!V21*ozton*AppAn.Data!V$6)/1000000)","v":1796.2609744741917},{"$f":"IF($B$2=\"トン\",AppAn.Data!W21,(AppAn.Data!W21*ozton*AppAn.Data!W$6)/1000000)","v":1001.8782361789795},{"$f":"IF($B$2=\"トン\",AppAn.Data!X21,(AppAn.Data!X21*ozton*AppAn.Data!X$6)/1000000)","v":1106.7527412869993},"▲",10.467789529793169,null,{"$f":"IF($B$2=\"トン\",AppQt.Data!M22,(AppQt.Data!M22*ozton*AppQt.Data!M$7)/1000000)","v":273.98438617186218},{"$f":"IF($B$2=\"トン\",AppQt.Data!N22,(AppQt.Data!N22*ozton*AppQt.Data!N$7)/1000000)","v":609.79209709715155},{"$f":"IF($B$2=\"トン\",AppQt.Data!O22,(AppQt.Data!O22*ozton*AppQt.Data!O$7)/1000000)","v":371.6926223325392},{"$f":"IF($B$2=\"トン\",AppQt.Data!P22,(AppQt.Data!P22*ozton*AppQt.Data!P$7)/1000000)","v":361.17787803031928},{"$f":"IF($B$2=\"トン\",AppQt.Data!Q22,(AppQt.Data!Q22*ozton*AppQt.Data!Q$7)/1000000)","v":342.99557209503325},{"$f":"IF($B$2=\"トン\",AppQt.Data!R22,(AppQt.Data!R22*ozton*AppQt.Data!R$7)/1000000)","v":392.70192836810526},{"$f":"IF($B$2=\"トン\",AppQt.Data!S22,(AppQt.Data!S22*ozton*AppQt.Data!S$7)/1000000)","v":531.54468032602131},{"$f":"IF($B$2=\"トン\",AppQt.Data!T22,(AppQt.Data!T22*ozton*AppQt.Data!T$7)/1000000)","v":477.07172004371296},{"$f":"IF($B$2=\"トン\",AppQt.Data!U22,(AppQt.Data!U22*ozton*AppQt.Data!U$7)/1000000)","v":411.56078035139581},{"$f":"IF($B$2=\"トン\",AppQt.Data!V22,(AppQt.Data!V22*ozton*AppQt.Data!V$7)/1000000)","v":294.90904980105142},{"$f":"IF($B$2=\"トン\",AppQt.Data!W22,(AppQt.Data!W22*ozton*AppQt.Data!W$7)/1000000)","v":451.2092164459192},{"$f":"IF($B$2=\"トン\",AppQt.Data!X22,(AppQt.Data!X22*ozton*AppQt.Data!X$7)/1000000)","v":463.3351163744947},{"$f":"IF($B$2=\"トン\",AppQt.Data!Y22,(AppQt.Data!Y22*ozton*AppQt.Data!Y$7)/1000000)","v":251.51304437373599},{"$f":"IF($B$2=\"トン\",AppQt.Data!Z22,(AppQt.Data!Z22*ozton*AppQt.Data!Z$7)/1000000)","v":177.1478250071653},{"$f":"IF($B$2=\"トン\",AppQt.Data!AA22,(AppQt.Data!AA22*ozton*AppQt.Data!AA$7)/1000000)","v":203.28905027211547},{"$f":"IF($B$2=\"トン\",AppQt.Data!AB22,(AppQt.Data!AB22*ozton*AppQt.Data!AB$7)/1000000)","v":165.74971529053678},{"$f":"IF($B$2=\"トン\",AppQt.Data!AC22,(AppQt.Data!AC22*ozton*AppQt.Data!AC$7)/1000000)","v":284.67266685071343},{"$f":"IF($B$2=\"トン\",AppQt.Data!AD22,(AppQt.Data!AD22*ozton*AppQt.Data!AD$7)/1000000)","v":225.94057135792252},{"$f":"IF($B$2=\"トン\",AppQt.Data!AE22,(AppQt.Data!AE22*ozton*AppQt.Data!AE$7)/1000000)","v":190.42822268760324},{"$f":"IF($B$2=\"トン\",AppQt.Data!AF22,(AppQt.Data!AF22*ozton*AppQt.Data!AF$7)/1000000)","v":199.67961757983599},{"$f":"IF($B$2=\"トン\",AppQt.Data!AG22,(AppQt.Data!AG22*ozton*AppQt.Data!AG$7)/1000000)","v":294.5129206478843},{"$f":"IF($B$2=\"トン\",AppQt.Data!AH22,(AppQt.Data!AH22*ozton*AppQt.Data!AH$7)/1000000)","v":198.48317359780137},{"$f":"IF($B$2=\"トン\",AppQt.Data!AI22,(AppQt.Data!AI22*ozton*AppQt.Data!AI$7)/1000000)","v":239.78171210278322},{"$f":"IF($B$2=\"トン\",AppQt.Data!AJ22,(AppQt.Data!AJ22*ozton*AppQt.Data!AJ$7)/1000000)","v":234.20325527294636},{"$f":"IF($B$2=\"トン\",AppQt.Data!AK22,(AppQt.Data!AK22*ozton*AppQt.Data!AK$7)/1000000)","v":614.68352541917807},{"$f":"IF($B$2=\"トン\",AppQt.Data!AL22,(AppQt.Data!AL22*ozton*AppQt.Data!AL$7)/1000000)","v":459.80541287924711},{"$f":"IF($B$2=\"トン\",AppQt.Data!AM22,(AppQt.Data!AM22*ozton*AppQt.Data!AM$7)/1000000)","v":345.17485613269531},{"$f":"IF($B$2=\"トン\",AppQt.Data!AN22,(AppQt.Data!AN22*ozton*AppQt.Data!AN$7)/1000000)","v":194.55957905490078},{"$f":"IF($B$2=\"トン\",AppQt.Data!AO22,(AppQt.Data!AO22*ozton*AppQt.Data!AO$7)/1000000)","v":413.96649903846981},{"$f":"IF($B$2=\"トン\",AppQt.Data!AP22,(AppQt.Data!AP22*ozton*AppQt.Data!AP$7)/1000000)","v":311.29418902729213},{"$f":"IF($B$2=\"トン\",AppQt.Data!AQ22,(AppQt.Data!AQ22*ozton*AppQt.Data!AQ$7)/1000000)","v":264.88100216568552},{"$f":"IF($B$2=\"トン\",AppQt.Data!AR22,(AppQt.Data!AR22*ozton*AppQt.Data!AR$7)/1000000)","v":324.86585133919505},{"$f":"IF($B$2=\"トン\",AppQt.Data!AS22,(AppQt.Data!AS22*ozton*AppQt.Data!AS$7)/1000000)","v":290.40475120079424},{"$f":"IF($B$2=\"トン\",AppQt.Data!AT22,(AppQt.Data!AT22*ozton*AppQt.Data!AT$7)/1000000)","v":277.90397762042414},{"$f":"IF($B$2=\"トン\",AppQt.Data!AU22,(AppQt.Data!AU22*ozton*AppQt.Data!AU$7)/1000000)","v":196.63611976186729},{"$f":"IF($B$2=\"トン\",AppQt.Data!AV22,(AppQt.Data!AV22*ozton*AppQt.Data!AV$7)/1000000)","v":399.05486128434507},{"$f":"IF($B$2=\"トン\",AppQt.Data!AW22,(AppQt.Data!AW22*ozton*AppQt.Data!AW$7)/1000000)","v":301.18781216753507},{"$f":"IF($B$2=\"トン\",AppQt.Data!AX22,(AppQt.Data!AX22*ozton*AppQt.Data!AX$7)/1000000)","v":292.72540482238031},{"$f":"IF($B$2=\"トン\",AppQt.Data!AY22,(AppQt.Data!AY22*ozton*AppQt.Data!AY$7)/1000000)","v":412.0637939709967},{"$f":"IF($B$2=\"トン\",AppQt.Data!AZ22,(AppQt.Data!AZ22*ozton*AppQt.Data!AZ$7)/1000000)","v":265.08397325212337},{"$f":"IF($B$2=\"トン\",AppQt.Data!BA22,(AppQt.Data!BA22*ozton*AppQt.Data!BA$7)/1000000)","v":553.75291469053286},{"$f":"IF($B$2=\"トン\",AppQt.Data!BB22,(AppQt.Data!BB22*ozton*AppQt.Data!BB$7)/1000000)","v":592.81201736673074},{"$f":"IF($B$2=\"トン\",AppQt.Data!BC22,(AppQt.Data!BC22*ozton*AppQt.Data!BC$7)/1000000)","v":505.47556963419458},{"$f":"IF($B$2=\"トン\",AppQt.Data!BD22,(AppQt.Data!BD22*ozton*AppQt.Data!BD$7)/1000000)","v":144.22047278273351},{"$f":"IF($B$2=\"トン\",AppQt.Data!BE22,(AppQt.Data!BE22*ozton*AppQt.Data!BE$7)/1000000)","v":178.24533771160776},{"$f":"IF($B$2=\"トン\",AppQt.Data!BF22,(AppQt.Data!BF22*ozton*AppQt.Data!BF$7)/1000000)","v":288.90560200913819},{"$f":"IF($B$2=\"トン\",AppQt.Data!BG22,(AppQt.Data!BG22*ozton*AppQt.Data!BG$7)/1000000)","v":231.3267748608227},{"$f":"IF($B$2=\"トン\",AppQt.Data!BH22,(AppQt.Data!BH22*ozton*AppQt.Data!BH$7)/1000000)","v":303.40052159741083},{"$f":"IF($B$2=\"トン\",AppQt.Data!BI22,(AppQt.Data!BI22*ozton*AppQt.Data!BI$7)/1000000)","v":553.8546514837642},{"$f":"IF($B$2=\"トン\",AppQt.Data!BJ22,(AppQt.Data!BJ22*ozton*AppQt.Data!BJ$7)/1000000)","v":210.15295132350974},{"$f":"IF($B$2=\"トン\",AppQt.Data!BK22,(AppQt.Data!BK22*ozton*AppQt.Data!BK$7)/1000000)","v":97.046176194922708},{"$f":"IF($B$2=\"トン\",AppQt.Data!BL22,(AppQt.Data!BL22*ozton*AppQt.Data!BL$7)/1000000)","v":245.69896228480258},"▼",-19.01827953650449]
[null,"地金&コイン合計",{"$f":"IF($B$2=\"トン\",AppAn.Data!L22,(AppAn.Data!L22*ozton*AppAn.Data!L$6)/1000000)","v":1204.2943132718719},{"$f":"IF($B$2=\"トン\",AppAn.Data!M22,(AppAn.Data!M22*ozton*AppAn.Data!M$6)/1000000)","v":1501.9726045328728},{"$f":"IF($B$2=\"トン\",AppAn.Data!N22,(AppAn.Data!N22*ozton*AppAn.Data!N$6)/1000000)","v":1322.3503054728612},{"$f":"IF($B$2=\"トン\",AppAn.Data!O22,(AppAn.Data!O22*ozton*AppAn.Data!O$6)/1000000)","v":1729.7111488035534},{"$f":"IF($B$2=\"トン\",AppAn.Data!P22,(AppAn.Data!P22*ozton*AppAn.Data!P$6)/1000000)","v":1066.6484448860751},{"$f":"IF($B$2=\"トン\",AppAn.Data!Q22,(AppAn.Data!Q22*ozton*AppAn.Data!Q$6)/1000000)","v":1090.716549551415},{"$f":"IF($B$2=\"トン\",AppAn.Data!R22,(AppAn.Data!R22*ozton*AppAn.Data!R$6)/1000000)","v":1072.8817585160211},{"$f":"IF($B$2=\"トン\",AppAn.Data!S22,(AppAn.Data!S22*ozton*AppAn.Data!S$6)/1000000)","v":1044.0592659806425},{"$f":"IF($B$2=\"トン\",AppAn.Data!T22,(AppAn.Data!T22*ozton*AppAn.Data!T$6)/1000000)","v":1090.4494336674306},{"$f":"IF($B$2=\"トン\",AppAn.Data!U22,(AppAn.Data!U22*ozton*AppAn.Data!U$6)/1000000)","v":870.87281957303549},{"$f":"IF($B$2=\"トン\",AppAn.Data!V22,(AppAn.Data!V22*ozton*AppAn.Data!V$6)/1000000)","v":903.83043749419164},{"$f":"IF($B$2=\"トン\",AppAn.Data!W22,(AppAn.Data!W22*ozton*AppAn.Data!W$6)/1000000)","v":1190.8837771789795},{"$f":"IF($B$2=\"トン\",AppAn.Data!X22,(AppAn.Data!X22*ozton*AppAn.Data!X$6)/1000000)","v":1217.1172478269991},"▲",2.2028573359327064,null,{"$f":"IF($B$2=\"トン\",AppQt.Data!M23,(AppQt.Data!M23*ozton*AppQt.Data!M$7)/1000000)","v":252.01793543186216},{"$f":"IF($B$2=\"トン\",AppQt.Data!N23,(AppQt.Data!N23*ozton*AppQt.Data!N$7)/1000000)","v":306.15778790715143},{"$f":"IF($B$2=\"トン\",AppQt.Data!O23,(AppQt.Data!O23*ozton*AppQt.Data!O$7)/1000000)","v":317.79766550253919},{"$f":"IF($B$2=\"トン\",AppQt.Data!P23,(AppQt.Data!P23*ozton*AppQt.Data!P$7)/1000000)","v":328.32092443031928},{"$f":"IF($B$2=\"トン\",AppQt.Data!Q23,(AppQt.Data!Q23*ozton*AppQt.Data!Q$7)/1000000)","v":396.35238455503327},{"$f":"IF($B$2=\"トン\",AppQt.Data!R23,(AppQt.Data!R23*ozton*AppQt.Data!R$7)/1000000)","v":333.64038851810528},{"$f":"IF($B$2=\"トン\",AppQt.Data!S23,(AppQt.Data!S23*ozton*AppQt.Data!S$7)/1000000)","v":418.61423416602139},{"$f":"IF($B$2=\"トン\",AppQt.Data!T23,(AppQt.Data!T23*ozton*AppQt.Data!T$7)/1000000)","v":353.36559729371294},{"$f":"IF($B$2=\"トン\",AppQt.Data!U23,(AppQt.Data!U23*ozton*AppQt.Data!U$7)/1000000)","v":346.87527773139584},{"$f":"IF($B$2=\"トン\",AppQt.Data!V23,(AppQt.Data!V23*ozton*AppQt.Data!V$7)/1000000)","v":296.16589811105138},{"$f":"IF($B$2=\"トン\",AppQt.Data!W23,(AppQt.Data!W23*ozton*AppQt.Data!W$7)/1000000)","v":303.58087185591916},{"$f":"IF($B$2=\"トン\",AppQt.Data!X23,(AppQt.Data!X23*ozton*AppQt.Data!X$7)/1000000)","v":375.72825777449475},{"$f":"IF($B$2=\"トン\",AppQt.Data!Y23,(AppQt.Data!Y23*ozton*AppQt.Data!Y$7)/1000000)","v":443.16924888373597},{"$f":"IF($B$2=\"トン\",AppQt.Data!Z23,(AppQt.Data!Z23*ozton*AppQt.Data!Z$7)/1000000)","v":599.40350003716514},{"$f":"IF($B$2=\"トン\",AppQt.Data!AA23,(AppQt.Data!AA23*ozton*AppQt.Data!AA$7)/1000000)","v":326.99277432211545},{"$f":"IF($B$2=\"トン\",AppQt.Data!AB23,(AppQt.Data!AB23*ozton*AppQt.Data!AB$7)/1000000)","v":360.14562556053681},{"$f":"IF($B$2=\"トン\",AppQt.Data!AC23,(AppQt.Data!AC23*ozton*AppQt.Data!AC$7)/1000000)","v":293.2162371207134},{"$f":"IF($B$2=\"トン\",AppQt.Data!AD23,(AppQt.Data!AD23*ozton*AppQt.Data!AD$7)/1000000)","v":248.75790804792251},{"$f":"IF($B$2=\"トン\",AppQt.Data!AE23,(AppQt.Data!AE23*ozton*AppQt.Data!AE$7)/1000000)","v":240.90581708760328},{"$f":"IF($B$2=\"トン\",AppQt.Data!AF23,(AppQt.Data!AF23*ozton*AppQt.Data!AF$7)/1000000)","v":283.768482629836},{"$f":"IF($B$2=\"トン\",AppQt.Data!AG23,(AppQt.Data!AG23*ozton*AppQt.Data!AG$7)/1000000)","v":266.72729141788432},{"$f":"IF($B$2=\"トン\",AppQt.Data!AH23,(AppQt.Data!AH23*ozton*AppQt.Data!AH$7)/1000000)","v":218.47170469780136},{"$f":"IF($B$2=\"トン\",AppQt.Data!AI23,(AppQt.Data!AI23*ozton*AppQt.Data!AI$7)/1000000)","v":305.01386151278314},{"$f":"IF($B$2=\"トン\",AppQt.Data!AJ23,(AppQt.Data!AJ23*ozton*AppQt.Data!AJ$7)/1000000)","v":300.50369192294636},{"$f":"IF($B$2=\"トン\",AppQt.Data!AK23,(AppQt.Data!AK23*ozton*AppQt.Data!AK$7)/1000000)","v":272.20296144917796},{"$f":"IF($B$2=\"トン\",AppQt.Data!AL23,(AppQt.Data!AL23*ozton*AppQt.Data!AL$7)/1000000)","v":220.98687775924702},{"$f":"IF($B$2=\"トン\",AppQt.Data!AM23,(AppQt.Data!AM23*ozton*AppQt.Data!AM$7)/1000000)","v":199.96661480269529},{"$f":"IF($B$2=\"トン\",AppQt.Data!AN23,(AppQt.Data!AN23*ozton*AppQt.Data!AN$7)/1000000)","v":379.72530450490086},{"$f":"IF($B$2=\"トン\",AppQt.Data!AO23,(AppQt.Data!AO23*ozton*AppQt.Data!AO$7)/1000000)","v":304.05328408846981},{"$f":"IF($B$2=\"トン\",AppQt.Data!AP23,(AppQt.Data!AP23*ozton*AppQt.Data!AP$7)/1000000)","v":248.37124662729215},{"$f":"IF($B$2=\"トン\",AppQt.Data!AQ23,(AppQt.Data!AQ23*ozton*AppQt.Data!AQ$7)/1000000)","v":232.92731662568548},{"$f":"IF($B$2=\"トン\",AppQt.Data!AR23,(AppQt.Data!AR23*ozton*AppQt.Data!AR$7)/1000000)","v":258.70741863919511},{"$f":"IF($B$2=\"トン\",AppQt.Data!AS23,(AppQt.Data!AS23*ozton*AppQt.Data!AS$7)/1000000)","v":261.25433421079424},{"$f":"IF($B$2=\"トン\",AppQt.Data!AT23,(AppQt.Data!AT23*ozton*AppQt.Data!AT$7)/1000000)","v":247.99540310042417},{"$f":"IF($B$2=\"トン\",AppQt.Data!AU23,(AppQt.Data!AU23*ozton*AppQt.Data!AU$7)/1000000)","v":297.41020610186729},{"$f":"IF($B$2=\"トン\",AppQt.Data!AV23,(AppQt.Data!AV23*ozton*AppQt.Data!AV$7)/1000000)","v":283.78949025434491},{"$f":"IF($B$2=\"トン\",AppQt.Data!AW23,(AppQt.Data!AW23*ozton*AppQt.Data!AW$7)/1000000)","v":258.24655255753504},{"$f":"IF($B$2=\"トン\",AppQt.Data!AX23,(AppQt.Data!AX23*ozton*AppQt.Data!AX$7)/1000000)","v":219.7440227723803},{"$f":"IF($B$2=\"トン\",AppQt.Data!AY23,(AppQt.Data!AY23*ozton*AppQt.Data!AY$7)/1000000)","v":150.36127411099673},{"$f":"IF($B$2=\"トン\",AppQt.Data!AZ23,(AppQt.Data!AZ23*ozton*AppQt.Data!AZ$7)/1000000)","v":242.52097013212341},{"$f":"IF($B$2=\"トン\",AppQt.Data!BA23,(AppQt.Data!BA23*ozton*AppQt.Data!BA$7)/1000000)","v":253.33349147053283},{"$f":"IF($B$2=\"トン\",AppQt.Data!BB23,(AppQt.Data!BB23*ozton*AppQt.Data!BB$7)/1000000)","v":159.29060820673084},{"$f":"IF($B$2=\"トン\",AppQt.Data!BC23,(AppQt.Data!BC23*ozton*AppQt.Data!BC$7)/1000000)","v":221.45572739419447},{"$f":"IF($B$2=\"トン\",AppQt.Data!BD23,(AppQt.Data!BD23*ozton*AppQt.Data!BD$7)/1000000)","v":269.75061042273353},{"$f":"IF($B$2=\"トン\",AppQt.Data!BE23,(AppQt.Data!BE23*ozton*AppQt.Data!BE$7)/1000000)","v":354.5682895116077},{"$f":"IF($B$2=\"トン\",AppQt.Data!BF23,(AppQt.Data!BF23*ozton*AppQt.Data!BF$7)/1000000)","v":248.21392722913816},{"$f":"IF($B$2=\"トン\",AppQt.Data!BG23,(AppQt.Data!BG23*ozton*AppQt.Data!BG$7)/1000000)","v":261.7102278308227},{"$f":"IF($B$2=\"トン\",AppQt.Data!BH23,(AppQt.Data!BH23*ozton*AppQt.Data!BH$7)/1000000)","v":326.39133260741085},{"$f":"IF($B$2=\"トン\",AppQt.Data!BI23,(AppQt.Data!BI23*ozton*AppQt.Data!BI$7)/1000000)","v":283.18829545376406},{"$f":"IF($B$2=\"トン\",AppQt.Data!BJ23,(AppQt.Data!BJ23*ozton*AppQt.Data!BJ$7)/1000000)","v":257.51801139350965},{"$f":"IF($B$2=\"トン\",AppQt.Data!BK23,(AppQt.Data!BK23*ozton*AppQt.Data!BK$7)/1000000)","v":341.14212572492272},{"$f":"IF($B$2=\"トン\",AppQt.Data!BL23,(AppQt.Data!BL23*ozton*AppQt.Data!BL$7)/1000000)","v":335.26881525480258},"▲",2.7198892128884156]
[null,"金地金現物需要",{"$f":"IF($B$2=\"トン\",AppAn.Data!L23,(AppAn.Data!L23*ozton*AppAn.Data!L$6)/1000000)","v":921.18239751262047},{"$f":"IF($B$2=\"トン\",AppAn.Data!M23,(AppAn.Data!M23*ozton*AppAn.Data!M$6)/1000000)","v":1189.5055575980573},{"$f":"IF($B$2=\"トン\",AppAn.Data!N23,(AppAn.Data!N23*ozton*AppAn.Data!N$6)/1000000)","v":1023.1954714607464},{"$f":"IF($B$2=\"トン\",AppAn.Data!O23,(AppAn.Data!O23*ozton*AppAn.Data!O$6)/1000000)","v":1357.3771874522165},{"$f":"IF($B$2=\"トン\",AppAn.Data!P23,(AppAn.Data!P23*ozton*AppAn.Data!P$6)/1000000)","v":780.54370276737279},{"$f":"IF($B$2=\"トン\",AppAn.Data!Q23,(AppAn.Data!Q23*ozton*AppAn.Data!Q$6)/1000000)","v":790.39121354034285},{"$f":"IF($B$2=\"トン\",AppAn.Data!R23,(AppAn.Data!R23*ozton*AppAn.Data!R$6)/1000000)","v":797.36001629854923},{"$f":"IF($B$2=\"トン\",AppAn.Data!S23,(AppAn.Data!S23*ozton*AppAn.Data!S$6)/1000000)","v":779.85036691590255},{"$f":"IF($B$2=\"トン\",AppAn.Data!T23,(AppAn.Data!T23*ozton*AppAn.Data!T$6)/1000000)","v":775.58927693810165},{"$f":"IF($B$2=\"トン\",AppAn.Data!U23,(AppAn.Data!U23*ozton*AppAn.Data!U$6)/1000000)","v":583.45409125527567},{"$f":"IF($B$2=\"トン\",AppAn.Data!V23,(AppAn.Data!V23*ozton*AppAn.Data!V$6)/1000000)","v":541.84207375882738},{"$f":"IF($B$2=\"トン\",AppAn.Data!W23,(AppAn.Data!W23*ozton*AppAn.Data!W$6)/1000000)","v":810.80681276971882},{"$f":"IF($B$2=\"トン\",AppAn.Data!X23,(AppAn.Data!X23*ozton*AppAn.Data!X$6)/1000000)","v":790.91865038710523},"▼",-2.4528854554977886,null,{"$f":"IF($B$2=\"トン\",AppQt.Data!M24,(AppQt.Data!M24*ozton*AppQt.Data!M$7)/1000000)","v":189.79848114802644},{"$f":"IF($B$2=\"トン\",AppQt.Data!N24,(AppQt.Data!N24*ozton*AppQt.Data!N$7)/1000000)","v":226.86390768313976},{"$f":"IF($B$2=\"トン\",AppQt.Data!O24,(AppQt.Data!O24*ozton*AppQt.Data!O$7)/1000000)","v":239.62360525752359},{"$f":"IF($B$2=\"トン\",AppQt.Data!P24,(AppQt.Data!P24*ozton*AppQt.Data!P$7)/1000000)","v":264.89640342393068},{"$f":"IF($B$2=\"トン\",AppQt.Data!Q24,(AppQt.Data!Q24*ozton*AppQt.Data!Q$7)/1000000)","v":316.5910323554823},{"$f":"IF($B$2=\"トン\",AppQt.Data!R24,(AppQt.Data!R24*ozton*AppQt.Data!R$7)/1000000)","v":262.63830216867433},{"$f":"IF($B$2=\"トン\",AppQt.Data!S24,(AppQt.Data!S24*ozton*AppQt.Data!S$7)/1000000)","v":330.05222285066066},{"$f":"IF($B$2=\"トン\",AppQt.Data!T24,(AppQt.Data!T24*ozton*AppQt.Data!T$7)/1000000)","v":280.22400022323995},{"$f":"IF($B$2=\"トン\",AppQt.Data!U24,(AppQt.Data!U24*ozton*AppQt.Data!U$7)/1000000)","v":273.07426782650697},{"$f":"IF($B$2=\"トン\",AppQt.Data!V24,(AppQt.Data!V24*ozton*AppQt.Data!V$7)/1000000)","v":225.33507174175432},{"$f":"IF($B$2=\"トン\",AppQt.Data!W24,(AppQt.Data!W24*ozton*AppQt.Data!W$7)/1000000)","v":231.42056026163945},{"$f":"IF($B$2=\"トン\",AppQt.Data!X24,(AppQt.Data!X24*ozton*AppQt.Data!X$7)/1000000)","v":293.36557163084552},{"$f":"IF($B$2=\"トン\",AppQt.Data!Y24,(AppQt.Data!Y24*ozton*AppQt.Data!Y$7)/1000000)","v":341.87965441743233},{"$f":"IF($B$2=\"トン\",AppQt.Data!Z24,(AppQt.Data!Z24*ozton*AppQt.Data!Z$7)/1000000)","v":476.42264640676524},{"$f":"IF($B$2=\"トン\",AppQt.Data!AA24,(AppQt.Data!AA24*ozton*AppQt.Data!AA$7)/1000000)","v":267.34676283111594},{"$f":"IF($B$2=\"トン\",AppQt.Data!AB24,(AppQt.Data!AB24*ozton*AppQt.Data!AB$7)/1000000)","v":271.72812379690293},{"$f":"IF($B$2=\"トン\",AppQt.Data!AC24,(AppQt.Data!AC24*ozton*AppQt.Data!AC$7)/1000000)","v":210.60550833083593},{"$f":"IF($B$2=\"トン\",AppQt.Data!AD24,(AppQt.Data!AD24*ozton*AppQt.Data!AD$7)/1000000)","v":179.65594996242783},{"$f":"IF($B$2=\"トン\",AppQt.Data!AE24,(AppQt.Data!AE24*ozton*AppQt.Data!AE$7)/1000000)","v":183.06130903443434},{"$f":"IF($B$2=\"トン\",AppQt.Data!AF24,(AppQt.Data!AF24*ozton*AppQt.Data!AF$7)/1000000)","v":207.22093543967472},{"$f":"IF($B$2=\"トン\",AppQt.Data!AG24,(AppQt.Data!AG24*ozton*AppQt.Data!AG$7)/1000000)","v":199.52162254833448},{"$f":"IF($B$2=\"トン\",AppQt.Data!AH24,(AppQt.Data!AH24*ozton*AppQt.Data!AH$7)/1000000)","v":157.47878928374635},{"$f":"IF($B$2=\"トン\",AppQt.Data!AI24,(AppQt.Data!AI24*ozton*AppQt.Data!AI$7)/1000000)","v":207.62741485694721},{"$f":"IF($B$2=\"トン\",AppQt.Data!AJ24,(AppQt.Data!AJ24*ozton*AppQt.Data!AJ$7)/1000000)","v":225.76338685131478},{"$f":"IF($B$2=\"トン\",AppQt.Data!AK24,(AppQt.Data!AK24*ozton*AppQt.Data!AK$7)/1000000)","v":210.20800356870831},{"$f":"IF($B$2=\"トン\",AppQt.Data!AL24,(AppQt.Data!AL24*ozton*AppQt.Data!AL$7)/1000000)","v":161.14372713276521},{"$f":"IF($B$2=\"トン\",AppQt.Data!AM24,(AppQt.Data!AM24*ozton*AppQt.Data!AM$7)/1000000)","v":147.26992793567268},{"$f":"IF($B$2=\"トン\",AppQt.Data!AN24,(AppQt.Data!AN24*ozton*AppQt.Data!AN$7)/1000000)","v":278.73835766140309},{"$f":"IF($B$2=\"トン\",AppQt.Data!AO24,(AppQt.Data!AO24*ozton*AppQt.Data!AO$7)/1000000)","v":245.57254939207067},{"$f":"IF($B$2=\"トン\",AppQt.Data!AP24,(AppQt.Data!AP24*ozton*AppQt.Data!AP$7)/1000000)","v":181.24422246569461},{"$f":"IF($B$2=\"トン\",AppQt.Data!AQ24,(AppQt.Data!AQ24*ozton*AppQt.Data!AQ$7)/1000000)","v":165.0465784988954},{"$f":"IF($B$2=\"トン\",AppQt.Data!AR24,(AppQt.Data!AR24*ozton*AppQt.Data!AR$7)/1000000)","v":187.98701655924182},{"$f":"IF($B$2=\"トン\",AppQt.Data!AS24,(AppQt.Data!AS24*ozton*AppQt.Data!AS$7)/1000000)","v":195.29951588529713},{"$f":"IF($B$2=\"トン\",AppQt.Data!AT24,(AppQt.Data!AT24*ozton*AppQt.Data!AT$7)/1000000)","v":179.17257514787426},{"$f":"IF($B$2=\"トン\",AppQt.Data!AU24,(AppQt.Data!AU24*ozton*AppQt.Data!AU$7)/1000000)","v":207.5951749953141},{"$f":"IF($B$2=\"トン\",AppQt.Data!AV24,(AppQt.Data!AV24*ozton*AppQt.Data!AV$7)/1000000)","v":193.5220109096162},{"$f":"IF($B$2=\"トン\",AppQt.Data!AW24,(AppQt.Data!AW24*ozton*AppQt.Data!AW$7)/1000000)","v":186.09668963515153},{"$f":"IF($B$2=\"トン\",AppQt.Data!AX24,(AppQt.Data!AX24*ozton*AppQt.Data!AX$7)/1000000)","v":151.03090920653636},{"$f":"IF($B$2=\"トン\",AppQt.Data!AY24,(AppQt.Data!AY24*ozton*AppQt.Data!AY$7)/1000000)","v":92.678910140180861},{"$f":"IF($B$2=\"トン\",AppQt.Data!AZ24,(AppQt.Data!AZ24*ozton*AppQt.Data!AZ$7)/1000000)","v":153.64758227340693},{"$f":"IF($B$2=\"トン\",AppQt.Data!BA24,(AppQt.Data!BA24*ozton*AppQt.Data!BA$7)/1000000)","v":160.07560734206166},{"$f":"IF($B$2=\"トン\",AppQt.Data!BB24,(AppQt.Data!BB24*ozton*AppQt.Data!BB$7)/1000000)","v":96.20181972547968},{"$f":"IF($B$2=\"トン\",AppQt.Data!BC24,(AppQt.Data!BC24*ozton*AppQt.Data!BC$7)/1000000)","v":114.74044593264919},{"$f":"IF($B$2=\"トン\",AppQt.Data!BD24,(AppQt.Data!BD24*ozton*AppQt.Data!BD$7)/1000000)","v":170.82420075863683},{"$f":"IF($B$2=\"トン\",AppQt.Data!BE24,(AppQt.Data!BE24*ozton*AppQt.Data!BE$7)/1000000)","v":233.96690754527631},{"$f":"IF($B$2=\"トン\",AppQt.Data!BF24,(AppQt.Data!BF24*ozton*AppQt.Data!BF$7)/1000000)","v":172.58074106409913},{"$f":"IF($B$2=\"トン\",AppQt.Data!BG24,(AppQt.Data!BG24*ozton*AppQt.Data!BG$7)/1000000)","v":180.31635935402241},{"$f":"IF($B$2=\"トン\",AppQt.Data!BH24,(AppQt.Data!BH24*ozton*AppQt.Data!BH$7)/1000000)","v":223.94280480632094},{"$f":"IF($B$2=\"トン\",AppQt.Data!BI24,(AppQt.Data!BI24*ozton*AppQt.Data!BI$7)/1000000)","v":180.56033779207982},{"$f":"IF($B$2=\"トン\",AppQt.Data!BJ24,(AppQt.Data!BJ24*ozton*AppQt.Data!BJ$7)/1000000)","v":170.58972795248818},{"$f":"IF($B$2=\"トン\",AppQt.Data!BK24,(AppQt.Data!BK24*ozton*AppQt.Data!BK$7)/1000000)","v":221.19724405125032},{"$f":"IF($B$2=\"トン\",AppQt.Data!BL24,(AppQt.Data!BL24*ozton*AppQt.Data!BL$7)/1000000)","v":218.57134059128694},"▼",-2.3985875409926916]
[null,"公定金貨",{"$f":"IF($B$2=\"トン\",AppAn.Data!L24,(AppAn.Data!L24*ozton*AppAn.Data!L$6)/1000000)","v":195.90280152246115},{"$f":"IF($B$2=\"トン\",AppAn.Data!M24,(AppAn.Data!M24*ozton*AppAn.Data!M$6)/1000000)","v":228.29429744698172},{"$f":"IF($B$2=\"トン\",AppAn.Data!N24,(AppAn.Data!N24*ozton*AppAn.Data!N$6)/1000000)","v":187.47163514365073},{"$f":"IF($B$2=\"トン\",AppAn.Data!O24,(AppAn.Data!O24*ozton*AppAn.Data!O$6)/1000000)","v":270.89434517212578},{"$f":"IF($B$2=\"トン\",AppAn.Data!P24,(AppAn.Data!P24*ozton*AppAn.Data!P$6)/1000000)","v":205.46215862768014},{"$f":"IF($B$2=\"トン\",AppAn.Data!Q24,(AppAn.Data!Q24*ozton*AppAn.Data!Q$6)/1000000)","v":224.34257305299167},{"$f":"IF($B$2=\"トン\",AppAn.Data!R24,(AppAn.Data!R24*ozton*AppAn.Data!R$6)/1000000)","v":207.87134936422035},{"$f":"IF($B$2=\"トン\",AppAn.Data!S24,(AppAn.Data!S24*ozton*AppAn.Data!S$6)/1000000)","v":188.11860999278139},{"$f":"IF($B$2=\"トン\",AppAn.Data!T24,(AppAn.Data!T24*ozton*AppAn.Data!T$6)/1000000)","v":241.88379511015017},{"$f":"IF($B$2=\"トン\",AppAn.Data!U24,(AppAn.Data!U24*ozton*AppAn.Data!U$6)/1000000)","v":220.65234389946602},{"$f":"IF($B$2=\"トン\",AppAn.Data!V24,(AppAn.Data!V24*ozton*AppAn.Data!V$6)/1000000)","v":292.8690132651617},{"$f":"IF($B$2=\"トン\",AppAn.Data!W24,(AppAn.Data!W24*ozton*AppAn.Data!W$6)/1000000)","v":295.24422497751044},{"$f":"IF($B$2=\"トン\",AppAn.Data!X24,(AppAn.Data!X24*ozton*AppAn.Data!X$6)/1000000)","v":334.82333752846523},"▲",13.405550118370524,null,{"$f":"IF($B$2=\"トン\",AppQt.Data!M25,(AppQt.Data!M25*ozton*AppQt.Data!M$7)/1000000)","v":39.597481748265722},{"$f":"IF($B$2=\"トン\",AppQt.Data!N25,(AppQt.Data!N25*ozton*AppQt.Data!N$7)/1000000)","v":63.682450265064972},{"$f":"IF($B$2=\"トン\",AppQt.Data!O25,(AppQt.Data!O25*ozton*AppQt.Data!O$7)/1000000)","v":53.68420736227602},{"$f":"IF($B$2=\"トン\",AppQt.Data!P25,(AppQt.Data!P25*ozton*AppQt.Data!P$7)/1000000)","v":38.938662146854426},{"$f":"IF($B$2=\"トン\",AppQt.Data!Q25,(AppQt.Data!Q25*ozton*AppQt.Data!Q$7)/1000000)","v":55.803044475148766},{"$f":"IF($B$2=\"トン\",AppQt.Data!R25,(AppQt.Data!R25*ozton*AppQt.Data!R$7)/1000000)","v":46.857114943526589},{"$f":"IF($B$2=\"トン\",AppQt.Data!S25,(AppQt.Data!S25*ozton*AppQt.Data!S$7)/1000000)","v":69.606120334381501},{"$f":"IF($B$2=\"トン\",AppQt.Data!T25,(AppQt.Data!T25*ozton*AppQt.Data!T$7)/1000000)","v":56.028017693924852},{"$f":"IF($B$2=\"トン\",AppQt.Data!U25,(AppQt.Data!U25*ozton*AppQt.Data!U$7)/1000000)","v":47.723847051231573},{"$f":"IF($B$2=\"トン\",AppQt.Data!V25,(AppQt.Data!V25*ozton*AppQt.Data!V$7)/1000000)","v":48.38245729083188},{"$f":"IF($B$2=\"トン\",AppQt.Data!W25,(AppQt.Data!W25*ozton*AppQt.Data!W$7)/1000000)","v":42.864558583101235},{"$f":"IF($B$2=\"トン\",AppQt.Data!X25,(AppQt.Data!X25*ozton*AppQt.Data!X$7)/1000000)","v":48.500772218486055},{"$f":"IF($B$2=\"トン\",AppQt.Data!Y25,(AppQt.Data!Y25*ozton*AppQt.Data!Y$7)/1000000)","v":71.679452276996486},{"$f":"IF($B$2=\"トン\",AppQt.Data!Z25,(AppQt.Data!Z25*ozton*AppQt.Data!Z$7)/1000000)","v":86.567821920180435},{"$f":"IF($B$2=\"トン\",AppQt.Data!AA25,(AppQt.Data!AA25*ozton*AppQt.Data!AA$7)/1000000)","v":42.951128733627804},{"$f":"IF($B$2=\"トン\",AppQt.Data!AB25,(AppQt.Data!AB25*ozton*AppQt.Data!AB$7)/1000000)","v":69.695942241321063},{"$f":"IF($B$2=\"トン\",AppQt.Data!AC25,(AppQt.Data!AC25*ozton*AppQt.Data!AC$7)/1000000)","v":64.835922343075623},{"$f":"IF($B$2=\"トン\",AppQt.Data!AD25,(AppQt.Data!AD25*ozton*AppQt.Data!AD$7)/1000000)","v":49.30238386049276},{"$f":"IF($B$2=\"トン\",AppQt.Data!AE25,(AppQt.Data!AE25*ozton*AppQt.Data!AE$7)/1000000)","v":36.006186683886611},{"$f":"IF($B$2=\"トン\",AppQt.Data!AF25,(AppQt.Data!AF25*ozton*AppQt.Data!AF$7)/1000000)","v":55.317665740225152},{"$f":"IF($B$2=\"トン\",AppQt.Data!AG25,(AppQt.Data!AG25*ozton*AppQt.Data!AG$7)/1000000)","v":51.059861824921036},{"$f":"IF($B$2=\"トン\",AppQt.Data!AH25,(AppQt.Data!AH25*ozton*AppQt.Data!AH$7)/1000000)","v":45.978139487640973},{"$f":"IF($B$2=\"トン\",AppQt.Data!AI25,(AppQt.Data!AI25*ozton*AppQt.Data!AI$7)/1000000)","v":74.689865903474512},{"$f":"IF($B$2=\"トン\",AppQt.Data!AJ25,(AppQt.Data!AJ25*ozton*AppQt.Data!AJ$7)/1000000)","v":52.614705836955132},{"$f":"IF($B$2=\"トン\",AppQt.Data!AK25,(AppQt.Data!AK25*ozton*AppQt.Data!AK$7)/1000000)","v":49.255593135468104},{"$f":"IF($B$2=\"トン\",AppQt.Data!AL25,(AppQt.Data!AL25*ozton*AppQt.Data!AL$7)/1000000)","v":46.127976925230755},{"$f":"IF($B$2=\"トン\",AppQt.Data!AM25,(AppQt.Data!AM25*ozton*AppQt.Data!AM$7)/1000000)","v":34.571636013626218},{"$f":"IF($B$2=\"トン\",AppQt.Data!AN25,(AppQt.Data!AN25*ozton*AppQt.Data!AN$7)/1000000)","v":77.91614328989526},{"$f":"IF($B$2=\"トン\",AppQt.Data!AO25,(AppQt.Data!AO25*ozton*AppQt.Data!AO$7)/1000000)","v":41.706160223219335},{"$f":"IF($B$2=\"トン\",AppQt.Data!AP25,(AppQt.Data!AP25*ozton*AppQt.Data!AP$7)/1000000)","v":47.967057098481042},{"$f":"IF($B$2=\"トン\",AppQt.Data!AQ25,(AppQt.Data!AQ25*ozton*AppQt.Data!AQ$7)/1000000)","v":50.211863950728358},{"$f":"IF($B$2=\"トン\",AppQt.Data!AR25,(AppQt.Data!AR25*ozton*AppQt.Data!AR$7)/1000000)","v":48.233528720352631},{"$f":"IF($B$2=\"トン\",AppQt.Data!AS25,(AppQt.Data!AS25*ozton*AppQt.Data!AS$7)/1000000)","v":50.529999721754507},{"$f":"IF($B$2=\"トン\",AppQt.Data!AT25,(AppQt.Data!AT25*ozton*AppQt.Data!AT$7)/1000000)","v":51.55397229376819},{"$f":"IF($B$2=\"トン\",AppQt.Data!AU25,(AppQt.Data!AU25*ozton*AppQt.Data!AU$7)/1000000)","v":71.526923845117508},{"$f":"IF($B$2=\"トン\",AppQt.Data!AV25,(AppQt.Data!AV25*ozton*AppQt.Data!AV$7)/1000000)","v":68.27289924950999},{"$f":"IF($B$2=\"トン\",AppQt.Data!AW25,(AppQt.Data!AW25*ozton*AppQt.Data!AW$7)/1000000)","v":55.604461384719308},{"$f":"IF($B$2=\"トン\",AppQt.Data!AX25,(AppQt.Data!AX25*ozton*AppQt.Data!AX$7)/1000000)","v":50.302592262880957},{"$f":"IF($B$2=\"トン\",AppQt.Data!AY25,(AppQt.Data!AY25*ozton*AppQt.Data!AY$7)/1000000)","v":44.869719305568324},{"$f":"IF($B$2=\"トン\",AppQt.Data!AZ25,(AppQt.Data!AZ25*ozton*AppQt.Data!AZ$7)/1000000)","v":69.875570946297444},{"$f":"IF($B$2=\"トン\",AppQt.Data!BA25,(AppQt.Data!BA25*ozton*AppQt.Data!BA$7)/1000000)","v":78.743085938028727},{"$f":"IF($B$2=\"トン\",AppQt.Data!BB25,(AppQt.Data!BB25*ozton*AppQt.Data!BB$7)/1000000)","v":51.558356728623743},{"$f":"IF($B$2=\"トン\",AppQt.Data!BC25,(AppQt.Data!BC25*ozton*AppQt.Data!BC$7)/1000000)","v":84.137320376668157},{"$f":"IF($B$2=\"トン\",AppQt.Data!BD25,(AppQt.Data!BD25*ozton*AppQt.Data!BD$7)/1000000)","v":78.430250221841064},{"$f":"IF($B$2=\"トン\",AppQt.Data!BE25,(AppQt.Data!BE25*ozton*AppQt.Data!BE$7)/1000000)","v":101.95257503205133},{"$f":"IF($B$2=\"トン\",AppQt.Data!BF25,(AppQt.Data!BF25*ozton*AppQt.Data!BF$7)/1000000)","v":62.28137229394931},{"$f":"IF($B$2=\"トン\",AppQt.Data!BG25,(AppQt.Data!BG25*ozton*AppQt.Data!BG$7)/1000000)","v":57.462968308511151},{"$f":"IF($B$2=\"トン\",AppQt.Data!BH25,(AppQt.Data!BH25*ozton*AppQt.Data!BH$7)/1000000)","v":73.547309342998631},{"$f":"IF($B$2=\"トン\",AppQt.Data!BI25,(AppQt.Data!BI25*ozton*AppQt.Data!BI$7)/1000000)","v":84.580640923328716},{"$f":"IF($B$2=\"トン\",AppQt.Data!BJ25,(AppQt.Data!BJ25*ozton*AppQt.Data!BJ$7)/1000000)","v":70.790796049322864},{"$f":"IF($B$2=\"トン\",AppQt.Data!BK25,(AppQt.Data!BK25*ozton*AppQt.Data!BK$7)/1000000)","v":89.410139893449497},{"$f":"IF($B$2=\"トン\",AppQt.Data!BL25,(AppQt.Data!BL25*ozton*AppQt.Data!BL$7)/1000000)","v":90.041760662364169},"▲",22.426994905335352]
[null,"メダル／イミテーションコイン",{"$f":"IF($B$2=\"トン\",AppAn.Data!L25,(AppAn.Data!L25*ozton*AppAn.Data!L$6)/1000000)","v":87.209114236790498},{"$f":"IF($B$2=\"トン\",AppAn.Data!M25,(AppAn.Data!M25*ozton*AppAn.Data!M$6)/1000000)","v":84.17274948783394},{"$f":"IF($B$2=\"トン\",AppAn.Data!N25,(AppAn.Data!N25*ozton*AppAn.Data!N$6)/1000000)","v":111.68319886846402},{"$f":"IF($B$2=\"トン\",AppAn.Data!O25,(AppAn.Data!O25*ozton*AppAn.Data!O$6)/1000000)","v":101.43961617921116},{"$f":"IF($B$2=\"トン\",AppAn.Data!P25,(AppAn.Data!P25*ozton*AppAn.Data!P$6)/1000000)","v":80.642583491022236},{"$f":"IF($B$2=\"トン\",AppAn.Data!Q25,(AppAn.Data!Q25*ozton*AppAn.Data!Q$6)/1000000)","v":75.982762958080698},{"$f":"IF($B$2=\"トン\",AppAn.Data!R25,(AppAn.Data!R25*ozton*AppAn.Data!R$6)/1000000)","v":67.65039285325139},{"$f":"IF($B$2=\"トン\",AppAn.Data!S25,(AppAn.Data!S25*ozton*AppAn.Data!S$6)/1000000)","v":76.090289071958736},{"$f":"IF($B$2=\"トン\",AppAn.Data!T25,(AppAn.Data!T25*ozton*AppAn.Data!T$6)/1000000)","v":72.976361619178817},{"$f":"IF($B$2=\"トン\",AppAn.Data!U25,(AppAn.Data!U25*ozton*AppAn.Data!U$6)/1000000)","v":66.766384418293867},{"$f":"IF($B$2=\"トン\",AppAn.Data!V25,(AppAn.Data!V25*ozton*AppAn.Data!V$6)/1000000)","v":69.119350470202718},{"$f":"IF($B$2=\"トン\",AppAn.Data!W25,(AppAn.Data!W25*ozton*AppAn.Data!W$6)/1000000)","v":84.832739431750355},{"$f":"IF($B$2=\"トン\",AppAn.Data!X25,(AppAn.Data!X25*ozton*AppAn.Data!X$6)/1000000)","v":91.375259911428373},"▲",7.7122588796529445,null,{"$f":"IF($B$2=\"トン\",AppQt.Data!M26,(AppQt.Data!M26*ozton*AppQt.Data!M$7)/1000000)","v":22.621972535570027},{"$f":"IF($B$2=\"トン\",AppQt.Data!N26,(AppQt.Data!N26*ozton*AppQt.Data!N$7)/1000000)","v":15.611429958946696},{"$f":"IF($B$2=\"トン\",AppQt.Data!O26,(AppQt.Data!O26*ozton*AppQt.Data!O$7)/1000000)","v":24.489852882739577},{"$f":"IF($B$2=\"トン\",AppQt.Data!P26,(AppQt.Data!P26*ozton*AppQt.Data!P$7)/1000000)","v":24.48585885953419},{"$f":"IF($B$2=\"トン\",AppQt.Data!Q26,(AppQt.Data!Q26*ozton*AppQt.Data!Q$7)/1000000)","v":23.958307724402228},{"$f":"IF($B$2=\"トン\",AppQt.Data!R26,(AppQt.Data!R26*ozton*AppQt.Data!R$7)/1000000)","v":24.144971405904371},{"$f":"IF($B$2=\"トン\",AppQt.Data!S26,(AppQt.Data!S26*ozton*AppQt.Data!S$7)/1000000)","v":18.955890980979234},{"$f":"IF($B$2=\"トン\",AppQt.Data!T26,(AppQt.Data!T26*ozton*AppQt.Data!T$7)/1000000)","v":17.113579376548106},{"$f":"IF($B$2=\"トン\",AppQt.Data!U26,(AppQt.Data!U26*ozton*AppQt.Data!U$7)/1000000)","v":26.077162853657263},{"$f":"IF($B$2=\"トン\",AppQt.Data!V26,(AppQt.Data!V26*ozton*AppQt.Data!V$7)/1000000)","v":22.448369078465166},{"$f":"IF($B$2=\"トン\",AppQt.Data!W26,(AppQt.Data!W26*ozton*AppQt.Data!W$7)/1000000)","v":29.295753011178469},{"$f":"IF($B$2=\"トン\",AppQt.Data!X26,(AppQt.Data!X26*ozton*AppQt.Data!X$7)/1000000)","v":33.861913925163115},{"$f":"IF($B$2=\"トン\",AppQt.Data!Y26,(AppQt.Data!Y26*ozton*AppQt.Data!Y$7)/1000000)","v":29.610142189307158},{"$f":"IF($B$2=\"トン\",AppQt.Data!Z26,(AppQt.Data!Z26*ozton*AppQt.Data!Z$7)/1000000)","v":36.413031710219421},{"$f":"IF($B$2=\"トン\",AppQt.Data!AA26,(AppQt.Data!AA26*ozton*AppQt.Data!AA$7)/1000000)","v":16.694882757371776},{"$f":"IF($B$2=\"トン\",AppQt.Data!AB26,(AppQt.Data!AB26*ozton*AppQt.Data!AB$7)/1000000)","v":18.721559522312806},{"$f":"IF($B$2=\"トン\",AppQt.Data!AC26,(AppQt.Data!AC26*ozton*AppQt.Data!AC$7)/1000000)","v":17.774806446801794},{"$f":"IF($B$2=\"トン\",AppQt.Data!AD26,(AppQt.Data!AD26*ozton*AppQt.Data!AD$7)/1000000)","v":19.79957422500193},{"$f":"IF($B$2=\"トン\",AppQt.Data!AE26,(AppQt.Data!AE26*ozton*AppQt.Data!AE$7)/1000000)","v":21.838321369282294},{"$f":"IF($B$2=\"トン\",AppQt.Data!AF26,(AppQt.Data!AF26*ozton*AppQt.Data!AF$7)/1000000)","v":21.229881449936222},{"$f":"IF($B$2=\"トン\",AppQt.Data!AG26,(AppQt.Data!AG26*ozton*AppQt.Data!AG$7)/1000000)","v":16.145807044628778},{"$f":"IF($B$2=\"トン\",AppQt.Data!AH26,(AppQt.Data!AH26*ozton*AppQt.Data!AH$7)/1000000)","v":15.014775926414055},{"$f":"IF($B$2=\"トン\",AppQt.Data!AI26,(AppQt.Data!AI26*ozton*AppQt.Data!AI$7)/1000000)","v":22.696580752361427},{"$f":"IF($B$2=\"トン\",AppQt.Data!AJ26,(AppQt.Data!AJ26*ozton*AppQt.Data!AJ$7)/1000000)","v":22.125599234676436},{"$f":"IF($B$2=\"トン\",AppQt.Data!AK26,(AppQt.Data!AK26*ozton*AppQt.Data!AK$7)/1000000)","v":12.739364745001527},{"$f":"IF($B$2=\"トン\",AppQt.Data!AL26,(AppQt.Data!AL26*ozton*AppQt.Data!AL$7)/1000000)","v":13.715173701251002},{"$f":"IF($B$2=\"トン\",AppQt.Data!AM26,(AppQt.Data!AM26*ozton*AppQt.Data!AM$7)/1000000)","v":18.12505085339637},{"$f":"IF($B$2=\"トン\",AppQt.Data!AN26,(AppQt.Data!AN26*ozton*AppQt.Data!AN$7)/1000000)","v":23.070803553602495},{"$f":"IF($B$2=\"トン\",AppQt.Data!AO26,(AppQt.Data!AO26*ozton*AppQt.Data!AO$7)/1000000)","v":16.774574473179801},{"$f":"IF($B$2=\"トン\",AppQt.Data!AP26,(AppQt.Data!AP26*ozton*AppQt.Data!AP$7)/1000000)","v":19.159967063116515},{"$f":"IF($B$2=\"トン\",AppQt.Data!AQ26,(AppQt.Data!AQ26*ozton*AppQt.Data!AQ$7)/1000000)","v":17.668874176061703},{"$f":"IF($B$2=\"トン\",AppQt.Data!AR26,(AppQt.Data!AR26*ozton*AppQt.Data!AR$7)/1000000)","v":22.486873359600722},{"$f":"IF($B$2=\"トン\",AppQt.Data!AS26,(AppQt.Data!AS26*ozton*AppQt.Data!AS$7)/1000000)","v":15.424818603742674},{"$f":"IF($B$2=\"トン\",AppQt.Data!AT26,(AppQt.Data!AT26*ozton*AppQt.Data!AT$7)/1000000)","v":17.268855658781685},{"$f":"IF($B$2=\"トン\",AppQt.Data!AU26,(AppQt.Data!AU26*ozton*AppQt.Data!AU$7)/1000000)","v":18.288107261435695},{"$f":"IF($B$2=\"トン\",AppQt.Data!AV26,(AppQt.Data!AV26*ozton*AppQt.Data!AV$7)/1000000)","v":21.994580095218758},{"$f":"IF($B$2=\"トン\",AppQt.Data!AW26,(AppQt.Data!AW26*ozton*AppQt.Data!AW$7)/1000000)","v":16.545401537664191},{"$f":"IF($B$2=\"トン\",AppQt.Data!AX26,(AppQt.Data!AX26*ozton*AppQt.Data!AX$7)/1000000)","v":18.410521302962991},{"$f":"IF($B$2=\"トン\",AppQt.Data!AY26,(AppQt.Data!AY26*ozton*AppQt.Data!AY$7)/1000000)","v":12.81264466524758},{"$f":"IF($B$2=\"トン\",AppQt.Data!AZ26,(AppQt.Data!AZ26*ozton*AppQt.Data!AZ$7)/1000000)","v":18.997816912419108},{"$f":"IF($B$2=\"トン\",AppQt.Data!BA26,(AppQt.Data!BA26*ozton*AppQt.Data!BA$7)/1000000)","v":14.514798190442507},{"$f":"IF($B$2=\"トン\",AppQt.Data!BB26,(AppQt.Data!BB26*ozton*AppQt.Data!BB$7)/1000000)","v":11.530431752627436},{"$f":"IF($B$2=\"トン\",AppQt.Data!BC26,(AppQt.Data!BC26*ozton*AppQt.Data!BC$7)/1000000)","v":22.57796108487711},{"$f":"IF($B$2=\"トン\",AppQt.Data!BD26,(AppQt.Data!BD26*ozton*AppQt.Data!BD$7)/1000000)","v":20.496159442255664},{"$f":"IF($B$2=\"トン\",AppQt.Data!BE26,(AppQt.Data!BE26*ozton*AppQt.Data!BE$7)/1000000)","v":18.648806934280117},{"$f":"IF($B$2=\"トン\",AppQt.Data!BF26,(AppQt.Data!BF26*ozton*AppQt.Data!BF$7)/1000000)","v":13.351813871089787},{"$f":"IF($B$2=\"トン\",AppQt.Data!BG26,(AppQt.Data!BG26*ozton*AppQt.Data!BG$7)/1000000)","v":23.930900168289156},{"$f":"IF($B$2=\"トン\",AppQt.Data!BH26,(AppQt.Data!BH26*ozton*AppQt.Data!BH$7)/1000000)","v":28.901218458091286},{"$f":"IF($B$2=\"トン\",AppQt.Data!BI26,(AppQt.Data!BI26*ozton*AppQt.Data!BI$7)/1000000)","v":18.047316738355452},{"$f":"IF($B$2=\"トン\",AppQt.Data!BJ26,(AppQt.Data!BJ26*ozton*AppQt.Data!BJ$7)/1000000)","v":16.137487391698539},{"$f":"IF($B$2=\"トン\",AppQt.Data!BK26,(AppQt.Data!BK26*ozton*AppQt.Data!BK$7)/1000000)","v":30.53474178022293},{"$f":"IF($B$2=\"トン\",AppQt.Data!BL26,(AppQt.Data!BL26*ozton*AppQt.Data!BL$7)/1000000)","v":26.655714001151456},"▼",-7.7695840408803623]
[null,"金ETF&類似商品2",{"$f":"IF($B$2=\"トン\",AppAn.Data!L26,(AppAn.Data!L26*ozton*AppAn.Data!L$6)/1000000)","v":412.3526703600001},{"$f":"IF($B$2=\"トン\",AppAn.Data!M26,(AppAn.Data!M26*ozton*AppAn.Data!M$6)/1000000)","v":242.34129629999995},{"$f":"IF($B$2=\"トン\",AppAn.Data!N26,(AppAn.Data!N26*ozton*AppAn.Data!N$6)/1000000)","v":298.66385750000001},{"$f":"IF($B$2=\"トン\",AppAn.Data!O26,(AppAn.Data!O26*ozton*AppAn.Data!O$6)/1000000)","v":-932.01151385999992},{"$f":"IF($B$2=\"トン\",AppAn.Data!P26,(AppAn.Data!P26*ozton*AppAn.Data!P$6)/1000000)","v":-165.92736640999999},{"$f":"IF($B$2=\"トン\",AppAn.Data!Q26,(AppAn.Data!Q26*ozton*AppAn.Data!Q$6)/1000000)","v":-123.73548792999992},{"$f":"IF($B$2=\"トン\",AppAn.Data!R26,(AppAn.Data!R26*ozton*AppAn.Data!R$6)/1000000)","v":541.34161497000014},{"$f":"IF($B$2=\"トン\",AppAn.Data!S26,(AppAn.Data!S26*ozton*AppAn.Data!S$6)/1000000)","v":270.94827558999998},{"$f":"IF($B$2=\"トン\",AppAn.Data!T26,(AppAn.Data!T26*ozton*AppAn.Data!T$6)/1000000)","v":73.550276200000084},{"$f":"IF($B$2=\"トン\",AppAn.Data!U26,(AppAn.Data!U26*ozton*AppAn.Data!U$6)/1000000)","v":400.18816463999991},{"$f":"IF($B$2=\"トン\",AppAn.Data!V26,(AppAn.Data!V26*ozton*AppAn.Data!V$6)/1000000)","v":892.43053698000006},{"$f":"IF($B$2=\"トン\",AppAn.Data!W26,(AppAn.Data!W26*ozton*AppAn.Data!W$6)/1000000)","v":-189.00554099999994},{"$f":"IF($B$2=\"トン\",AppAn.Data!X26,(AppAn.Data!X26*ozton*AppAn.Data!X$6)/1000000)","v":-110.36450653999971},"▲","-",null,{"$f":"IF($B$2=\"トン\",AppQt.Data!M27,(AppQt.Data!M27*ozton*AppQt.Data!M$7)/1000000)","v":21.966450740000013},{"$f":"IF($B$2=\"トン\",AppQt.Data!N27,(AppQt.Data!N27*ozton*AppQt.Data!N$7)/1000000)","v":303.63430919000007},{"$f":"IF($B$2=\"トン\",AppQt.Data!O27,(AppQt.Data!O27*ozton*AppQt.Data!O$7)/1000000)","v":53.894956830000019},{"$f":"IF($B$2=\"トン\",AppQt.Data!P27,(AppQt.Data!P27*ozton*AppQt.Data!P$7)/1000000)","v":32.856953599999997},{"$f":"IF($B$2=\"トン\",AppQt.Data!Q27,(AppQt.Data!Q27*ozton*AppQt.Data!Q$7)/1000000)","v":-53.35681246},{"$f":"IF($B$2=\"トン\",AppQt.Data!R27,(AppQt.Data!R27*ozton*AppQt.Data!R$7)/1000000)","v":59.061539849999988},{"$f":"IF($B$2=\"トン\",AppQt.Data!S27,(AppQt.Data!S27*ozton*AppQt.Data!S$7)/1000000)","v":112.93044615999996},{"$f":"IF($B$2=\"トン\",AppQt.Data!T27,(AppQt.Data!T27*ozton*AppQt.Data!T$7)/1000000)","v":123.70612275000002},{"$f":"IF($B$2=\"トン\",AppQt.Data!U27,(AppQt.Data!U27*ozton*AppQt.Data!U$7)/1000000)","v":64.685502619999994},{"$f":"IF($B$2=\"トン\",AppQt.Data!V27,(AppQt.Data!V27*ozton*AppQt.Data!V$7)/1000000)","v":-1.2568483099999739},{"$f":"IF($B$2=\"トン\",AppQt.Data!W27,(AppQt.Data!W27*ozton*AppQt.Data!W$7)/1000000)","v":147.62834459000004},{"$f":"IF($B$2=\"トン\",AppQt.Data!X27,(AppQt.Data!X27*ozton*AppQt.Data!X$7)/1000000)","v":87.606858599999953},{"$f":"IF($B$2=\"トン\",AppQt.Data!Y27,(AppQt.Data!Y27*ozton*AppQt.Data!Y$7)/1000000)","v":-191.65620450999998},{"$f":"IF($B$2=\"トン\",AppQt.Data!Z27,(AppQt.Data!Z27*ozton*AppQt.Data!Z$7)/1000000)","v":-422.25567502999985},{"$f":"IF($B$2=\"トン\",AppQt.Data!AA27,(AppQt.Data!AA27*ozton*AppQt.Data!AA$7)/1000000)","v":-123.70372404999998},{"$f":"IF($B$2=\"トン\",AppQt.Data!AB27,(AppQt.Data!AB27*ozton*AppQt.Data!AB$7)/1000000)","v":-194.39591027000003},{"$f":"IF($B$2=\"トン\",AppQt.Data!AC27,(AppQt.Data!AC27*ozton*AppQt.Data!AC$7)/1000000)","v":-8.5435702699999787},{"$f":"IF($B$2=\"トン\",AppQt.Data!AD27,(AppQt.Data!AD27*ozton*AppQt.Data!AD$7)/1000000)","v":-22.817336689999987},{"$f":"IF($B$2=\"トン\",AppQt.Data!AE27,(AppQt.Data!AE27*ozton*AppQt.Data!AE$7)/1000000)","v":-50.477594400000029},{"$f":"IF($B$2=\"トン\",AppQt.Data!AF27,(AppQt.Data!AF27*ozton*AppQt.Data!AF$7)/1000000)","v":-84.08886505000001},{"$f":"IF($B$2=\"トン\",AppQt.Data!AG27,(AppQt.Data!AG27*ozton*AppQt.Data!AG$7)/1000000)","v":27.785629229999991},{"$f":"IF($B$2=\"トン\",AppQt.Data!AH27,(AppQt.Data!AH27*ozton*AppQt.Data!AH$7)/1000000)","v":-19.988531099999999},{"$f":"IF($B$2=\"トン\",AppQt.Data!AI27,(AppQt.Data!AI27*ozton*AppQt.Data!AI$7)/1000000)","v":-65.232149409999906},{"$f":"IF($B$2=\"トン\",AppQt.Data!AJ27,(AppQt.Data!AJ27*ozton*AppQt.Data!AJ$7)/1000000)","v":-66.300436650000009},{"$f":"IF($B$2=\"トン\",AppQt.Data!AK27,(AppQt.Data!AK27*ozton*AppQt.Data!AK$7)/1000000)","v":342.48056397000005},{"$f":"IF($B$2=\"トン\",AppQt.Data!AL27,(AppQt.Data!AL27*ozton*AppQt.Data!AL$7)/1000000)","v":238.81853512000009},{"$f":"IF($B$2=\"トン\",AppQt.Data!AM27,(AppQt.Data!AM27*ozton*AppQt.Data!AM$7)/1000000)","v":145.20824133000002},{"$f":"IF($B$2=\"トン\",AppQt.Data!AN27,(AppQt.Data!AN27*ozton*AppQt.Data!AN$7)/1000000)","v":-185.16572545000008},{"$f":"IF($B$2=\"トン\",AppQt.Data!AO27,(AppQt.Data!AO27*ozton*AppQt.Data!AO$7)/1000000)","v":109.91321494999998},{"$f":"IF($B$2=\"トン\",AppQt.Data!AP27,(AppQt.Data!AP27*ozton*AppQt.Data!AP$7)/1000000)","v":62.922942399999997},{"$f":"IF($B$2=\"トン\",AppQt.Data!AQ27,(AppQt.Data!AQ27*ozton*AppQt.Data!AQ$7)/1000000)","v":31.953685540000045},{"$f":"IF($B$2=\"トン\",AppQt.Data!AR27,(AppQt.Data!AR27*ozton*AppQt.Data!AR$7)/1000000)","v":66.158432699999963},{"$f":"IF($B$2=\"トン\",AppQt.Data!AS27,(AppQt.Data!AS27*ozton*AppQt.Data!AS$7)/1000000)","v":29.15041699},{"$f":"IF($B$2=\"トン\",AppQt.Data!AT27,(AppQt.Data!AT27*ozton*AppQt.Data!AT$7)/1000000)","v":29.908574519999966},{"$f":"IF($B$2=\"トン\",AppQt.Data!AU27,(AppQt.Data!AU27*ozton*AppQt.Data!AU$7)/1000000)","v":-100.77408634000001},{"$f":"IF($B$2=\"トン\",AppQt.Data!AV27,(AppQt.Data!AV27*ozton*AppQt.Data!AV$7)/1000000)","v":115.26537103000013},{"$f":"IF($B$2=\"トン\",AppQt.Data!AW27,(AppQt.Data!AW27*ozton*AppQt.Data!AW$7)/1000000)","v":42.941259610000031},{"$f":"IF($B$2=\"トン\",AppQt.Data!AX27,(AppQt.Data!AX27*ozton*AppQt.Data!AX$7)/1000000)","v":72.981382049999993},{"$f":"IF($B$2=\"トン\",AppQt.Data!AY27,(AppQt.Data!AY27*ozton*AppQt.Data!AY$7)/1000000)","v":261.70251985999994},{"$f":"IF($B$2=\"トン\",AppQt.Data!AZ27,(AppQt.Data!AZ27*ozton*AppQt.Data!AZ$7)/1000000)","v":22.563003119999962},{"$f":"IF($B$2=\"トン\",AppQt.Data!BA27,(AppQt.Data!BA27*ozton*AppQt.Data!BA$7)/1000000)","v":300.41942322},{"$f":"IF($B$2=\"トン\",AppQt.Data!BB27,(AppQt.Data!BB27*ozton*AppQt.Data!BB$7)/1000000)","v":433.52140915999996},{"$f":"IF($B$2=\"トン\",AppQt.Data!BC27,(AppQt.Data!BC27*ozton*AppQt.Data!BC$7)/1000000)","v":284.01984224000012},{"$f":"IF($B$2=\"トン\",AppQt.Data!BD27,(AppQt.Data!BD27*ozton*AppQt.Data!BD$7)/1000000)","v":-125.53013764000002},{"$f":"IF($B$2=\"トン\",AppQt.Data!BE27,(AppQt.Data!BE27*ozton*AppQt.Data!BE$7)/1000000)","v":-176.32295179999994},{"$f":"IF($B$2=\"トン\",AppQt.Data!BF27,(AppQt.Data!BF27*ozton*AppQt.Data!BF$7)/1000000)","v":40.691674780000014},{"$f":"IF($B$2=\"トン\",AppQt.Data!BG27,(AppQt.Data!BG27*ozton*AppQt.Data!BG$7)/1000000)","v":-30.383452969999993},{"$f":"IF($B$2=\"トン\",AppQt.Data!BH27,(AppQt.Data!BH27*ozton*AppQt.Data!BH$7)/1000000)","v":-22.990811010000005},{"$f":"IF($B$2=\"トン\",AppQt.Data!BI27,(AppQt.Data!BI27*ozton*AppQt.Data!BI$7)/1000000)","v":270.6663560300002},{"$f":"IF($B$2=\"トン\",AppQt.Data!BJ27,(AppQt.Data!BJ27*ozton*AppQt.Data!BJ$7)/1000000)","v":-47.365060069999913},{"$f":"IF($B$2=\"トン\",AppQt.Data!BK27,(AppQt.Data!BK27*ozton*AppQt.Data!BK$7)/1000000)","v":-244.09594953000001},{"$f":"IF($B$2=\"トン\",AppQt.Data!BL27,(AppQt.Data!BL27*ozton*AppQt.Data!BL$7)/1000000)","v":-89.569852969999985},"▲","-"]
[null,"中央銀行&その他機関",{"$f":"IF($B$2=\"トン\",AppAn.Data!L27,(AppAn.Data!L27*ozton*AppAn.Data!L$6)/1000000)","v":79.150502504475867},{"$f":"IF($B$2=\"トン\",AppAn.Data!M27,(AppAn.Data!M27*ozton*AppAn.Data!M$6)/1000000)","v":480.78649740721318},{"$f":"IF($B$2=\"トン\",AppAn.Data!N27,(AppAn.Data!N27*ozton*AppAn.Data!N$6)/1000000)","v":569.18328835170644},{"$f":"IF($B$2=\"トン\",AppAn.Data!O27,(AppAn.Data!O27*ozton*AppAn.Data!O$6)/1000000)","v":629.45035188500765},{"$f":"IF($B$2=\"トン\",AppAn.Data!P27,(AppAn.Data!P27*ozton*AppAn.Data!P$6)/1000000)","v":601.13204687360803},{"$f":"IF($B$2=\"トン\",AppAn.Data!Q27,(AppAn.Data!Q27*ozton*AppAn.Data!Q$6)/1000000)","v":579.55029563183905},{"$f":"IF($B$2=\"トン\",AppAn.Data!R27,(AppAn.Data!R27*ozton*AppAn.Data!R$6)/1000000)","v":394.85982464640819},{"$f":"IF($B$2=\"トン\",AppAn.Data!S27,(AppAn.Data!S27*ozton*AppAn.Data!S$6)/1000000)","v":378.5560927022172},{"$f":"IF($B$2=\"トン\",AppAn.Data!T27,(AppAn.Data!T27*ozton*AppAn.Data!T$6)/1000000)","v":656.22911497815392},{"$f":"IF($B$2=\"トン\",AppAn.Data!U27,(AppAn.Data!U27*ozton*AppAn.Data!U$6)/1000000)","v":605.41270131366025},{"$f":"IF($B$2=\"トン\",AppAn.Data!V27,(AppAn.Data!V27*ozton*AppAn.Data!V$6)/1000000)","v":254.94472041914281},{"$f":"IF($B$2=\"トン\",AppAn.Data!W27,(AppAn.Data!W27*ozton*AppAn.Data!W$6)/1000000)","v":450.1124237438982},{"$f":"IF($B$2=\"トン\",AppAn.Data!X27,(AppAn.Data!X27*ozton*AppAn.Data!X$6)/1000000)","v":1135.6893222651338},"▲",152.31236961175512,null,{"$f":"IF($B$2=\"トン\",AppQt.Data!M28,(AppQt.Data!M28*ozton*AppQt.Data!M$7)/1000000)","v":59.710230660943424},{"$f":"IF($B$2=\"トン\",AppQt.Data!N28,(AppQt.Data!N28*ozton*AppQt.Data!N$7)/1000000)","v":14.21425685564013},{"$f":"IF($B$2=\"トン\",AppQt.Data!O28,(AppQt.Data!O28*ozton*AppQt.Data!O$7)/1000000)","v":24.0358804834521},{"$f":"IF($B$2=\"トン\",AppQt.Data!P28,(AppQt.Data!P28*ozton*AppQt.Data!P$7)/1000000)","v":-18.809865495559784},{"$f":"IF($B$2=\"トン\",AppQt.Data!Q28,(AppQt.Data!Q28*ozton*AppQt.Data!Q$7)/1000000)","v":142.46376118248392},{"$f":"IF($B$2=\"トン\",AppQt.Data!R28,(AppQt.Data!R28*ozton*AppQt.Data!R$7)/1000000)","v":69.444805288669755},{"$f":"IF($B$2=\"トン\",AppQt.Data!S28,(AppQt.Data!S28*ozton*AppQt.Data!S$7)/1000000)","v":148.80803935164806},{"$f":"IF($B$2=\"トン\",AppQt.Data!T28,(AppQt.Data!T28*ozton*AppQt.Data!T$7)/1000000)","v":120.06989158441145},{"$f":"IF($B$2=\"トン\",AppQt.Data!U28,(AppQt.Data!U28*ozton*AppQt.Data!U$7)/1000000)","v":122.47402309680066},{"$f":"IF($B$2=\"トン\",AppQt.Data!V28,(AppQt.Data!V28*ozton*AppQt.Data!V$7)/1000000)","v":170.68999645132308},{"$f":"IF($B$2=\"トン\",AppQt.Data!W28,(AppQt.Data!W28*ozton*AppQt.Data!W$7)/1000000)","v":117.75585547280566},{"$f":"IF($B$2=\"トン\",AppQt.Data!X28,(AppQt.Data!X28*ozton*AppQt.Data!X$7)/1000000)","v":158.26341333077704},{"$f":"IF($B$2=\"トン\",AppQt.Data!Y28,(AppQt.Data!Y28*ozton*AppQt.Data!Y$7)/1000000)","v":170.54748589253177},{"$f":"IF($B$2=\"トン\",AppQt.Data!Z28,(AppQt.Data!Z28*ozton*AppQt.Data!Z$7)/1000000)","v":181.43536849609188},{"$f":"IF($B$2=\"トン\",AppQt.Data!AA28,(AppQt.Data!AA28*ozton*AppQt.Data!AA$7)/1000000)","v":126.88124796199524},{"$f":"IF($B$2=\"トン\",AppQt.Data!AB28,(AppQt.Data!AB28*ozton*AppQt.Data!AB$7)/1000000)","v":150.58624953438877},{"$f":"IF($B$2=\"トン\",AppQt.Data!AC28,(AppQt.Data!AC28*ozton*AppQt.Data!AC$7)/1000000)","v":118.797971592075},{"$f":"IF($B$2=\"トン\",AppQt.Data!AD28,(AppQt.Data!AD28*ozton*AppQt.Data!AD$7)/1000000)","v":169.59630471407823},{"$f":"IF($B$2=\"トン\",AppQt.Data!AE28,(AppQt.Data!AE28*ozton*AppQt.Data!AE$7)/1000000)","v":176.981047104867},{"$f":"IF($B$2=\"トン\",AppQt.Data!AF28,(AppQt.Data!AF28*ozton*AppQt.Data!AF$7)/1000000)","v":135.75672346258781},{"$f":"IF($B$2=\"トン\",AppQt.Data!AG28,(AppQt.Data!AG28*ozton*AppQt.Data!AG$7)/1000000)","v":103.06531538823977},{"$f":"IF($B$2=\"トン\",AppQt.Data!AH28,(AppQt.Data!AH28*ozton*AppQt.Data!AH$7)/1000000)","v":141.35956601976693},{"$f":"IF($B$2=\"トン\",AppQt.Data!AI28,(AppQt.Data!AI28*ozton*AppQt.Data!AI$7)/1000000)","v":172.40502549979351},{"$f":"IF($B$2=\"トン\",AppQt.Data!AJ28,(AppQt.Data!AJ28*ozton*AppQt.Data!AJ$7)/1000000)","v":162.72038872403883},{"$f":"IF($B$2=\"トン\",AppQt.Data!AK28,(AppQt.Data!AK28*ozton*AppQt.Data!AK$7)/1000000)","v":110.58790150734346},{"$f":"IF($B$2=\"トン\",AppQt.Data!AL28,(AppQt.Data!AL28*ozton*AppQt.Data!AL$7)/1000000)","v":84.924372128282158},{"$f":"IF($B$2=\"トン\",AppQt.Data!AM28,(AppQt.Data!AM28*ozton*AppQt.Data!AM$7)/1000000)","v":88.950645787159829},{"$f":"IF($B$2=\"トン\",AppQt.Data!AN28,(AppQt.Data!AN28*ozton*AppQt.Data!AN$7)/1000000)","v":110.39690522362274},{"$f":"IF($B$2=\"トン\",AppQt.Data!AO28,(AppQt.Data!AO28*ozton*AppQt.Data!AO$7)/1000000)","v":92.042883620806009},{"$f":"IF($B$2=\"トン\",AppQt.Data!AP28,(AppQt.Data!AP28*ozton*AppQt.Data!AP$7)/1000000)","v":96.26125553099844},{"$f":"IF($B$2=\"トン\",AppQt.Data!AQ28,(AppQt.Data!AQ28*ozton*AppQt.Data!AQ$7)/1000000)","v":96.593428753139875},{"$f":"IF($B$2=\"トン\",AppQt.Data!AR28,(AppQt.Data!AR28*ozton*AppQt.Data!AR$7)/1000000)","v":93.658524797272833},{"$f":"IF($B$2=\"トン\",AppQt.Data!AS28,(AppQt.Data!AS28*ozton*AppQt.Data!AS$7)/1000000)","v":84.797352085991974},{"$f":"IF($B$2=\"トン\",AppQt.Data!AT28,(AppQt.Data!AT28*ozton*AppQt.Data!AT$7)/1000000)","v":152.77100556128966},{"$f":"IF($B$2=\"トン\",AppQt.Data!AU28,(AppQt.Data!AU28*ozton*AppQt.Data!AU$7)/1000000)","v":240.54509594416706},{"$f":"IF($B$2=\"トン\",AppQt.Data!AV28,(AppQt.Data!AV28*ozton*AppQt.Data!AV$7)/1000000)","v":178.11566138670523},{"$f":"IF($B$2=\"トン\",AppQt.Data!AW28,(AppQt.Data!AW28*ozton*AppQt.Data!AW$7)/1000000)","v":146.23106728370047},{"$f":"IF($B$2=\"トン\",AppQt.Data!AX28,(AppQt.Data!AX28*ozton*AppQt.Data!AX$7)/1000000)","v":227.81036495733701},{"$f":"IF($B$2=\"トン\",AppQt.Data!AY28,(AppQt.Data!AY28*ozton*AppQt.Data!AY$7)/1000000)","v":113.45774419717108},{"$f":"IF($B$2=\"トン\",AppQt.Data!AZ28,(AppQt.Data!AZ28*ozton*AppQt.Data!AZ$7)/1000000)","v":117.91352487545171},{"$f":"IF($B$2=\"トン\",AppQt.Data!BA28,(AppQt.Data!BA28*ozton*AppQt.Data!BA$7)/1000000)","v":140.7671603277517},{"$f":"IF($B$2=\"トン\",AppQt.Data!BB28,(AppQt.Data!BB28*ozton*AppQt.Data!BB$7)/1000000)","v":63.736923036798871},{"$f":"IF($B$2=\"トン\",AppQt.Data!BC28,(AppQt.Data!BC28*ozton*AppQt.Data!BC$7)/1000000)","v":-10.597805901357777},{"$f":"IF($B$2=\"トン\",AppQt.Data!BD28,(AppQt.Data!BD28*ozton*AppQt.Data!BD$7)/1000000)","v":61.038442955950032},{"$f":"IF($B$2=\"トン\",AppQt.Data!BE28,(AppQt.Data!BE28*ozton*AppQt.Data!BE$7)/1000000)","v":115.60588090574213},{"$f":"IF($B$2=\"トン\",AppQt.Data!BF28,(AppQt.Data!BF28*ozton*AppQt.Data!BF$7)/1000000)","v":209.64359144938888},{"$f":"IF($B$2=\"トン\",AppQt.Data!BG28,(AppQt.Data!BG28*ozton*AppQt.Data!BG$7)/1000000)","v":90.564723027824073},{"$f":"IF($B$2=\"トン\",AppQt.Data!BH28,(AppQt.Data!BH28*ozton*AppQt.Data!BH$7)/1000000)","v":34.298228360943142},{"$f":"IF($B$2=\"トン\",AppQt.Data!BI28,(AppQt.Data!BI28*ozton*AppQt.Data!BI$7)/1000000)","v":88.469231895360323},{"$f":"IF($B$2=\"トン\",AppQt.Data!BJ28,(AppQt.Data!BJ28*ozton*AppQt.Data!BJ$7)/1000000)","v":184.99896511436705},{"$f":"IF($B$2=\"トン\",AppQt.Data!BK28,(AppQt.Data!BK28*ozton*AppQt.Data!BK$7)/1000000)","v":445.12380935930202},{"$f":"IF($B$2=\"トン\",AppQt.Data!BL28,(AppQt.Data!BL28*ozton*AppQt.Data!BL$7)/1000000)","v":417.09731589610442},"▲",">300"]
[null,"金需要",{"$f":"IF($B$2=\"トン\",AppAn.Data!L28,(AppAn.Data!L28*ozton*AppAn.Data!L$6)/1000000)","v":4200.220541043107},{"$f":"IF($B$2=\"トン\",AppAn.Data!M28,(AppAn.Data!M28*ozton*AppAn.Data!M$6)/1000000)","v":4746.3642285358292},{"$f":"IF($B$2=\"トン\",AppAn.Data!N28,(AppAn.Data!N28*ozton*AppAn.Data!N$6)/1000000)","v":4713.3377867533718},{"$f":"IF($B$2=\"トン\",AppAn.Data!O28,(AppAn.Data!O28*ozton*AppAn.Data!O$6)/1000000)","v":4518.2138155867397},{"$f":"IF($B$2=\"トン\",AppAn.Data!P28,(AppAn.Data!P28*ozton*AppAn.Data!P$6)/1000000)","v":4394.6205776662755},{"$f":"IF($B$2=\"トン\",AppAn.Data!Q28,(AppAn.Data!Q28*ozton*AppAn.Data!Q$6)/1000000)","v":4357.4450399631369},{"$f":"IF($B$2=\"トン\",AppAn.Data!R28,(AppAn.Data!R28*ozton*AppAn.Data!R$6)/1000000)","v":4350.8467508240483},{"$f":"IF($B$2=\"トン\",AppAn.Data!S28,(AppAn.Data!S28*ozton*AppAn.Data!S$6)/1000000)","v":4283.6187034853247},{"$f":"IF($B$2=\"トン\",AppAn.Data!T28,(AppAn.Data!T28*ozton*AppAn.Data!T$6)/1000000)","v":4445.038964076386},{"$f":"IF($B$2=\"トン\",AppAn.Data!U28,(AppAn.Data!U28*ozton*AppAn.Data!U$6)/1000000)","v":4354.5145346105619},{"$f":"IF($B$2=\"トン\",AppAn.Data!V28,(AppAn.Data!V28*ozton*AppAn.Data!V$6)/1000000)","v":3677.9266156874387},{"$f":"IF($B$2=\"トン\",AppAn.Data!W28,(AppAn.Data!W28*ozton*AppAn.Data!W$6)/1000000)","v":4012.8178178215662},{"$f":"IF($B$2=\"トン\",AppAn.Data!X28,(AppAn.Data!X28*ozton*AppAn.Data!X$6)/1000000)","v":4740.7250534668601},"▲",18.139553518042639,null,{"$f":"IF($B$2=\"トン\",AppQt.Data!M29,(AppQt.Data!M29*ozton*AppQt.Data!M$7)/1000000)","v":998.65650033617374},{"$f":"IF($B$2=\"トン\",AppQt.Data!N29,(AppQt.Data!N29*ozton*AppQt.Data!N$7)/1000000)","v":1162.1455559463798},{"$f":"IF($B$2=\"トン\",AppQt.Data!O29,(AppQt.Data!O29*ozton*AppQt.Data!O$7)/1000000)","v":1062.7207698820487},{"$f":"IF($B$2=\"トン\",AppQt.Data!P29,(AppQt.Data!P29*ozton*AppQt.Data!P$7)/1000000)","v":976.69771487850426},{"$f":"IF($B$2=\"トン\",AppQt.Data!Q29,(AppQt.Data!Q29*ozton*AppQt.Data!Q$7)/1000000)","v":1192.5370856903771},{"$f":"IF($B$2=\"トン\",AppQt.Data!R29,(AppQt.Data!R29*ozton*AppQt.Data!R$7)/1000000)","v":1102.8234230325586},{"$f":"IF($B$2=\"トン\",AppQt.Data!S29,(AppQt.Data!S29*ozton*AppQt.Data!S$7)/1000000)","v":1290.8932870788026},{"$f":"IF($B$2=\"トン\",AppQt.Data!T29,(AppQt.Data!T29*ozton*AppQt.Data!T$7)/1000000)","v":1160.1104327340906},{"$f":"IF($B$2=\"トン\",AppQt.Data!U29,(AppQt.Data!U29*ozton*AppQt.Data!U$7)/1000000)","v":1187.8381650923955},{"$f":"IF($B$2=\"トン\",AppQt.Data!V29,(AppQt.Data!V29*ozton*AppQt.Data!V$7)/1000000)","v":1054.724251742658},{"$f":"IF($B$2=\"トン\",AppQt.Data!W29,(AppQt.Data!W29*ozton*AppQt.Data!W$7)/1000000)","v":1210.8951037597922},{"$f":"IF($B$2=\"トン\",AppQt.Data!X29,(AppQt.Data!X29*ozton*AppQt.Data!X$7)/1000000)","v":1259.8802661585262},{"$f":"IF($B$2=\"トン\",AppQt.Data!Y29,(AppQt.Data!Y29*ozton*AppQt.Data!Y$7)/1000000)","v":1110.6584498983373},{"$f":"IF($B$2=\"トン\",AppQt.Data!Z29,(AppQt.Data!Z29*ozton*AppQt.Data!Z$7)/1000000)","v":1255.2838435983149},{"$f":"IF($B$2=\"トン\",AppQt.Data!AA29,(AppQt.Data!AA29*ozton*AppQt.Data!AA$7)/1000000)","v":1112.0621285783091},{"$f":"IF($B$2=\"トン\",AppQt.Data!AB29,(AppQt.Data!AB29*ozton*AppQt.Data!AB$7)/1000000)","v":1040.2093935117784},{"$f":"IF($B$2=\"トン\",AppQt.Data!AC29,(AppQt.Data!AC29*ozton*AppQt.Data!AC$7)/1000000)","v":1102.7085966010918},{"$f":"IF($B$2=\"トン\",AppQt.Data!AD29,(AppQt.Data!AD29*ozton*AppQt.Data!AD$7)/1000000)","v":1102.3401814976326},{"$f":"IF($B$2=\"トン\",AppQt.Data!AE29,(AppQt.Data!AE29*ozton*AppQt.Data!AE$7)/1000000)","v":1108.1518618139969},{"$f":"IF($B$2=\"トン\",AppQt.Data!AF29,(AppQt.Data!AF29*ozton*AppQt.Data!AF$7)/1000000)","v":1081.4199377535538},{"$f":"IF($B$2=\"トン\",AppQt.Data!AG29,(AppQt.Data!AG29*ozton*AppQt.Data!AG$7)/1000000)","v":1104.6795191326178},{"$f":"IF($B$2=\"トン\",AppQt.Data!AH29,(AppQt.Data!AH29*ozton*AppQt.Data!AH$7)/1000000)","v":975.89141806131261},{"$f":"IF($B$2=\"トン\",AppQt.Data!AI29,(AppQt.Data!AI29*ozton*AppQt.Data!AI$7)/1000000)","v":1168.1556278421483},{"$f":"IF($B$2=\"トン\",AppQt.Data!AJ29,(AppQt.Data!AJ29*ozton*AppQt.Data!AJ$7)/1000000)","v":1108.7184749270584},{"$f":"IF($B$2=\"トン\",AppQt.Data!AK29,(AppQt.Data!AK29*ozton*AppQt.Data!AK$7)/1000000)","v":1284.4714735012446},{"$f":"IF($B$2=\"トン\",AppQt.Data!AL29,(AppQt.Data!AL29*ozton*AppQt.Data!AL$7)/1000000)","v":1078.9597869008503},{"$f":"IF($B$2=\"トン\",AppQt.Data!AM29,(AppQt.Data!AM29*ozton*AppQt.Data!AM$7)/1000000)","v":1031.9428417692579},{"$f":"IF($B$2=\"トン\",AppQt.Data!AN29,(AppQt.Data!AN29*ozton*AppQt.Data!AN$7)/1000000)","v":955.47264865269494},{"$f":"IF($B$2=\"トン\",AppQt.Data!AO29,(AppQt.Data!AO29*ozton*AppQt.Data!AO$7)/1000000)","v":1133.3808302143623},{"$f":"IF($B$2=\"トン\",AppQt.Data!AP29,(AppQt.Data!AP29*ozton*AppQt.Data!AP$7)/1000000)","v":1035.588233885333},{"$f":"IF($B$2=\"トン\",AppQt.Data!AQ29,(AppQt.Data!AQ29*ozton*AppQt.Data!AQ$7)/1000000)","v":985.41214378293921},{"$f":"IF($B$2=\"トン\",AppQt.Data!AR29,(AppQt.Data!AR29*ozton*AppQt.Data!AR$7)/1000000)","v":1129.2374956026899},{"$f":"IF($B$2=\"トン\",AppQt.Data!AS29,(AppQt.Data!AS29*ozton*AppQt.Data!AS$7)/1000000)","v":987.60258982758228},{"$f":"IF($B$2=\"トン\",AppQt.Data!AT29,(AppQt.Data!AT29*ozton*AppQt.Data!AT$7)/1000000)","v":1046.9231299029207},{"$f":"IF($B$2=\"トン\",AppQt.Data!AU29,(AppQt.Data!AU29*ozton*AppQt.Data!AU$7)/1000000)","v":1113.1778943462191},{"$f":"IF($B$2=\"トン\",AppQt.Data!AV29,(AppQt.Data!AV29*ozton*AppQt.Data!AV$7)/1000000)","v":1297.3353499996638},{"$f":"IF($B$2=\"トン\",AppQt.Data!AW29,(AppQt.Data!AW29*ozton*AppQt.Data!AW$7)/1000000)","v":1070.6859245007063},{"$f":"IF($B$2=\"トン\",AppQt.Data!AX29,(AppQt.Data!AX29*ozton*AppQt.Data!AX$7)/1000000)","v":1158.438567192029},{"$f":"IF($B$2=\"トン\",AppQt.Data!AY29,(AppQt.Data!AY29*ozton*AppQt.Data!AY$7)/1000000)","v":1093.5461071403697},{"$f":"IF($B$2=\"トン\",AppQt.Data!AZ29,(AppQt.Data!AZ29*ozton*AppQt.Data!AZ$7)/1000000)","v":1031.8439357774573},{"$f":"IF($B$2=\"トン\",AppQt.Data!BA29,(AppQt.Data!BA29*ozton*AppQt.Data!BA$7)/1000000)","v":1096.7600534388846},{"$f":"IF($B$2=\"トン\",AppQt.Data!BB29,(AppQt.Data!BB29*ozton*AppQt.Data!BB$7)/1000000)","v":921.43955542404035},{"$f":"IF($B$2=\"トン\",AppQt.Data!BC29,(AppQt.Data!BC29*ozton*AppQt.Data!BC$7)/1000000)","v":886.75119558967288},{"$f":"IF($B$2=\"トン\",AppQt.Data!BD29,(AppQt.Data!BD29*ozton*AppQt.Data!BD$7)/1000000)","v":772.97581123484088},{"$f":"IF($B$2=\"トン\",AppQt.Data!BE29,(AppQt.Data!BE29*ozton*AppQt.Data!BE$7)/1000000)","v":913.84543888383814},{"$f":"IF($B$2=\"トン\",AppQt.Data!BF29,(AppQt.Data!BF29*ozton*AppQt.Data!BF$7)/1000000)","v":1034.9770812734125},{"$f":"IF($B$2=\"トン\",AppQt.Data!BG29,(AppQt.Data!BG29*ozton*AppQt.Data!BG$7)/1000000)","v":920.55907911286567},{"$f":"IF($B$2=\"トン\",AppQt.Data!BH29,(AppQt.Data!BH29*ozton*AppQt.Data!BH$7)/1000000)","v":1143.4362185514503},{"$f":"IF($B$2=\"トン\",AppQt.Data!BI29,(AppQt.Data!BI29*ozton*AppQt.Data!BI$7)/1000000)","v":1238.7488577139143},{"$f":"IF($B$2=\"トン\",AppQt.Data!BJ29,(AppQt.Data!BJ29*ozton*AppQt.Data!BJ$7)/1000000)","v":965.25056732594885},{"$f":"IF($B$2=\"トン\",AppQt.Data!BK29,(AppQt.Data!BK29*ozton*AppQt.Data!BK$7)/1000000)","v":1199.3697065904043},{"$f":"IF($B$2=\"トン\",AppQt.Data!BL29,(AppQt.Data!BL29*ozton*AppQt.Data!BL$7)/1000000)","v":1337.3559218365926},"▲",16.959380867855266]
[null,"余剰/不足分",{"$f":"IF($B$2=\"トン\",AppAn.Data!L29,(AppAn.Data!L29*ozton*AppAn.Data!L$6)/1000000)","v":116.59999855290607},{"$f":"IF($B$2=\"トン\",AppAn.Data!M29,(AppAn.Data!M29*ozton*AppAn.Data!M$6)/1000000)","v":-220.64548843130524},{"$f":"IF($B$2=\"トン\",AppAn.Data!N29,(AppAn.Data!N29*ozton*AppAn.Data!N$6)/1000000)","v":-164.68910115279778},{"$f":"IF($B$2=\"トン\",AppAn.Data!O29,(AppAn.Data!O29*ozton*AppAn.Data!O$6)/1000000)","v":-184.07795700069619},{"$f":"IF($B$2=\"トン\",AppAn.Data!P29,(AppAn.Data!P29*ozton*AppAn.Data!P$6)/1000000)","v":110.37035417211791},{"$f":"IF($B$2=\"トン\",AppAn.Data!Q29,(AppAn.Data!Q29*ozton*AppAn.Data!Q$6)/1000000)","v":83.832177578064147},{"$f":"IF($B$2=\"トン\",AppAn.Data!R29,(AppAn.Data!R29*ozton*AppAn.Data!R$6)/1000000)","v":428.49071092909071},{"$f":"IF($B$2=\"トン\",AppAn.Data!S29,(AppAn.Data!S29*ozton*AppAn.Data!S$6)/1000000)","v":376.39334051997048},{"$f":"IF($B$2=\"トン\",AppAn.Data!T29,(AppAn.Data!T29*ozton*AppAn.Data!T$6)/1000000)","v":330.29948881300334},{"$f":"IF($B$2=\"トン\",AppAn.Data!U29,(AppAn.Data!U29*ozton*AppAn.Data!U$6)/1000000)","v":521.8252260796562},{"$f":"IF($B$2=\"トン\",AppAn.Data!V29,(AppAn.Data!V29*ozton*AppAn.Data!V$6)/1000000)","v":1048.4501063993234},{"$f":"IF($B$2=\"トン\",AppAn.Data!W29,(AppAn.Data!W29*ozton*AppAn.Data!W$6)/1000000)","v":669.61188661330061},{"$f":"IF($B$2=\"トン\",AppAn.Data!X29,(AppAn.Data!X29*ozton*AppAn.Data!X$6)/1000000)","v":13.782713779587539},"▼",-97.941686213293437,null,{"$f":"IF($B$2=\"トン\",AppQt.Data!M30,(AppQt.Data!M30*ozton*AppQt.Data!M$7)/1000000)","v":-2.1114032803104692},{"$f":"IF($B$2=\"トン\",AppQt.Data!N30,(AppQt.Data!N30*ozton*AppQt.Data!N$7)/1000000)","v":-17.491493205554889},{"$f":"IF($B$2=\"トン\",AppQt.Data!O30,(AppQt.Data!O30*ozton*AppQt.Data!O$7)/1000000)","v":-6.723575300296261},{"$f":"IF($B$2=\"トン\",AppQt.Data!P30,(AppQt.Data!P30*ozton*AppQt.Data!P$7)/1000000)","v":142.92647033906837},{"$f":"IF($B$2=\"トン\",AppQt.Data!Q30,(AppQt.Data!Q30*ozton*AppQt.Data!Q$7)/1000000)","v":-158.13534827640001},{"$f":"IF($B$2=\"トン\",AppQt.Data!R30,(AppQt.Data!R30*ozton*AppQt.Data!R$7)/1000000)","v":38.108601526915436},{"$f":"IF($B$2=\"トン\",AppQt.Data!S30,(AppQt.Data!S30*ozton*AppQt.Data!S$7)/1000000)","v":-78.834145018022809},{"$f":"IF($B$2=\"トン\",AppQt.Data!T30,(AppQt.Data!T30*ozton*AppQt.Data!T$7)/1000000)","v":-21.784596663797629},{"$f":"IF($B$2=\"トン\",AppQt.Data!U30,(AppQt.Data!U30*ozton*AppQt.Data!U$7)/1000000)","v":-101.42554145543841},{"$f":"IF($B$2=\"トン\",AppQt.Data!V30,(AppQt.Data!V30*ozton*AppQt.Data!V$7)/1000000)","v":65.075176527436724},{"$f":"IF($B$2=\"トン\",AppQt.Data!W30,(AppQt.Data!W30*ozton*AppQt.Data!W$7)/1000000)","v":3.710571356896935},{"$f":"IF($B$2=\"トン\",AppQt.Data!X30,(AppQt.Data!X30*ozton*AppQt.Data!X$7)/1000000)","v":-132.0493075816928},{"$f":"IF($B$2=\"トン\",AppQt.Data!Y30,(AppQt.Data!Y30*ozton*AppQt.Data!Y$7)/1000000)","v":-53.76775512326185},{"$f":"IF($B$2=\"トン\",AppQt.Data!Z30,(AppQt.Data!Z30*ozton*AppQt.Data!Z$7)/1000000)","v":-219.61963674404524},{"$f":"IF($B$2=\"トン\",AppQt.Data!AA30,(AppQt.Data!AA30*ozton*AppQt.Data!AA$7)/1000000)","v":24.385215978042197},{"$f":"IF($B$2=\"トン\",AppQt.Data!AB30,(AppQt.Data!AB30*ozton*AppQt.Data!AB$7)/1000000)","v":64.924218888568021},{"$f":"IF($B$2=\"トン\",AppQt.Data!AC30,(AppQt.Data!AC30*ozton*AppQt.Data!AC$7)/1000000)","v":17.617443500485479},{"$f":"IF($B$2=\"トン\",AppQt.Data!AD30,(AppQt.Data!AD30*ozton*AppQt.Data!AD$7)/1000000)","v":0.89681728412438133},{"$f":"IF($B$2=\"トン\",AppQt.Data!AE30,(AppQt.Data!AE30*ozton*AppQt.Data!AE$7)/1000000)","v":0.24207009510973876},{"$f":"IF($B$2=\"トン\",AppQt.Data!AF30,(AppQt.Data!AF30*ozton*AppQt.Data!AF$7)/1000000)","v":91.614023292398542},{"$f":"IF($B$2=\"トン\",AppQt.Data!AG30,(AppQt.Data!AG30*ozton*AppQt.Data!AG$7)/1000000)","v":17.574562260187804},{"$f":"IF($B$2=\"トン\",AppQt.Data!AH30,(AppQt.Data!AH30*ozton*AppQt.Data!AH$7)/1000000)","v":100.89832453345866},{"$f":"IF($B$2=\"トン\",AppQt.Data!AI30,(AppQt.Data!AI30*ozton*AppQt.Data!AI$7)/1000000)","v":-37.672825081431711},{"$f":"IF($B$2=\"トン\",AppQt.Data!AJ30,(AppQt.Data!AJ30*ozton*AppQt.Data!AJ$7)/1000000)","v":3.0321158658487093},{"$f":"IF($B$2=\"トン\",AppQt.Data!AK30,(AppQt.Data!AK30*ozton*AppQt.Data!AK$7)/1000000)","v":-33.077426431701952},{"$f":"IF($B$2=\"トン\",AppQt.Data!AL30,(AppQt.Data!AL30*ozton*AppQt.Data!AL$7)/1000000)","v":132.35766002527453},{"$f":"IF($B$2=\"トン\",AppQt.Data!AM30,(AppQt.Data!AM30*ozton*AppQt.Data!AM$7)/1000000)","v":149.86115727696802},{"$f":"IF($B$2=\"トン\",AppQt.Data!AN30,(AppQt.Data!AN30*ozton*AppQt.Data!AN$7)/1000000)","v":179.3493200585508},{"$f":"IF($B$2=\"トン\",AppQt.Data!AO30,(AppQt.Data!AO30*ozton*AppQt.Data!AO$7)/1000000)","v":-45.649614144191901},{"$f":"IF($B$2=\"トン\",AppQt.Data!AP30,(AppQt.Data!AP30*ozton*AppQt.Data!AP$7)/1000000)","v":109.17702041541065},{"$f":"IF($B$2=\"トン\",AppQt.Data!AQ30,(AppQt.Data!AQ30*ozton*AppQt.Data!AQ$7)/1000000)","v":250.36647223448404},{"$f":"IF($B$2=\"トン\",AppQt.Data!AR30,(AppQt.Data!AR30*ozton*AppQt.Data!AR$7)/1000000)","v":62.499462014267692},{"$f":"IF($B$2=\"トン\",AppQt.Data!AS30,(AppQt.Data!AS30*ozton*AppQt.Data!AS$7)/1000000)","v":166.71904437065177},{"$f":"IF($B$2=\"トン\",AppQt.Data!AT30,(AppQt.Data!AT30*ozton*AppQt.Data!AT$7)/1000000)","v":94.309400615304185},{"$f":"IF($B$2=\"トン\",AppQt.Data!AU30,(AppQt.Data!AU30*ozton*AppQt.Data!AU$7)/1000000)","v":127.16539210373571},{"$f":"IF($B$2=\"トン\",AppQt.Data!AV30,(AppQt.Data!AV30*ozton*AppQt.Data!AV$7)/1000000)","v":-57.894348276688788},{"$f":"IF($B$2=\"トン\",AppQt.Data!AW30,(AppQt.Data!AW30*ozton*AppQt.Data!AW$7)/1000000)","v":49.265397856850996},{"$f":"IF($B$2=\"トン\",AppQt.Data!AX30,(AppQt.Data!AX30*ozton*AppQt.Data!AX$7)/1000000)","v":76.223933802513102},{"$f":"IF($B$2=\"トン\",AppQt.Data!AY30,(AppQt.Data!AY30*ozton*AppQt.Data!AY$7)/1000000)","v":190.90768840154055},{"$f":"IF($B$2=\"トン\",AppQt.Data!AZ30,(AppQt.Data!AZ30*ozton*AppQt.Data!AZ$7)/1000000)","v":205.4282060187511},{"$f":"IF($B$2=\"トン\",AppQt.Data!BA30,(AppQt.Data!BA30*ozton*AppQt.Data!BA$7)/1000000)","v":82.814394675227959},{"$f":"IF($B$2=\"トン\",AppQt.Data!BB30,(AppQt.Data!BB30*ozton*AppQt.Data!BB$7)/1000000)","v":116.26056951894714},{"$f":"IF($B$2=\"トン\",AppQt.Data!BC30,(AppQt.Data!BC30*ozton*AppQt.Data!BC$7)/1000000)","v":390.27098266174664},{"$f":"IF($B$2=\"トン\",AppQt.Data!BD30,(AppQt.Data!BD30*ozton*AppQt.Data!BD$7)/1000000)","v":459.10415954340237},{"$f":"IF($B$2=\"トン\",AppQt.Data!BE30,(AppQt.Data!BE30*ozton*AppQt.Data!BE$7)/1000000)","v":190.8407338020611},{"$f":"IF($B$2=\"トン\",AppQt.Data!BF30,(AppQt.Data!BF30*ozton*AppQt.Data!BF$7)/1000000)","v":99.289840594716907},{"$f":"IF($B$2=\"トン\",AppQt.Data!BG30,(AppQt.Data!BG30*ozton*AppQt.Data!BG$7)/1000000)","v":287.64182383843331},{"$f":"IF($B$2=\"トン\",AppQt.Data!BH30,(AppQt.Data!BH30*ozton*AppQt.Data!BH$7)/1000000)","v":91.8394883780893},{"$f":"IF($B$2=\"トン\",AppQt.Data!BI30,(AppQt.Data!BI30*ozton*AppQt.Data!BI$7)/1000000)","v":-87.617358853059386},{"$f":"IF($B$2=\"トン\",AppQt.Data!BJ30,(AppQt.Data!BJ30*ozton*AppQt.Data!BJ$7)/1000000)","v":216.56733416476982},{"$f":"IF($B$2=\"トン\",AppQt.Data!BK30,(AppQt.Data!BK30*ozton*AppQt.Data!BK$7)/1000000)","v":5.1460671757508862},{"$f":"IF($B$2=\"トン\",AppQt.Data!BL30,(AppQt.Data!BL30*ozton*AppQt.Data!BL$7)/1000000)","v":-120.31332870787355},"▲","-"]
[null,"総需要合計",{"$f":"IF($B$2=\"トン\",AppAn.Data!L30,(AppAn.Data!L30*ozton*AppAn.Data!L$6)/1000000)","v":4316.8205395960131},{"$f":"IF($B$2=\"トン\",AppAn.Data!M30,(AppAn.Data!M30*ozton*AppAn.Data!M$6)/1000000)","v":4525.7187401045239},{"$f":"IF($B$2=\"トン\",AppAn.Data!N30,(AppAn.Data!N30*ozton*AppAn.Data!N$6)/1000000)","v":4548.648685600574},{"$f":"IF($B$2=\"トン\",AppAn.Data!O30,(AppAn.Data!O30*ozton*AppAn.Data!O$6)/1000000)","v":4334.1358585860435},{"$f":"IF($B$2=\"トン\",AppAn.Data!P30,(AppAn.Data!P30*ozton*AppAn.Data!P$6)/1000000)","v":4504.9909318383934},{"$f":"IF($B$2=\"トン\",AppAn.Data!Q30,(AppAn.Data!Q30*ozton*AppAn.Data!Q$6)/1000000)","v":4441.277217541201},{"$f":"IF($B$2=\"トン\",AppAn.Data!R30,(AppAn.Data!R30*ozton*AppAn.Data!R$6)/1000000)","v":4779.337461753139},{"$f":"IF($B$2=\"トン\",AppAn.Data!S30,(AppAn.Data!S30*ozton*AppAn.Data!S$6)/1000000)","v":4660.0120440052951},{"$f":"IF($B$2=\"トン\",AppAn.Data!T30,(AppAn.Data!T30*ozton*AppAn.Data!T$6)/1000000)","v":4775.3384528893894},{"$f":"IF($B$2=\"トン\",AppAn.Data!U30,(AppAn.Data!U30*ozton*AppAn.Data!U$6)/1000000)","v":4876.3397606902181},{"$f":"IF($B$2=\"トン\",AppAn.Data!V30,(AppAn.Data!V30*ozton*AppAn.Data!V$6)/1000000)","v":4726.3767220867621},{"$f":"IF($B$2=\"トン\",AppAn.Data!W30,(AppAn.Data!W30*ozton*AppAn.Data!W$6)/1000000)","v":4682.4297044348668},{"$f":"IF($B$2=\"トン\",AppAn.Data!X30,(AppAn.Data!X30*ozton*AppAn.Data!X$6)/1000000)","v":4754.5077672464477},"▲",1.539330376776693,null,{"$f":"IF($B$2=\"トン\",AppQt.Data!M31,(AppQt.Data!M31*ozton*AppQt.Data!M$7)/1000000)","v":996.54509705586327},{"$f":"IF($B$2=\"トン\",AppQt.Data!N31,(AppQt.Data!N31*ozton*AppQt.Data!N$7)/1000000)","v":1144.6540627408249},{"$f":"IF($B$2=\"トン\",AppQt.Data!O31,(AppQt.Data!O31*ozton*AppQt.Data!O$7)/1000000)","v":1055.9971945817524},{"$f":"IF($B$2=\"トン\",AppQt.Data!P31,(AppQt.Data!P31*ozton*AppQt.Data!P$7)/1000000)","v":1119.6241852175726},{"$f":"IF($B$2=\"トン\",AppQt.Data!Q31,(AppQt.Data!Q31*ozton*AppQt.Data!Q$7)/1000000)","v":1034.4017374139771},{"$f":"IF($B$2=\"トン\",AppQt.Data!R31,(AppQt.Data!R31*ozton*AppQt.Data!R$7)/1000000)","v":1140.932024559474},{"$f":"IF($B$2=\"トン\",AppQt.Data!S31,(AppQt.Data!S31*ozton*AppQt.Data!S$7)/1000000)","v":1212.0591420607798},{"$f":"IF($B$2=\"トン\",AppQt.Data!T31,(AppQt.Data!T31*ozton*AppQt.Data!T$7)/1000000)","v":1138.325836070293},{"$f":"IF($B$2=\"トン\",AppQt.Data!U31,(AppQt.Data!U31*ozton*AppQt.Data!U$7)/1000000)","v":1086.4126236369571},{"$f":"IF($B$2=\"トン\",AppQt.Data!V31,(AppQt.Data!V31*ozton*AppQt.Data!V$7)/1000000)","v":1119.7994282700947},{"$f":"IF($B$2=\"トン\",AppQt.Data!W31,(AppQt.Data!W31*ozton*AppQt.Data!W$7)/1000000)","v":1214.6056751166891},{"$f":"IF($B$2=\"トン\",AppQt.Data!X31,(AppQt.Data!X31*ozton*AppQt.Data!X$7)/1000000)","v":1127.8309585768334},{"$f":"IF($B$2=\"トン\",AppQt.Data!Y31,(AppQt.Data!Y31*ozton*AppQt.Data!Y$7)/1000000)","v":1056.8906947750754},{"$f":"IF($B$2=\"トン\",AppQt.Data!Z31,(AppQt.Data!Z31*ozton*AppQt.Data!Z$7)/1000000)","v":1035.6642068542697},{"$f":"IF($B$2=\"トン\",AppQt.Data!AA31,(AppQt.Data!AA31*ozton*AppQt.Data!AA$7)/1000000)","v":1136.4473445563513},{"$f":"IF($B$2=\"トン\",AppQt.Data!AB31,(AppQt.Data!AB31*ozton*AppQt.Data!AB$7)/1000000)","v":1105.1336124003465},{"$f":"IF($B$2=\"トン\",AppQt.Data!AC31,(AppQt.Data!AC31*ozton*AppQt.Data!AC$7)/1000000)","v":1120.3260401015773},{"$f":"IF($B$2=\"トン\",AppQt.Data!AD31,(AppQt.Data!AD31*ozton*AppQt.Data!AD$7)/1000000)","v":1103.2369987817569},{"$f":"IF($B$2=\"トン\",AppQt.Data!AE31,(AppQt.Data!AE31*ozton*AppQt.Data!AE$7)/1000000)","v":1108.3939319091066},{"$f":"IF($B$2=\"トン\",AppQt.Data!AF31,(AppQt.Data!AF31*ozton*AppQt.Data!AF$7)/1000000)","v":1173.0339610459523},{"$f":"IF($B$2=\"トン\",AppQt.Data!AG31,(AppQt.Data!AG31*ozton*AppQt.Data!AG$7)/1000000)","v":1122.2540813928056},{"$f":"IF($B$2=\"トン\",AppQt.Data!AH31,(AppQt.Data!AH31*ozton*AppQt.Data!AH$7)/1000000)","v":1076.7897425947713},{"$f":"IF($B$2=\"トン\",AppQt.Data!AI31,(AppQt.Data!AI31*ozton*AppQt.Data!AI$7)/1000000)","v":1130.4828027607166},{"$f":"IF($B$2=\"トン\",AppQt.Data!AJ31,(AppQt.Data!AJ31*ozton*AppQt.Data!AJ$7)/1000000)","v":1111.7505907929071},{"$f":"IF($B$2=\"トン\",AppQt.Data!AK31,(AppQt.Data!AK31*ozton*AppQt.Data!AK$7)/1000000)","v":1251.3940470695427},{"$f":"IF($B$2=\"トン\",AppQt.Data!AL31,(AppQt.Data!AL31*ozton*AppQt.Data!AL$7)/1000000)","v":1211.3174469261248},{"$f":"IF($B$2=\"トン\",AppQt.Data!AM31,(AppQt.Data!AM31*ozton*AppQt.Data!AM$7)/1000000)","v":1181.803999046226},{"$f":"IF($B$2=\"トン\",AppQt.Data!AN31,(AppQt.Data!AN31*ozton*AppQt.Data!AN$7)/1000000)","v":1134.8219687112457},{"$f":"IF($B$2=\"トン\",AppQt.Data!AO31,(AppQt.Data!AO31*ozton*AppQt.Data!AO$7)/1000000)","v":1087.7312160701704},{"$f":"IF($B$2=\"トン\",AppQt.Data!AP31,(AppQt.Data!AP31*ozton*AppQt.Data!AP$7)/1000000)","v":1144.7652543007437},{"$f":"IF($B$2=\"トン\",AppQt.Data!AQ31,(AppQt.Data!AQ31*ozton*AppQt.Data!AQ$7)/1000000)","v":1235.7786160174232},{"$f":"IF($B$2=\"トン\",AppQt.Data!AR31,(AppQt.Data!AR31*ozton*AppQt.Data!AR$7)/1000000)","v":1191.7369576169576},{"$f":"IF($B$2=\"トン\",AppQt.Data!AS31,(AppQt.Data!AS31*ozton*AppQt.Data!AS$7)/1000000)","v":1154.3216341982341},{"$f":"IF($B$2=\"トン\",AppQt.Data!AT31,(AppQt.Data!AT31*ozton*AppQt.Data!AT$7)/1000000)","v":1141.2325305182248},{"$f":"IF($B$2=\"トン\",AppQt.Data!AU31,(AppQt.Data!AU31*ozton*AppQt.Data!AU$7)/1000000)","v":1240.3432864499548},{"$f":"IF($B$2=\"トン\",AppQt.Data!AV31,(AppQt.Data!AV31*ozton*AppQt.Data!AV$7)/1000000)","v":1239.441001722975},{"$f":"IF($B$2=\"トン\",AppQt.Data!AW31,(AppQt.Data!AW31*ozton*AppQt.Data!AW$7)/1000000)","v":1119.9513223575573},{"$f":"IF($B$2=\"トン\",AppQt.Data!AX31,(AppQt.Data!AX31*ozton*AppQt.Data!AX$7)/1000000)","v":1234.6625009945421},{"$f":"IF($B$2=\"トン\",AppQt.Data!AY31,(AppQt.Data!AY31*ozton*AppQt.Data!AY$7)/1000000)","v":1284.4537955419103},{"$f":"IF($B$2=\"トン\",AppQt.Data!AZ31,(AppQt.Data!AZ31*ozton*AppQt.Data!AZ$7)/1000000)","v":1237.2721417962084},{"$f":"IF($B$2=\"トン\",AppQt.Data!BA31,(AppQt.Data!BA31*ozton*AppQt.Data!BA$7)/1000000)","v":1179.5744481141126},{"$f":"IF($B$2=\"トン\",AppQt.Data!BB31,(AppQt.Data!BB31*ozton*AppQt.Data!BB$7)/1000000)","v":1037.7001249429875},{"$f":"IF($B$2=\"トン\",AppQt.Data!BC31,(AppQt.Data!BC31*ozton*AppQt.Data!BC$7)/1000000)","v":1277.0221782514195},{"$f":"IF($B$2=\"トン\",AppQt.Data!BD31,(AppQt.Data!BD31*ozton*AppQt.Data!BD$7)/1000000)","v":1232.0799707782433},{"$f":"IF($B$2=\"トン\",AppQt.Data!BE31,(AppQt.Data!BE31*ozton*AppQt.Data!BE$7)/1000000)","v":1104.6861726858992},{"$f":"IF($B$2=\"トン\",AppQt.Data!BF31,(AppQt.Data!BF31*ozton*AppQt.Data!BF$7)/1000000)","v":1134.2669218681294},{"$f":"IF($B$2=\"トン\",AppQt.Data!BG31,(AppQt.Data!BG31*ozton*AppQt.Data!BG$7)/1000000)","v":1208.200902951299},{"$f":"IF($B$2=\"トン\",AppQt.Data!BH31,(AppQt.Data!BH31*ozton*AppQt.Data!BH$7)/1000000)","v":1235.2757069295396},{"$f":"IF($B$2=\"トン\",AppQt.Data!BI31,(AppQt.Data!BI31*ozton*AppQt.Data!BI$7)/1000000)","v":1151.1314988608549},{"$f":"IF($B$2=\"トン\",AppQt.Data!BJ31,(AppQt.Data!BJ31*ozton*AppQt.Data!BJ$7)/1000000)","v":1181.8179014907187},{"$f":"IF($B$2=\"トン\",AppQt.Data!BK31,(AppQt.Data!BK31*ozton*AppQt.Data!BK$7)/1000000)","v":1204.5157737661552},{"$f":"IF($B$2=\"トン\",AppQt.Data!BL31,(AppQt.Data!BL31*ozton*AppQt.Data!BL$7)/1000000)","v":1217.0425931287191},"▼",-1.4760359730656147]
[null,"LBMA金価格 (US$/oz)",{"$f":"AppAn.Data!L$6","v":1224.52},{"$f":"AppAn.Data!M$6","v":1571.52},{"$f":"AppAn.Data!N$6","v":1668.98},{"$f":"AppAn.Data!O$6","v":1411.23},{"$f":"AppAn.Data!P$6","v":1266.4000000000001},{"$f":"AppAn.Data!Q$6","v":1160.06},{"$f":"AppAn.Data!R$6","v":1250.8},{"$f":"AppAn.Data!S$6","v":1257.1500000000001},{"$f":"AppAn.Data!T$6","v":1268.49},{"$f":"AppAn.Data!U$6","v":1392.6},{"$f":"AppAn.Data!V$6","v":1769.59},{"$f":"AppAn.Data!W$6","v":1798.61},{"$f":"AppAn.Data!X$6","v":1800.09},"▲",8.2285765118617071E-2,null,{"$f":"AppQt.Data!M$7","v":1109.1199999999999},{"$f":"AppQt.Data!N$7","v":1196.74},{"$f":"AppQt.Data!O$7","v":1226.75},{"$f":"AppQt.Data!P$7","v":1366.78},{"$f":"AppQt.Data!Q$7","v":1386.27},{"$f":"AppQt.Data!R$7","v":1506.13},{"$f":"AppQt.Data!S$7","v":1702.12},{"$f":"AppQt.Data!T$7","v":1688.01},{"$f":"AppQt.Data!U$7","v":1690.57},{"$f":"AppQt.Data!V$7","v":1609.49},{"$f":"AppQt.Data!W$7","v":1652},{"$f":"AppQt.Data!X$7","v":1721.79},{"$f":"AppQt.Data!Y$7","v":1631.77},{"$f":"AppQt.Data!Z$7","v":1414.8},{"$f":"AppQt.Data!AA$7","v":1326.28},{"$f":"AppQt.Data!AB$7","v":1276.1600000000001},{"$f":"AppQt.Data!AC$7","v":1293.06},{"$f":"AppQt.Data!AD$7","v":1288.3900000000001},{"$f":"AppQt.Data!AE$7","v":1281.94},{"$f":"AppQt.Data!AF$7","v":1201.4000000000001},{"$f":"AppQt.Data!AG$7","v":1218.45},{"$f":"AppQt.Data!AH$7","v":1192.3499999999999},{"$f":"AppQt.Data!AI$7","v":1124.31},{"$f":"AppQt.Data!AJ$7","v":1106.45},{"$f":"AppQt.Data!AK$7","v":1182.56},{"$f":"AppQt.Data!AL$7","v":1259.6199999999999},{"$f":"AppQt.Data!AM$7","v":1334.78},{"$f":"AppQt.Data!AN$7","v":1221.55},{"$f":"AppQt.Data!AO$7","v":1219.49},{"$f":"AppQt.Data!AP$7","v":1256.5899999999999},{"$f":"AppQt.Data!AQ$7","v":1277.9100000000001},{"$f":"AppQt.Data!AR$7","v":1275.42},{"$f":"AppQt.Data!AS$7","v":1329.28},{"$f":"AppQt.Data!AT$7","v":1305.99},{"$f":"AppQt.Data!AU$7","v":1213.19},{"$f":"AppQt.Data!AV$7","v":1226.28},{"$f":"AppQt.Data!AW$7","v":1303.79},{"$f":"AppQt.Data!AX$7","v":1309.3900000000001},{"$f":"AppQt.Data!AY$7","v":1472.47},{"$f":"AppQt.Data!AZ$7","v":1480.96},{"$f":"AppQt.Data!BA$7","v":1582.8},{"$f":"AppQt.Data!BB$7","v":1711.13},{"$f":"AppQt.Data!BC$7","v":1908.56},{"$f":"AppQt.Data!BD$7","v":1874.23},{"$f":"AppQt.Data!BE$7","v":1794.01},{"$f":"AppQt.Data!BF$7","v":1816.48},{"$f":"AppQt.Data!BG$7","v":1789.52},{"$f":"AppQt.Data!BH$7","v":1795.25},{"$f":"AppQt.Data!BI$7","v":1877.16},{"$f":"AppQt.Data!BJ$7","v":1870.58},{"$f":"AppQt.Data!BK$7","v":1728.91},{"$f":"AppQt.Data!BL$7","v":1725.85},"▼",-3.8657568583762791]
[null,"注：用語の説明については、注および定義セクションをご覧ください： https://www.gold.org/goldhub/data/gold-demand-by-country."]
[null,"出所：Metals Focus, Refinitiv GFMS, ICE Benchmark Administration, ワールド・ゴールド・カウンシル"]

{"sheet":"宝飾品","index":7,"n_rows":47,"n_cols":72,"rows_kept":47,"cut":false,"hidden":false,"merged":[]}
["▲"]
["▼","トン"]
[]
[null,{"$f":"\"宝飾品 (\"&$B$2&\")\"","v":"宝飾品 (トン)"}]
[null,null,{"$f":"AppAn.Data!L$2","v":2010},{"$f":"AppAn.Data!M$2","v":2011},{"$f":"AppAn.Data!N$2","v":2012},{"$f":"AppAn.Data!O$2","v":2013},{"$f":"AppAn.Data!P$2","v":2014},{"$f":"AppAn.Data!Q$2","v":2015},{"$f":"AppAn.Data!R$2","v":2016},{"$f":"AppAn.Data!S$2","v":2017},{"$f":"AppAn.Data!T$2","v":2018},{"$f":"AppAn.Data!U$2","v":2019},{"$f":"AppAn.Data!V$2","v":2020},{"$f":"AppAn.Data!W$2","v":2021},{"$f":"AppAn.Data!X$2","v":2022},null,"前年同期比%",null,"2010年第1四半期","2010年第2四半期","2010年第3四半期","2010年第4四半期","2011年第1四半期","2011年第2四半期","2011年第3四半期","2011年第4四半期","2012年第1四半期","2012年第2四半期","2012年第3四半期","2012年第4四半期","2013年第1四半期","2013年第2四半期","2013年第3四半期","2013年第4四半期","2014年第1四半期","2014年第2四半期","2014年第3四半期","2014年第4四半期","2015年第1四半期","2015年第2四半期","2015年第3四半期","2015年第4四半期","2016年第1四半期","2016年第2四半期","2016年第3四半期","2016年第4四半期","2017年第1四半期","2017年第2四半期","2017年第3四半期","2017年第4四半期","2018年第1四半期","2018年第2四半期","2018年第3四半期","2018年第4四半期","2019年第1四半期","2019年第2四半期","2019年第3四半期","2019年第4四半期","2020年第1四半期","2020年第2四半期","2020年第3四半期","2020年第4四半期","2021年第1四半期","2021年第2四半期","2021年第3四半期","2021年第4四半期","2022年第1四半期","2022年第2四半期","2022年第3四半期","2022年第4四半期",null,"前年同期比%"]
[null,"インド",{"$f":"IFERROR(IF($B$2=\"トン\",AppAn.Data!L32,(AppAn.Data!L32*ozton*AppAn.Data!L$6)/1000000),\"-\")","v":661.65670656183181},{"$f":"IFERROR(IF($B$2=\"トン\",AppAn.Data!M32,(AppAn.Data!M32*ozton*AppAn.Data!M$6)/1000000),\"-\")","v":619.31126175185261},{"$f":"IFERROR(IF($B$2=\"トン\",AppAn.Data!N32,(AppAn.Data!N32*ozton*AppAn.Data!N$6)/1000000),\"-\")","v":595.16753270612003},{"$f":"IFERROR(IF($B$2=\"トン\",AppAn.Data!O32,(AppAn.Data!O32*ozton*AppAn.Data!O$6)/1000000),\"-\")","v":617.42978121961733},{"$f":"IFERROR(IF($B$2=\"トン\",AppAn.Data!P32,(AppAn.Data!P32*ozton*AppAn.Data!P$6)/1000000),\"-\")","v":627.49133060767122},{"$f":"IFERROR(IF($B$2=\"トン\",AppAn.Data!Q32,(AppAn.Data!Q32*ozton*AppAn.Data!Q$6)/1000000),\"-\")","v":662.29704032189329},{"$f":"IFERROR(IF($B$2=\"トン\",AppAn.Data!R32,(AppAn.Data!R32*ozton*AppAn.Data!R$6)/1000000),\"-\")","v":504.50877873973809},{"$f":"IFERROR(IF($B$2=\"トン\",AppAn.Data!S32,(AppAn.Data!S32*ozton*AppAn.Data!S$6)/1000000),\"-\")","v":601.90119398280206},{"$f":"IFERROR(IF($B$2=\"トン\",AppAn.Data!T32,(AppAn.Data!T32*ozton*AppAn.Data!T$6)/1000000),\"-\")","v":598.01090527814119},{"$f":"IFERROR(IF($B$2=\"トン\",AppAn.Data!U32,(AppAn.Data!U32*ozton*AppAn.Data!U$6)/1000000),\"-\")","v":544.63619815173627},{"$f":"IFERROR(IF($B$2=\"トン\",AppAn.Data!V32,(AppAn.Data!V32*ozton*AppAn.Data!V$6)/1000000),\"-\")","v":315.93269170472456},{"$f":"IFERROR(IF($B$2=\"トン\",AppAn.Data!W32,(AppAn.Data!W32*ozton*AppAn.Data!W$6)/1000000),\"-\")","v":610.86354212490699},{"$f":"IFERROR(IF($B$2=\"トン\",AppAn.Data!X32,(AppAn.Data!X32*ozton*AppAn.Data!X$6)/1000000),\"-\")","v":600.39907754201101},{"$f":"IF(Q6<0,$A$2,IF(Q6>0,$A$1,\"-\"))","v":"▼"},{"$f":"IF(AND(O6>0,N6>0),(O6/N6-1)*100,\"-\")","v":-1.7130609147985809},null,{"$f":"IFERROR(IF($B$2=\"トン\",AppQt.Data!M42,(AppQt.Data!M42*ozton*AppQt.Data!M$7)/1000000),\"-\")","v":190.86518726172773},{"$f":"IFERROR(IF($B$2=\"トン\",AppQt.Data!N42,(AppQt.Data!N42*ozton*AppQt.Data!N$7)/1000000),\"-\")","v":117.27024530928182},{"$f":"IFERROR(IF($B$2=\"トン\",AppQt.Data!O42,(AppQt.Data!O42*ozton*AppQt.Data!O$7)/1000000),\"-\")","v":166.61232100456573},{"$f":"IFERROR(IF($B$2=\"トン\",AppQt.Data!P42,(AppQt.Data!P42*ozton*AppQt.Data!P$7)/1000000),\"-\")","v":186.90895298625648},{"$f":"IFERROR(IF($B$2=\"トン\",AppQt.Data!Q42,(AppQt.Data!Q42*ozton*AppQt.Data!Q$7)/1000000),\"-\")","v":198.75967692652551},{"$f":"IFERROR(IF($B$2=\"トン\",AppQt.Data!R42,(AppQt.Data!R42*ozton*AppQt.Data!R$7)/1000000),\"-\")","v":179.78178544067305},{"$f":"IFERROR(IF($B$2=\"トン\",AppQt.Data!S42,(AppQt.Data!S42*ozton*AppQt.Data!S$7)/1000000),\"-\")","v":127.0322309722761},{"$f":"IFERROR(IF($B$2=\"トン\",AppQt.Data!T42,(AppQt.Data!T42*ozton*AppQt.Data!T$7)/1000000),\"-\")","v":113.73756841237801},{"$f":"IFERROR(IF($B$2=\"トン\",AppQt.Data!U42,(AppQt.Data!U42*ozton*AppQt.Data!U$7)/1000000),\"-\")","v":147.52604278294368},{"$f":"IFERROR(IF($B$2=\"トン\",AppQt.Data!V42,(AppQt.Data!V42*ozton*AppQt.Data!V$7)/1000000),\"-\")","v":133.8356787238273},{"$f":"IFERROR(IF($B$2=\"トン\",AppQt.Data!W42,(AppQt.Data!W42*ozton*AppQt.Data!W$7)/1000000),\"-\")","v":147.19689776680727},{"$f":"IFERROR(IF($B$2=\"トン\",AppQt.Data!X42,(AppQt.Data!X42*ozton*AppQt.Data!X$7)/1000000),\"-\")","v":166.60891343254167},{"$f":"IFERROR(IF($B$2=\"トン\",AppQt.Data!Y42,(AppQt.Data!Y42*ozton*AppQt.Data!Y$7)/1000000),\"-\")","v":144.65052104445505},{"$f":"IFERROR(IF($B$2=\"トン\",AppQt.Data!Z42,(AppQt.Data!Z42*ozton*AppQt.Data!Z$7)/1000000),\"-\")","v":188.53390171165518},{"$f":"IFERROR(IF($B$2=\"トン\",AppQt.Data!AA42,(AppQt.Data!AA42*ozton*AppQt.Data!AA$7)/1000000),\"-\")","v":146.16233246560444},{"$f":"IFERROR(IF($B$2=\"トン\",AppQt.Data!AB42,(AppQt.Data!AB42*ozton*AppQt.Data!AB$7)/1000000),\"-\")","v":138.08302599790261},{"$f":"IFERROR(IF($B$2=\"トン\",AppQt.Data!AC42,(AppQt.Data!AC42*ozton*AppQt.Data!AC$7)/1000000),\"-\")","v":123.68849937180565},{"$f":"IFERROR(IF($B$2=\"トン\",AppQt.Data!AD42,(AppQt.Data!AD42*ozton*AppQt.Data!AD$7)/1000000),\"-\")","v":151.56657694526021},{"$f":"IFERROR(IF($B$2=\"トン\",AppQt.Data!AE42,(AppQt.Data!AE42*ozton*AppQt.Data!AE$7)/1000000),\"-\")","v":183.08347948089079},{"$f":"IFERROR(IF($B$2=\"トン\",AppQt.Data!AF42,(AppQt.Data!AF42*ozton*AppQt.Data!AF$7)/1000000),\"-\")","v":169.15277480971457},{"$f":"IFERROR(IF($B$2=\"トン\",AppQt.Data!AG42,(AppQt.Data!AG42*ozton*AppQt.Data!AG$7)/1000000),\"-\")","v":150.70482133800485},{"$f":"IFERROR(IF($B$2=\"トン\",AppQt.Data!AH42,(AppQt.Data!AH42*ozton*AppQt.Data!AH$7)/1000000),\"-\")","v":121.47015904540478},{"$f":"IFERROR(IF($B$2=\"トン\",AppQt.Data!AI42,(AppQt.Data!AI42*ozton*AppQt.Data!AI$7)/1000000),\"-\")","v":214.13879867766045},{"$f":"IFERROR(IF($B$2=\"トン\",AppQt.Data!AJ42,(AppQt.Data!AJ42*ozton*AppQt.Data!AJ$7)/1000000),\"-\")","v":175.98326126082318},{"$f":"IFERROR(IF($B$2=\"トン\",AppQt.Data!AK42,(AppQt.Data!AK42*ozton*AppQt.Data!AK$7)/1000000),\"-\")","v":79.777117136462749},{"$f":"IFERROR(IF($B$2=\"トン\",AppQt.Data!AL42,(AppQt.Data!AL42*ozton*AppQt.Data!AL$7)/1000000),\"-\")","v":89.838518822237376},{"$f":"IFERROR(IF($B$2=\"トン\",AppQt.Data!AM42,(AppQt.Data!AM42*ozton*AppQt.Data!AM$7)/1000000),\"-\")","v":152.69484303324532},{"$f":"IFERROR(IF($B$2=\"トン\",AppQt.Data!AN42,(AppQt.Data!AN42*ozton*AppQt.Data!AN$7)/1000000),\"-\")","v":182.19829974779267},{"$f":"IFERROR(IF($B$2=\"トン\",AppQt.Data!AO42,(AppQt.Data!AO42*ozton*AppQt.Data!AO$7)/1000000),\"-\")","v":123.72511020516356},{"$f":"IFERROR(IF($B$2=\"トン\",AppQt.Data!AP42,(AppQt.Data!AP42*ozton*AppQt.Data!AP$7)/1000000),\"-\")","v":160.95005276780358},{"$f":"IFERROR(IF($B$2=\"トン\",AppQt.Data!AQ42,(AppQt.Data!AQ42*ozton*AppQt.Data!AQ$7)/1000000),\"-\")","v":134.79821424274854},{"$f":"IFERROR(IF($B$2=\"トン\",AppQt.Data!AR42,(AppQt.Data!AR42*ozton*AppQt.Data!AR$7)/1000000),\"-\")","v":182.42781676708637},{"$f":"IFERROR(IF($B$2=\"トン\",AppQt.Data!AS42,(AppQt.Data!AS42*ozton*AppQt.Data!AS$7)/1000000),\"-\")","v":119.20959310823409},{"$f":"IFERROR(IF($B$2=\"トン\",AppQt.Data!AT42,(AppQt.Data!AT42*ozton*AppQt.Data!AT$7)/1000000),\"-\")","v":149.94356069198909},{"$f":"IFERROR(IF($B$2=\"トン\",AppQt.Data!AU42,(AppQt.Data!AU42*ozton*AppQt.Data!AU$7)/1000000),\"-\")","v":148.78774380416081},{"$f":"IFERROR(IF($B$2=\"トン\",AppQt.Data!AV42,(AppQt.Data!AV42*ozton*AppQt.Data!AV$7)/1000000),\"-\")","v":180.0700076737572},{"$f":"IFERROR(IF($B$2=\"トン\",AppQt.Data!AW42,(AppQt.Data!AW42*ozton*AppQt.Data!AW$7)/1000000),\"-\")","v":125.42837833676344},{"$f":"IFERROR(IF($B$2=\"トン\",AppQt.Data!AX42,(AppQt.Data!AX42*ozton*AppQt.Data!AX$7)/1000000),\"-\")","v":168.64313127578745},{"$f":"IFERROR(IF($B$2=\"トン\",AppQt.Data!AY42,(AppQt.Data!AY42*ozton*AppQt.Data!AY$7)/1000000),\"-\")","v":101.56630420270452},{"$f":"IFERROR(IF($B$2=\"トン\",AppQt.Data!AZ42,(AppQt.Data!AZ42*ozton*AppQt.Data!AZ$7)/1000000),\"-\")","v":148.99838433648088},{"$f":"IFERROR(IF($B$2=\"トン\",AppQt.Data!BA42,(AppQt.Data!BA42*ozton*AppQt.Data!BA$7)/1000000),\"-\")","v":73.861008333646254},{"$f":"IFERROR(IF($B$2=\"トン\",AppQt.Data!BB42,(AppQt.Data!BB42*ozton*AppQt.Data!BB$7)/1000000),\"-\")","v":43.974826558568118},{"$f":"IFERROR(IF($B$2=\"トン\",AppQt.Data!BC42,(AppQt.Data!BC42*ozton*AppQt.Data!BC$7)/1000000),\"-\")","v":60.795732737081813},{"$f":"IFERROR(IF($B$2=\"トン\",AppQt.Data!BD42,(AppQt.Data!BD42*ozton*AppQt.Data!BD$7)/1000000),\"-\")","v":137.30112407542836},{"$f":"IFERROR(IF($B$2=\"トン\",AppQt.Data!BE42,(AppQt.Data!BE42*ozton*AppQt.Data!BE$7)/1000000),\"-\")","v":126.52267742523097},{"$f":"IFERROR(IF($B$2=\"トン\",AppQt.Data!BF42,(AppQt.Data!BF42*ozton*AppQt.Data!BF$7)/1000000),\"-\")","v":94.265206613627214},{"$f":"IFERROR(IF($B$2=\"トン\",AppQt.Data!BG42,(AppQt.Data!BG42*ozton*AppQt.Data!BG$7)/1000000),\"-\")","v":125.08749547978633},{"$f":"IFERROR(IF($B$2=\"トン\",AppQt.Data!BH42,(AppQt.Data!BH42*ozton*AppQt.Data!BH$7)/1000000),\"-\")","v":264.98816260626245},{"$f":"IFERROR(IF($B$2=\"トン\",AppQt.Data!BI42,(AppQt.Data!BI42*ozton*AppQt.Data!BI$7)/1000000),\"-\")","v":94.19622134219739},{"$f":"IFERROR(IF($B$2=\"トン\",AppQt.Data!BJ42,(AppQt.Data!BJ42*ozton*AppQt.Data!BJ$7)/1000000),\"-\")","v":140.28577901804081},{"$f":"IFERROR(IF($B$2=\"トン\",AppQt.Data!BK42,(AppQt.Data!BK42*ozton*AppQt.Data!BK$7)/1000000),\"-\")","v":146.22440274173931},{"$f":"IFERROR(IF($B$2=\"トン\",AppQt.Data!BL42,(AppQt.Data!BL42*ozton*AppQt.Data!BL$7)/1000000),\"-\")","v":219.6926744400335},{"$f":"IF(BT6<0,$A$2,IF(BT6>0,$A$1,\"-\"))","v":"▼"},{"$f":"IF(AND(ISNUMBER(BR6),ISNUMBER(BN6),BR6>0,BN6>0,(BR6/BN6-1)*100<300),(BR6/BN6-1)*100,IF(AND(ISNUMBER(BR6),ISNUMBER(BN6),BR6>0,BN6>0,(BR6/BN6-1)*100>300),\">300\",\"-\"))","v":-17.093400595985141}]
[null,"パキスタン",{"$f":"IFERROR(IF($B$2=\"トン\",AppAn.Data!L33,(AppAn.Data!L33*ozton*AppAn.Data!L$6)/1000000),\"-\")","v":26.473250137262077},{"$f":"IFERROR(IF($B$2=\"トン\",AppAn.Data!M33,(AppAn.Data!M33*ozton*AppAn.Data!M$6)/1000000),\"-\")","v":24.20401820255767},{"$f":"IFERROR(IF($B$2=\"トン\",AppAn.Data!N33,(AppAn.Data!N33*ozton*AppAn.Data!N$6)/1000000),\"-\")","v":26.14634799399116},{"$f":"IFERROR(IF($B$2=\"トン\",AppAn.Data!O33,(AppAn.Data!O33*ozton*AppAn.Data!O$6)/1000000),\"-\")","v":23.331891202885004},{"$f":"IFERROR(IF($B$2=\"トン\",AppAn.Data!P33,(AppAn.Data!P33*ozton*AppAn.Data!P$6)/1000000),\"-\")","v":21.849328195230392},{"$f":"IFERROR(IF($B$2=\"トン\",AppAn.Data!Q33,(AppAn.Data!Q33*ozton*AppAn.Data!Q$6)/1000000),\"-\")","v":23.173513572089732},{"$f":"IFERROR(IF($B$2=\"トン\",AppAn.Data!R33,(AppAn.Data!R33*ozton*AppAn.Data!R$6)/1000000),\"-\")","v":26.219005596801534},{"$f":"IFERROR(IF($B$2=\"トン\",AppAn.Data!S33,(AppAn.Data!S33*ozton*AppAn.Data!S$6)/1000000),\"-\")","v":28.066187614775341},{"$f":"IFERROR(IF($B$2=\"トン\",AppAn.Data!T33,(AppAn.Data!T33*ozton*AppAn.Data!T$6)/1000000),\"-\")","v":25.389562640784618},{"$f":"IFERROR(IF($B$2=\"トン\",AppAn.Data!U33,(AppAn.Data!U33*ozton*AppAn.Data!U$6)/1000000),\"-\")","v":23.791199898743386},{"$f":"IFERROR(IF($B$2=\"トン\",AppAn.Data!V33,(AppAn.Data!V33*ozton*AppAn.Data!V$6)/1000000),\"-\")","v":16.824540708264678},{"$f":"IFERROR(IF($B$2=\"トン\",AppAn.Data!W33,(AppAn.Data!W33*ozton*AppAn.Data!W$6)/1000000),\"-\")","v":23.132864353907287},{"$f":"IFERROR(IF($B$2=\"トン\",AppAn.Data!X33,(AppAn.Data!X33*ozton*AppAn.Data!X$6)/1000000),\"-\")","v":23.452506448932802},{"$f":"IF(Q7<0,$A$2,IF(Q7>0,$A$1,\"-\"))","v":"▲"},1.3817661753224408,null,{"$f":"IFERROR(IF($B$2=\"トン\",AppQt.Data!M43,(AppQt.Data!M43*ozton*AppQt.Data!M$7)/1000000),\"-\")","v":9.27108116764275},{"$f":"IFERROR(IF($B$2=\"トン\",AppQt.Data!N43,(AppQt.Data!N43*ozton*AppQt.Data!N$7)/1000000),\"-\")","v":6.0493882686676423},{"$f":"IFERROR(IF($B$2=\"トン\",AppQt.Data!O43,(AppQt.Data!O43*ozton*AppQt.Data!O$7)/1000000),\"-\")","v":6.6161042734260604},{"$f":"IFERROR(IF($B$2=\"トン\",AppQt.Data!P43,(AppQt.Data!P43*ozton*AppQt.Data!P$7)/1000000),\"-\")","v":4.5366764275256219},{"$f":"IFERROR(IF($B$2=\"トン\",AppQt.Data!Q43,(AppQt.Data!Q43*ozton*AppQt.Data!Q$7)/1000000),\"-\")","v":9.4862619531349957},{"$f":"IFERROR(IF($B$2=\"トン\",AppQt.Data!R43,(AppQt.Data!R43*ozton*AppQt.Data!R$7)/1000000),\"-\")","v":5.697762929267272},{"$f":"IFERROR(IF($B$2=\"トン\",AppQt.Data!S43,(AppQt.Data!S43*ozton*AppQt.Data!S$7)/1000000),\"-\")","v":5.2335985415660051},{"$f":"IFERROR(IF($B$2=\"トン\",AppQt.Data!T43,(AppQt.Data!T43*ozton*AppQt.Data!T$7)/1000000),\"-\")","v":3.7863947785893965},{"$f":"IFERROR(IF($B$2=\"トン\",AppQt.Data!U43,(AppQt.Data!U43*ozton*AppQt.Data!U$7)/1000000),\"-\")","v":8.8621702730506833},{"$f":"IFERROR(IF($B$2=\"トン\",AppQt.Data!V43,(AppQt.Data!V43*ozton*AppQt.Data!V$7)/1000000),\"-\")","v":5.7721318180027339},{"$f":"IFERROR(IF($B$2=\"トン\",AppQt.Data!W43,(AppQt.Data!W43*ozton*AppQt.Data!W$7)/1000000),\"-\")","v":5.9497164554967155},{"$f":"IFERROR(IF($B$2=\"トン\",AppQt.Data!X43,(AppQt.Data!X43*ozton*AppQt.Data!X$7)/1000000),\"-\")","v":5.5623294474410265},{"$f":"IFERROR(IF($B$2=\"トン\",AppQt.Data!Y43,(AppQt.Data!Y43*ozton*AppQt.Data!Y$7)/1000000),\"-\")","v":6.016551131770413},{"$f":"IFERROR(IF($B$2=\"トン\",AppQt.Data!Z43,(AppQt.Data!Z43*ozton*AppQt.Data!Z$7)/1000000),\"-\")","v":6.8076462206952302},{"$f":"IFERROR(IF($B$2=\"トン\",AppQt.Data!AA43,(AppQt.Data!AA43*ozton*AppQt.Data!AA$7)/1000000),\"-\")","v":5.1500911826748181},{"$f":"IFERROR(IF($B$2=\"トン\",AppQt.Data!AB43,(AppQt.Data!AB43*ozton*AppQt.Data!AB$7)/1000000),\"-\")","v":5.3576026677445432},{"$f":"IFERROR(IF($B$2=\"トン\",AppQt.Data!AC43,(AppQt.Data!AC43*ozton*AppQt.Data!AC$7)/1000000),\"-\")","v":4.17485173807599},{"$f":"IFERROR(IF($B$2=\"トン\",AppQt.Data!AD43,(AppQt.Data!AD43*ozton*AppQt.Data!AD$7)/1000000),\"-\")","v":6.0737194644300736},{"$f":"IFERROR(IF($B$2=\"トン\",AppQt.Data!AE43,(AppQt.Data!AE43*ozton*AppQt.Data!AE$7)/1000000),\"-\")","v":5.514184215844784},{"$f":"IFERROR(IF($B$2=\"トン\",AppQt.Data!AF43,(AppQt.Data!AF43*ozton*AppQt.Data!AF$7)/1000000),\"-\")","v":6.0865727768795459},{"$f":"IFERROR(IF($B$2=\"トン\",AppQt.Data!AG43,(AppQt.Data!AG43*ozton*AppQt.Data!AG$7)/1000000),\"-\")","v":5.3167399757477769},{"$f":"IFERROR(IF($B$2=\"トン\",AppQt.Data!AH43,(AppQt.Data!AH43*ozton*AppQt.Data!AH$7)/1000000),\"-\")","v":5.3626236029708974},{"$f":"IFERROR(IF($B$2=\"トン\",AppQt.Data!AI43,(AppQt.Data!AI43*ozton*AppQt.Data!AI$7)/1000000),\"-\")","v":5.9168985319320919},{"$f":"IFERROR(IF($B$2=\"トン\",AppQt.Data!AJ43,(AppQt.Data!AJ43*ozton*AppQt.Data!AJ$7)/1000000),\"-\")","v":6.5772514614389648},{"$f":"IFERROR(IF($B$2=\"トン\",AppQt.Data!AK43,(AppQt.Data!AK43*ozton*AppQt.Data!AK$7)/1000000),\"-\")","v":6.4334790182700088},{"$f":"IFERROR(IF($B$2=\"トン\",AppQt.Data!AL43,(AppQt.Data!AL43*ozton*AppQt.Data!AL$7)/1000000),\"-\")","v":6.1760728850343565},{"$f":"IFERROR(IF($B$2=\"トン\",AppQt.Data!AM43,(AppQt.Data!AM43*ozton*AppQt.Data!AM$7)/1000000),\"-\")","v":6.3669320566855294},{"$f":"IFERROR(IF($B$2=\"トン\",AppQt.Data!AN43,(AppQt.Data!AN43*ozton*AppQt.Data!AN$7)/1000000),\"-\")","v":7.2425216368116407},{"$f":"IFERROR(IF($B$2=\"トン\",AppQt.Data!AO43,(AppQt.Data!AO43*ozton*AppQt.Data!AO$7)/1000000),\"-\")","v":6.5891485986354077},{"$f":"IFERROR(IF($B$2=\"トン\",AppQt.Data!AP43,(AppQt.Data!AP43*ozton*AppQt.Data!AP$7)/1000000),\"-\")","v":6.8067350862065474},{"$f":"IFERROR(IF($B$2=\"トン\",AppQt.Data!AQ43,(AppQt.Data!AQ43*ozton*AppQt.Data!AQ$7)/1000000),\"-\")","v":6.441848244801939},{"$f":"IFERROR(IF($B$2=\"トン\",AppQt.Data!AR43,(AppQt.Data!AR43*ozton*AppQt.Data!AR$7)/1000000),\"-\")","v":8.228455685131447},{"$f":"IFERROR(IF($B$2=\"トン\",AppQt.Data!AS43,(AppQt.Data!AS43*ozton*AppQt.Data!AS$7)/1000000),\"-\")","v":6.906389000539888},{"$f":"IFERROR(IF($B$2=\"トン\",AppQt.Data!AT43,(AppQt.Data!AT43*ozton*AppQt.Data!AT$7)/1000000),\"-\")","v":6.0060615775858937},{"$f":"IFERROR(IF($B$2=\"トン\",AppQt.Data!AU43,(AppQt.Data!AU43*ozton*AppQt.Data!AU$7)/1000000),\"-\")","v":5.727663420321746},{"$f":"IFERROR(IF($B$2=\"トン\",AppQt.Data!AV43,(AppQt.Data!AV43*ozton*AppQt.Data!AV$7)/1000000),\"-\")","v":6.7494486423370903},{"$f":"IFERROR(IF($B$2=\"トン\",AppQt.Data!AW43,(AppQt.Data!AW43*ozton*AppQt.Data!AW$7)/1000000),\"-\")","v":7.8530279005938768},{"$f":"IFERROR(IF($B$2=\"トン\",AppQt.Data!AX43,(AppQt.Data!AX43*ozton*AppQt.Data!AX$7)/1000000),\"-\")","v":5.5324554198273033},{"$f":"IFERROR(IF($B$2=\"トン\",AppQt.Data!AY43,(AppQt.Data!AY43*ozton*AppQt.Data!AY$7)/1000000),\"-\")","v":4.5466307362573977},{"$f":"IFERROR(IF($B$2=\"トン\",AppQt.Data!AZ43,(AppQt.Data!AZ43*ozton*AppQt.Data!AZ$7)/1000000),\"-\")","v":5.8590858420648075},{"$f":"IFERROR(IF($B$2=\"トン\",AppQt.Data!BA43,(AppQt.Data!BA43*ozton*AppQt.Data!BA$7)/1000000),\"-\")","v":7.0662765055641827},{"$f":"IFERROR(IF($B$2=\"トン\",AppQt.Data!BB43,(AppQt.Data!BB43*ozton*AppQt.Data!BB$7)/1000000),\"-\")","v":1.265463854956826},{"$f":"IFERROR(IF($B$2=\"トン\",AppQt.Data!BC43,(AppQt.Data!BC43*ozton*AppQt.Data!BC$7)/1000000),\"-\")","v":3.579911125818787},{"$f":"IFERROR(IF($B$2=\"トン\",AppQt.Data!BD43,(AppQt.Data!BD43*ozton*AppQt.Data!BD$7)/1000000),\"-\")","v":4.9128892219248836},{"$f":"IFERROR(IF($B$2=\"トン\",AppQt.Data!BE43,(AppQt.Data!BE43*ozton*AppQt.Data!BE$7)/1000000),\"-\")","v":6.6335350522167191},{"$f":"IFERROR(IF($B$2=\"トン\",AppQt.Data!BF43,(AppQt.Data!BF43*ozton*AppQt.Data!BF$7)/1000000),\"-\")","v":5.3127520417733756},{"$f":"IFERROR(IF($B$2=\"トン\",AppQt.Data!BG43,(AppQt.Data!BG43*ozton*AppQt.Data!BG$7)/1000000),\"-\")","v":5.405647443862045},{"$f":"IFERROR(IF($B$2=\"トン\",AppQt.Data!BH43,(AppQt.Data!BH43*ozton*AppQt.Data!BH$7)/1000000),\"-\")","v":5.7809298160551474},{"$f":"IFERROR(IF($B$2=\"トン\",AppQt.Data!BI43,(AppQt.Data!BI43*ozton*AppQt.Data!BI$7)/1000000),\"-\")","v":5.3772513232523904},{"$f":"IFERROR(IF($B$2=\"トン\",AppQt.Data!BJ43,(AppQt.Data!BJ43*ozton*AppQt.Data!BJ$7)/1000000),\"-\")","v":6.2840216310528678},{"$f":"IFERROR(IF($B$2=\"トン\",AppQt.Data!BK43,(AppQt.Data!BK43*ozton*AppQt.Data!BK$7)/1000000),\"-\")","v":6.5227670758055112},{"$f":"IFERROR(IF($B$2=\"トン\",AppQt.Data!BL43,(AppQt.Data!BL43*ozton*AppQt.Data!BL$7)/1000000),\"-\")","v":5.2684664188220349},{"$f":"IF(BT7<0,$A$2,IF(BT7>0,$A$1,\"-\"))","v":"▼"},-8.8647226923576952]
[null,"スリランカ",{"$f":"IFERROR(IF($B$2=\"トン\",AppAn.Data!L34,(AppAn.Data!L34*ozton*AppAn.Data!L$6)/1000000),\"-\")","v":0},{"$f":"IFERROR(IF($B$2=\"トン\",AppAn.Data!M34,(AppAn.Data!M34*ozton*AppAn.Data!M$6)/1000000),\"-\")","v":0},{"$f":"IFERROR(IF($B$2=\"トン\",AppAn.Data!N34,(AppAn.Data!N34*ozton*AppAn.Data!N$6)/1000000),\"-\")","v":0},{"$f":"IFERROR(IF($B$2=\"トン\",AppAn.Data!O34,(AppAn.Data!O34*ozton*AppAn.Data!O$6)/1000000),\"-\")","v":0},{"$f":"IFERROR(IF($B$2=\"トン\",AppAn.Data!P34,(AppAn.Data!P34*ozton*AppAn.Data!P$6)/1000000),\"-\")","v":9.1224999999999987},{"$f":"IFERROR(IF($B$2=\"トン\",AppAn.Data!Q34,(AppAn.Data!Q34*ozton*AppAn.Data!Q$6)/1000000),\"-\")","v":10.66085},{"$f":"IFERROR(IF($B$2=\"トン\",AppAn.Data!R34,(AppAn.Data!R34*ozton*AppAn.Data!R$6)/1000000),\"-\")","v":10.471097299999997},{"$f":"IFERROR(IF($B$2=\"トン\",AppAn.Data!S34,(AppAn.Data!S34*ozton*AppAn.Data!S$6)/1000000),\"-\")","v":11.181414629999999},{"$f":"IFERROR(IF($B$2=\"トン\",AppAn.Data!T34,(AppAn.Data!T34*ozton*AppAn.Data!T$6)/1000000),\"-\")","v":9.6047718610000015},{"$f":"IFERROR(IF($B$2=\"トン\",AppAn.Data!U34,(AppAn.Data!U34*ozton*AppAn.Data!U$6)/1000000),\"-\")","v":7.8870487193700001},{"$f":"IFERROR(IF($B$2=\"トン\",AppAn.Data!V34,(AppAn.Data!V34*ozton*AppAn.Data!V$6)/1000000),\"-\")","v":4.2723289511385003},{"$f":"IFERROR(IF($B$2=\"トン\",AppAn.Data!W34,(AppAn.Data!W34*ozton*AppAn.Data!W$6)/1000000),\"-\")","v":4.0944540267944571},{"$f":"IFERROR(IF($B$2=\"トン\",AppAn.Data!X34,(AppAn.Data!X34*ozton*AppAn.Data!X$6)/1000000),\"-\")","v":3.91252206697372},"▼",-4.4433753225743615,null,"-","-","-","-","-","-","-","-","-","-","-","-","-","-","-","-",{"$f":"IFERROR(IF($B$2=\"トン\",AppQt.Data!AC44,(AppQt.Data!AC44*ozton*AppQt.Data!AC$7)/1000000),\"-\")","v":2.6824999999999997},{"$f":"IFERROR(IF($B$2=\"トン\",AppQt.Data!AD44,(AppQt.Data!AD44*ozton*AppQt.Data!AD$7)/1000000),\"-\")","v":2.7679999999999998},{"$f":"IFERROR(IF($B$2=\"トン\",AppQt.Data!AE44,(AppQt.Data!AE44*ozton*AppQt.Data!AE$7)/1000000),\"-\")","v":1.911},{"$f":"IFERROR(IF($B$2=\"トン\",AppQt.Data!AF44,(AppQt.Data!AF44*ozton*AppQt.Data!AF$7)/1000000),\"-\")","v":1.7610000000000001},{"$f":"IFERROR(IF($B$2=\"トン\",AppQt.Data!AG44,(AppQt.Data!AG44*ozton*AppQt.Data!AG$7)/1000000),\"-\")","v":3.1257499999999996},{"$f":"IFERROR(IF($B$2=\"トン\",AppQt.Data!AH44,(AppQt.Data!AH44*ozton*AppQt.Data!AH$7)/1000000),\"-\")","v":3.0254400000000001},{"$f":"IFERROR(IF($B$2=\"トン\",AppQt.Data!AI44,(AppQt.Data!AI44*ozton*AppQt.Data!AI$7)/1000000),\"-\")","v":2.1539499999999996},{"$f":"IFERROR(IF($B$2=\"トン\",AppQt.Data!AJ44,(AppQt.Data!AJ44*ozton*AppQt.Data!AJ$7)/1000000),\"-\")","v":2.3557100000000002},{"$f":"IFERROR(IF($B$2=\"トン\",AppQt.Data!AK44,(AppQt.Data!AK44*ozton*AppQt.Data!AK$7)/1000000),\"-\")","v":2.5886599999999995},{"$f":"IFERROR(IF($B$2=\"トン\",AppQt.Data!AL44,(AppQt.Data!AL44*ozton*AppQt.Data!AL$7)/1000000),\"-\")","v":3.2657120000000002},{"$f":"IFERROR(IF($B$2=\"トン\",AppQt.Data!AM44,(AppQt.Data!AM44*ozton*AppQt.Data!AM$7)/1000000),\"-\")","v":2.2862354999999992},{"$f":"IFERROR(IF($B$2=\"トン\",AppQt.Data!AN44,(AppQt.Data!AN44*ozton*AppQt.Data!AN$7)/1000000),\"-\")","v":2.3304897999999996},{"$f":"IFERROR(IF($B$2=\"トン\",AppQt.Data!AO44,(AppQt.Data!AO44*ozton*AppQt.Data!AO$7)/1000000),\"-\")","v":2.700593},{"$f":"IFERROR(IF($B$2=\"トン\",AppQt.Data!AP44,(AppQt.Data!AP44*ozton*AppQt.Data!AP$7)/1000000),\"-\")","v":2.8108551999999998},{"$f":"IFERROR(IF($B$2=\"トン\",AppQt.Data!AQ44,(AppQt.Data!AQ44*ozton*AppQt.Data!AQ$7)/1000000),\"-\")","v":2.4388051999999996},{"$f":"IFERROR(IF($B$2=\"トン\",AppQt.Data!AR44,(AppQt.Data!AR44*ozton*AppQt.Data!AR$7)/1000000),\"-\")","v":3.2311612300000001},{"$f":"IFERROR(IF($B$2=\"トン\",AppQt.Data!AS44,(AppQt.Data!AS44*ozton*AppQt.Data!AS$7)/1000000),\"-\")","v":2.1435040499999998},{"$f":"IFERROR(IF($B$2=\"トン\",AppQt.Data!AT44,(AppQt.Data!AT44*ozton*AppQt.Data!AT$7)/1000000),\"-\")","v":2.2556414},{"$f":"IFERROR(IF($B$2=\"トン\",AppQt.Data!AU44,(AppQt.Data!AU44*ozton*AppQt.Data!AU$7)/1000000),\"-\")","v":2.5055813040000001},{"$f":"IFERROR(IF($B$2=\"トン\",AppQt.Data!AV44,(AppQt.Data!AV44*ozton*AppQt.Data!AV$7)/1000000),\"-\")","v":2.7000451070000007},{"$f":"IFERROR(IF($B$2=\"トン\",AppQt.Data!AW44,(AppQt.Data!AW44*ozton*AppQt.Data!AW$7)/1000000),\"-\")","v":2.0386587665000002},{"$f":"IFERROR(IF($B$2=\"トン\",AppQt.Data!AX44,(AppQt.Data!AX44*ozton*AppQt.Data!AX$7)/1000000),\"-\")","v":1.8310772600000003},{"$f":"IFERROR(IF($B$2=\"トン\",AppQt.Data!AY44,(AppQt.Data!AY44*ozton*AppQt.Data!AY$7)/1000000),\"-\")","v":2.0137743519199995},{"$f":"IFERROR(IF($B$2=\"トン\",AppQt.Data!AZ44,(AppQt.Data!AZ44*ozton*AppQt.Data!AZ$7)/1000000),\"-\")","v":2.0035383409500001},{"$f":"IFERROR(IF($B$2=\"トン\",AppQt.Data!BA44,(AppQt.Data!BA44*ozton*AppQt.Data!BA$7)/1000000),\"-\")","v":1.3493111365499999},{"$f":"IFERROR(IF($B$2=\"トン\",AppQt.Data!BB44,(AppQt.Data!BB44*ozton*AppQt.Data!BB$7)/1000000),\"-\")","v":0.52123175330000004},{"$f":"IFERROR(IF($B$2=\"トン\",AppQt.Data!BC44,(AppQt.Data!BC44*ozton*AppQt.Data!BC$7)/1000000),\"-\")","v":0.68413230557599991},{"$f":"IFERROR(IF($B$2=\"トン\",AppQt.Data!BD44,(AppQt.Data!BD44*ozton*AppQt.Data!BD$7)/1000000),\"-\")","v":1.7176537557125002},{"$f":"IFERROR(IF($B$2=\"トン\",AppQt.Data!BE44,(AppQt.Data!BE44*ozton*AppQt.Data!BE$7)/1000000),\"-\")","v":1.7691733638599998},{"$f":"IFERROR(IF($B$2=\"トン\",AppQt.Data!BF44,(AppQt.Data!BF44*ozton*AppQt.Data!BF$7)/1000000),\"-\")","v":0.98062801373699993},{"$f":"IFERROR(IF($B$2=\"トン\",AppQt.Data!BG44,(AppQt.Data!BG44*ozton*AppQt.Data!BG$7)/1000000),\"-\")","v":0.57890820892905004},{"$f":"IFERROR(IF($B$2=\"トン\",AppQt.Data!BH44,(AppQt.Data!BH44*ozton*AppQt.Data!BH$7)/1000000),\"-\")","v":0.76574444026840749},{"$f":"IFERROR(IF($B$2=\"トン\",AppQt.Data!BI44,(AppQt.Data!BI44*ozton*AppQt.Data!BI$7)/1000000),\"-\")","v":2.2343832375477994},{"$f":"IFERROR(IF($B$2=\"トン\",AppQt.Data!BJ44,(AppQt.Data!BJ44*ozton*AppQt.Data!BJ$7)/1000000),\"-\")","v":0.44531400686849998},{"$f":"IFERROR(IF($B$2=\"トン\",AppQt.Data!BK44,(AppQt.Data!BK44*ozton*AppQt.Data!BK$7)/1000000),\"-\")","v":0.30078260618164998},{"$f":"IFERROR(IF($B$2=\"トン\",AppQt.Data!BL44,(AppQt.Data!BL44*ozton*AppQt.Data!BL$7)/1000000),\"-\")","v":0.93204221637577045},"▲",21.717137906880858]
[null,"中華圏",{"$f":"IFERROR(IF($B$2=\"トン\",AppAn.Data!L35,(AppAn.Data!L35*ozton*AppAn.Data!L$6)/1000000),\"-\")","v":492.68569929718961},{"$f":"IFERROR(IF($B$2=\"トン\",AppAn.Data!M35,(AppAn.Data!M35*ozton*AppAn.Data!M$6)/1000000),\"-\")","v":606.55146653525105},{"$f":"IFERROR(IF($B$2=\"トン\",AppAn.Data!N35,(AppAn.Data!N35*ozton*AppAn.Data!N$6)/1000000),\"-\")","v":654.20748702521632},{"$f":"IFERROR(IF($B$2=\"トン\",AppAn.Data!O35,(AppAn.Data!O35*ozton*AppAn.Data!O$6)/1000000),\"-\")","v":1031.3078753841869},{"$f":"IFERROR(IF($B$2=\"トン\",AppAn.Data!P35,(AppAn.Data!P35*ozton*AppAn.Data!P$6)/1000000),\"-\")","v":875.27560505670954},{"$f":"IFERROR(IF($B$2=\"トン\",AppAn.Data!Q35,(AppAn.Data!Q35*ozton*AppAn.Data!Q$6)/1000000),\"-\")","v":825.85011885394874},{"$f":"IFERROR(IF($B$2=\"トン\",AppAn.Data!R35,(AppAn.Data!R35*ozton*AppAn.Data!R$6)/1000000),\"-\")","v":692.86245686565189},{"$f":"IFERROR(IF($B$2=\"トン\",AppAn.Data!S35,(AppAn.Data!S35*ozton*AppAn.Data!S$6)/1000000),\"-\")","v":715.71750772348526},{"$f":"IFERROR(IF($B$2=\"トン\",AppAn.Data!T35,(AppAn.Data!T35*ozton*AppAn.Data!T$6)/1000000),\"-\")","v":742.9633376077104},{"$f":"IFERROR(IF($B$2=\"トン\",AppAn.Data!U35,(AppAn.Data!U35*ozton*AppAn.Data!U$6)/1000000),\"-\")","v":681.78802681909156},{"$f":"IFERROR(IF($B$2=\"トン\",AppAn.Data!V35,(AppAn.Data!V35*ozton*AppAn.Data!V$6)/1000000),\"-\")","v":433.28282834761234},{"$f":"IFERROR(IF($B$2=\"トン\",AppAn.Data!W35,(AppAn.Data!W35*ozton*AppAn.Data!W$6)/1000000),\"-\")","v":699.31492970534748},{"$f":"IFERROR(IF($B$2=\"トン\",AppAn.Data!X35,(AppAn.Data!X35*ozton*AppAn.Data!X$6)/1000000),\"-\")","v":598.3006067165328},"▼",-14.444754244182445,null,{"$f":"IFERROR(IF($B$2=\"トン\",AppQt.Data!M45,(AppQt.Data!M45*ozton*AppQt.Data!M$7)/1000000),\"-\")","v":128.85658307352688},{"$f":"IFERROR(IF($B$2=\"トン\",AppQt.Data!N45,(AppQt.Data!N45*ozton*AppQt.Data!N$7)/1000000),\"-\")","v":98.503407746685426},{"$f":"IFERROR(IF($B$2=\"トン\",AppQt.Data!O45,(AppQt.Data!O45*ozton*AppQt.Data!O$7)/1000000),\"-\")","v":126.01006411135205},{"$f":"IFERROR(IF($B$2=\"トン\",AppQt.Data!P45,(AppQt.Data!P45*ozton*AppQt.Data!P$7)/1000000),\"-\")","v":139.31564436562522},{"$f":"IFERROR(IF($B$2=\"トン\",AppQt.Data!Q45,(AppQt.Data!Q45*ozton*AppQt.Data!Q$7)/1000000),\"-\")","v":166.8534323492261},{"$f":"IFERROR(IF($B$2=\"トン\",AppQt.Data!R45,(AppQt.Data!R45*ozton*AppQt.Data!R$7)/1000000),\"-\")","v":126.72661304229263},{"$f":"IFERROR(IF($B$2=\"トン\",AppQt.Data!S45,(AppQt.Data!S45*ozton*AppQt.Data!S$7)/1000000),\"-\")","v":151.6546622311989},{"$f":"IFERROR(IF($B$2=\"トン\",AppQt.Data!T45,(AppQt.Data!T45*ozton*AppQt.Data!T$7)/1000000),\"-\")","v":161.31675891253346},{"$f":"IFERROR(IF($B$2=\"トン\",AppQt.Data!U45,(AppQt.Data!U45*ozton*AppQt.Data!U$7)/1000000),\"-\")","v":181.86580150533024},{"$f":"IFERROR(IF($B$2=\"トン\",AppQt.Data!V45,(AppQt.Data!V45*ozton*AppQt.Data!V$7)/1000000),\"-\")","v":146.94805490030234},{"$f":"IFERROR(IF($B$2=\"トン\",AppQt.Data!W45,(AppQt.Data!W45*ozton*AppQt.Data!W$7)/1000000),\"-\")","v":155.45847045269315},{"$f":"IFERROR(IF($B$2=\"トン\",AppQt.Data!X45,(AppQt.Data!X45*ozton*AppQt.Data!X$7)/1000000),\"-\")","v":169.93516016689065},{"$f":"IFERROR(IF($B$2=\"トン\",AppQt.Data!Y45,(AppQt.Data!Y45*ozton*AppQt.Data!Y$7)/1000000),\"-\")","v":239.81896647356817},{"$f":"IFERROR(IF($B$2=\"トン\",AppQt.Data!Z45,(AppQt.Data!Z45*ozton*AppQt.Data!Z$7)/1000000),\"-\")","v":358.41596377677246},{"$f":"IFERROR(IF($B$2=\"トン\",AppQt.Data!AA45,(AppQt.Data!AA45*ozton*AppQt.Data!AA$7)/1000000),\"-\")","v":246.58138078618646},{"$f":"IFERROR(IF($B$2=\"トン\",AppQt.Data!AB45,(AppQt.Data!AB45*ozton*AppQt.Data!AB$7)/1000000),\"-\")","v":186.49156434765982},{"$f":"IFERROR(IF($B$2=\"トン\",AppQt.Data!AC45,(AppQt.Data!AC45*ozton*AppQt.Data!AC$7)/1000000),\"-\")","v":256.23568932871956},{"$f":"IFERROR(IF($B$2=\"トン\",AppQt.Data!AD45,(AppQt.Data!AD45*ozton*AppQt.Data!AD$7)/1000000),\"-\")","v":199.75472008319096},{"$f":"IFERROR(IF($B$2=\"トン\",AppQt.Data!AE45,(AppQt.Data!AE45*ozton*AppQt.Data!AE$7)/1000000),\"-\")","v":194.17208464079357},{"$f":"IFERROR(IF($B$2=\"トン\",AppQt.Data!AF45,(AppQt.Data!AF45*ozton*AppQt.Data!AF$7)/1000000),\"-\")","v":225.11311100400542},{"$f":"IFERROR(IF($B$2=\"トン\",AppQt.Data!AG45,(AppQt.Data!AG45*ozton*AppQt.Data!AG$7)/1000000),\"-\")","v":235.24707205991496},{"$f":"IFERROR(IF($B$2=\"トン\",AppQt.Data!AH45,(AppQt.Data!AH45*ozton*AppQt.Data!AH$7)/1000000),\"-\")","v":184.54297534165022},{"$f":"IFERROR(IF($B$2=\"トン\",AppQt.Data!AI45,(AppQt.Data!AI45*ozton*AppQt.Data!AI$7)/1000000),\"-\")","v":199.46498393562246},{"$f":"IFERROR(IF($B$2=\"トン\",AppQt.Data!AJ45,(AppQt.Data!AJ45*ozton*AppQt.Data!AJ$7)/1000000),\"-\")","v":206.59508751676105},{"$f":"IFERROR(IF($B$2=\"トン\",AppQt.Data!AK45,(AppQt.Data!AK45*ozton*AppQt.Data!AK$7)/1000000),\"-\")","v":195.26295177991116},{"$f":"IFERROR(IF($B$2=\"トン\",AppQt.Data!AL45,(AppQt.Data!AL45*ozton*AppQt.Data!AL$7)/1000000),\"-\")","v":159.77315022159476},{"$f":"IFERROR(IF($B$2=\"トン\",AppQt.Data!AM45,(AppQt.Data!AM45*ozton*AppQt.Data!AM$7)/1000000),\"-\")","v":153.65409602096648},{"$f":"IFERROR(IF($B$2=\"トン\",AppQt.Data!AN45,(AppQt.Data!AN45*ozton*AppQt.Data!AN$7)/1000000),\"-\")","v":184.17225884317952},{"$f":"IFERROR(IF($B$2=\"トン\",AppQt.Data!AO45,(AppQt.Data!AO45*ozton*AppQt.Data!AO$7)/1000000),\"-\")","v":192.06282061948062},{"$f":"IFERROR(IF($B$2=\"トン\",AppQt.Data!AP45,(AppQt.Data!AP45*ozton*AppQt.Data!AP$7)/1000000),\"-\")","v":152.0610339608555},{"$f":"IFERROR(IF($B$2=\"トン\",AppQt.Data!AQ45,(AppQt.Data!AQ45*ozton*AppQt.Data!AQ$7)/1000000),\"-\")","v":173.0655712684466},{"$f":"IFERROR(IF($B$2=\"トン\",AppQt.Data!AR45,(AppQt.Data!AR45*ozton*AppQt.Data!AR$7)/1000000),\"-\")","v":198.52808187470259},{"$f":"IFERROR(IF($B$2=\"トン\",AppQt.Data!AS45,(AppQt.Data!AS45*ozton*AppQt.Data!AS$7)/1000000),\"-\")","v":201.69544620659593},{"$f":"IFERROR(IF($B$2=\"トン\",AppQt.Data!AT45,(AppQt.Data!AT45*ozton*AppQt.Data!AT$7)/1000000),\"-\")","v":156.89170424290205},{"$f":"IFERROR(IF($B$2=\"トン\",AppQt.Data!AU45,(AppQt.Data!AU45*ozton*AppQt.Data!AU$7)/1000000),\"-\")","v":191.70033694337425},{"$f":"IFERROR(IF($B$2=\"トン\",AppQt.Data!AV45,(AppQt.Data!AV45*ozton*AppQt.Data!AV$7)/1000000),\"-\")","v":192.67585021483833},{"$f":"IFERROR(IF($B$2=\"トン\",AppQt.Data!AW45,(AppQt.Data!AW45*ozton*AppQt.Data!AW$7)/1000000),\"-\")","v":197.87485312991504},{"$f":"IFERROR(IF($B$2=\"トン\",AppQt.Data!AX45,(AppQt.Data!AX45*ozton*AppQt.Data!AX$7)/1000000),\"-\")","v":147.04389870447929},{"$f":"IFERROR(IF($B$2=\"トン\",AppQt.Data!AY45,(AppQt.Data!AY45*ozton*AppQt.Data!AY$7)/1000000),\"-\")","v":166.13215037469718},{"$f":"IFERROR(IF($B$2=\"トン\",AppQt.Data!AZ45,(AppQt.Data!AZ45*ozton*AppQt.Data!AZ$7)/1000000),\"-\")","v":170.73712461},{"$f":"IFERROR(IF($B$2=\"トン\",AppQt.Data!BA45,(AppQt.Data!BA45*ozton*AppQt.Data!BA$7)/1000000),\"-\")","v":67.129109224648772},{"$f":"IFERROR(IF($B$2=\"トン\",AppQt.Data!BB45,(AppQt.Data!BB45*ozton*AppQt.Data!BB$7)/1000000),\"-\")","v":94.278331392963608},{"$f":"IFERROR(IF($B$2=\"トン\",AppQt.Data!BC45,(AppQt.Data!BC45*ozton*AppQt.Data!BC$7)/1000000),\"-\")","v":122.82092212000002},{"$f":"IFERROR(IF($B$2=\"トン\",AppQt.Data!BD45,(AppQt.Data!BD45*ozton*AppQt.Data!BD$7)/1000000),\"-\")","v":149.05446561000002},{"$f":"IFERROR(IF($B$2=\"トン\",AppQt.Data!BE45,(AppQt.Data!BE45*ozton*AppQt.Data!BE$7)/1000000),\"-\")","v":200.25214517079741},{"$f":"IFERROR(IF($B$2=\"トン\",AppQt.Data!BF45,(AppQt.Data!BF45*ozton*AppQt.Data!BF$7)/1000000),\"-\")","v":151.80847360634999},{"$f":"IFERROR(IF($B$2=\"トン\",AppQt.Data!BG45,(AppQt.Data!BG45*ozton*AppQt.Data!BG$7)/1000000),\"-\")","v":162.23246141520005},{"$f":"IFERROR(IF($B$2=\"トン\",AppQt.Data!BH45,(AppQt.Data!BH45*ozton*AppQt.Data!BH$7)/1000000),\"-\")","v":185.02184951300001},{"$f":"IFERROR(IF($B$2=\"トン\",AppQt.Data!BI45,(AppQt.Data!BI45*ozton*AppQt.Data!BI$7)/1000000),\"-\")","v":183.0354182593708},{"$f":"IFERROR(IF($B$2=\"トン\",AppQt.Data!BJ45,(AppQt.Data!BJ45*ozton*AppQt.Data!BJ$7)/1000000),\"-\")","v":108.975998413122},{"$f":"IFERROR(IF($B$2=\"トン\",AppQt.Data!BK45,(AppQt.Data!BK45*ozton*AppQt.Data!BK$7)/1000000),\"-\")","v":170.843266825},{"$f":"IFERROR(IF($B$2=\"トン\",AppQt.Data!BL45,(AppQt.Data!BL45*ozton*AppQt.Data!BL$7)/1000000),\"-\")","v":135.44592321904},"▼",-26.794633403811432]
[null,"中国",{"$f":"IFERROR(IF($B$2=\"トン\",AppAn.Data!L36,(AppAn.Data!L36*ozton*AppAn.Data!L$6)/1000000),\"-\")","v":461.94805385360314},{"$f":"IFERROR(IF($B$2=\"トン\",AppAn.Data!M36,(AppAn.Data!M36*ozton*AppAn.Data!M$6)/1000000),\"-\")","v":557.17953512455631},{"$f":"IFERROR(IF($B$2=\"トン\",AppAn.Data!N36,(AppAn.Data!N36*ozton*AppAn.Data!N$6)/1000000),\"-\")","v":599.35801637019154},{"$f":"IFERROR(IF($B$2=\"トン\",AppAn.Data!O36,(AppAn.Data!O36*ozton*AppAn.Data!O$6)/1000000),\"-\")","v":938.79550356213849},{"$f":"IFERROR(IF($B$2=\"トン\",AppAn.Data!P36,(AppAn.Data!P36*ozton*AppAn.Data!P$6)/1000000),\"-\")","v":806.83356824988664},{"$f":"IFERROR(IF($B$2=\"トン\",AppAn.Data!Q36,(AppAn.Data!Q36*ozton*AppAn.Data!Q$6)/1000000),\"-\")","v":767.44614220395886},{"$f":"IFERROR(IF($B$2=\"トン\",AppAn.Data!R36,(AppAn.Data!R36*ozton*AppAn.Data!R$6)/1000000),\"-\")","v":644.81647597606843},{"$f":"IFERROR(IF($B$2=\"トン\",AppAn.Data!S36,(AppAn.Data!S36*ozton*AppAn.Data!S$6)/1000000),\"-\")","v":665.16699308736031},{"$f":"IFERROR(IF($B$2=\"トン\",AppAn.Data!T36,(AppAn.Data!T36*ozton*AppAn.Data!T$6)/1000000),\"-\")","v":686.31230692541044},{"$f":"IFERROR(IF($B$2=\"トン\",AppAn.Data!U36,(AppAn.Data!U36*ozton*AppAn.Data!U$6)/1000000),\"-\")","v":638.00704596565402},{"$f":"IFERROR(IF($B$2=\"トン\",AppAn.Data!V36,(AppAn.Data!V36*ozton*AppAn.Data!V$6)/1000000),\"-\")","v":413.77982834761235},{"$f":"IFERROR(IF($B$2=\"トン\",AppAn.Data!W36,(AppAn.Data!W36*ozton*AppAn.Data!W$6)/1000000),\"-\")","v":673.34592970534754},{"$f":"IFERROR(IF($B$2=\"トン\",AppAn.Data!X36,(AppAn.Data!X36*ozton*AppAn.Data!X$6)/1000000),\"-\")","v":570.93560671653279},"▼",-15.209169383949339,null,{"$f":"IFERROR(IF($B$2=\"トン\",AppQt.Data!M46,(AppQt.Data!M46*ozton*AppQt.Data!M$7)/1000000),\"-\")","v":121.01434971672106},{"$f":"IFERROR(IF($B$2=\"トン\",AppQt.Data!N46,(AppQt.Data!N46*ozton*AppQt.Data!N$7)/1000000),\"-\")","v":91.090084713148556},{"$f":"IFERROR(IF($B$2=\"トン\",AppQt.Data!O46,(AppQt.Data!O46*ozton*AppQt.Data!O$7)/1000000),\"-\")","v":118.75178022784213},{"$f":"IFERROR(IF($B$2=\"トン\",AppQt.Data!P46,(AppQt.Data!P46*ozton*AppQt.Data!P$7)/1000000),\"-\")","v":131.09183919589137},{"$f":"IFERROR(IF($B$2=\"トン\",AppQt.Data!Q46,(AppQt.Data!Q46*ozton*AppQt.Data!Q$7)/1000000),\"-\")","v":154.34011068977372},{"$f":"IFERROR(IF($B$2=\"トン\",AppQt.Data!R46,(AppQt.Data!R46*ozton*AppQt.Data!R$7)/1000000),\"-\")","v":114.56032392038105},{"$f":"IFERROR(IF($B$2=\"トン\",AppQt.Data!S46,(AppQt.Data!S46*ozton*AppQt.Data!S$7)/1000000),\"-\")","v":140.36323631772828},{"$f":"IFERROR(IF($B$2=\"トン\",AppQt.Data!T46,(AppQt.Data!T46*ozton*AppQt.Data!T$7)/1000000),\"-\")","v":147.91586419667325},{"$f":"IFERROR(IF($B$2=\"トン\",AppQt.Data!U46,(AppQt.Data!U46*ozton*AppQt.Data!U$7)/1000000),\"-\")","v":168.55019214673428},{"$f":"IFERROR(IF($B$2=\"トン\",AppQt.Data!V46,(AppQt.Data!V46*ozton*AppQt.Data!V$7)/1000000),\"-\")","v":132.13723486262006},{"$f":"IFERROR(IF($B$2=\"トン\",AppQt.Data!W46,(AppQt.Data!W46*ozton*AppQt.Data!W$7)/1000000),\"-\")","v":143.33721018578797},{"$f":"IFERROR(IF($B$2=\"トン\",AppQt.Data!X46,(AppQt.Data!X46*ozton*AppQt.Data!X$7)/1000000),\"-\")","v":155.33337917504923},{"$f":"IFERROR(IF($B$2=\"トン\",AppQt.Data!Y46,(AppQt.Data!Y46*ozton*AppQt.Data!Y$7)/1000000),\"-\")","v":219.84547060050474},{"$f":"IFERROR(IF($B$2=\"トン\",AppQt.Data!Z46,(AppQt.Data!Z46*ozton*AppQt.Data!Z$7)/1000000),\"-\")","v":326.9375507124181},{"$f":"IFERROR(IF($B$2=\"トン\",AppQt.Data!AA46,(AppQt.Data!AA46*ozton*AppQt.Data!AA$7)/1000000),\"-\")","v":229.43655405348454},{"$f":"IFERROR(IF($B$2=\"トン\",AppQt.Data!AB46,(AppQt.Data!AB46*ozton*AppQt.Data!AB$7)/1000000),\"-\")","v":162.57592819573108},{"$f":"IFERROR(IF($B$2=\"トン\",AppQt.Data!AC46,(AppQt.Data!AC46*ozton*AppQt.Data!AC$7)/1000000),\"-\")","v":235.95629185094433},{"$f":"IFERROR(IF($B$2=\"トン\",AppQt.Data!AD46,(AppQt.Data!AD46*ozton*AppQt.Data!AD$7)/1000000),\"-\")","v":184.56520793657438},{"$f":"IFERROR(IF($B$2=\"トン\",AppQt.Data!AE46,(AppQt.Data!AE46*ozton*AppQt.Data!AE$7)/1000000),\"-\")","v":181.04223062275167},{"$f":"IFERROR(IF($B$2=\"トン\",AppQt.Data!AF46,(AppQt.Data!AF46*ozton*AppQt.Data!AF$7)/1000000),\"-\")","v":205.26983783961629},{"$f":"IFERROR(IF($B$2=\"トン\",AppQt.Data!AG46,(AppQt.Data!AG46*ozton*AppQt.Data!AG$7)/1000000),\"-\")","v":219.8150944560285},{"$f":"IFERROR(IF($B$2=\"トン\",AppQt.Data!AH46,(AppQt.Data!AH46*ozton*AppQt.Data!AH$7)/1000000),\"-\")","v":172.48779437834673},{"$f":"IFERROR(IF($B$2=\"トン\",AppQt.Data!AI46,(AppQt.Data!AI46*ozton*AppQt.Data!AI$7)/1000000),\"-\")","v":184.09122849525468},{"$f":"IFERROR(IF($B$2=\"トン\",AppQt.Data!AJ46,(AppQt.Data!AJ46*ozton*AppQt.Data!AJ$7)/1000000),\"-\")","v":191.05202487432891},{"$f":"IFERROR(IF($B$2=\"トン\",AppQt.Data!AK46,(AppQt.Data!AK46*ozton*AppQt.Data!AK$7)/1000000),\"-\")","v":183.12641039032769},{"$f":"IFERROR(IF($B$2=\"トン\",AppQt.Data!AL46,(AppQt.Data!AL46*ozton*AppQt.Data!AL$7)/1000000),\"-\")","v":149.12115022159475},{"$f":"IFERROR(IF($B$2=\"トン\",AppQt.Data!AM46,(AppQt.Data!AM46*ozton*AppQt.Data!AM$7)/1000000),\"-\")","v":144.10448172096648},{"$f":"IFERROR(IF($B$2=\"トン\",AppQt.Data!AN46,(AppQt.Data!AN46*ozton*AppQt.Data!AN$7)/1000000),\"-\")","v":168.46443364317952},{"$f":"IFERROR(IF($B$2=\"トン\",AppQt.Data!AO46,(AppQt.Data!AO46*ozton*AppQt.Data!AO$7)/1000000),\"-\")","v":179.09566761948059},{"$f":"IFERROR(IF($B$2=\"トン\",AppQt.Data!AP46,(AppQt.Data!AP46*ozton*AppQt.Data!AP$7)/1000000),\"-\")","v":141.0569391483555},{"$f":"IFERROR(IF($B$2=\"トン\",AppQt.Data!AQ46,(AppQt.Data!AQ46*ozton*AppQt.Data!AQ$7)/1000000),\"-\")","v":162.0405267228216},{"$f":"IFERROR(IF($B$2=\"トン\",AppQt.Data!AR46,(AppQt.Data!AR46*ozton*AppQt.Data!AR$7)/1000000),\"-\")","v":182.9738595967026},{"$f":"IFERROR(IF($B$2=\"トン\",AppQt.Data!AS46,(AppQt.Data!AS46*ozton*AppQt.Data!AS$7)/1000000),\"-\")","v":187.54983769159591},{"$f":"IFERROR(IF($B$2=\"トン\",AppQt.Data!AT46,(AppQt.Data!AT46*ozton*AppQt.Data!AT$7)/1000000),\"-\")","v":144.09102187790205},{"$f":"IFERROR(IF($B$2=\"トン\",AppQt.Data!AU46,(AppQt.Data!AU46*ozton*AppQt.Data!AU$7)/1000000),\"-\")","v":176.64559714107423},{"$f":"IFERROR(IF($B$2=\"トン\",AppQt.Data!AV46,(AppQt.Data!AV46*ozton*AppQt.Data!AV$7)/1000000),\"-\")","v":178.02585021483833},{"$f":"IFERROR(IF($B$2=\"トン\",AppQt.Data!AW46,(AppQt.Data!AW46*ozton*AppQt.Data!AW$7)/1000000),\"-\")","v":183.58687227647755},{"$f":"IFERROR(IF($B$2=\"トン\",AppQt.Data!AX46,(AppQt.Data!AX46*ozton*AppQt.Data!AX$7)/1000000),\"-\")","v":135.96389870447928},{"$f":"IFERROR(IF($B$2=\"トン\",AppQt.Data!AY46,(AppQt.Data!AY46*ozton*AppQt.Data!AY$7)/1000000),\"-\")","v":158.0591503746972},{"$f":"IFERROR(IF($B$2=\"トン\",AppQt.Data!AZ46,(AppQt.Data!AZ46*ozton*AppQt.Data!AZ$7)/1000000),\"-\")","v":160.39712460999999},{"$f":"IFERROR(IF($B$2=\"トン\",AppQt.Data!BA46,(AppQt.Data!BA46*ozton*AppQt.Data!BA$7)/1000000),\"-\")","v":61.295109224648769},{"$f":"IFERROR(IF($B$2=\"トン\",AppQt.Data!BB46,(AppQt.Data!BB46*ozton*AppQt.Data!BB$7)/1000000),\"-\")","v":90.664331392963604},{"$f":"IFERROR(IF($B$2=\"トン\",AppQt.Data!BC46,(AppQt.Data!BC46*ozton*AppQt.Data!BC$7)/1000000),\"-\")","v":118.53892212000001},{"$f":"IFERROR(IF($B$2=\"トン\",AppQt.Data!BD46,(AppQt.Data!BD46*ozton*AppQt.Data!BD$7)/1000000),\"-\")","v":143.28146561000003},{"$f":"IFERROR(IF($B$2=\"トン\",AppQt.Data!BE46,(AppQt.Data!BE46*ozton*AppQt.Data!BE$7)/1000000),\"-\")","v":193.76214517079742},{"$f":"IFERROR(IF($B$2=\"トン\",AppQt.Data!BF46,(AppQt.Data!BF46*ozton*AppQt.Data!BF$7)/1000000),\"-\")","v":146.66747360635},{"$f":"IFERROR(IF($B$2=\"トン\",AppQt.Data!BG46,(AppQt.Data!BG46*ozton*AppQt.Data!BG$7)/1000000),\"-\")","v":156.04646141520004},{"$f":"IFERROR(IF($B$2=\"トン\",AppQt.Data!BH46,(AppQt.Data!BH46*ozton*AppQt.Data!BH$7)/1000000),\"-\")","v":176.86984951300002},{"$f":"IFERROR(IF($B$2=\"トン\",AppQt.Data!BI46,(AppQt.Data!BI46*ozton*AppQt.Data!BI$7)/1000000),\"-\")","v":177.44141825937081},{"$f":"IFERROR(IF($B$2=\"トン\",AppQt.Data!BJ46,(AppQt.Data!BJ46*ozton*AppQt.Data!BJ$7)/1000000),\"-\")","v":103.17599841312199},{"$f":"IFERROR(IF($B$2=\"トン\",AppQt.Data!BK46,(AppQt.Data!BK46*ozton*AppQt.Data!BK$7)/1000000),\"-\")","v":163.15026682500002},{"$f":"IFERROR(IF($B$2=\"トン\",AppQt.Data!BL46,(AppQt.Data!BL46*ozton*AppQt.Data!BL$7)/1000000),\"-\")","v":127.16792321903999},"▼",-28.100847278838735]
[null,"香港",{"$f":"IFERROR(IF($B$2=\"トン\",AppAn.Data!L37,(AppAn.Data!L37*ozton*AppAn.Data!L$6)/1000000),\"-\")","v":22.997214503944171},{"$f":"IFERROR(IF($B$2=\"トン\",AppAn.Data!M37,(AppAn.Data!M37*ozton*AppAn.Data!M$6)/1000000),\"-\")","v":42.2651016993007},{"$f":"IFERROR(IF($B$2=\"トン\",AppAn.Data!N37,(AppAn.Data!N37*ozton*AppAn.Data!N$6)/1000000),\"-\")","v":47.638410492700736},{"$f":"IFERROR(IF($B$2=\"トン\",AppAn.Data!O37,(AppAn.Data!O37*ozton*AppAn.Data!O$6)/1000000),\"-\")","v":82.606999999999999},{"$f":"IFERROR(IF($B$2=\"トン\",AppAn.Data!P37,(AppAn.Data!P37*ozton*AppAn.Data!P$6)/1000000),\"-\")","v":60.042000000000002},{"$f":"IFERROR(IF($B$2=\"トン\",AppAn.Data!Q37,(AppAn.Data!Q37*ozton*AppAn.Data!Q$6)/1000000),\"-\")","v":51.356999999999999},{"$f":"IFERROR(IF($B$2=\"トン\",AppAn.Data!R37,(AppAn.Data!R37*ozton*AppAn.Data!R$6)/1000000),\"-\")","v":41.4306895},{"$f":"IFERROR(IF($B$2=\"トン\",AppAn.Data!S37,(AppAn.Data!S37*ozton*AppAn.Data!S$6)/1000000),\"-\")","v":44.273460807999996},{"$f":"IFERROR(IF($B$2=\"トン\",AppAn.Data!T37,(AppAn.Data!T37*ozton*AppAn.Data!T$6)/1000000),\"-\")","v":50.641030682299998},{"$f":"IFERROR(IF($B$2=\"トン\",AppAn.Data!U37,(AppAn.Data!U37*ozton*AppAn.Data!U$6)/1000000),\"-\")","v":38.3409808534375},{"$f":"IFERROR(IF($B$2=\"トン\",AppAn.Data!V37,(AppAn.Data!V37*ozton*AppAn.Data!V$6)/1000000),\"-\")","v":15.363},{"$f":"IFERROR(IF($B$2=\"トン\",AppAn.Data!W37,(AppAn.Data!W37*ozton*AppAn.Data!W$6)/1000000),\"-\")","v":21.808999999999997},{"$f":"IFERROR(IF($B$2=\"トン\",AppAn.Data!X37,(AppAn.Data!X37*ozton*AppAn.Data!X$6)/1000000),\"-\")","v":22.414999999999999},"▲",2.7786693566876242,null,{"$f":"IFERROR(IF($B$2=\"トン\",AppQt.Data!M47,(AppQt.Data!M47*ozton*AppQt.Data!M$7)/1000000),\"-\")","v":5.8111293522451462},{"$f":"IFERROR(IF($B$2=\"トン\",AppQt.Data!N47,(AppQt.Data!N47*ozton*AppQt.Data!N$7)/1000000),\"-\")","v":5.3610932706310663},{"$f":"IFERROR(IF($B$2=\"トン\",AppQt.Data!O47,(AppQt.Data!O47*ozton*AppQt.Data!O$7)/1000000),\"-\")","v":5.7057550060679612},{"$f":"IFERROR(IF($B$2=\"トン\",AppQt.Data!P47,(AppQt.Data!P47*ozton*AppQt.Data!P$7)/1000000),\"-\")","v":6.1192368750000004},{"$f":"IFERROR(IF($B$2=\"トン\",AppQt.Data!Q47,(AppQt.Data!Q47*ozton*AppQt.Data!Q$7)/1000000),\"-\")","v":10.60470382867133},{"$f":"IFERROR(IF($B$2=\"トン\",AppQt.Data!R47,(AppQt.Data!R47*ozton*AppQt.Data!R$7)/1000000),\"-\")","v":10.22305270979021},{"$f":"IFERROR(IF($B$2=\"トン\",AppQt.Data!S47,(AppQt.Data!S47*ozton*AppQt.Data!S$7)/1000000),\"-\")","v":10.049819034965036},{"$f":"IFERROR(IF($B$2=\"トン\",AppQt.Data!T47,(AppQt.Data!T47*ozton*AppQt.Data!T$7)/1000000),\"-\")","v":11.387526125874126},{"$f":"IFERROR(IF($B$2=\"トン\",AppQt.Data!U47,(AppQt.Data!U47*ozton*AppQt.Data!U$7)/1000000),\"-\")","v":11.216651824817522},{"$f":"IFERROR(IF($B$2=\"トン\",AppQt.Data!V47,(AppQt.Data!V47*ozton*AppQt.Data!V$7)/1000000),\"-\")","v":12.764928832116791},{"$f":"IFERROR(IF($B$2=\"トン\",AppQt.Data!W47,(AppQt.Data!W47*ozton*AppQt.Data!W$7)/1000000),\"-\")","v":11.067167791970803},{"$f":"IFERROR(IF($B$2=\"トン\",AppQt.Data!X47,(AppQt.Data!X47*ozton*AppQt.Data!X$7)/1000000),\"-\")","v":12.58966204379562},{"$f":"IFERROR(IF($B$2=\"トン\",AppQt.Data!Y47,(AppQt.Data!Y47*ozton*AppQt.Data!Y$7)/1000000),\"-\")","v":17.3895625},{"$f":"IFERROR(IF($B$2=\"トン\",AppQt.Data!Z47,(AppQt.Data!Z47*ozton*AppQt.Data!Z$7)/1000000),\"-\")","v":28.844625000000001},{"$f":"IFERROR(IF($B$2=\"トン\",AppQt.Data!AA47,(AppQt.Data!AA47*ozton*AppQt.Data!AA$7)/1000000),\"-\")","v":14.9828125},{"$f":"IFERROR(IF($B$2=\"トン\",AppQt.Data!AB47,(AppQt.Data!AB47*ozton*AppQt.Data!AB$7)/1000000),\"-\")","v":21.39},{"$f":"IFERROR(IF($B$2=\"トン\",AppQt.Data!AC47,(AppQt.Data!AC47*ozton*AppQt.Data!AC$7)/1000000),\"-\")","v":18.350999999999999},{"$f":"IFERROR(IF($B$2=\"トン\",AppQt.Data!AD47,(AppQt.Data!AD47*ozton*AppQt.Data!AD$7)/1000000),\"-\")","v":12.867000000000001},{"$f":"IFERROR(IF($B$2=\"トン\",AppQt.Data!AE47,(AppQt.Data!AE47*ozton*AppQt.Data!AE$7)/1000000),\"-\")","v":11.224},{"$f":"IFERROR(IF($B$2=\"トン\",AppQt.Data!AF47,(AppQt.Data!AF47*ozton*AppQt.Data!AF$7)/1000000),\"-\")","v":17.600000000000001},{"$f":"IFERROR(IF($B$2=\"トン\",AppQt.Data!AG47,(AppQt.Data!AG47*ozton*AppQt.Data!AG$7)/1000000),\"-\")","v":13.6},{"$f":"IFERROR(IF($B$2=\"トン\",AppQt.Data!AH47,(AppQt.Data!AH47*ozton*AppQt.Data!AH$7)/1000000),\"-\")","v":10.497999999999999},{"$f":"IFERROR(IF($B$2=\"トン\",AppQt.Data!AI47,(AppQt.Data!AI47*ozton*AppQt.Data!AI$7)/1000000),\"-\")","v":13.692},{"$f":"IFERROR(IF($B$2=\"トン\",AppQt.Data!AJ47,(AppQt.Data!AJ47*ozton*AppQt.Data!AJ$7)/1000000),\"-\")","v":13.567},{"$f":"IFERROR(IF($B$2=\"トン\",AppQt.Data!AK47,(AppQt.Data!AK47*ozton*AppQt.Data!AK$7)/1000000),\"-\")","v":10.199999999999999},{"$f":"IFERROR(IF($B$2=\"トン\",AppQt.Data!AL47,(AppQt.Data!AL47*ozton*AppQt.Data!AL$7)/1000000),\"-\")","v":8.7520000000000007},{"$f":"IFERROR(IF($B$2=\"トン\",AppQt.Data!AM47,(AppQt.Data!AM47*ozton*AppQt.Data!AM$7)/1000000),\"-\")","v":8.3146142999999988},{"$f":"IFERROR(IF($B$2=\"トン\",AppQt.Data!AN47,(AppQt.Data!AN47*ozton*AppQt.Data!AN$7)/1000000),\"-\")","v":14.164075200000001},{"$f":"IFERROR(IF($B$2=\"トン\",AppQt.Data!AO47,(AppQt.Data!AO47*ozton*AppQt.Data!AO$7)/1000000),\"-\")","v":11.1918405},{"$f":"IFERROR(IF($B$2=\"トン\",AppQt.Data!AP47,(AppQt.Data!AP47*ozton*AppQt.Data!AP$7)/1000000),\"-\")","v":9.5394620000000003},{"$f":"IFERROR(IF($B$2=\"トン\",AppQt.Data!AQ47,(AppQt.Data!AQ47*ozton*AppQt.Data!AQ$7)/1000000),\"-\")","v":9.6629360300000009},{"$f":"IFERROR(IF($B$2=\"トン\",AppQt.Data!AR47,(AppQt.Data!AR47*ozton*AppQt.Data!AR$7)/1000000),\"-\")","v":13.879222277999999},{"$f":"IFERROR(IF($B$2=\"トン\",AppQt.Data!AS47,(AppQt.Data!AS47*ozton*AppQt.Data!AS$7)/1000000),\"-\")","v":12.345608515},{"$f":"IFERROR(IF($B$2=\"トン\",AppQt.Data!AT47,(AppQt.Data!AT47*ozton*AppQt.Data!AT$7)/1000000),\"-\")","v":11.420682365000001},{"$f":"IFERROR(IF($B$2=\"トン\",AppQt.Data!AU47,(AppQt.Data!AU47*ozton*AppQt.Data!AU$7)/1000000),\"-\")","v":13.624739802300001},{"$f":"IFERROR(IF($B$2=\"トン\",AppQt.Data!AV47,(AppQt.Data!AV47*ozton*AppQt.Data!AV$7)/1000000),\"-\")","v":13.25},{"$f":"IFERROR(IF($B$2=\"トン\",AppQt.Data!AW47,(AppQt.Data!AW47*ozton*AppQt.Data!AW$7)/1000000),\"-\")","v":12.687980853437502},{"$f":"IFERROR(IF($B$2=\"トン\",AppQt.Data!AX47,(AppQt.Data!AX47*ozton*AppQt.Data!AX$7)/1000000),\"-\")","v":9.7799999999999994},{"$f":"IFERROR(IF($B$2=\"トン\",AppQt.Data!AY47,(AppQt.Data!AY47*ozton*AppQt.Data!AY$7)/1000000),\"-\")","v":6.8730000000000002},{"$f":"IFERROR(IF($B$2=\"トン\",AppQt.Data!AZ47,(AppQt.Data!AZ47*ozton*AppQt.Data!AZ$7)/1000000),\"-\")","v":9},{"$f":"IFERROR(IF($B$2=\"トン\",AppQt.Data!BA47,(AppQt.Data!BA47*ozton*AppQt.Data!BA$7)/1000000),\"-\")","v":4.6040000000000001},{"$f":"IFERROR(IF($B$2=\"トン\",AppQt.Data!BB47,(AppQt.Data!BB47*ozton*AppQt.Data!BB$7)/1000000),\"-\")","v":2.7839999999999998},{"$f":"IFERROR(IF($B$2=\"トン\",AppQt.Data!BC47,(AppQt.Data!BC47*ozton*AppQt.Data!BC$7)/1000000),\"-\")","v":3.302},{"$f":"IFERROR(IF($B$2=\"トン\",AppQt.Data!BD47,(AppQt.Data!BD47*ozton*AppQt.Data!BD$7)/1000000),\"-\")","v":4.673},{"$f":"IFERROR(IF($B$2=\"トン\",AppQt.Data!BE47,(AppQt.Data!BE47*ozton*AppQt.Data!BE$7)/1000000),\"-\")","v":5.04},{"$f":"IFERROR(IF($B$2=\"トン\",AppQt.Data!BF47,(AppQt.Data!BF47*ozton*AppQt.Data!BF$7)/1000000),\"-\")","v":4.351},{"$f":"IFERROR(IF($B$2=\"トン\",AppQt.Data!BG47,(AppQt.Data!BG47*ozton*AppQt.Data!BG$7)/1000000),\"-\")","v":5.4660000000000002},{"$f":"IFERROR(IF($B$2=\"トン\",AppQt.Data!BH47,(AppQt.Data!BH47*ozton*AppQt.Data!BH$7)/1000000),\"-\")","v":6.952},{"$f":"IFERROR(IF($B$2=\"トン\",AppQt.Data!BI47,(AppQt.Data!BI47*ozton*AppQt.Data!BI$7)/1000000),\"-\")","v":4.0940000000000003},{"$f":"IFERROR(IF($B$2=\"トン\",AppQt.Data!BJ47,(AppQt.Data!BJ47*ozton*AppQt.Data!BJ$7)/1000000),\"-\")","v":4.62},{"$f":"IFERROR(IF($B$2=\"トン\",AppQt.Data!BK47,(AppQt.Data!BK47*ozton*AppQt.Data!BK$7)/1000000),\"-\")","v":6.8029999999999999},{"$f":"IFERROR(IF($B$2=\"トン\",AppQt.Data!BL47,(AppQt.Data!BL47*ozton*AppQt.Data!BL$7)/1000000),\"-\")","v":6.8979999999999997},"▼",-0.77675489067894343]
[null,"台湾",{"$f":"IFERROR(IF($B$2=\"トン\",AppAn.Data!L38,(AppAn.Data!L38*ozton*AppAn.Data!L$6)/1000000),\"-\")","v":7.7404309396422821},{"$f":"IFERROR(IF($B$2=\"トン\",AppAn.Data!M38,(AppAn.Data!M38*ozton*AppAn.Data!M$6)/1000000),\"-\")","v":7.1068297113940879},{"$f":"IFERROR(IF($B$2=\"トン\",AppAn.Data!N38,(AppAn.Data!N38*ozton*AppAn.Data!N$6)/1000000),\"-\")","v":7.2110601623241122},{"$f":"IFERROR(IF($B$2=\"トン\",AppAn.Data!O38,(AppAn.Data!O38*ozton*AppAn.Data!O$6)/1000000),\"-\")","v":9.9053718220484459},{"$f":"IFERROR(IF($B$2=\"トン\",AppAn.Data!P38,(AppAn.Data!P38*ozton*AppAn.Data!P$6)/1000000),\"-\")","v":8.4000368068228557},{"$f":"IFERROR(IF($B$2=\"トン\",AppAn.Data!Q38,(AppAn.Data!Q38*ozton*AppAn.Data!Q$6)/1000000),\"-\")","v":7.0469766499898707},{"$f":"IFERROR(IF($B$2=\"トン\",AppAn.Data!R38,(AppAn.Data!R38*ozton*AppAn.Data!R$6)/1000000),\"-\")","v":6.6152913895834935},{"$f":"IFERROR(IF($B$2=\"トン\",AppAn.Data!S38,(AppAn.Data!S38*ozton*AppAn.Data!S$6)/1000000),\"-\")","v":6.2770538281249992},{"$f":"IFERROR(IF($B$2=\"トン\",AppAn.Data!T38,(AppAn.Data!T38*ozton*AppAn.Data!T$6)/1000000),\"-\")","v":6.01},{"$f":"IFERROR(IF($B$2=\"トン\",AppAn.Data!U38,(AppAn.Data!U38*ozton*AppAn.Data!U$6)/1000000),\"-\")","v":5.44},{"$f":"IFERROR(IF($B$2=\"トン\",AppAn.Data!V38,(AppAn.Data!V38*ozton*AppAn.Data!V$6)/1000000),\"-\")","v":4.1400000000000006},{"$f":"IFERROR(IF($B$2=\"トン\",AppAn.Data!W38,(AppAn.Data!W38*ozton*AppAn.Data!W$6)/1000000),\"-\")","v":4.16},{"$f":"IFERROR(IF($B$2=\"トン\",AppAn.Data!X38,(AppAn.Data!X38*ozton*AppAn.Data!X$6)/1000000),\"-\")","v":4.9499999999999993},"▲",18.990384615384603,null,{"$f":"IFERROR(IF($B$2=\"トン\",AppQt.Data!M48,(AppQt.Data!M48*ozton*AppQt.Data!M$7)/1000000),\"-\")","v":2.0311040045606794},{"$f":"IFERROR(IF($B$2=\"トン\",AppQt.Data!N48,(AppQt.Data!N48*ozton*AppQt.Data!N$7)/1000000),\"-\")","v":2.0522297629058057},{"$f":"IFERROR(IF($B$2=\"トン\",AppQt.Data!O48,(AppQt.Data!O48*ozton*AppQt.Data!O$7)/1000000),\"-\")","v":1.5525288774419508},{"$f":"IFERROR(IF($B$2=\"トン\",AppQt.Data!P48,(AppQt.Data!P48*ozton*AppQt.Data!P$7)/1000000),\"-\")","v":2.1045682947338471},{"$f":"IFERROR(IF($B$2=\"トン\",AppQt.Data!Q48,(AppQt.Data!Q48*ozton*AppQt.Data!Q$7)/1000000),\"-\")","v":1.9086178307810502},{"$f":"IFERROR(IF($B$2=\"トン\",AppQt.Data!R48,(AppQt.Data!R48*ozton*AppQt.Data!R$7)/1000000),\"-\")","v":1.9432364121213606},{"$f":"IFERROR(IF($B$2=\"トン\",AppQt.Data!S48,(AppQt.Data!S48*ozton*AppQt.Data!S$7)/1000000),\"-\")","v":1.2416068785055949},{"$f":"IFERROR(IF($B$2=\"トン\",AppQt.Data!T48,(AppQt.Data!T48*ozton*AppQt.Data!T$7)/1000000),\"-\")","v":2.0133685899860829},{"$f":"IFERROR(IF($B$2=\"トン\",AppQt.Data!U48,(AppQt.Data!U48*ozton*AppQt.Data!U$7)/1000000),\"-\")","v":2.0989575337784454},{"$f":"IFERROR(IF($B$2=\"トン\",AppQt.Data!V48,(AppQt.Data!V48*ozton*AppQt.Data!V$7)/1000000),\"-\")","v":2.0458912055654879},{"$f":"IFERROR(IF($B$2=\"トン\",AppQt.Data!W48,(AppQt.Data!W48*ozton*AppQt.Data!W$7)/1000000),\"-\")","v":1.0540924749343779},{"$f":"IFERROR(IF($B$2=\"トン\",AppQt.Data!X48,(AppQt.Data!X48*ozton*AppQt.Data!X$7)/1000000),\"-\")","v":2.012118948045801},{"$f":"IFERROR(IF($B$2=\"トン\",AppQt.Data!Y48,(AppQt.Data!Y48*ozton*AppQt.Data!Y$7)/1000000),\"-\")","v":2.5839333730634091},{"$f":"IFERROR(IF($B$2=\"トン\",AppQt.Data!Z48,(AppQt.Data!Z48*ozton*AppQt.Data!Z$7)/1000000),\"-\")","v":2.6337880643543485},{"$f":"IFERROR(IF($B$2=\"トン\",AppQt.Data!AA48,(AppQt.Data!AA48*ozton*AppQt.Data!AA$7)/1000000),\"-\")","v":2.1620142327019338},{"$f":"IFERROR(IF($B$2=\"トン\",AppQt.Data!AB48,(AppQt.Data!AB48*ozton*AppQt.Data!AB$7)/1000000),\"-\")","v":2.525636151928754},{"$f":"IFERROR(IF($B$2=\"トン\",AppQt.Data!AC48,(AppQt.Data!AC48*ozton*AppQt.Data!AC$7)/1000000),\"-\")","v":1.9283974777752264},{"$f":"IFERROR(IF($B$2=\"トン\",AppQt.Data!AD48,(AppQt.Data!AD48*ozton*AppQt.Data!AD$7)/1000000),\"-\")","v":2.322512146616587},{"$f":"IFERROR(IF($B$2=\"トン\",AppQt.Data!AE48,(AppQt.Data!AE48*ozton*AppQt.Data!AE$7)/1000000),\"-\")","v":1.9058540180419155},{"$f":"IFERROR(IF($B$2=\"トン\",AppQt.Data!AF48,(AppQt.Data!AF48*ozton*AppQt.Data!AF$7)/1000000),\"-\")","v":2.2432731643891271},{"$f":"IFERROR(IF($B$2=\"トン\",AppQt.Data!AG48,(AppQt.Data!AG48*ozton*AppQt.Data!AG$7)/1000000),\"-\")","v":1.831977603886465},{"$f":"IFERROR(IF($B$2=\"トン\",AppQt.Data!AH48,(AppQt.Data!AH48*ozton*AppQt.Data!AH$7)/1000000),\"-\")","v":1.5571809633034952},{"$f":"IFERROR(IF($B$2=\"トン\",AppQt.Data!AI48,(AppQt.Data!AI48*ozton*AppQt.Data!AI$7)/1000000),\"-\")","v":1.681755440367775},{"$f":"IFERROR(IF($B$2=\"トン\",AppQt.Data!AJ48,(AppQt.Data!AJ48*ozton*AppQt.Data!AJ$7)/1000000),\"-\")","v":1.9760626424321359},{"$f":"IFERROR(IF($B$2=\"トン\",AppQt.Data!AK48,(AppQt.Data!AK48*ozton*AppQt.Data!AK$7)/1000000),\"-\")","v":1.9365413895834931},{"$f":"IFERROR(IF($B$2=\"トン\",AppQt.Data!AL48,(AppQt.Data!AL48*ozton*AppQt.Data!AL$7)/1000000),\"-\")","v":1.9},{"$f":"IFERROR(IF($B$2=\"トン\",AppQt.Data!AM48,(AppQt.Data!AM48*ozton*AppQt.Data!AM$7)/1000000),\"-\")","v":1.2350000000000001},{"$f":"IFERROR(IF($B$2=\"トン\",AppQt.Data!AN48,(AppQt.Data!AN48*ozton*AppQt.Data!AN$7)/1000000),\"-\")","v":1.54375},{"$f":"IFERROR(IF($B$2=\"トン\",AppQt.Data!AO48,(AppQt.Data!AO48*ozton*AppQt.Data!AO$7)/1000000),\"-\")","v":1.7753124999999998},{"$f":"IFERROR(IF($B$2=\"トン\",AppQt.Data!AP48,(AppQt.Data!AP48*ozton*AppQt.Data!AP$7)/1000000),\"-\")","v":1.4646328124999999},{"$f":"IFERROR(IF($B$2=\"トン\",AppQt.Data!AQ48,(AppQt.Data!AQ48*ozton*AppQt.Data!AQ$7)/1000000),\"-\")","v":1.3621085156249999},{"$f":"IFERROR(IF($B$2=\"トン\",AppQt.Data!AR48,(AppQt.Data!AR48*ozton*AppQt.Data!AR$7)/1000000),\"-\")","v":1.675},{"$f":"IFERROR(IF($B$2=\"トン\",AppQt.Data!AS48,(AppQt.Data!AS48*ozton*AppQt.Data!AS$7)/1000000),\"-\")","v":1.8},{"$f":"IFERROR(IF($B$2=\"トン\",AppQt.Data!AT48,(AppQt.Data!AT48*ozton*AppQt.Data!AT$7)/1000000),\"-\")","v":1.38},{"$f":"IFERROR(IF($B$2=\"トン\",AppQt.Data!AU48,(AppQt.Data!AU48*ozton*AppQt.Data!AU$7)/1000000),\"-\")","v":1.43},{"$f":"IFERROR(IF($B$2=\"トン\",AppQt.Data!AV48,(AppQt.Data!AV48*ozton*AppQt.Data!AV$7)/1000000),\"-\")","v":1.4},{"$f":"IFERROR(IF($B$2=\"トン\",AppQt.Data!AW48,(AppQt.Data!AW48*ozton*AppQt.Data!AW$7)/1000000),\"-\")","v":1.6},{"$f":"IFERROR(IF($B$2=\"トン\",AppQt.Data!AX48,(AppQt.Data!AX48*ozton*AppQt.Data!AX$7)/1000000),\"-\")","v":1.3},{"$f":"IFERROR(IF($B$2=\"トン\",AppQt.Data!AY48,(AppQt.Data!AY48*ozton*AppQt.Data!AY$7)/1000000),\"-\")","v":1.2},{"$f":"IFERROR(IF($B$2=\"トン\",AppQt.Data!AZ48,(AppQt.Data!AZ48*ozton*AppQt.Data!AZ$7)/1000000),\"-\")","v":1.34},{"$f":"IFERROR(IF($B$2=\"トン\",AppQt.Data!BA48,(AppQt.Data!BA48*ozton*AppQt.Data!BA$7)/1000000),\"-\")","v":1.23},{"$f":"IFERROR(IF($B$2=\"トン\",AppQt.Data!BB48,(AppQt.Data!BB48*ozton*AppQt.Data!BB$7)/1000000),\"-\")","v":0.83},{"$f":"IFERROR(IF($B$2=\"トン\",AppQt.Data!BC48,(AppQt.Data!BC48*ozton*AppQt.Data!BC$7)/1000000),\"-\")","v":0.98},{"$f":"IFERROR(IF($B$2=\"トン\",AppQt.Data!BD48,(AppQt.Data!BD48*ozton*AppQt.Data!BD$7)/1000000),\"-\")","v":1.1000000000000001},{"$f":"IFERROR(IF($B$2=\"トン\",AppQt.Data!BE48,(AppQt.Data!BE48*ozton*AppQt.Data!BE$7)/1000000),\"-\")","v":1.45},{"$f":"IFERROR(IF($B$2=\"トン\",AppQt.Data!BF48,(AppQt.Data!BF48*ozton*AppQt.Data!BF$7)/1000000),\"-\")","v":0.79},{"$f":"IFERROR(IF($B$2=\"トン\",AppQt.Data!BG48,(AppQt.Data!BG48*ozton*AppQt.Data!BG$7)/1000000),\"-\")","v":0.72},{"$f":"IFERROR(IF($B$2=\"トン\",AppQt.Data!BH48,(AppQt.Data!BH48*ozton*AppQt.Data!BH$7)/1000000),\"-\")","v":1.2},{"$f":"IFERROR(IF($B$2=\"トン\",AppQt.Data!BI48,(AppQt.Data!BI48*ozton*AppQt.Data!BI$7)/1000000),\"-\")","v":1.5},{"$f":"IFERROR(IF($B$2=\"トン\",AppQt.Data!BJ48,(AppQt.Data!BJ48*ozton*AppQt.Data!BJ$7)/1000000),\"-\")","v":1.18},{"$f":"IFERROR(IF($B$2=\"トン\",AppQt.Data!BK48,(AppQt.Data!BK48*ozton*AppQt.Data!BK$7)/1000000),\"-\")","v":0.89},{"$f":"IFERROR(IF($B$2=\"トン\",AppQt.Data!BL48,(AppQt.Data!BL48*ozton*AppQt.Data!BL$7)/1000000),\"-\")","v":1.38},"▲",14.999999999999991]
[null,"日本",{"$f":"IFERROR(IF($B$2=\"トン\",AppAn.Data!L39,(AppAn.Data!L39*ozton*AppAn.Data!L$6)/1000000),\"-\")","v":20.752929448639424},{"$f":"IFERROR(IF($B$2=\"トン\",AppAn.Data!M39,(AppAn.Data!M39*ozton*AppAn.Data!M$6)/1000000),\"-\")","v":15.925840909298252},{"$f":"IFERROR(IF($B$2=\"トン\",AppAn.Data!N39,(AppAn.Data!N39*ozton*AppAn.Data!N$6)/1000000),\"-\")","v":16.111873862644646},{"$f":"IFERROR(IF($B$2=\"トン\",AppAn.Data!O39,(AppAn.Data!O39*ozton*AppAn.Data!O$6)/1000000),\"-\")","v":16.952167236713521},{"$f":"IFERROR(IF($B$2=\"トン\",AppAn.Data!P39,(AppAn.Data!P39*ozton*AppAn.Data!P$6)/1000000),\"-\")","v":16.449725311152172},{"$f":"IFERROR(IF($B$2=\"トン\",AppAn.Data!Q39,(AppAn.Data!Q39*ozton*AppAn.Data!Q$6)/1000000),\"-\")","v":16.50694112367712},{"$f":"IFERROR(IF($B$2=\"トン\",AppAn.Data!R39,(AppAn.Data!R39*ozton*AppAn.Data!R$6)/1000000),\"-\")","v":16.926071909073691},{"$f":"IFERROR(IF($B$2=\"トン\",AppAn.Data!S39,(AppAn.Data!S39*ozton*AppAn.Data!S$6)/1000000),\"-\")","v":16.615226784168982},{"$f":"IFERROR(IF($B$2=\"トン\",AppAn.Data!T39,(AppAn.Data!T39*ozton*AppAn.Data!T$6)/1000000),\"-\")","v":16.454580736898361},{"$f":"IFERROR(IF($B$2=\"トン\",AppAn.Data!U39,(AppAn.Data!U39*ozton*AppAn.Data!U$6)/1000000),\"-\")","v":17.003901884581232},{"$f":"IFERROR(IF($B$2=\"トン\",AppAn.Data!V39,(AppAn.Data!V39*ozton*AppAn.Data!V$6)/1000000),\"-\")","v":13.836298896407367},{"$f":"IFERROR(IF($B$2=\"トン\",AppAn.Data!W39,(AppAn.Data!W39*ozton*AppAn.Data!W$6)/1000000),\"-\")","v":15.47383946883042},{"$f":"IFERROR(IF($B$2=\"トン\",AppAn.Data!X39,(AppAn.Data!X39*ozton*AppAn.Data!X$6)/1000000),\"-\")","v":15.441725773828118},"▼",-0.20753540236080337,null,{"$f":"IFERROR(IF($B$2=\"トン\",AppQt.Data!M49,(AppQt.Data!M49*ozton*AppQt.Data!M$7)/1000000),\"-\")","v":4.7536462727885134},{"$f":"IFERROR(IF($B$2=\"トン\",AppQt.Data!N49,(AppQt.Data!N49*ozton*AppQt.Data!N$7)/1000000),\"-\")","v":4.8053611402765473},{"$f":"IFERROR(IF($B$2=\"トン\",AppQt.Data!O49,(AppQt.Data!O49*ozton*AppQt.Data!O$7)/1000000),\"-\")","v":4.2239758041437678},{"$f":"IFERROR(IF($B$2=\"トン\",AppQt.Data!P49,(AppQt.Data!P49*ozton*AppQt.Data!P$7)/1000000),\"-\")","v":6.9699462314305958},{"$f":"IFERROR(IF($B$2=\"トン\",AppQt.Data!Q49,(AppQt.Data!Q49*ozton*AppQt.Data!Q$7)/1000000),\"-\")","v":3.9720346170427243},{"$f":"IFERROR(IF($B$2=\"トン\",AppQt.Data!R49,(AppQt.Data!R49*ozton*AppQt.Data!R$7)/1000000),\"-\")","v":3.9464415404512678},{"$f":"IFERROR(IF($B$2=\"トン\",AppQt.Data!S49,(AppQt.Data!S49*ozton*AppQt.Data!S$7)/1000000),\"-\")","v":4.1121093645359013},{"$f":"IFERROR(IF($B$2=\"トン\",AppQt.Data!T49,(AppQt.Data!T49*ozton*AppQt.Data!T$7)/1000000),\"-\")","v":3.8952553872683584},{"$f":"IFERROR(IF($B$2=\"トン\",AppQt.Data!U49,(AppQt.Data!U49*ozton*AppQt.Data!U$7)/1000000),\"-\")","v":3.9860438767953359},{"$f":"IFERROR(IF($B$2=\"トン\",AppQt.Data!V49,(AppQt.Data!V49*ozton*AppQt.Data!V$7)/1000000),\"-\")","v":4.3610291180430929},{"$f":"IFERROR(IF($B$2=\"トン\",AppQt.Data!W49,(AppQt.Data!W49*ozton*AppQt.Data!W$7)/1000000),\"-\")","v":4.105624694855881},{"$f":"IFERROR(IF($B$2=\"トン\",AppQt.Data!X49,(AppQt.Data!X49*ozton*AppQt.Data!X$7)/1000000),\"-\")","v":3.6591761729503345},{"$f":"IFERROR(IF($B$2=\"トン\",AppQt.Data!Y49,(AppQt.Data!Y49*ozton*AppQt.Data!Y$7)/1000000),\"-\")","v":3.3551638460111644},{"$f":"IFERROR(IF($B$2=\"トン\",AppQt.Data!Z49,(AppQt.Data!Z49*ozton*AppQt.Data!Z$7)/1000000),\"-\")","v":3.8832287703082056},{"$f":"IFERROR(IF($B$2=\"トン\",AppQt.Data!AA49,(AppQt.Data!AA49*ozton*AppQt.Data!AA$7)/1000000),\"-\")","v":4.6787613886995487},{"$f":"IFERROR(IF($B$2=\"トン\",AppQt.Data!AB49,(AppQt.Data!AB49*ozton*AppQt.Data!AB$7)/1000000),\"-\")","v":5.0350132316946024},{"$f":"IFERROR(IF($B$2=\"トン\",AppQt.Data!AC49,(AppQt.Data!AC49*ozton*AppQt.Data!AC$7)/1000000),\"-\")","v":3.7573499233309233},{"$f":"IFERROR(IF($B$2=\"トン\",AppQt.Data!AD49,(AppQt.Data!AD49*ozton*AppQt.Data!AD$7)/1000000),\"-\")","v":3.6950231132233449},{"$f":"IFERROR(IF($B$2=\"トン\",AppQt.Data!AE49,(AppQt.Data!AE49*ozton*AppQt.Data!AE$7)/1000000),\"-\")","v":4.151921951453466},{"$f":"IFERROR(IF($B$2=\"トン\",AppQt.Data!AF49,(AppQt.Data!AF49*ozton*AppQt.Data!AF$7)/1000000),\"-\")","v":4.8454303231444396},{"$f":"IFERROR(IF($B$2=\"トン\",AppQt.Data!AG49,(AppQt.Data!AG49*ozton*AppQt.Data!AG$7)/1000000),\"-\")","v":3.1957957065799971},{"$f":"IFERROR(IF($B$2=\"トン\",AppQt.Data!AH49,(AppQt.Data!AH49*ozton*AppQt.Data!AH$7)/1000000),\"-\")","v":3.8690209501456287},{"$f":"IFERROR(IF($B$2=\"トン\",AppQt.Data!AI49,(AppQt.Data!AI49*ozton*AppQt.Data!AI$7)/1000000),\"-\")","v":4.3753416659505504},{"$f":"IFERROR(IF($B$2=\"トン\",AppQt.Data!AJ49,(AppQt.Data!AJ49*ozton*AppQt.Data!AJ$7)/1000000),\"-\")","v":5.0667828010009428},{"$f":"IFERROR(IF($B$2=\"トン\",AppQt.Data!AK49,(AppQt.Data!AK49*ozton*AppQt.Data!AK$7)/1000000),\"-\")","v":3.5541967139835355},{"$f":"IFERROR(IF($B$2=\"トン\",AppQt.Data!AL49,(AppQt.Data!AL49*ozton*AppQt.Data!AL$7)/1000000),\"-\")","v":4.0394035758726679},{"$f":"IFERROR(IF($B$2=\"トン\",AppQt.Data!AM49,(AppQt.Data!AM49*ozton*AppQt.Data!AM$7)/1000000),\"-\")","v":4.1618557836903394},{"$f":"IFERROR(IF($B$2=\"トン\",AppQt.Data!AN49,(AppQt.Data!AN49*ozton*AppQt.Data!AN$7)/1000000),\"-\")","v":5.1706158355271459},{"$f":"IFERROR(IF($B$2=\"トン\",AppQt.Data!AO49,(AppQt.Data!AO49*ozton*AppQt.Data!AO$7)/1000000),\"-\")","v":3.2669631524209404},{"$f":"IFERROR(IF($B$2=\"トン\",AppQt.Data!AP49,(AppQt.Data!AP49*ozton*AppQt.Data!AP$7)/1000000),\"-\")","v":4.1091167287227313},{"$f":"IFERROR(IF($B$2=\"トン\",AppQt.Data!AQ49,(AppQt.Data!AQ49*ozton*AppQt.Data!AQ$7)/1000000),\"-\")","v":4.1202372258534359},{"$f":"IFERROR(IF($B$2=\"トン\",AppQt.Data!AR49,(AppQt.Data!AR49*ozton*AppQt.Data!AR$7)/1000000),\"-\")","v":5.1189096771718745},{"$f":"IFERROR(IF($B$2=\"トン\",AppQt.Data!AS49,(AppQt.Data!AS49*ozton*AppQt.Data!AS$7)/1000000),\"-\")","v":3.3323024154693592},{"$f":"IFERROR(IF($B$2=\"トン\",AppQt.Data!AT49,(AppQt.Data!AT49*ozton*AppQt.Data!AT$7)/1000000),\"-\")","v":4.1091167287227313},{"$f":"IFERROR(IF($B$2=\"トン\",AppQt.Data!AU49,(AppQt.Data!AU49*ozton*AppQt.Data!AU$7)/1000000),\"-\")","v":3.9966301090778327},{"$f":"IFERROR(IF($B$2=\"トン\",AppQt.Data!AV49,(AppQt.Data!AV49*ozton*AppQt.Data!AV$7)/1000000),\"-\")","v":5.0165314836284365},{"$f":"IFERROR(IF($B$2=\"トン\",AppQt.Data!AW49,(AppQt.Data!AW49*ozton*AppQt.Data!AW$7)/1000000),\"-\")","v":3.3989484637787464},{"$f":"IFERROR(IF($B$2=\"トン\",AppQt.Data!AX49,(AppQt.Data!AX49*ozton*AppQt.Data!AX$7)/1000000),\"-\")","v":4.191299063297186},{"$f":"IFERROR(IF($B$2=\"トン\",AppQt.Data!AY49,(AppQt.Data!AY49*ozton*AppQt.Data!AY$7)/1000000),\"-\")","v":4.1964616145317244},{"$f":"IFERROR(IF($B$2=\"トン\",AppQt.Data!AZ49,(AppQt.Data!AZ49*ozton*AppQt.Data!AZ$7)/1000000),\"-\")","v":5.217192742973574},{"$f":"IFERROR(IF($B$2=\"トン\",AppQt.Data!BA49,(AppQt.Data!BA49*ozton*AppQt.Data!BA$7)/1000000),\"-\")","v":3.0590536174008718},{"$f":"IFERROR(IF($B$2=\"トン\",AppQt.Data!BB49,(AppQt.Data!BB49*ozton*AppQt.Data!BB$7)/1000000),\"-\")","v":2.5147794379783117},{"$f":"IFERROR(IF($B$2=\"トン\",AppQt.Data!BC49,(AppQt.Data!BC49*ozton*AppQt.Data!BC$7)/1000000),\"-\")","v":3.5669923723519656},{"$f":"IFERROR(IF($B$2=\"トン\",AppQt.Data!BD49,(AppQt.Data!BD49*ozton*AppQt.Data!BD$7)/1000000),\"-\")","v":4.6954734686762167},{"$f":"IFERROR(IF($B$2=\"トン\",AppQt.Data!BE49,(AppQt.Data!BE49*ozton*AppQt.Data!BE$7)/1000000),\"-\")","v":2.7531482556607845},{"$f":"IFERROR(IF($B$2=\"トン\",AppQt.Data!BF49,(AppQt.Data!BF49*ozton*AppQt.Data!BF$7)/1000000),\"-\")","v":3.520691213169636},{"$f":"IFERROR(IF($B$2=\"トン\",AppQt.Data!BG49,(AppQt.Data!BG49*ozton*AppQt.Data!BG$7)/1000000),\"-\")","v":4.0999999999999996},{"$f":"IFERROR(IF($B$2=\"トン\",AppQt.Data!BH49,(AppQt.Data!BH49*ozton*AppQt.Data!BH$7)/1000000),\"-\")","v":5.0999999999999996},{"$f":"IFERROR(IF($B$2=\"トン\",AppQt.Data!BI49,(AppQt.Data!BI49*ozton*AppQt.Data!BI$7)/1000000),\"-\")","v":2.9},{"$f":"IFERROR(IF($B$2=\"トン\",AppQt.Data!BJ49,(AppQt.Data!BJ49*ozton*AppQt.Data!BJ$7)/1000000),\"-\")","v":3.6967257738281178},{"$f":"IFERROR(IF($B$2=\"トン\",AppQt.Data!BK49,(AppQt.Data!BK49*ozton*AppQt.Data!BK$7)/1000000),\"-\")","v":4.51},{"$f":"IFERROR(IF($B$2=\"トン\",AppQt.Data!BL49,(AppQt.Data!BL49*ozton*AppQt.Data!BL$7)/1000000),\"-\")","v":4.335},"▼",-14.999999999999991]
[null,"インドネシア",{"$f":"IFERROR(IF($B$2=\"トン\",AppAn.Data!L40,(AppAn.Data!L40*ozton*AppAn.Data!L$6)/1000000),\"-\")","v":33.402897766679018},{"$f":"IFERROR(IF($B$2=\"トン\",AppAn.Data!M40,(AppAn.Data!M40*ozton*AppAn.Data!M$6)/1000000),\"-\")","v":33.388808682277947},{"$f":"IFERROR(IF($B$2=\"トン\",AppAn.Data!N40,(AppAn.Data!N40*ozton*AppAn.Data!N$6)/1000000),\"-\")","v":35.220113652666747},{"$f":"IFERROR(IF($B$2=\"トン\",AppAn.Data!O40,(AppAn.Data!O40*ozton*AppAn.Data!O$6)/1000000),\"-\")","v":41.173682035880191},{"$f":"IFERROR(IF($B$2=\"トン\",AppAn.Data!P40,(AppAn.Data!P40*ozton*AppAn.Data!P$6)/1000000),\"-\")","v":36.482704848543065},{"$f":"IFERROR(IF($B$2=\"トン\",AppAn.Data!Q40,(AppAn.Data!Q40*ozton*AppAn.Data!Q$6)/1000000),\"-\")","v":38.89268807259846},{"$f":"IFERROR(IF($B$2=\"トン\",AppAn.Data!R40,(AppAn.Data!R40*ozton*AppAn.Data!R$6)/1000000),\"-\")","v":38.360817000000004},{"$f":"IFERROR(IF($B$2=\"トン\",AppAn.Data!S40,(AppAn.Data!S40*ozton*AppAn.Data!S$6)/1000000),\"-\")","v":38.559016057500003},{"$f":"IFERROR(IF($B$2=\"トン\",AppAn.Data!T40,(AppAn.Data!T40*ozton*AppAn.Data!T$6)/1000000),\"-\")","v":41.885188294046259},{"$f":"IFERROR(IF($B$2=\"トン\",AppAn.Data!U40,(AppAn.Data!U40*ozton*AppAn.Data!U$6)/1000000),\"-\")","v":40.3800312362442},{"$f":"IFERROR(IF($B$2=\"トン\",AppAn.Data!V40,(AppAn.Data!V40*ozton*AppAn.Data!V$6)/1000000),\"-\")","v":20.864946879139097},{"$f":"IFERROR(IF($B$2=\"トン\",AppAn.Data!W40,(AppAn.Data!W40*ozton*AppAn.Data!W$6)/1000000),\"-\")","v":26.98466939749213},{"$f":"IFERROR(IF($B$2=\"トン\",AppAn.Data!X40,(AppAn.Data!X40*ozton*AppAn.Data!X$6)/1000000),\"-\")","v":28.255415316736386},"▲",4.7091402178244035,null,{"$f":"IFERROR(IF($B$2=\"トン\",AppQt.Data!M50,(AppQt.Data!M50*ozton*AppQt.Data!M$7)/1000000),\"-\")","v":9.6287269403003091},{"$f":"IFERROR(IF($B$2=\"トン\",AppQt.Data!N50,(AppQt.Data!N50*ozton*AppQt.Data!N$7)/1000000),\"-\")","v":6.3022213675103504},{"$f":"IFERROR(IF($B$2=\"トン\",AppQt.Data!O50,(AppQt.Data!O50*ozton*AppQt.Data!O$7)/1000000),\"-\")","v":11.015857992113618},{"$f":"IFERROR(IF($B$2=\"トン\",AppQt.Data!P50,(AppQt.Data!P50*ozton*AppQt.Data!P$7)/1000000),\"-\")","v":6.4560914667547422},{"$f":"IFERROR(IF($B$2=\"トン\",AppQt.Data!Q50,(AppQt.Data!Q50*ozton*AppQt.Data!Q$7)/1000000),\"-\")","v":10.800543051406184},{"$f":"IFERROR(IF($B$2=\"トン\",AppQt.Data!R50,(AppQt.Data!R50*ozton*AppQt.Data!R$7)/1000000),\"-\")","v":6.0650945729510912},{"$f":"IFERROR(IF($B$2=\"トン\",AppQt.Data!S50,(AppQt.Data!S50*ozton*AppQt.Data!S$7)/1000000),\"-\")","v":9.6194458076664233},{"$f":"IFERROR(IF($B$2=\"トン\",AppQt.Data!T50,(AppQt.Data!T50*ozton*AppQt.Data!T$7)/1000000),\"-\")","v":6.9037252502542499},{"$f":"IFERROR(IF($B$2=\"トン\",AppQt.Data!U50,(AppQt.Data!U50*ozton*AppQt.Data!U$7)/1000000),\"-\")","v":11.583383138084308},{"$f":"IFERROR(IF($B$2=\"トン\",AppQt.Data!V50,(AppQt.Data!V50*ozton*AppQt.Data!V$7)/1000000),\"-\")","v":7.0643256747384715},{"$f":"IFERROR(IF($B$2=\"トン\",AppQt.Data!W50,(AppQt.Data!W50*ozton*AppQt.Data!W$7)/1000000),\"-\")","v":8.9868221230485545},{"$f":"IFERROR(IF($B$2=\"トン\",AppQt.Data!X50,(AppQt.Data!X50*ozton*AppQt.Data!X$7)/1000000),\"-\")","v":7.5855827167954128},{"$f":"IFERROR(IF($B$2=\"トン\",AppQt.Data!Y50,(AppQt.Data!Y50*ozton*AppQt.Data!Y$7)/1000000),\"-\")","v":12.286987302291074},{"$f":"IFERROR(IF($B$2=\"トン\",AppQt.Data!Z50,(AppQt.Data!Z50*ozton*AppQt.Data!Z$7)/1000000),\"-\")","v":10.275912306955304},{"$f":"IFERROR(IF($B$2=\"トン\",AppQt.Data!AA50,(AppQt.Data!AA50*ozton*AppQt.Data!AA$7)/1000000),\"-\")","v":9.6303472444285951},{"$f":"IFERROR(IF($B$2=\"トン\",AppQt.Data!AB50,(AppQt.Data!AB50*ozton*AppQt.Data!AB$7)/1000000),\"-\")","v":8.9804351822052162},{"$f":"IFERROR(IF($B$2=\"トン\",AppQt.Data!AC50,(AppQt.Data!AC50*ozton*AppQt.Data!AC$7)/1000000),\"-\")","v":11.514394388149032},{"$f":"IFERROR(IF($B$2=\"トン\",AppQt.Data!AD50,(AppQt.Data!AD50*ozton*AppQt.Data!AD$7)/1000000),\"-\")","v":9.0505640333382651},{"$f":"IFERROR(IF($B$2=\"トン\",AppQt.Data!AE50,(AppQt.Data!AE50*ozton*AppQt.Data!AE$7)/1000000),\"-\")","v":8.208357510454583},{"$f":"IFERROR(IF($B$2=\"トン\",AppQt.Data!AF50,(AppQt.Data!AF50*ozton*AppQt.Data!AF$7)/1000000),\"-\")","v":7.7093889166011875},{"$f":"IFERROR(IF($B$2=\"トン\",AppQt.Data!AG50,(AppQt.Data!AG50*ozton*AppQt.Data!AG$7)/1000000),\"-\")","v":12.090114107556484},{"$f":"IFERROR(IF($B$2=\"トン\",AppQt.Data!AH50,(AppQt.Data!AH50*ozton*AppQt.Data!AH$7)/1000000),\"-\")","v":8.4630798752895391},{"$f":"IFERROR(IF($B$2=\"トン\",AppQt.Data!AI50,(AppQt.Data!AI50*ozton*AppQt.Data!AI$7)/1000000),\"-\")","v":9.3093878628184932},{"$f":"IFERROR(IF($B$2=\"トン\",AppQt.Data!AJ50,(AppQt.Data!AJ50*ozton*AppQt.Data!AJ$7)/1000000),\"-\")","v":9.0301062269339383},{"$f":"IFERROR(IF($B$2=\"トン\",AppQt.Data!AK50,(AppQt.Data!AK50*ozton*AppQt.Data!AK$7)/1000000),\"-\")","v":10.8},{"$f":"IFERROR(IF($B$2=\"トン\",AppQt.Data!AL50,(AppQt.Data!AL50*ozton*AppQt.Data!AL$7)/1000000),\"-\")","v":9.3960000000000008},{"$f":"IFERROR(IF($B$2=\"トン\",AppQt.Data!AM50,(AppQt.Data!AM50*ozton*AppQt.Data!AM$7)/1000000),\"-\")","v":8.6913000000000018},{"$f":"IFERROR(IF($B$2=\"トン\",AppQt.Data!AN50,(AppQt.Data!AN50*ozton*AppQt.Data!AN$7)/1000000),\"-\")","v":9.4735170000000011},{"$f":"IFERROR(IF($B$2=\"トン\",AppQt.Data!AO50,(AppQt.Data!AO50*ozton*AppQt.Data!AO$7)/1000000),\"-\")","v":9.2366790750000014},{"$f":"IFERROR(IF($B$2=\"トン\",AppQt.Data!AP50,(AppQt.Data!AP50*ozton*AppQt.Data!AP$7)/1000000),\"-\")","v":10.160346982500004},{"$f":"IFERROR(IF($B$2=\"トン\",AppQt.Data!AQ50,(AppQt.Data!AQ50*ozton*AppQt.Data!AQ$7)/1000000),\"-\")","v":9.2569999999999997},{"$f":"IFERROR(IF($B$2=\"トン\",AppQt.Data!AR50,(AppQt.Data!AR50*ozton*AppQt.Data!AR$7)/1000000),\"-\")","v":9.9049899999999997},{"$f":"IFERROR(IF($B$2=\"トン\",AppQt.Data!AS50,(AppQt.Data!AS50*ozton*AppQt.Data!AS$7)/1000000),\"-\")","v":9.4906877495625039},{"$f":"IFERROR(IF($B$2=\"トン\",AppQt.Data!AT50,(AppQt.Data!AT50*ozton*AppQt.Data!AT$7)/1000000),\"-\")","v":11.199011544483755},{"$f":"IFERROR(IF($B$2=\"トン\",AppQt.Data!AU50,(AppQt.Data!AU50*ozton*AppQt.Data!AU$7)/1000000),\"-\")","v":10.3},{"$f":"IFERROR(IF($B$2=\"トン\",AppQt.Data!AV50,(AppQt.Data!AV50*ozton*AppQt.Data!AV$7)/1000000),\"-\")","v":10.895489000000001},{"$f":"IFERROR(IF($B$2=\"トン\",AppQt.Data!AW50,(AppQt.Data!AW50*ozton*AppQt.Data!AW$7)/1000000),\"-\")","v":10.060129014536255},{"$f":"IFERROR(IF($B$2=\"トン\",AppQt.Data!AX50,(AppQt.Data!AX50*ozton*AppQt.Data!AX$7)/1000000),\"-\")","v":11.758962121707942},{"$f":"IFERROR(IF($B$2=\"トン\",AppQt.Data!AY50,(AppQt.Data!AY50*ozton*AppQt.Data!AY$7)/1000000),\"-\")","v":8.7550000000000008},{"$f":"IFERROR(IF($B$2=\"トン\",AppQt.Data!AZ50,(AppQt.Data!AZ50*ozton*AppQt.Data!AZ$7)/1000000),\"-\")","v":9.8059401000000008},{"$f":"IFERROR(IF($B$2=\"トン\",AppQt.Data!BA50,(AppQt.Data!BA50*ozton*AppQt.Data!BA$7)/1000000),\"-\")","v":4.527058056541315},{"$f":"IFERROR(IF($B$2=\"トン\",AppQt.Data!BB50,(AppQt.Data!BB50*ozton*AppQt.Data!BB$7)/1000000),\"-\")","v":4.11563674259778},{"$f":"IFERROR(IF($B$2=\"トン\",AppQt.Data!BC50,(AppQt.Data!BC50*ozton*AppQt.Data!BC$7)/1000000),\"-\")","v":4.3775000000000004},{"$f":"IFERROR(IF($B$2=\"トン\",AppQt.Data!BD50,(AppQt.Data!BD50*ozton*AppQt.Data!BD$7)/1000000),\"-\")","v":7.8447520800000019},{"$f":"IFERROR(IF($B$2=\"トン\",AppQt.Data!BE50,(AppQt.Data!BE50*ozton*AppQt.Data!BE$7)/1000000),\"-\")","v":5.9757166346345354},{"$f":"IFERROR(IF($B$2=\"トン\",AppQt.Data!BF50,(AppQt.Data!BF50*ozton*AppQt.Data!BF$7)/1000000),\"-\")","v":4.2956651420575911},{"$f":"IFERROR(IF($B$2=\"トン\",AppQt.Data!BG50,(AppQt.Data!BG50*ozton*AppQt.Data!BG$7)/1000000),\"-\")","v":6.8289000000000009},{"$f":"IFERROR(IF($B$2=\"トン\",AppQt.Data!BH50,(AppQt.Data!BH50*ozton*AppQt.Data!BH$7)/1000000),\"-\")","v":9.8843876208000019},{"$f":"IFERROR(IF($B$2=\"トン\",AppQt.Data!BI50,(AppQt.Data!BI50*ozton*AppQt.Data!BI$7)/1000000),\"-\")","v":5.5574164702101188},{"$f":"IFERROR(IF($B$2=\"トン\",AppQt.Data!BJ50,(AppQt.Data!BJ50*ozton*AppQt.Data!BJ$7)/1000000),\"-\")","v":5.2407114733102604},{"$f":"IFERROR(IF($B$2=\"トン\",AppQt.Data!BK50,(AppQt.Data!BK50*ozton*AppQt.Data!BK$7)/1000000),\"-\")","v":7.3752120000000012},{"$f":"IFERROR(IF($B$2=\"トン\",AppQt.Data!BL50,(AppQt.Data!BL50*ozton*AppQt.Data!BL$7)/1000000),\"-\")","v":10.082075373216004},"▲",2.000000000000024]
[null,"マレーシア",{"$f":"IFERROR(IF($B$2=\"トン\",AppAn.Data!L41,(AppAn.Data!L41*ozton*AppAn.Data!L$6)/1000000),\"-\")","v":11.497740804892738},{"$f":"IFERROR(IF($B$2=\"トン\",AppAn.Data!M41,(AppAn.Data!M41*ozton*AppAn.Data!M$6)/1000000),\"-\")","v":10.640686747291639},{"$f":"IFERROR(IF($B$2=\"トン\",AppAn.Data!N41,(AppAn.Data!N41*ozton*AppAn.Data!N$6)/1000000),\"-\")","v":12.960855482703284},{"$f":"IFERROR(IF($B$2=\"トン\",AppAn.Data!O41,(AppAn.Data!O41*ozton*AppAn.Data!O$6)/1000000),\"-\")","v":18.323186416656945},{"$f":"IFERROR(IF($B$2=\"トン\",AppAn.Data!P41,(AppAn.Data!P41*ozton*AppAn.Data!P$6)/1000000),\"-\")","v":18.626594741350655},{"$f":"IFERROR(IF($B$2=\"トン\",AppAn.Data!Q41,(AppAn.Data!Q41*ozton*AppAn.Data!Q$6)/1000000),\"-\")","v":15.311181570359977},{"$f":"IFERROR(IF($B$2=\"トン\",AppAn.Data!R41,(AppAn.Data!R41*ozton*AppAn.Data!R$6)/1000000),\"-\")","v":14.168150581633842},{"$f":"IFERROR(IF($B$2=\"トン\",AppAn.Data!S41,(AppAn.Data!S41*ozton*AppAn.Data!S$6)/1000000),\"-\")","v":13.301658012577734},{"$f":"IFERROR(IF($B$2=\"トン\",AppAn.Data!T41,(AppAn.Data!T41*ozton*AppAn.Data!T$6)/1000000),\"-\")","v":12.919999999999998},{"$f":"IFERROR(IF($B$2=\"トン\",AppAn.Data!U41,(AppAn.Data!U41*ozton*AppAn.Data!U$6)/1000000),\"-\")","v":12.21},{"$f":"IFERROR(IF($B$2=\"トン\",AppAn.Data!V41,(AppAn.Data!V41*ozton*AppAn.Data!V$6)/1000000),\"-\")","v":9.1615000000000002},{"$f":"IFERROR(IF($B$2=\"トン\",AppAn.Data!W41,(AppAn.Data!W41*ozton*AppAn.Data!W$6)/1000000),\"-\")","v":10.5085},{"$f":"IFERROR(IF($B$2=\"トン\",AppAn.Data!X41,(AppAn.Data!X41*ozton*AppAn.Data!X$6)/1000000),\"-\")","v":13.002658},"▲",23.73467193224532,null,{"$f":"IFERROR(IF($B$2=\"トン\",AppQt.Data!M51,(AppQt.Data!M51*ozton*AppQt.Data!M$7)/1000000),\"-\")","v":2.7017328097313138},{"$f":"IFERROR(IF($B$2=\"トン\",AppQt.Data!N51,(AppQt.Data!N51*ozton*AppQt.Data!N$7)/1000000),\"-\")","v":3.0879634762934662},{"$f":"IFERROR(IF($B$2=\"トン\",AppQt.Data!O51,(AppQt.Data!O51*ozton*AppQt.Data!O$7)/1000000),\"-\")","v":4.0130659505595716},{"$f":"IFERROR(IF($B$2=\"トン\",AppQt.Data!P51,(AppQt.Data!P51*ozton*AppQt.Data!P$7)/1000000),\"-\")","v":1.6949785683083862},{"$f":"IFERROR(IF($B$2=\"トン\",AppQt.Data!Q51,(AppQt.Data!Q51*ozton*AppQt.Data!Q$7)/1000000),\"-\")","v":3.5250490571221662},{"$f":"IFERROR(IF($B$2=\"トン\",AppQt.Data!R51,(AppQt.Data!R51*ozton*AppQt.Data!R$7)/1000000),\"-\")","v":3.0833991831327698},{"$f":"IFERROR(IF($B$2=\"トン\",AppQt.Data!S51,(AppQt.Data!S51*ozton*AppQt.Data!S$7)/1000000),\"-\")","v":2.6806542539586888},{"$f":"IFERROR(IF($B$2=\"トン\",AppQt.Data!T51,(AppQt.Data!T51*ozton*AppQt.Data!T$7)/1000000),\"-\")","v":1.3515842530780153},{"$f":"IFERROR(IF($B$2=\"トン\",AppQt.Data!U51,(AppQt.Data!U51*ozton*AppQt.Data!U$7)/1000000),\"-\")","v":2.7405376082675641},{"$f":"IFERROR(IF($B$2=\"トン\",AppQt.Data!V51,(AppQt.Data!V51*ozton*AppQt.Data!V$7)/1000000),\"-\")","v":3.1708372068273221},{"$f":"IFERROR(IF($B$2=\"トン\",AppQt.Data!W51,(AppQt.Data!W51*ozton*AppQt.Data!W$7)/1000000),\"-\")","v":3.3658303099610412},{"$f":"IFERROR(IF($B$2=\"トン\",AppQt.Data!X51,(AppQt.Data!X51*ozton*AppQt.Data!X$7)/1000000),\"-\")","v":3.6836503576473563},{"$f":"IFERROR(IF($B$2=\"トン\",AppQt.Data!Y51,(AppQt.Data!Y51*ozton*AppQt.Data!Y$7)/1000000),\"-\")","v":3.2933266154265075},{"$f":"IFERROR(IF($B$2=\"トン\",AppQt.Data!Z51,(AppQt.Data!Z51*ozton*AppQt.Data!Z$7)/1000000),\"-\")","v":5.7112100140494144},{"$f":"IFERROR(IF($B$2=\"トン\",AppQt.Data!AA51,(AppQt.Data!AA51*ozton*AppQt.Data!AA$7)/1000000),\"-\")","v":5.2036802274358056},{"$f":"IFERROR(IF($B$2=\"トン\",AppQt.Data!AB51,(AppQt.Data!AB51*ozton*AppQt.Data!AB$7)/1000000),\"-\")","v":4.1149695597452194},{"$f":"IFERROR(IF($B$2=\"トン\",AppQt.Data!AC51,(AppQt.Data!AC51*ozton*AppQt.Data!AC$7)/1000000),\"-\")","v":4.878825530239765},{"$f":"IFERROR(IF($B$2=\"トン\",AppQt.Data!AD51,(AppQt.Data!AD51*ozton*AppQt.Data!AD$7)/1000000),\"-\")","v":3.6971453009180553},{"$f":"IFERROR(IF($B$2=\"トン\",AppQt.Data!AE51,(AppQt.Data!AE51*ozton*AppQt.Data!AE$7)/1000000),\"-\")","v":5.0011706268703584},{"$f":"IFERROR(IF($B$2=\"トン\",AppQt.Data!AF51,(AppQt.Data!AF51*ozton*AppQt.Data!AF$7)/1000000),\"-\")","v":5.0494532833224763},{"$f":"IFERROR(IF($B$2=\"トン\",AppQt.Data!AG51,(AppQt.Data!AG51*ozton*AppQt.Data!AG$7)/1000000),\"-\")","v":5.1227668067517538},{"$f":"IFERROR(IF($B$2=\"トン\",AppQt.Data!AH51,(AppQt.Data!AH51*ozton*AppQt.Data!AH$7)/1000000),\"-\")","v":3.0736600840510517},{"$f":"IFERROR(IF($B$2=\"トン\",AppQt.Data!AI51,(AppQt.Data!AI51*ozton*AppQt.Data!AI$7)/1000000),\"-\")","v":3.6115505987599859},{"$f":"IFERROR(IF($B$2=\"トン\",AppQt.Data!AJ51,(AppQt.Data!AJ51*ozton*AppQt.Data!AJ$7)/1000000),\"-\")","v":3.503204080797186},{"$f":"IFERROR(IF($B$2=\"トン\",AppQt.Data!AK51,(AppQt.Data!AK51*ozton*AppQt.Data!AK$7)/1000000),\"-\")","v":3.95862061130082},{"$f":"IFERROR(IF($B$2=\"トン\",AppQt.Data!AL51,(AppQt.Data!AL51*ozton*AppQt.Data!AL$7)/1000000),\"-\")","v":3.463793034888218},{"$f":"IFERROR(IF($B$2=\"トン\",AppQt.Data!AM51,(AppQt.Data!AM51*ozton*AppQt.Data!AM$7)/1000000),\"-\")","v":3.2906033831438068},{"$f":"IFERROR(IF($B$2=\"トン\",AppQt.Data!AN51,(AppQt.Data!AN51*ozton*AppQt.Data!AN$7)/1000000),\"-\")","v":3.4551335523009969},{"$f":"IFERROR(IF($B$2=\"トン\",AppQt.Data!AO51,(AppQt.Data!AO51*ozton*AppQt.Data!AO$7)/1000000),\"-\")","v":3.282376874685947},{"$f":"IFERROR(IF($B$2=\"トン\",AppQt.Data!AP51,(AppQt.Data!AP51*ozton*AppQt.Data!AP$7)/1000000),\"-\")","v":3.7062585473303935},{"$f":"IFERROR(IF($B$2=\"トン\",AppQt.Data!AQ51,(AppQt.Data!AQ51*ozton*AppQt.Data!AQ$7)/1000000),\"-\")","v":2.9615430448294258},{"$f":"IFERROR(IF($B$2=\"トン\",AppQt.Data!AR51,(AppQt.Data!AR51*ozton*AppQt.Data!AR$7)/1000000),\"-\")","v":3.351479545731967},{"$f":"IFERROR(IF($B$2=\"トン\",AppQt.Data!AS51,(AppQt.Data!AS51*ozton*AppQt.Data!AS$7)/1000000),\"-\")","v":3.15},{"$f":"IFERROR(IF($B$2=\"トン\",AppQt.Data!AT51,(AppQt.Data!AT51*ozton*AppQt.Data!AT$7)/1000000),\"-\")","v":3.04},{"$f":"IFERROR(IF($B$2=\"トン\",AppQt.Data!AU51,(AppQt.Data!AU51*ozton*AppQt.Data!AU$7)/1000000),\"-\")","v":3.28},{"$f":"IFERROR(IF($B$2=\"トン\",AppQt.Data!AV51,(AppQt.Data!AV51*ozton*AppQt.Data!AV$7)/1000000),\"-\")","v":3.45},{"$f":"IFERROR(IF($B$2=\"トン\",AppQt.Data!AW51,(AppQt.Data!AW51*ozton*AppQt.Data!AW$7)/1000000),\"-\")","v":3.16},{"$f":"IFERROR(IF($B$2=\"トン\",AppQt.Data!AX51,(AppQt.Data!AX51*ozton*AppQt.Data!AX$7)/1000000),\"-\")","v":3},{"$f":"IFERROR(IF($B$2=\"トン\",AppQt.Data!AY51,(AppQt.Data!AY51*ozton*AppQt.Data!AY$7)/1000000),\"-\")","v":2.9},{"$f":"IFERROR(IF($B$2=\"トン\",AppQt.Data!AZ51,(AppQt.Data!AZ51*ozton*AppQt.Data!AZ$7)/1000000),\"-\")","v":3.15},{"$f":"IFERROR(IF($B$2=\"トン\",AppQt.Data!BA51,(AppQt.Data!BA51*ozton*AppQt.Data!BA$7)/1000000),\"-\")","v":2.2364999999999999},{"$f":"IFERROR(IF($B$2=\"トン\",AppQt.Data!BB51,(AppQt.Data!BB51*ozton*AppQt.Data!BB$7)/1000000),\"-\")","v":1.78},{"$f":"IFERROR(IF($B$2=\"トン\",AppQt.Data!BC51,(AppQt.Data!BC51*ozton*AppQt.Data!BC$7)/1000000),\"-\")","v":2.4500000000000002},{"$f":"IFERROR(IF($B$2=\"トン\",AppQt.Data!BD51,(AppQt.Data!BD51*ozton*AppQt.Data!BD$7)/1000000),\"-\")","v":2.6949999999999998},{"$f":"IFERROR(IF($B$2=\"トン\",AppQt.Data!BE51,(AppQt.Data!BE51*ozton*AppQt.Data!BE$7)/1000000),\"-\")","v":2.9045999999999998},{"$f":"IFERROR(IF($B$2=\"トン\",AppQt.Data!BF51,(AppQt.Data!BF51*ozton*AppQt.Data!BF$7)/1000000),\"-\")","v":2.3174999999999999},{"$f":"IFERROR(IF($B$2=\"トン\",AppQt.Data!BG51,(AppQt.Data!BG51*ozton*AppQt.Data!BG$7)/1000000),\"-\")","v":1.5743999999999998},{"$f":"IFERROR(IF($B$2=\"トン\",AppQt.Data!BH51,(AppQt.Data!BH51*ozton*AppQt.Data!BH$7)/1000000),\"-\")","v":3.7120000000000002},{"$f":"IFERROR(IF($B$2=\"トン\",AppQt.Data!BI51,(AppQt.Data!BI51*ozton*AppQt.Data!BI$7)/1000000),\"-\")","v":3.5726580000000001},{"$f":"IFERROR(IF($B$2=\"トン\",AppQt.Data!BJ51,(AppQt.Data!BJ51*ozton*AppQt.Data!BJ$7)/1000000),\"-\")","v":3.13},{"$f":"IFERROR(IF($B$2=\"トン\",AppQt.Data!BK51,(AppQt.Data!BK51*ozton*AppQt.Data!BK$7)/1000000),\"-\")","v":2.5},{"$f":"IFERROR(IF($B$2=\"トン\",AppQt.Data!BL51,(AppQt.Data!BL51*ozton*AppQt.Data!BL$7)/1000000),\"-\")","v":3.8},"▲",2.3706896551723977]
[null,"シンガポール",{"$f":"IFERROR(IF($B$2=\"トン\",AppAn.Data!L42,(AppAn.Data!L42*ozton*AppAn.Data!L$6)/1000000),\"-\")","v":8.5376019642345025},{"$f":"IFERROR(IF($B$2=\"トン\",AppAn.Data!M42,(AppAn.Data!M42*ozton*AppAn.Data!M$6)/1000000),\"-\")","v":8.8677792080862776},{"$f":"IFERROR(IF($B$2=\"トン\",AppAn.Data!N42,(AppAn.Data!N42*ozton*AppAn.Data!N$6)/1000000),\"-\")","v":9.6761052951487105},{"$f":"IFERROR(IF($B$2=\"トン\",AppAn.Data!O42,(AppAn.Data!O42*ozton*AppAn.Data!O$6)/1000000),\"-\")","v":14.349940925318117},{"$f":"IFERROR(IF($B$2=\"トン\",AppAn.Data!P42,(AppAn.Data!P42*ozton*AppAn.Data!P$6)/1000000),\"-\")","v":14.007963965811756},{"$f":"IFERROR(IF($B$2=\"トン\",AppAn.Data!Q42,(AppAn.Data!Q42*ozton*AppAn.Data!Q$6)/1000000),\"-\")","v":12.158451816630372},{"$f":"IFERROR(IF($B$2=\"トン\",AppAn.Data!R42,(AppAn.Data!R42*ozton*AppAn.Data!R$6)/1000000),\"-\")","v":12.101274504948265},{"$f":"IFERROR(IF($B$2=\"トン\",AppAn.Data!S42,(AppAn.Data!S42*ozton*AppAn.Data!S$6)/1000000),\"-\")","v":11.817428470359133},{"$f":"IFERROR(IF($B$2=\"トン\",AppAn.Data!T42,(AppAn.Data!T42*ozton*AppAn.Data!T$6)/1000000),\"-\")","v":11.519375},{"$f":"IFERROR(IF($B$2=\"トン\",AppAn.Data!U42,(AppAn.Data!U42*ozton*AppAn.Data!U$6)/1000000),\"-\")","v":10.540000000000001},{"$f":"IFERROR(IF($B$2=\"トン\",AppAn.Data!V42,(AppAn.Data!V42*ozton*AppAn.Data!V$6)/1000000),\"-\")","v":5.6979999999999995},{"$f":"IFERROR(IF($B$2=\"トン\",AppAn.Data!W42,(AppAn.Data!W42*ozton*AppAn.Data!W$6)/1000000),\"-\")","v":6.9799999999999995},{"$f":"IFERROR(IF($B$2=\"トン\",AppAn.Data!X42,(AppAn.Data!X42*ozton*AppAn.Data!X$6)/1000000),\"-\")","v":9.0641999999999996},"▲",29.859598853868196,null,{"$f":"IFERROR(IF($B$2=\"トン\",AppQt.Data!M52,(AppQt.Data!M52*ozton*AppQt.Data!M$7)/1000000),\"-\")","v":1.9306783074883305},{"$f":"IFERROR(IF($B$2=\"トン\",AppQt.Data!N52,(AppQt.Data!N52*ozton*AppQt.Data!N$7)/1000000),\"-\")","v":2.2015464004915311},{"$f":"IFERROR(IF($B$2=\"トン\",AppQt.Data!O52,(AppQt.Data!O52*ozton*AppQt.Data!O$7)/1000000),\"-\")","v":2.3024250371344461},{"$f":"IFERROR(IF($B$2=\"トン\",AppQt.Data!P52,(AppQt.Data!P52*ozton*AppQt.Data!P$7)/1000000),\"-\")","v":2.102952219120195},{"$f":"IFERROR(IF($B$2=\"トン\",AppQt.Data!Q52,(AppQt.Data!Q52*ozton*AppQt.Data!Q$7)/1000000),\"-\")","v":1.9296324075134237},{"$f":"IFERROR(IF($B$2=\"トン\",AppQt.Data!R52,(AppQt.Data!R52*ozton*AppQt.Data!R$7)/1000000),\"-\")","v":2.4994286127151657},{"$f":"IFERROR(IF($B$2=\"トン\",AppQt.Data!S52,(AppQt.Data!S52*ozton*AppQt.Data!S$7)/1000000),\"-\")","v":1.869501369362768},{"$f":"IFERROR(IF($B$2=\"トン\",AppQt.Data!T52,(AppQt.Data!T52*ozton*AppQt.Data!T$7)/1000000),\"-\")","v":2.5692168184949207},{"$f":"IFERROR(IF($B$2=\"トン\",AppQt.Data!U52,(AppQt.Data!U52*ozton*AppQt.Data!U$7)/1000000),\"-\")","v":1.9699194577833561},{"$f":"IFERROR(IF($B$2=\"トン\",AppQt.Data!V52,(AppQt.Data!V52*ozton*AppQt.Data!V$7)/1000000),\"-\")","v":2.1858660007865778},{"$f":"IFERROR(IF($B$2=\"トン\",AppQt.Data!W52,(AppQt.Data!W52*ozton*AppQt.Data!W$7)/1000000),\"-\")","v":2.1108544065465598},{"$f":"IFERROR(IF($B$2=\"トン\",AppQt.Data!X52,(AppQt.Data!X52*ozton*AppQt.Data!X$7)/1000000),\"-\")","v":3.4094654300322165},{"$f":"IFERROR(IF($B$2=\"トン\",AppQt.Data!Y52,(AppQt.Data!Y52*ozton*AppQt.Data!Y$7)/1000000),\"-\")","v":2.7897249727520914},{"$f":"IFERROR(IF($B$2=\"トン\",AppQt.Data!Z52,(AppQt.Data!Z52*ozton*AppQt.Data!Z$7)/1000000),\"-\")","v":4.5504145931503492},{"$f":"IFERROR(IF($B$2=\"トン\",AppQt.Data!AA52,(AppQt.Data!AA52*ozton*AppQt.Data!AA$7)/1000000),\"-\")","v":3.7821277479213329},{"$f":"IFERROR(IF($B$2=\"トン\",AppQt.Data!AB52,(AppQt.Data!AB52*ozton*AppQt.Data!AB$7)/1000000),\"-\")","v":3.2276736114943447},{"$f":"IFERROR(IF($B$2=\"トン\",AppQt.Data!AC52,(AppQt.Data!AC52*ozton*AppQt.Data!AC$7)/1000000),\"-\")","v":3.6103550928307704},{"$f":"IFERROR(IF($B$2=\"トン\",AppQt.Data!AD52,(AppQt.Data!AD52*ozton*AppQt.Data!AD$7)/1000000),\"-\")","v":3.8195947304828906},{"$f":"IFERROR(IF($B$2=\"トン\",AppQt.Data!AE52,(AppQt.Data!AE52*ozton*AppQt.Data!AE$7)/1000000),\"-\")","v":3.4570237375698043},{"$f":"IFERROR(IF($B$2=\"トン\",AppQt.Data!AF52,(AppQt.Data!AF52*ozton*AppQt.Data!AF$7)/1000000),\"-\")","v":3.1209904049282913},{"$f":"IFERROR(IF($B$2=\"トン\",AppQt.Data!AG52,(AppQt.Data!AG52*ozton*AppQt.Data!AG$7)/1000000),\"-\")","v":3.4298373381892318},{"$f":"IFERROR(IF($B$2=\"トン\",AppQt.Data!AH52,(AppQt.Data!AH52*ozton*AppQt.Data!AH$7)/1000000),\"-\")","v":2.6581239370966547},{"$f":"IFERROR(IF($B$2=\"トン\",AppQt.Data!AI52,(AppQt.Data!AI52*ozton*AppQt.Data!AI$7)/1000000),\"-\")","v":2.9903894292337365},{"$f":"IFERROR(IF($B$2=\"トン\",AppQt.Data!AJ52,(AppQt.Data!AJ52*ozton*AppQt.Data!AJ$7)/1000000),\"-\")","v":3.0801011121107487},{"$f":"IFERROR(IF($B$2=\"トン\",AppQt.Data!AK52,(AppQt.Data!AK52*ozton*AppQt.Data!AK$7)/1000000),\"-\")","v":3.3111086955190543},{"$f":"IFERROR(IF($B$2=\"トン\",AppQt.Data!AL52,(AppQt.Data!AL52*ozton*AppQt.Data!AL$7)/1000000),\"-\")","v":3.0627755433551256},{"$f":"IFERROR(IF($B$2=\"トン\",AppQt.Data!AM52,(AppQt.Data!AM52*ozton*AppQt.Data!AM$7)/1000000),\"-\")","v":2.6033592118518567},{"$f":"IFERROR(IF($B$2=\"トン\",AppQt.Data!AN52,(AppQt.Data!AN52*ozton*AppQt.Data!AN$7)/1000000),\"-\")","v":3.124031054222228},{"$f":"IFERROR(IF($B$2=\"トン\",AppQt.Data!AO52,(AppQt.Data!AO52*ozton*AppQt.Data!AO$7)/1000000),\"-\")","v":3.1865116753066727},{"$f":"IFERROR(IF($B$2=\"トン\",AppQt.Data!AP52,(AppQt.Data!AP52*ozton*AppQt.Data!AP$7)/1000000),\"-\")","v":2.9953209747882719},{"$f":"IFERROR(IF($B$2=\"トン\",AppQt.Data!AQ52,(AppQt.Data!AQ52*ozton*AppQt.Data!AQ$7)/1000000),\"-\")","v":2.620905852939738},{"$f":"IFERROR(IF($B$2=\"トン\",AppQt.Data!AR52,(AppQt.Data!AR52*ozton*AppQt.Data!AR$7)/1000000),\"-\")","v":3.01468996732445},{"$f":"IFERROR(IF($B$2=\"トン\",AppQt.Data!AS52,(AppQt.Data!AS52*ozton*AppQt.Data!AS$7)/1000000),\"-\")","v":3.125},{"$f":"IFERROR(IF($B$2=\"トン\",AppQt.Data!AT52,(AppQt.Data!AT52*ozton*AppQt.Data!AT$7)/1000000),\"-\")","v":2.734375},{"$f":"IFERROR(IF($B$2=\"トン\",AppQt.Data!AU52,(AppQt.Data!AU52*ozton*AppQt.Data!AU$7)/1000000),\"-\")","v":2.78},{"$f":"IFERROR(IF($B$2=\"トン\",AppQt.Data!AV52,(AppQt.Data!AV52*ozton*AppQt.Data!AV$7)/1000000),\"-\")","v":2.88},{"$f":"IFERROR(IF($B$2=\"トン\",AppQt.Data!AW52,(AppQt.Data!AW52*ozton*AppQt.Data!AW$7)/1000000),\"-\")","v":2.85},{"$f":"IFERROR(IF($B$2=\"トン\",AppQt.Data!AX52,(AppQt.Data!AX52*ozton*AppQt.Data!AX$7)/1000000),\"-\")","v":2.5499999999999998},{"$f":"IFERROR(IF($B$2=\"トン\",AppQt.Data!AY52,(AppQt.Data!AY52*ozton*AppQt.Data!AY$7)/1000000),\"-\")","v":2.4500000000000002},{"$f":"IFERROR(IF($B$2=\"トン\",AppQt.Data!AZ52,(AppQt.Data!AZ52*ozton*AppQt.Data!AZ$7)/1000000),\"-\")","v":2.69},{"$f":"IFERROR(IF($B$2=\"トン\",AppQt.Data!BA52,(AppQt.Data!BA52*ozton*AppQt.Data!BA$7)/1000000),\"-\")","v":1.89},{"$f":"IFERROR(IF($B$2=\"トン\",AppQt.Data!BB52,(AppQt.Data!BB52*ozton*AppQt.Data!BB$7)/1000000),\"-\")","v":0.76},{"$f":"IFERROR(IF($B$2=\"トン\",AppQt.Data!BC52,(AppQt.Data!BC52*ozton*AppQt.Data!BC$7)/1000000),\"-\")","v":1.3680000000000001},{"$f":"IFERROR(IF($B$2=\"トン\",AppQt.Data!BD52,(AppQt.Data!BD52*ozton*AppQt.Data!BD$7)/1000000),\"-\")","v":1.68},{"$f":"IFERROR(IF($B$2=\"トン\",AppQt.Data!BE52,(AppQt.Data!BE52*ozton*AppQt.Data!BE$7)/1000000),\"-\")","v":2.19},{"$f":"IFERROR(IF($B$2=\"トン\",AppQt.Data!BF52,(AppQt.Data!BF52*ozton*AppQt.Data!BF$7)/1000000),\"-\")","v":1.66},{"$f":"IFERROR(IF($B$2=\"トン\",AppQt.Data!BG52,(AppQt.Data!BG52*ozton*AppQt.Data!BG$7)/1000000),\"-\")","v":1.18},{"$f":"IFERROR(IF($B$2=\"トン\",AppQt.Data!BH52,(AppQt.Data!BH52*ozton*AppQt.Data!BH$7)/1000000),\"-\")","v":1.95},{"$f":"IFERROR(IF($B$2=\"トン\",AppQt.Data!BI52,(AppQt.Data!BI52*ozton*AppQt.Data!BI$7)/1000000),\"-\")","v":2.5841999999999996},{"$f":"IFERROR(IF($B$2=\"トン\",AppQt.Data!BJ52,(AppQt.Data!BJ52*ozton*AppQt.Data!BJ$7)/1000000),\"-\")","v":2.38},{"$f":"IFERROR(IF($B$2=\"トン\",AppQt.Data!BK52,(AppQt.Data!BK52*ozton*AppQt.Data!BK$7)/1000000),\"-\")","v":1.9},{"$f":"IFERROR(IF($B$2=\"トン\",AppQt.Data!BL52,(AppQt.Data!BL52*ozton*AppQt.Data!BL$7)/1000000),\"-\")","v":2.2000000000000002},"▲",12.820512820512842]
[null,"韓国",{"$f":"IFERROR(IF($B$2=\"トン\",AppAn.Data!L43,(AppAn.Data!L43*ozton*AppAn.Data!L$6)/1000000),\"-\")","v":17.844291853733459},{"$f":"IFERROR(IF($B$2=\"トン\",AppAn.Data!M43,(AppAn.Data!M43*ozton*AppAn.Data!M$6)/1000000),\"-\")","v":18.630854066985648},{"$f":"IFERROR(IF($B$2=\"トン\",AppAn.Data!N43,(AppAn.Data!N43*ozton*AppAn.Data!N$6)/1000000),\"-\")","v":16.615126842350744},{"$f":"IFERROR(IF($B$2=\"トン\",AppAn.Data!O43,(AppAn.Data!O43*ozton*AppAn.Data!O$6)/1000000),\"-\")","v":22.903835937499998},{"$f":"IFERROR(IF($B$2=\"トン\",AppAn.Data!P43,(AppAn.Data!P43*ozton*AppAn.Data!P$6)/1000000),\"-\")","v":22.933124999999997},{"$f":"IFERROR(IF($B$2=\"トン\",AppAn.Data!Q43,(AppAn.Data!Q43*ozton*AppAn.Data!Q$6)/1000000),\"-\")","v":25.605},{"$f":"IFERROR(IF($B$2=\"トン\",AppAn.Data!R43,(AppAn.Data!R43*ozton*AppAn.Data!R$6)/1000000),\"-\")","v":24.070499999999999},{"$f":"IFERROR(IF($B$2=\"トン\",AppAn.Data!S43,(AppAn.Data!S43*ozton*AppAn.Data!S$6)/1000000),\"-\")","v":22.667625000000001},{"$f":"IFERROR(IF($B$2=\"トン\",AppAn.Data!T43,(AppAn.Data!T43*ozton*AppAn.Data!T$6)/1000000),\"-\")","v":21.704333999999999},{"$f":"IFERROR(IF($B$2=\"トン\",AppAn.Data!U43,(AppAn.Data!U43*ozton*AppAn.Data!U$6)/1000000),\"-\")","v":19.46},{"$f":"IFERROR(IF($B$2=\"トン\",AppAn.Data!V43,(AppAn.Data!V43*ozton*AppAn.Data!V$6)/1000000),\"-\")","v":16.375},{"$f":"IFERROR(IF($B$2=\"トン\",AppAn.Data!W43,(AppAn.Data!W43*ozton*AppAn.Data!W$6)/1000000),\"-\")","v":18.696249999999999},{"$f":"IFERROR(IF($B$2=\"トン\",AppAn.Data!X43,(AppAn.Data!X43*ozton*AppAn.Data!X$6)/1000000),\"-\")","v":15.422500000000001},"▼",-17.510195894898693,null,{"$f":"IFERROR(IF($B$2=\"トン\",AppQt.Data!M53,(AppQt.Data!M53*ozton*AppQt.Data!M$7)/1000000),\"-\")","v":5.4353259392722117},{"$f":"IFERROR(IF($B$2=\"トン\",AppQt.Data!N53,(AppQt.Data!N53*ozton*AppQt.Data!N$7)/1000000),\"-\")","v":3.3630538161625707},{"$f":"IFERROR(IF($B$2=\"トン\",AppQt.Data!O53,(AppQt.Data!O53*ozton*AppQt.Data!O$7)/1000000),\"-\")","v":3.9234670368620037},{"$f":"IFERROR(IF($B$2=\"トン\",AppQt.Data!P53,(AppQt.Data!P53*ozton*AppQt.Data!P$7)/1000000),\"-\")","v":5.1224450614366734},{"$f":"IFERROR(IF($B$2=\"トン\",AppQt.Data!Q53,(AppQt.Data!Q53*ozton*AppQt.Data!Q$7)/1000000),\"-\")","v":6.9482100403708138},{"$f":"IFERROR(IF($B$2=\"トン\",AppQt.Data!R53,(AppQt.Data!R53*ozton*AppQt.Data!R$7)/1000000),\"-\")","v":3.0749080442583736},{"$f":"IFERROR(IF($B$2=\"トン\",AppQt.Data!S53,(AppQt.Data!S53*ozton*AppQt.Data!S$7)/1000000),\"-\")","v":3.6536289249401914},{"$f":"IFERROR(IF($B$2=\"トン\",AppQt.Data!T53,(AppQt.Data!T53*ozton*AppQt.Data!T$7)/1000000),\"-\")","v":4.9541070574162678},{"$f":"IFERROR(IF($B$2=\"トン\",AppQt.Data!U53,(AppQt.Data!U53*ozton*AppQt.Data!U$7)/1000000),\"-\")","v":5.897233558768658},{"$f":"IFERROR(IF($B$2=\"トン\",AppQt.Data!V53,(AppQt.Data!V53*ozton*AppQt.Data!V$7)/1000000),\"-\")","v":3.2069860074626861},{"$f":"IFERROR(IF($B$2=\"トン\",AppQt.Data!W53,(AppQt.Data!W53*ozton*AppQt.Data!W$7)/1000000),\"-\")","v":3.8076395522388049},{"$f":"IFERROR(IF($B$2=\"トン\",AppQt.Data!X53,(AppQt.Data!X53*ozton*AppQt.Data!X$7)/1000000),\"-\")","v":3.7032677238805958},{"$f":"IFERROR(IF($B$2=\"トン\",AppQt.Data!Y53,(AppQt.Data!Y53*ozton*AppQt.Data!Y$7)/1000000),\"-\")","v":6.2539687500000003},{"$f":"IFERROR(IF($B$2=\"トン\",AppQt.Data!Z53,(AppQt.Data!Z53*ozton*AppQt.Data!Z$7)/1000000),\"-\")","v":5.4665937500000004},{"$f":"IFERROR(IF($B$2=\"トン\",AppQt.Data!AA53,(AppQt.Data!AA53*ozton*AppQt.Data!AA$7)/1000000),\"-\")","v":5.5852734374999997},{"$f":"IFERROR(IF($B$2=\"トン\",AppQt.Data!AB53,(AppQt.Data!AB53*ozton*AppQt.Data!AB$7)/1000000),\"-\")","v":5.5979999999999999},{"$f":"IFERROR(IF($B$2=\"トン\",AppQt.Data!AC53,(AppQt.Data!AC53*ozton*AppQt.Data!AC$7)/1000000),\"-\")","v":6.39},{"$f":"IFERROR(IF($B$2=\"トン\",AppQt.Data!AD53,(AppQt.Data!AD53*ozton*AppQt.Data!AD$7)/1000000),\"-\")","v":5.5136250000000002},{"$f":"IFERROR(IF($B$2=\"トン\",AppQt.Data!AE53,(AppQt.Data!AE53*ozton*AppQt.Data!AE$7)/1000000),\"-\")","v":5.5507499999999999},{"$f":"IFERROR(IF($B$2=\"トン\",AppQt.Data!AF53,(AppQt.Data!AF53*ozton*AppQt.Data!AF$7)/1000000),\"-\")","v":5.4787499999999998},{"$f":"IFERROR(IF($B$2=\"トン\",AppQt.Data!AG53,(AppQt.Data!AG53*ozton*AppQt.Data!AG$7)/1000000),\"-\")","v":6.6026249999999997},{"$f":"IFERROR(IF($B$2=\"トン\",AppQt.Data!AH53,(AppQt.Data!AH53*ozton*AppQt.Data!AH$7)/1000000),\"-\")","v":5.5293749999999999},{"$f":"IFERROR(IF($B$2=\"トン\",AppQt.Data!AI53,(AppQt.Data!AI53*ozton*AppQt.Data!AI$7)/1000000),\"-\")","v":6.6026249999999997},{"$f":"IFERROR(IF($B$2=\"トン\",AppQt.Data!AJ53,(AppQt.Data!AJ53*ozton*AppQt.Data!AJ$7)/1000000),\"-\")","v":6.8703750000000001},{"$f":"IFERROR(IF($B$2=\"トン\",AppQt.Data!AK53,(AppQt.Data!AK53*ozton*AppQt.Data!AK$7)/1000000),\"-\")","v":7.0053749999999999},{"$f":"IFERROR(IF($B$2=\"トン\",AppQt.Data!AL53,(AppQt.Data!AL53*ozton*AppQt.Data!AL$7)/1000000),\"-\")","v":4.9871249999999998},{"$f":"IFERROR(IF($B$2=\"トン\",AppQt.Data!AM53,(AppQt.Data!AM53*ozton*AppQt.Data!AM$7)/1000000),\"-\")","v":5.3235000000000001},{"$f":"IFERROR(IF($B$2=\"トン\",AppQt.Data!AN53,(AppQt.Data!AN53*ozton*AppQt.Data!AN$7)/1000000),\"-\")","v":6.7545000000000002},{"$f":"IFERROR(IF($B$2=\"トン\",AppQt.Data!AO53,(AppQt.Data!AO53*ozton*AppQt.Data!AO$7)/1000000),\"-\")","v":6.5339999999999998},{"$f":"IFERROR(IF($B$2=\"トン\",AppQt.Data!AP53,(AppQt.Data!AP53*ozton*AppQt.Data!AP$7)/1000000),\"-\")","v":5.2627499999999996},{"$f":"IFERROR(IF($B$2=\"トン\",AppQt.Data!AQ53,(AppQt.Data!AQ53*ozton*AppQt.Data!AQ$7)/1000000),\"-\")","v":5.1423750000000004},{"$f":"IFERROR(IF($B$2=\"トン\",AppQt.Data!AR53,(AppQt.Data!AR53*ozton*AppQt.Data!AR$7)/1000000),\"-\")","v":5.7285000000000004},{"$f":"IFERROR(IF($B$2=\"トン\",AppQt.Data!AS53,(AppQt.Data!AS53*ozton*AppQt.Data!AS$7)/1000000),\"-\")","v":6.1746300000000005},{"$f":"IFERROR(IF($B$2=\"トン\",AppQt.Data!AT53,(AppQt.Data!AT53*ozton*AppQt.Data!AT$7)/1000000),\"-\")","v":4.9397040000000008},{"$f":"IFERROR(IF($B$2=\"トン\",AppQt.Data!AU53,(AppQt.Data!AU53*ozton*AppQt.Data!AU$7)/1000000),\"-\")","v":5.39},{"$f":"IFERROR(IF($B$2=\"トン\",AppQt.Data!AV53,(AppQt.Data!AV53*ozton*AppQt.Data!AV$7)/1000000),\"-\")","v":5.2},{"$f":"IFERROR(IF($B$2=\"トン\",AppQt.Data!AW53,(AppQt.Data!AW53*ozton*AppQt.Data!AW$7)/1000000),\"-\")","v":4.9800000000000004},{"$f":"IFERROR(IF($B$2=\"トン\",AppQt.Data!AX53,(AppQt.Data!AX53*ozton*AppQt.Data!AX$7)/1000000),\"-\")","v":4.75},{"$f":"IFERROR(IF($B$2=\"トン\",AppQt.Data!AY53,(AppQt.Data!AY53*ozton*AppQt.Data!AY$7)/1000000),\"-\")","v":4.91},{"$f":"IFERROR(IF($B$2=\"トン\",AppQt.Data!AZ53,(AppQt.Data!AZ53*ozton*AppQt.Data!AZ$7)/1000000),\"-\")","v":4.82},{"$f":"IFERROR(IF($B$2=\"トン\",AppQt.Data!BA53,(AppQt.Data!BA53*ozton*AppQt.Data!BA$7)/1000000),\"-\")","v":3.98},{"$f":"IFERROR(IF($B$2=\"トン\",AppQt.Data!BB53,(AppQt.Data!BB53*ozton*AppQt.Data!BB$7)/1000000),\"-\")","v":3.65},{"$f":"IFERROR(IF($B$2=\"トン\",AppQt.Data!BC53,(AppQt.Data!BC53*ozton*AppQt.Data!BC$7)/1000000),\"-\")","v":4.2149999999999999},{"$f":"IFERROR(IF($B$2=\"トン\",AppQt.Data!BD53,(AppQt.Data!BD53*ozton*AppQt.Data!BD$7)/1000000),\"-\")","v":4.53},{"$f":"IFERROR(IF($B$2=\"トン\",AppQt.Data!BE53,(AppQt.Data!BE53*ozton*AppQt.Data!BE$7)/1000000),\"-\")","v":5.0962500000000004},{"$f":"IFERROR(IF($B$2=\"トン\",AppQt.Data!BF53,(AppQt.Data!BF53*ozton*AppQt.Data!BF$7)/1000000),\"-\")","v":4.38},{"$f":"IFERROR(IF($B$2=\"トン\",AppQt.Data!BG53,(AppQt.Data!BG53*ozton*AppQt.Data!BG$7)/1000000),\"-\")","v":4.47},{"$f":"IFERROR(IF($B$2=\"トン\",AppQt.Data!BH53,(AppQt.Data!BH53*ozton*AppQt.Data!BH$7)/1000000),\"-\")","v":4.75},{"$f":"IFERROR(IF($B$2=\"トン\",AppQt.Data!BI53,(AppQt.Data!BI53*ozton*AppQt.Data!BI$7)/1000000),\"-\")","v":4.4175000000000004},{"$f":"IFERROR(IF($B$2=\"トン\",AppQt.Data!BJ53,(AppQt.Data!BJ53*ozton*AppQt.Data!BJ$7)/1000000),\"-\")","v":4.05},{"$f":"IFERROR(IF($B$2=\"トン\",AppQt.Data!BK53,(AppQt.Data!BK53*ozton*AppQt.Data!BK$7)/1000000),\"-\")","v":3.32},{"$f":"IFERROR(IF($B$2=\"トン\",AppQt.Data!BL53,(AppQt.Data!BL53*ozton*AppQt.Data!BL$7)/1000000),\"-\")","v":3.6349999999999998},"▼",-23.473684210526326]
[null,"タイ",{"$f":"IFERROR(IF($B$2=\"トン\",AppAn.Data!L44,(AppAn.Data!L44*ozton*AppAn.Data!L$6)/1000000),\"-\")","v":7.0600656847133765},{"$f":"IFERROR(IF($B$2=\"トン\",AppAn.Data!M44,(AppAn.Data!M44*ozton*AppAn.Data!M$6)/1000000),\"-\")","v":6.9248076923076916},{"$f":"IFERROR(IF($B$2=\"トン\",AppAn.Data!N44,(AppAn.Data!N44*ozton*AppAn.Data!N$6)/1000000),\"-\")","v":9.1488372093023251},{"$f":"IFERROR(IF($B$2=\"トン\",AppAn.Data!O44,(AppAn.Data!O44*ozton*AppAn.Data!O$6)/1000000),\"-\")","v":14.874625},{"$f":"IFERROR(IF($B$2=\"トン\",AppAn.Data!P44,(AppAn.Data!P44*ozton*AppAn.Data!P$6)/1000000),\"-\")","v":12.369},{"$f":"IFERROR(IF($B$2=\"トン\",AppAn.Data!Q44,(AppAn.Data!Q44*ozton*AppAn.Data!Q$6)/1000000),\"-\")","v":12.227640075},{"$f":"IFERROR(IF($B$2=\"トン\",AppAn.Data!R44,(AppAn.Data!R44*ozton*AppAn.Data!R$6)/1000000),\"-\")","v":11.847635570156402},{"$f":"IFERROR(IF($B$2=\"トン\",AppAn.Data!S44,(AppAn.Data!S44*ozton*AppAn.Data!S$6)/1000000),\"-\")","v":11.441273145528369},{"$f":"IFERROR(IF($B$2=\"トン\",AppAn.Data!T44,(AppAn.Data!T44*ozton*AppAn.Data!T$6)/1000000),\"-\")","v":12.093805228164143},{"$f":"IFERROR(IF($B$2=\"トン\",AppAn.Data!U44,(AppAn.Data!U44*ozton*AppAn.Data!U$6)/1000000),\"-\")","v":11.093788405228159},{"$f":"IFERROR(IF($B$2=\"トン\",AppAn.Data!V44,(AppAn.Data!V44*ozton*AppAn.Data!V$6)/1000000),\"-\")","v":5.8458497607075923},{"$f":"IFERROR(IF($B$2=\"トン\",AppAn.Data!W44,(AppAn.Data!W44*ozton*AppAn.Data!W$6)/1000000),\"-\")","v":8.0506659557547025},{"$f":"IFERROR(IF($B$2=\"トン\",AppAn.Data!X44,(AppAn.Data!X44*ozton*AppAn.Data!X$6)/1000000),\"-\")","v":9.4065368025751894},"▲",16.84172283724299,null,{"$f":"IFERROR(IF($B$2=\"トン\",AppQt.Data!M54,(AppQt.Data!M54*ozton*AppQt.Data!M$7)/1000000),\"-\")","v":2.6656122611464972},{"$f":"IFERROR(IF($B$2=\"トン\",AppQt.Data!N54,(AppQt.Data!N54*ozton*AppQt.Data!N$7)/1000000),\"-\")","v":1.4502348726114651},{"$f":"IFERROR(IF($B$2=\"トン\",AppQt.Data!O54,(AppQt.Data!O54*ozton*AppQt.Data!O$7)/1000000),\"-\")","v":1.7130879777070063},{"$f":"IFERROR(IF($B$2=\"トン\",AppQt.Data!P54,(AppQt.Data!P54*ozton*AppQt.Data!P$7)/1000000),\"-\")","v":1.2311305732484081},{"$f":"IFERROR(IF($B$2=\"トン\",AppQt.Data!Q54,(AppQt.Data!Q54*ozton*AppQt.Data!Q$7)/1000000),\"-\")","v":3.1975000000000007},{"$f":"IFERROR(IF($B$2=\"トン\",AppQt.Data!R54,(AppQt.Data!R54*ozton*AppQt.Data!R$7)/1000000),\"-\")","v":1.3930164835164833},{"$f":"IFERROR(IF($B$2=\"トン\",AppQt.Data!S54,(AppQt.Data!S54*ozton*AppQt.Data!S$7)/1000000),\"-\")","v":1.0298076923076922},{"$f":"IFERROR(IF($B$2=\"トン\",AppQt.Data!T54,(AppQt.Data!T54*ozton*AppQt.Data!T$7)/1000000),\"-\")","v":1.304483516483516},{"$f":"IFERROR(IF($B$2=\"トン\",AppQt.Data!U54,(AppQt.Data!U54*ozton*AppQt.Data!U$7)/1000000),\"-\")","v":4.8083239202657815},{"$f":"IFERROR(IF($B$2=\"トン\",AppQt.Data!V54,(AppQt.Data!V54*ozton*AppQt.Data!V$7)/1000000),\"-\")","v":2.0689867109634541},{"$f":"IFERROR(IF($B$2=\"トン\",AppQt.Data!W54,(AppQt.Data!W54*ozton*AppQt.Data!W$7)/1000000),\"-\")","v":1.2198322259136218},{"$f":"IFERROR(IF($B$2=\"トン\",AppQt.Data!X54,(AppQt.Data!X54*ozton*AppQt.Data!X$7)/1000000),\"-\")","v":1.0516943521594682},{"$f":"IFERROR(IF($B$2=\"トン\",AppQt.Data!Y54,(AppQt.Data!Y54*ozton*AppQt.Data!Y$7)/1000000),\"-\")","v":4.2553749999999999},{"$f":"IFERROR(IF($B$2=\"トン\",AppQt.Data!Z54,(AppQt.Data!Z54*ozton*AppQt.Data!Z$7)/1000000),\"-\")","v":4.7311249999999996},{"$f":"IFERROR(IF($B$2=\"トン\",AppQt.Data!AA54,(AppQt.Data!AA54*ozton*AppQt.Data!AA$7)/1000000),\"-\")","v":2.1281249999999998},{"$f":"IFERROR(IF($B$2=\"トン\",AppQt.Data!AB54,(AppQt.Data!AB54*ozton*AppQt.Data!AB$7)/1000000),\"-\")","v":3.76},{"$f":"IFERROR(IF($B$2=\"トン\",AppQt.Data!AC54,(AppQt.Data!AC54*ozton*AppQt.Data!AC$7)/1000000),\"-\")","v":3.22},{"$f":"IFERROR(IF($B$2=\"トン\",AppQt.Data!AD54,(AppQt.Data!AD54*ozton*AppQt.Data!AD$7)/1000000),\"-\")","v":3.0720000000000001},{"$f":"IFERROR(IF($B$2=\"トン\",AppQt.Data!AE54,(AppQt.Data!AE54*ozton*AppQt.Data!AE$7)/1000000),\"-\")","v":2.88},{"$f":"IFERROR(IF($B$2=\"トン\",AppQt.Data!AF54,(AppQt.Data!AF54*ozton*AppQt.Data!AF$7)/1000000),\"-\")","v":3.1970000000000001},{"$f":"IFERROR(IF($B$2=\"トン\",AppQt.Data!AG54,(AppQt.Data!AG54*ozton*AppQt.Data!AG$7)/1000000),\"-\")","v":3.3809999999999998},{"$f":"IFERROR(IF($B$2=\"トン\",AppQt.Data!AH54,(AppQt.Data!AH54*ozton*AppQt.Data!AH$7)/1000000),\"-\")","v":2.8062300000000002},{"$f":"IFERROR(IF($B$2=\"トン\",AppQt.Data!AI54,(AppQt.Data!AI54*ozton*AppQt.Data!AI$7)/1000000),\"-\")","v":2.9465415000000004},{"$f":"IFERROR(IF($B$2=\"トン\",AppQt.Data!AJ54,(AppQt.Data!AJ54*ozton*AppQt.Data!AJ$7)/1000000),\"-\")","v":3.0938685750000006},{"$f":"IFERROR(IF($B$2=\"トン\",AppQt.Data!AK54,(AppQt.Data!AK54*ozton*AppQt.Data!AK$7)/1000000),\"-\")","v":3.2485620037500009},{"$f":"IFERROR(IF($B$2=\"トン\",AppQt.Data!AL54,(AppQt.Data!AL54*ozton*AppQt.Data!AL$7)/1000000),\"-\")","v":2.5988496030000006},{"$f":"IFERROR(IF($B$2=\"トン\",AppQt.Data!AM54,(AppQt.Data!AM54*ozton*AppQt.Data!AM$7)/1000000),\"-\")","v":2.8847230593300011},{"$f":"IFERROR(IF($B$2=\"トン\",AppQt.Data!AN54,(AppQt.Data!AN54*ozton*AppQt.Data!AN$7)/1000000),\"-\")","v":3.1155009040764012},{"$f":"IFERROR(IF($B$2=\"トン\",AppQt.Data!AO54,(AppQt.Data!AO54*ozton*AppQt.Data!AO$7)/1000000),\"-\")","v":3.0843458950356371},{"$f":"IFERROR(IF($B$2=\"トン\",AppQt.Data!AP54,(AppQt.Data!AP54*ozton*AppQt.Data!AP$7)/1000000),\"-\")","v":2.5445853634044004},{"$f":"IFERROR(IF($B$2=\"トン\",AppQt.Data!AQ54,(AppQt.Data!AQ54*ozton*AppQt.Data!AQ$7)/1000000),\"-\")","v":2.7481521924767529},{"$f":"IFERROR(IF($B$2=\"トン\",AppQt.Data!AR54,(AppQt.Data!AR54*ozton*AppQt.Data!AR$7)/1000000),\"-\")","v":3.0641896946115792},{"$f":"IFERROR(IF($B$2=\"トン\",AppQt.Data!AS54,(AppQt.Data!AS54*ozton*AppQt.Data!AS$7)/1000000),\"-\")","v":3.2231414603122408},{"$f":"IFERROR(IF($B$2=\"トン\",AppQt.Data!AT54,(AppQt.Data!AT54*ozton*AppQt.Data!AT$7)/1000000),\"-\")","v":2.514050339043548},{"$f":"IFERROR(IF($B$2=\"トン\",AppQt.Data!AU54,(AppQt.Data!AU54*ozton*AppQt.Data!AU$7)/1000000),\"-\")","v":3.0779304555739637},{"$f":"IFERROR(IF($B$2=\"トン\",AppQt.Data!AV54,(AppQt.Data!AV54*ozton*AppQt.Data!AV$7)/1000000),\"-\")","v":3.2786829732343898},{"$f":"IFERROR(IF($B$2=\"トン\",AppQt.Data!AW54,(AppQt.Data!AW54*ozton*AppQt.Data!AW$7)/1000000),\"-\")","v":3.2876042895184856},{"$f":"IFERROR(IF($B$2=\"トン\",AppQt.Data!AX54,(AppQt.Data!AX54*ozton*AppQt.Data!AX$7)/1000000),\"-\")","v":2.212364298358322},{"$f":"IFERROR(IF($B$2=\"トン\",AppQt.Data!AY54,(AppQt.Data!AY54*ozton*AppQt.Data!AY$7)/1000000),\"-\")","v":2.7085788009050882},{"$f":"IFERROR(IF($B$2=\"トン\",AppQt.Data!AZ54,(AppQt.Data!AZ54*ozton*AppQt.Data!AZ$7)/1000000),\"-\")","v":2.8852410164462632},{"$f":"IFERROR(IF($B$2=\"トン\",AppQt.Data!BA54,(AppQt.Data!BA54*ozton*AppQt.Data!BA$7)/1000000),\"-\")","v":1.8081823592351673},{"$f":"IFERROR(IF($B$2=\"トン\",AppQt.Data!BB54,(AppQt.Data!BB54*ozton*AppQt.Data!BB$7)/1000000),\"-\")","v":0.66370928950749675},{"$f":"IFERROR(IF($B$2=\"トン\",AppQt.Data!BC54,(AppQt.Data!BC54*ozton*AppQt.Data!BC$7)/1000000),\"-\")","v":1.3542894004525441},{"$f":"IFERROR(IF($B$2=\"トン\",AppQt.Data!BD54,(AppQt.Data!BD54*ozton*AppQt.Data!BD$7)/1000000),\"-\")","v":2.0196687115123839},{"$f":"IFERROR(IF($B$2=\"トン\",AppQt.Data!BE54,(AppQt.Data!BE54*ozton*AppQt.Data!BE$7)/1000000),\"-\")","v":2.0251642423433873},{"$f":"IFERROR(IF($B$2=\"トン\",AppQt.Data!BF54,(AppQt.Data!BF54*ozton*AppQt.Data!BF$7)/1000000),\"-\")","v":1.7213896059918794},{"$f":"IFERROR(IF($B$2=\"トン\",AppQt.Data!BG54,(AppQt.Data!BG54*ozton*AppQt.Data!BG$7)/1000000),\"-\")","v":1.880509653604574},{"$f":"IFERROR(IF($B$2=\"トン\",AppQt.Data!BH54,(AppQt.Data!BH54*ozton*AppQt.Data!BH$7)/1000000),\"-\")","v":2.4236024538148611},{"$f":"IFERROR(IF($B$2=\"トン\",AppQt.Data!BI54,(AppQt.Data!BI54*ozton*AppQt.Data!BI$7)/1000000),\"-\")","v":2.1871773817308586},{"$f":"IFERROR(IF($B$2=\"トン\",AppQt.Data!BJ54,(AppQt.Data!BJ54*ozton*AppQt.Data!BJ$7)/1000000),\"-\")","v":1.8935285665910673},{"$f":"IFERROR(IF($B$2=\"トン\",AppQt.Data!BK54,(AppQt.Data!BK54*ozton*AppQt.Data!BK$7)/1000000),\"-\")","v":2.5386880323661747},{"$f":"IFERROR(IF($B$2=\"トン\",AppQt.Data!BL54,(AppQt.Data!BL54*ozton*AppQt.Data!BL$7)/1000000),\"-\")","v":2.7871428218870897},"▲",14.999999999999968]
[null,"ベトナム",{"$f":"IFERROR(IF($B$2=\"トン\",AppAn.Data!L45,(AppAn.Data!L45*ozton*AppAn.Data!L$6)/1000000),\"-\")","v":14.166197848045673},{"$f":"IFERROR(IF($B$2=\"トン\",AppAn.Data!M45,(AppAn.Data!M45*ozton*AppAn.Data!M$6)/1000000),\"-\")","v":12.836228097195793},{"$f":"IFERROR(IF($B$2=\"トン\",AppAn.Data!N45,(AppAn.Data!N45*ozton*AppAn.Data!N$6)/1000000),\"-\")","v":10.471896892454522},{"$f":"IFERROR(IF($B$2=\"トン\",AppAn.Data!O45,(AppAn.Data!O45*ozton*AppAn.Data!O$6)/1000000),\"-\")","v":11.774157608695653},{"$f":"IFERROR(IF($B$2=\"トン\",AppAn.Data!P45,(AppAn.Data!P45*ozton*AppAn.Data!P$6)/1000000),\"-\")","v":12.5},{"$f":"IFERROR(IF($B$2=\"トン\",AppAn.Data!Q45,(AppAn.Data!Q45*ozton*AppAn.Data!Q$6)/1000000),\"-\")","v":15.630133749999999},{"$f":"IFERROR(IF($B$2=\"トン\",AppAn.Data!R45,(AppAn.Data!R45*ozton*AppAn.Data!R$6)/1000000),\"-\")","v":15.411434483320001},{"$f":"IFERROR(IF($B$2=\"トン\",AppAn.Data!S45,(AppAn.Data!S45*ozton*AppAn.Data!S$6)/1000000),\"-\")","v":16.493969662795472},{"$f":"IFERROR(IF($B$2=\"トン\",AppAn.Data!T45,(AppAn.Data!T45*ozton*AppAn.Data!T$6)/1000000),\"-\")","v":18.211236544445512},{"$f":"IFERROR(IF($B$2=\"トン\",AppAn.Data!U45,(AppAn.Data!U45*ozton*AppAn.Data!U$6)/1000000),\"-\")","v":17.289411785307998},{"$f":"IFERROR(IF($B$2=\"トン\",AppAn.Data!V45,(AppAn.Data!V45*ozton*AppAn.Data!V$6)/1000000),\"-\")","v":10.738128894678828},{"$f":"IFERROR(IF($B$2=\"トン\",AppAn.Data!W45,(AppAn.Data!W45*ozton*AppAn.Data!W$6)/1000000),\"-\")","v":11.937416647587764},{"$f":"IFERROR(IF($B$2=\"トン\",AppAn.Data!X45,(AppAn.Data!X45*ozton*AppAn.Data!X$6)/1000000),\"-\")","v":18.074964526742235},"▲",51.41437264313555,null,{"$f":"IFERROR(IF($B$2=\"トン\",AppQt.Data!M55,(AppQt.Data!M55*ozton*AppQt.Data!M$7)/1000000),\"-\")","v":5.0897848045674134},{"$f":"IFERROR(IF($B$2=\"トン\",AppQt.Data!N55,(AppQt.Data!N55*ozton*AppQt.Data!N$7)/1000000),\"-\")","v":3.1128211462450595},{"$f":"IFERROR(IF($B$2=\"トン\",AppQt.Data!O55,(AppQt.Data!O55*ozton*AppQt.Data!O$7)/1000000),\"-\")","v":2.8879496047430826},{"$f":"IFERROR(IF($B$2=\"トン\",AppQt.Data!P55,(AppQt.Data!P55*ozton*AppQt.Data!P$7)/1000000),\"-\")","v":3.0756422924901186},{"$f":"IFERROR(IF($B$2=\"トン\",AppQt.Data!Q55,(AppQt.Data!Q55*ozton*AppQt.Data!Q$7)/1000000),\"-\")","v":5.4471342577343487},{"$f":"IFERROR(IF($B$2=\"トン\",AppQt.Data!R55,(AppQt.Data!R55*ozton*AppQt.Data!R$7)/1000000),\"-\")","v":2.9124534902161714},{"$f":"IFERROR(IF($B$2=\"トン\",AppQt.Data!S55,(AppQt.Data!S55*ozton*AppQt.Data!S$7)/1000000),\"-\")","v":2.0473725098204265},{"$f":"IFERROR(IF($B$2=\"トン\",AppQt.Data!T55,(AppQt.Data!T55*ozton*AppQt.Data!T$7)/1000000),\"-\")","v":2.4292678394248446},{"$f":"IFERROR(IF($B$2=\"トン\",AppQt.Data!U55,(AppQt.Data!U55*ozton*AppQt.Data!U$7)/1000000),\"-\")","v":4.6079566893315462},{"$f":"IFERROR(IF($B$2=\"トン\",AppQt.Data!V55,(AppQt.Data!V55*ozton*AppQt.Data!V$7)/1000000),\"-\")","v":2.391146537680966},{"$f":"IFERROR(IF($B$2=\"トン\",AppQt.Data!W55,(AppQt.Data!W55*ozton*AppQt.Data!W$7)/1000000),\"-\")","v":1.6479807508140203},{"$f":"IFERROR(IF($B$2=\"トン\",AppQt.Data!X55,(AppQt.Data!X55*ozton*AppQt.Data!X$7)/1000000),\"-\")","v":1.8248129146279883},{"$f":"IFERROR(IF($B$2=\"トン\",AppQt.Data!Y55,(AppQt.Data!Y55*ozton*AppQt.Data!Y$7)/1000000),\"-\")","v":3.370625},{"$f":"IFERROR(IF($B$2=\"トン\",AppQt.Data!Z55,(AppQt.Data!Z55*ozton*AppQt.Data!Z$7)/1000000),\"-\")","v":3.1},{"$f":"IFERROR(IF($B$2=\"トン\",AppQt.Data!AA55,(AppQt.Data!AA55*ozton*AppQt.Data!AA$7)/1000000),\"-\")","v":2.6687500000000002},{"$f":"IFERROR(IF($B$2=\"トン\",AppQt.Data!AB55,(AppQt.Data!AB55*ozton*AppQt.Data!AB$7)/1000000),\"-\")","v":2.6347826086956525},{"$f":"IFERROR(IF($B$2=\"トン\",AppQt.Data!AC55,(AppQt.Data!AC55*ozton*AppQt.Data!AC$7)/1000000),\"-\")","v":3.74},{"$f":"IFERROR(IF($B$2=\"トン\",AppQt.Data!AD55,(AppQt.Data!AD55*ozton*AppQt.Data!AD$7)/1000000),\"-\")","v":3.06},{"$f":"IFERROR(IF($B$2=\"トン\",AppQt.Data!AE55,(AppQt.Data!AE55*ozton*AppQt.Data!AE$7)/1000000),\"-\")","v":2.7},{"$f":"IFERROR(IF($B$2=\"トン\",AppQt.Data!AF55,(AppQt.Data!AF55*ozton*AppQt.Data!AF$7)/1000000),\"-\")","v":3},{"$f":"IFERROR(IF($B$2=\"トン\",AppQt.Data!AG55,(AppQt.Data!AG55*ozton*AppQt.Data!AG$7)/1000000),\"-\")","v":4.4400000000000004},{"$f":"IFERROR(IF($B$2=\"トン\",AppQt.Data!AH55,(AppQt.Data!AH55*ozton*AppQt.Data!AH$7)/1000000),\"-\")","v":3.7189999999999999},{"$f":"IFERROR(IF($B$2=\"トン\",AppQt.Data!AI55,(AppQt.Data!AI55*ozton*AppQt.Data!AI$7)/1000000),\"-\")","v":3.5430499999999996},{"$f":"IFERROR(IF($B$2=\"トン\",AppQt.Data!AJ55,(AppQt.Data!AJ55*ozton*AppQt.Data!AJ$7)/1000000),\"-\")","v":3.9280837499999999},{"$f":"IFERROR(IF($B$2=\"トン\",AppQt.Data!AK55,(AppQt.Data!AK55*ozton*AppQt.Data!AK$7)/1000000),\"-\")","v":4.7137004999999998},{"$f":"IFERROR(IF($B$2=\"トン\",AppQt.Data!AL55,(AppQt.Data!AL55*ozton*AppQt.Data!AL$7)/1000000),\"-\")","v":3.5209603999999999},{"$f":"IFERROR(IF($B$2=\"トン\",AppQt.Data!AM55,(AppQt.Data!AM55*ozton*AppQt.Data!AM$7)/1000000),\"-\")","v":3.2920979740000003},{"$f":"IFERROR(IF($B$2=\"トン\",AppQt.Data!AN55,(AppQt.Data!AN55*ozton*AppQt.Data!AN$7)/1000000),\"-\")","v":3.8846756093200003},{"$f":"IFERROR(IF($B$2=\"トン\",AppQt.Data!AO55,(AppQt.Data!AO55*ozton*AppQt.Data!AO$7)/1000000),\"-\")","v":4.5644938409510001},{"$f":"IFERROR(IF($B$2=\"トン\",AppQt.Data!AP55,(AppQt.Data!AP55*ozton*AppQt.Data!AP$7)/1000000),\"-\")","v":3.8798197648083499},{"$f":"IFERROR(IF($B$2=\"トン\",AppQt.Data!AQ55,(AppQt.Data!AQ55*ozton*AppQt.Data!AQ$7)/1000000),\"-\")","v":3.7440260730400579},{"$f":"IFERROR(IF($B$2=\"トン\",AppQt.Data!AR55,(AppQt.Data!AR55*ozton*AppQt.Data!AR$7)/1000000),\"-\")","v":4.3056299839960657},{"$f":"IFERROR(IF($B$2=\"トン\",AppQt.Data!AS55,(AppQt.Data!AS55*ozton*AppQt.Data!AS$7)/1000000),\"-\")","v":5.0939751265013173},{"$f":"IFERROR(IF($B$2=\"トン\",AppQt.Data!AT55,(AppQt.Data!AT55*ozton*AppQt.Data!AT$7)/1000000),\"-\")","v":4.431758360056147},{"$f":"IFERROR(IF($B$2=\"トン\",AppQt.Data!AU55,(AppQt.Data!AU55*ozton*AppQt.Data!AU$7)/1000000),\"-\")","v":4.1215352748522163},{"$f":"IFERROR(IF($B$2=\"トン\",AppQt.Data!AV55,(AppQt.Data!AV55*ozton*AppQt.Data!AV$7)/1000000),\"-\")","v":4.5639677830358298},{"$f":"IFERROR(IF($B$2=\"トン\",AppQt.Data!AW55,(AppQt.Data!AW55*ozton*AppQt.Data!AW$7)/1000000),\"-\")","v":5.3996136340913967},{"$f":"IFERROR(IF($B$2=\"トン\",AppQt.Data!AX55,(AppQt.Data!AX55*ozton*AppQt.Data!AX$7)/1000000),\"-\")","v":4.5203935272572702},{"$f":"IFERROR(IF($B$2=\"トン\",AppQt.Data!AY55,(AppQt.Data!AY55*ozton*AppQt.Data!AY$7)/1000000),\"-\")","v":3.6269510418699507},{"$f":"IFERROR(IF($B$2=\"トン\",AppQt.Data!AZ55,(AppQt.Data!AZ55*ozton*AppQt.Data!AZ$7)/1000000),\"-\")","v":3.7424535820893801},{"$f":"IFERROR(IF($B$2=\"トン\",AppQt.Data!BA55,(AppQt.Data!BA55*ozton*AppQt.Data!BA$7)/1000000),\"-\")","v":4.5356754526367729},{"$f":"IFERROR(IF($B$2=\"トン\",AppQt.Data!BB55,(AppQt.Data!BB55*ozton*AppQt.Data!BB$7)/1000000),\"-\")","v":1.5821377345400445},{"$f":"IFERROR(IF($B$2=\"トン\",AppQt.Data!BC55,(AppQt.Data!BC55*ozton*AppQt.Data!BC$7)/1000000),\"-\")","v":1.8134755209349753},{"$f":"IFERROR(IF($B$2=\"トン\",AppQt.Data!BD55,(AppQt.Data!BD55*ozton*AppQt.Data!BD$7)/1000000),\"-\")","v":2.8068401865670354},{"$f":"IFERROR(IF($B$2=\"トン\",AppQt.Data!BE55,(AppQt.Data!BE55*ozton*AppQt.Data!BE$7)/1000000),\"-\")","v":5.0799565069531862},{"$f":"IFERROR(IF($B$2=\"トン\",AppQt.Data!BF55,(AppQt.Data!BF55*ozton*AppQt.Data!BF$7)/1000000),\"-\")","v":3.4807030159880985},{"$f":"IFERROR(IF($B$2=\"トン\",AppQt.Data!BG55,(AppQt.Data!BG55*ozton*AppQt.Data!BG$7)/1000000),\"-\")","v":0.90673776046748766},{"$f":"IFERROR(IF($B$2=\"トン\",AppQt.Data!BH55,(AppQt.Data!BH55*ozton*AppQt.Data!BH$7)/1000000),\"-\")","v":2.4700193641789912},{"$f":"IFERROR(IF($B$2=\"トン\",AppQt.Data!BI55,(AppQt.Data!BI55*ozton*AppQt.Data!BI$7)/1000000),\"-\")","v":5.5879521576485054},{"$f":"IFERROR(IF($B$2=\"トン\",AppQt.Data!BJ55,(AppQt.Data!BJ55*ozton*AppQt.Data!BJ$7)/1000000),\"-\")","v":4.4552998604647653},{"$f":"IFERROR(IF($B$2=\"トン\",AppQt.Data!BK55,(AppQt.Data!BK55*ozton*AppQt.Data!BK$7)/1000000),\"-\")","v":3.5362772658232013},{"$f":"IFERROR(IF($B$2=\"トン\",AppQt.Data!BL55,(AppQt.Data!BL55*ozton*AppQt.Data!BL$7)/1000000),\"-\")","v":4.4954352428057636},"▲",81.999999999999986]
[null,"オーストラリア",{"$f":"IFERROR(IF($B$2=\"トン\",AppAn.Data!L46,(AppAn.Data!L46*ozton*AppAn.Data!L$6)/1000000),\"-\")","v":"-"},{"$f":"IFERROR(IF($B$2=\"トン\",AppAn.Data!M46,(AppAn.Data!M46*ozton*AppAn.Data!M$6)/1000000),\"-\")","v":"-"},{"$f":"IFERROR(IF($B$2=\"トン\",AppAn.Data!N46,(AppAn.Data!N46*ozton*AppAn.Data!N$6)/1000000),\"-\")","v":"-"},{"$f":"IFERROR(IF($B$2=\"トン\",AppAn.Data!O46,(AppAn.Data!O46*ozton*AppAn.Data!O$6)/1000000),\"-\")","v":"-"},{"$f":"IFERROR(IF($B$2=\"トン\",AppAn.Data!P46,(AppAn.Data!P46*ozton*AppAn.Data!P$6)/1000000),\"-\")","v":"-"},{"$f":"IFERROR(IF($B$2=\"トン\",AppAn.Data!Q46,(AppAn.Data!Q46*ozton*AppAn.Data!Q$6)/1000000),\"-\")","v":"-"},{"$f":"IFERROR(IF($B$2=\"トン\",AppAn.Data!R46,(AppAn.Data!R46*ozton*AppAn.Data!R$6)/1000000),\"-\")","v":"-"},{"$f":"IFERROR(IF($B$2=\"トン\",AppAn.Data!S46,(AppAn.Data!S46*ozton*AppAn.Data!S$6)/1000000),\"-\")","v":"-"},{"$f":"IFERROR(IF($B$2=\"トン\",AppAn.Data!T46,(AppAn.Data!T46*ozton*AppAn.Data!T$6)/1000000),\"-\")","v":"-"},{"$f":"IFERROR(IF($B$2=\"トン\",AppAn.Data!U46,(AppAn.Data!U46*ozton*AppAn.Data!U$6)/1000000),\"-\")","v":"-"},{"$f":"IFERROR(IF($B$2=\"トン\",AppAn.Data!V46,(AppAn.Data!V46*ozton*AppAn.Data!V$6)/1000000),\"-\")","v":"-"},{"$f":"IFERROR(IF($B$2=\"トン\",AppAn.Data!W46,(AppAn.Data!W46*ozton*AppAn.Data!W$6)/1000000),\"-\")","v":8.4218178817688578},{"$f":"IFERROR(IF($B$2=\"トン\",AppAn.Data!X46,(AppAn.Data!X46*ozton*AppAn.Data!X$6)/1000000),\"-\")","v":10.959042157520969},{"$f":"IF(Q20<0,$A$2,IF(Q20>0,$A$1,\"-\"))","v":"▲"},30.126800547950229,null,"-","-","-","-","-","-","-","-","-","-","-","-","-","-","-","-","-","-","-","-","-","-","-","-","-","-","-","-","-","-","-","-","-","-","-","-","-","-","-","-","-","-","-","-",{"$f":"IFERROR(IF($B$2=\"トン\",AppQt.Data!BE56,(AppQt.Data!BE56*ozton*AppQt.Data!BE$7)/1000000),\"-\")","v":1.9648577245250631},{"$f":"IFERROR(IF($B$2=\"トン\",AppQt.Data!BF56,(AppQt.Data!BF56*ozton*AppQt.Data!BF$7)/1000000),\"-\")","v":2.3596222412048875},{"$f":"IFERROR(IF($B$2=\"トン\",AppQt.Data!BG56,(AppQt.Data!BG56*ozton*AppQt.Data!BG$7)/1000000),\"-\")","v":1.3737090749520704},{"$f":"IFERROR(IF($B$2=\"トン\",AppQt.Data!BH56,(AppQt.Data!BH56*ozton*AppQt.Data!BH$7)/1000000),\"-\")","v":2.7236288410868372},{"$f":"IFERROR(IF($B$2=\"トン\",AppQt.Data!BI56,(AppQt.Data!BI56*ozton*AppQt.Data!BI$7)/1000000),\"-\")","v":2.357471417087238},{"$f":"IFERROR(IF($B$2=\"トン\",AppQt.Data!BJ56,(AppQt.Data!BJ56*ozton*AppQt.Data!BJ$7)/1000000),\"-\")","v":2.5555223275754271},{"$f":"IFERROR(IF($B$2=\"トン\",AppQt.Data!BK56,(AppQt.Data!BK56*ozton*AppQt.Data!BK$7)/1000000),\"-\")","v":2.7255252555169025},{"$f":"IFERROR(IF($B$2=\"トン\",AppQt.Data!BL56,(AppQt.Data!BL56*ozton*AppQt.Data!BL$7)/1000000),\"-\")","v":3.3205231573414009},{"$f":"IF(BT20<0,$A$2,IF(BT20>0,$A$1,\"-\"))","v":"▲"},21.915405919125863]
[null,"中東",{"$f":"IFERROR(IF($B$2=\"トン\",AppAn.Data!L47,(AppAn.Data!L47*ozton*AppAn.Data!L$6)/1000000),\"-\")","v":254.26154231445187},{"$f":"IFERROR(IF($B$2=\"トン\",AppAn.Data!M47,(AppAn.Data!M47*ozton*AppAn.Data!M$6)/1000000),\"-\")","v":212.99882090211455},{"$f":"IFERROR(IF($B$2=\"トン\",AppAn.Data!N47,(AppAn.Data!N47*ozton*AppAn.Data!N$6)/1000000),\"-\")","v":209.65192857882155},{"$f":"IFERROR(IF($B$2=\"トン\",AppAn.Data!O47,(AppAn.Data!O47*ozton*AppAn.Data!O$6)/1000000),\"-\")","v":277.65195998971438},{"$f":"IFERROR(IF($B$2=\"トン\",AppAn.Data!P47,(AppAn.Data!P47*ozton*AppAn.Data!P$6)/1000000),\"-\")","v":253.98434190244899},{"$f":"IFERROR(IF($B$2=\"トン\",AppAn.Data!Q47,(AppAn.Data!Q47*ozton*AppAn.Data!Q$6)/1000000),\"-\")","v":237.95842601145355},{"$f":"IFERROR(IF($B$2=\"トン\",AppAn.Data!R47,(AppAn.Data!R47*ozton*AppAn.Data!R$6)/1000000),\"-\")","v":198.85993962880011},{"$f":"IFERROR(IF($B$2=\"トン\",AppAn.Data!S47,(AppAn.Data!S47*ozton*AppAn.Data!S$6)/1000000),\"-\")","v":198.78725688325233},{"$f":"IFERROR(IF($B$2=\"トン\",AppAn.Data!T47,(AppAn.Data!T47*ozton*AppAn.Data!T$6)/1000000),\"-\")","v":172.61776421376811},{"$f":"IFERROR(IF($B$2=\"トン\",AppAn.Data!U47,(AppAn.Data!U47*ozton*AppAn.Data!U$6)/1000000),\"-\")","v":170.38976158085239},{"$f":"IFERROR(IF($B$2=\"トン\",AppAn.Data!V47,(AppAn.Data!V47*ozton*AppAn.Data!V$6)/1000000),\"-\")","v":114.78551429580725},{"$f":"IFERROR(IF($B$2=\"トン\",AppAn.Data!W47,(AppAn.Data!W47*ozton*AppAn.Data!W$6)/1000000),\"-\")","v":165.13286633675114},{"$f":"IFERROR(IF($B$2=\"トン\",AppAn.Data!X47,(AppAn.Data!X47*ozton*AppAn.Data!X$6)/1000000),\"-\")","v":190.36410330905903},"▲",15.279355062398349,null,{"$f":"IFERROR(IF($B$2=\"トン\",AppQt.Data!M57,(AppQt.Data!M57*ozton*AppQt.Data!M$7)/1000000),\"-\")","v":71.454161972525682},{"$f":"IFERROR(IF($B$2=\"トン\",AppQt.Data!N57,(AppQt.Data!N57*ozton*AppQt.Data!N$7)/1000000),\"-\")","v":65.782352635164045},{"$f":"IFERROR(IF($B$2=\"トン\",AppQt.Data!O57,(AppQt.Data!O57*ozton*AppQt.Data!O$7)/1000000),\"-\")","v":69.184626003910068},{"$f":"IFERROR(IF($B$2=\"トン\",AppQt.Data!P57,(AppQt.Data!P57*ozton*AppQt.Data!P$7)/1000000),\"-\")","v":47.840401702852027},{"$f":"IFERROR(IF($B$2=\"トン\",AppQt.Data!Q57,(AppQt.Data!Q57*ozton*AppQt.Data!Q$7)/1000000),\"-\")","v":60.65118968577805},{"$f":"IFERROR(IF($B$2=\"トン\",AppQt.Data!R57,(AppQt.Data!R57*ozton*AppQt.Data!R$7)/1000000),\"-\")","v":59.991582423550085},{"$f":"IFERROR(IF($B$2=\"トン\",AppQt.Data!S57,(AppQt.Data!S57*ozton*AppQt.Data!S$7)/1000000),\"-\")","v":51.375495885550833},{"$f":"IFERROR(IF($B$2=\"トン\",AppQt.Data!T57,(AppQt.Data!T57*ozton*AppQt.Data!T$7)/1000000),\"-\")","v":40.980552907235598},{"$f":"IFERROR(IF($B$2=\"トン\",AppQt.Data!U57,(AppQt.Data!U57*ozton*AppQt.Data!U$7)/1000000),\"-\")","v":55.265026097259536},{"$f":"IFERROR(IF($B$2=\"トン\",AppQt.Data!V57,(AppQt.Data!V57*ozton*AppQt.Data!V$7)/1000000),\"-\")","v":55.882040321040456},{"$f":"IFERROR(IF($B$2=\"トン\",AppQt.Data!W57,(AppQt.Data!W57*ozton*AppQt.Data!W$7)/1000000),\"-\")","v":51.016025528645024},{"$f":"IFERROR(IF($B$2=\"トン\",AppQt.Data!X57,(AppQt.Data!X57*ozton*AppQt.Data!X$7)/1000000),\"-\")","v":47.488836631876573},{"$f":"IFERROR(IF($B$2=\"トン\",AppQt.Data!Y57,(AppQt.Data!Y57*ozton*AppQt.Data!Y$7)/1000000),\"-\")","v":63.470872437871819},{"$f":"IFERROR(IF($B$2=\"トン\",AppQt.Data!Z57,(AppQt.Data!Z57*ozton*AppQt.Data!Z$7)/1000000),\"-\")","v":91.237145633050005},{"$f":"IFERROR(IF($B$2=\"トン\",AppQt.Data!AA57,(AppQt.Data!AA57*ozton*AppQt.Data!AA$7)/1000000),\"-\")","v":65.556900493778855},{"$f":"IFERROR(IF($B$2=\"トン\",AppQt.Data!AB57,(AppQt.Data!AB57*ozton*AppQt.Data!AB$7)/1000000),\"-\")","v":57.387041425013742},{"$f":"IFERROR(IF($B$2=\"トン\",AppQt.Data!AC57,(AppQt.Data!AC57*ozton*AppQt.Data!AC$7)/1000000),\"-\")","v":71.436451414493263},{"$f":"IFERROR(IF($B$2=\"トン\",AppQt.Data!AD57,(AppQt.Data!AD57*ozton*AppQt.Data!AD$7)/1000000),\"-\")","v":69.898194965302892},{"$f":"IFERROR(IF($B$2=\"トン\",AppQt.Data!AE57,(AppQt.Data!AE57*ozton*AppQt.Data!AE$7)/1000000),\"-\")","v":54.87091877640681},{"$f":"IFERROR(IF($B$2=\"トン\",AppQt.Data!AF57,(AppQt.Data!AF57*ozton*AppQt.Data!AF$7)/1000000),\"-\")","v":57.778776746245995},{"$f":"IFERROR(IF($B$2=\"トン\",AppQt.Data!AG57,(AppQt.Data!AG57*ozton*AppQt.Data!AG$7)/1000000),\"-\")","v":63.817512693852322},{"$f":"IFERROR(IF($B$2=\"トン\",AppQt.Data!AH57,(AppQt.Data!AH57*ozton*AppQt.Data!AH$7)/1000000),\"-\")","v":62.074709892788739},{"$f":"IFERROR(IF($B$2=\"トン\",AppQt.Data!AI57,(AppQt.Data!AI57*ozton*AppQt.Data!AI$7)/1000000),\"-\")","v":56.648665534537059},{"$f":"IFERROR(IF($B$2=\"トン\",AppQt.Data!AJ57,(AppQt.Data!AJ57*ozton*AppQt.Data!AJ$7)/1000000),\"-\")","v":55.417537890275419},{"$f":"IFERROR(IF($B$2=\"トン\",AppQt.Data!AK57,(AppQt.Data!AK57*ozton*AppQt.Data!AK$7)/1000000),\"-\")","v":57.161381406129003},{"$f":"IFERROR(IF($B$2=\"トン\",AppQt.Data!AL57,(AppQt.Data!AL57*ozton*AppQt.Data!AL$7)/1000000),\"-\")","v":49.854382103022218},{"$f":"IFERROR(IF($B$2=\"トン\",AppQt.Data!AM57,(AppQt.Data!AM57*ozton*AppQt.Data!AM$7)/1000000),\"-\")","v":43.480257000074062},{"$f":"IFERROR(IF($B$2=\"トン\",AppQt.Data!AN57,(AppQt.Data!AN57*ozton*AppQt.Data!AN$7)/1000000),\"-\")","v":48.363919119574803},{"$f":"IFERROR(IF($B$2=\"トン\",AppQt.Data!AO57,(AppQt.Data!AO57*ozton*AppQt.Data!AO$7)/1000000),\"-\")","v":55.106874270662388},{"$f":"IFERROR(IF($B$2=\"トン\",AppQt.Data!AP57,(AppQt.Data!AP57*ozton*AppQt.Data!AP$7)/1000000),\"-\")","v":50.455660893659967},{"$f":"IFERROR(IF($B$2=\"トン\",AppQt.Data!AQ57,(AppQt.Data!AQ57*ozton*AppQt.Data!AQ$7)/1000000),\"-\")","v":42.311950967904593},{"$f":"IFERROR(IF($B$2=\"トン\",AppQt.Data!AR57,(AppQt.Data!AR57*ozton*AppQt.Data!AR$7)/1000000),\"-\")","v":50.912770751025363},{"$f":"IFERROR(IF($B$2=\"トン\",AppQt.Data!AS57,(AppQt.Data!AS57*ozton*AppQt.Data!AS$7)/1000000),\"-\")","v":44.569323556576762},{"$f":"IFERROR(IF($B$2=\"トン\",AppQt.Data!AT57,(AppQt.Data!AT57*ozton*AppQt.Data!AT$7)/1000000),\"-\")","v":44.74830907101996},{"$f":"IFERROR(IF($B$2=\"トン\",AppQt.Data!AU57,(AppQt.Data!AU57*ozton*AppQt.Data!AU$7)/1000000),\"-\")","v":40.12327314286064},{"$f":"IFERROR(IF($B$2=\"トン\",AppQt.Data!AV57,(AppQt.Data!AV57*ozton*AppQt.Data!AV$7)/1000000),\"-\")","v":43.176858443310728},{"$f":"IFERROR(IF($B$2=\"トン\",AppQt.Data!AW57,(AppQt.Data!AW57*ozton*AppQt.Data!AW$7)/1000000),\"-\")","v":47.542794790733652},{"$f":"IFERROR(IF($B$2=\"トン\",AppQt.Data!AX57,(AppQt.Data!AX57*ozton*AppQt.Data!AX$7)/1000000),\"-\")","v":44.199228521108175},{"$f":"IFERROR(IF($B$2=\"トン\",AppQt.Data!AY57,(AppQt.Data!AY57*ozton*AppQt.Data!AY$7)/1000000),\"-\")","v":37.413485960763417},{"$f":"IFERROR(IF($B$2=\"トン\",AppQt.Data!AZ57,(AppQt.Data!AZ57*ozton*AppQt.Data!AZ$7)/1000000),\"-\")","v":41.234252308247157},{"$f":"IFERROR(IF($B$2=\"トン\",AppQt.Data!BA57,(AppQt.Data!BA57*ozton*AppQt.Data!BA$7)/1000000),\"-\")","v":41.069389059684099},{"$f":"IFERROR(IF($B$2=\"トン\",AppQt.Data!BB57,(AppQt.Data!BB57*ozton*AppQt.Data!BB$7)/1000000),\"-\")","v":12.643218571260752},{"$f":"IFERROR(IF($B$2=\"トン\",AppQt.Data!BC57,(AppQt.Data!BC57*ozton*AppQt.Data!BC$7)/1000000),\"-\")","v":27.471293770391963},{"$f":"IFERROR(IF($B$2=\"トン\",AppQt.Data!BD57,(AppQt.Data!BD57*ozton*AppQt.Data!BD$7)/1000000),\"-\")","v":33.601612894470421},{"$f":"IFERROR(IF($B$2=\"トン\",AppQt.Data!BE57,(AppQt.Data!BE57*ozton*AppQt.Data!BE$7)/1000000),\"-\")","v":40.443639364353167},{"$f":"IFERROR(IF($B$2=\"トン\",AppQt.Data!BF57,(AppQt.Data!BF57*ozton*AppQt.Data!BF$7)/1000000),\"-\")","v":37.997277341049589},{"$f":"IFERROR(IF($B$2=\"トン\",AppQt.Data!BG57,(AppQt.Data!BG57*ozton*AppQt.Data!BG$7)/1000000),\"-\")","v":40.970439200031478},{"$f":"IFERROR(IF($B$2=\"トン\",AppQt.Data!BH57,(AppQt.Data!BH57*ozton*AppQt.Data!BH$7)/1000000),\"-\")","v":45.721510431316915},{"$f":"IFERROR(IF($B$2=\"トン\",AppQt.Data!BI57,(AppQt.Data!BI57*ozton*AppQt.Data!BI$7)/1000000),\"-\")","v":47.664823338610695},{"$f":"IFERROR(IF($B$2=\"トン\",AppQt.Data!BJ57,(AppQt.Data!BJ57*ozton*AppQt.Data!BJ$7)/1000000),\"-\")","v":47.554090743212136},{"$f":"IFERROR(IF($B$2=\"トン\",AppQt.Data!BK57,(AppQt.Data!BK57*ozton*AppQt.Data!BK$7)/1000000),\"-\")","v":48.672826114458232},{"$f":"IFERROR(IF($B$2=\"トン\",AppQt.Data!BL57,(AppQt.Data!BL57*ozton*AppQt.Data!BL$7)/1000000),\"-\")","v":46.472363112777963},"▲",1.6422307014309689]
[null,"サウジアラビア",{"$f":"IFERROR(IF($B$2=\"トン\",AppAn.Data!L48,(AppAn.Data!L48*ozton*AppAn.Data!L$6)/1000000),\"-\")","v":69.914157254711355},{"$f":"IFERROR(IF($B$2=\"トン\",AppAn.Data!M48,(AppAn.Data!M48*ozton*AppAn.Data!M$6)/1000000),\"-\")","v":54.742374384039096},{"$f":"IFERROR(IF($B$2=\"トン\",AppAn.Data!N48,(AppAn.Data!N48*ozton*AppAn.Data!N$6)/1000000),\"-\")","v":49.004296145911127},{"$f":"IFERROR(IF($B$2=\"トン\",AppAn.Data!O48,(AppAn.Data!O48*ozton*AppAn.Data!O$6)/1000000),\"-\")","v":66.421026990152356},{"$f":"IFERROR(IF($B$2=\"トン\",AppAn.Data!P48,(AppAn.Data!P48*ozton*AppAn.Data!P$6)/1000000),\"-\")","v":68.375948465591193},{"$f":"IFERROR(IF($B$2=\"トン\",AppAn.Data!Q48,(AppAn.Data!Q48*ozton*AppAn.Data!Q$6)/1000000),\"-\")","v":69.509531880924158},{"$f":"IFERROR(IF($B$2=\"トン\",AppAn.Data!R48,(AppAn.Data!R48*ozton*AppAn.Data!R$6)/1000000),\"-\")","v":49.404696649616938},{"$f":"IFERROR(IF($B$2=\"トン\",AppAn.Data!S48,(AppAn.Data!S48*ozton*AppAn.Data!S$6)/1000000),\"-\")","v":44.447255835847457},{"$f":"IFERROR(IF($B$2=\"トン\",AppAn.Data!T48,(AppAn.Data!T48*ozton*AppAn.Data!T$6)/1000000),\"-\")","v":39.378776623573138},{"$f":"IFERROR(IF($B$2=\"トン\",AppAn.Data!U48,(AppAn.Data!U48*ozton*AppAn.Data!U$6)/1000000),\"-\")","v":37.15998341038123},{"$f":"IFERROR(IF($B$2=\"トン\",AppAn.Data!V48,(AppAn.Data!V48*ozton*AppAn.Data!V$6)/1000000),\"-\")","v":22.69863846673028},{"$f":"IFERROR(IF($B$2=\"トン\",AppAn.Data!W48,(AppAn.Data!W48*ozton*AppAn.Data!W$6)/1000000),\"-\")","v":33.339704585610434},{"$f":"IFERROR(IF($B$2=\"トン\",AppAn.Data!X48,(AppAn.Data!X48*ozton*AppAn.Data!X$6)/1000000),\"-\")","v":37.89427263119407},"▲",13.661092988656565,null,{"$f":"IFERROR(IF($B$2=\"トン\",AppQt.Data!M58,(AppQt.Data!M58*ozton*AppQt.Data!M$7)/1000000),\"-\")","v":16.979713486605768},{"$f":"IFERROR(IF($B$2=\"トン\",AppQt.Data!N58,(AppQt.Data!N58*ozton*AppQt.Data!N$7)/1000000),\"-\")","v":25.385665224850065},{"$f":"IFERROR(IF($B$2=\"トン\",AppQt.Data!O58,(AppQt.Data!O58*ozton*AppQt.Data!O$7)/1000000),\"-\")","v":17.657863345112229},{"$f":"IFERROR(IF($B$2=\"トン\",AppQt.Data!P58,(AppQt.Data!P58*ozton*AppQt.Data!P$7)/1000000),\"-\")","v":9.8909151981432935},{"$f":"IFERROR(IF($B$2=\"トン\",AppQt.Data!Q58,(AppQt.Data!Q58*ozton*AppQt.Data!Q$7)/1000000),\"-\")","v":13.513378791768645},{"$f":"IFERROR(IF($B$2=\"トン\",AppQt.Data!R58,(AppQt.Data!R58*ozton*AppQt.Data!R$7)/1000000),\"-\")","v":19.574706974265343},{"$f":"IFERROR(IF($B$2=\"トン\",AppQt.Data!S58,(AppQt.Data!S58*ozton*AppQt.Data!S$7)/1000000),\"-\")","v":12.948265698677702},{"$f":"IFERROR(IF($B$2=\"トン\",AppQt.Data!T58,(AppQt.Data!T58*ozton*AppQt.Data!T$7)/1000000),\"-\")","v":8.7060229193274061},{"$f":"IFERROR(IF($B$2=\"トン\",AppQt.Data!U58,(AppQt.Data!U58*ozton*AppQt.Data!U$7)/1000000),\"-\")","v":11.831962449578342},{"$f":"IFERROR(IF($B$2=\"トン\",AppQt.Data!V58,(AppQt.Data!V58*ozton*AppQt.Data!V$7)/1000000),\"-\")","v":15.882461682065719},{"$f":"IFERROR(IF($B$2=\"トン\",AppQt.Data!W58,(AppQt.Data!W58*ozton*AppQt.Data!W$7)/1000000),\"-\")","v":11.512733447418876},{"$f":"IFERROR(IF($B$2=\"トン\",AppQt.Data!X58,(AppQt.Data!X58*ozton*AppQt.Data!X$7)/1000000),\"-\")","v":9.7771385668481923},{"$f":"IFERROR(IF($B$2=\"トン\",AppQt.Data!Y58,(AppQt.Data!Y58*ozton*AppQt.Data!Y$7)/1000000),\"-\")","v":12.287156206207555},{"$f":"IFERROR(IF($B$2=\"トン\",AppQt.Data!Z58,(AppQt.Data!Z58*ozton*AppQt.Data!Z$7)/1000000),\"-\")","v":24.104141343506246},{"$f":"IFERROR(IF($B$2=\"トン\",AppQt.Data!AA58,(AppQt.Data!AA58*ozton*AppQt.Data!AA$7)/1000000),\"-\")","v":16.721237751387644},{"$f":"IFERROR(IF($B$2=\"トン\",AppQt.Data!AB58,(AppQt.Data!AB58*ozton*AppQt.Data!AB$7)/1000000),\"-\")","v":13.308491689050905},{"$f":"IFERROR(IF($B$2=\"トン\",AppQt.Data!AC58,(AppQt.Data!AC58*ozton*AppQt.Data!AC$7)/1000000),\"-\")","v":16.461324842798224},{"$f":"IFERROR(IF($B$2=\"トン\",AppQt.Data!AD58,(AppQt.Data!AD58*ozton*AppQt.Data!AD$7)/1000000),\"-\")","v":18.92730884090534},{"$f":"IFERROR(IF($B$2=\"トン\",AppQt.Data!AE58,(AppQt.Data!AE58*ozton*AppQt.Data!AE$7)/1000000),\"-\")","v":14.984961229946643},{"$f":"IFERROR(IF($B$2=\"トン\",AppQt.Data!AF58,(AppQt.Data!AF58*ozton*AppQt.Data!AF$7)/1000000),\"-\")","v":18.002353551940999},{"$f":"IFERROR(IF($B$2=\"トン\",AppQt.Data!AG58,(AppQt.Data!AG58*ozton*AppQt.Data!AG$7)/1000000),\"-\")","v":17.37839033152656},{"$f":"IFERROR(IF($B$2=\"トン\",AppQt.Data!AH58,(AppQt.Data!AH58*ozton*AppQt.Data!AH$7)/1000000),\"-\")","v":18.774768753895859},{"$f":"IFERROR(IF($B$2=\"トン\",AppQt.Data!AI58,(AppQt.Data!AI58*ozton*AppQt.Data!AI$7)/1000000),\"-\")","v":15.955732537688995},{"$f":"IFERROR(IF($B$2=\"トン\",AppQt.Data!AJ58,(AppQt.Data!AJ58*ozton*AppQt.Data!AJ$7)/1000000),\"-\")","v":17.40064025781275},{"$f":"IFERROR(IF($B$2=\"トン\",AppQt.Data!AK58,(AppQt.Data!AK58*ozton*AppQt.Data!AK$7)/1000000),\"-\")","v":12.929010238860595},{"$f":"IFERROR(IF($B$2=\"トン\",AppQt.Data!AL58,(AppQt.Data!AL58*ozton*AppQt.Data!AL$7)/1000000),\"-\")","v":13.09015129067647},{"$f":"IFERROR(IF($B$2=\"トン\",AppQt.Data!AM58,(AppQt.Data!AM58*ozton*AppQt.Data!AM$7)/1000000),\"-\")","v":10.785625337684825},{"$f":"IFERROR(IF($B$2=\"トン\",AppQt.Data!AN58,(AppQt.Data!AN58*ozton*AppQt.Data!AN$7)/1000000),\"-\")","v":12.599909782395045},{"$f":"IFERROR(IF($B$2=\"トン\",AppQt.Data!AO58,(AppQt.Data!AO58*ozton*AppQt.Data!AO$7)/1000000),\"-\")","v":10.41750636226077},{"$f":"IFERROR(IF($B$2=\"トン\",AppQt.Data!AP58,(AppQt.Data!AP58*ozton*AppQt.Data!AP$7)/1000000),\"-\")","v":11.986419076784363},{"$f":"IFERROR(IF($B$2=\"トン\",AppQt.Data!AQ58,(AppQt.Data!AQ58*ozton*AppQt.Data!AQ$7)/1000000),\"-\")","v":9.48292330454629},{"$f":"IFERROR(IF($B$2=\"トン\",AppQt.Data!AR58,(AppQt.Data!AR58*ozton*AppQt.Data!AR$7)/1000000),\"-\")","v":12.560407092256032},{"$f":"IFERROR(IF($B$2=\"トン\",AppQt.Data!AS58,(AppQt.Data!AS58*ozton*AppQt.Data!AS$7)/1000000),\"-\")","v":7.4861314425207528},{"$f":"IFERROR(IF($B$2=\"トン\",AppQt.Data!AT58,(AppQt.Data!AT58*ozton*AppQt.Data!AT$7)/1000000),\"-\")","v":10.52307698501151},{"$f":"IFERROR(IF($B$2=\"トン\",AppQt.Data!AU58,(AppQt.Data!AU58*ozton*AppQt.Data!AU$7)/1000000),\"-\")","v":11.874580181190961},{"$f":"IFERROR(IF($B$2=\"トン\",AppQt.Data!AV58,(AppQt.Data!AV58*ozton*AppQt.Data!AV$7)/1000000),\"-\")","v":9.4949880148499126},{"$f":"IFERROR(IF($B$2=\"トン\",AppQt.Data!AW58,(AppQt.Data!AW58*ozton*AppQt.Data!AW$7)/1000000),\"-\")","v":9.4307590676675197},{"$f":"IFERROR(IF($B$2=\"トン\",AppQt.Data!AX58,(AppQt.Data!AX58*ozton*AppQt.Data!AX$7)/1000000),\"-\")","v":9.4767646551225191},{"$f":"IFERROR(IF($B$2=\"トン\",AppQt.Data!AY58,(AppQt.Data!AY58*ozton*AppQt.Data!AY$7)/1000000),\"-\")","v":9.4855771223808727},{"$f":"IFERROR(IF($B$2=\"トン\",AppQt.Data!AZ58,(AppQt.Data!AZ58*ozton*AppQt.Data!AZ$7)/1000000),\"-\")","v":8.7668825652103131},{"$f":"IFERROR(IF($B$2=\"トン\",AppQt.Data!BA58,(AppQt.Data!BA58*ozton*AppQt.Data!BA$7)/1000000),\"-\")","v":6.9478952498056508},{"$f":"IFERROR(IF($B$2=\"トン\",AppQt.Data!BB58,(AppQt.Data!BB58*ozton*AppQt.Data!BB$7)/1000000),\"-\")","v":1.8693029648172421},{"$f":"IFERROR(IF($B$2=\"トン\",AppQt.Data!BC58,(AppQt.Data!BC58*ozton*AppQt.Data!BC$7)/1000000),\"-\")","v":7.2189715809890398},{"$f":"IFERROR(IF($B$2=\"トン\",AppQt.Data!BD58,(AppQt.Data!BD58*ozton*AppQt.Data!BD$7)/1000000),\"-\")","v":6.6624686711183481},{"$f":"IFERROR(IF($B$2=\"トン\",AppQt.Data!BE58,(AppQt.Data!BE58*ozton*AppQt.Data!BE$7)/1000000),\"-\")","v":7.8354286957170167},{"$f":"IFERROR(IF($B$2=\"トン\",AppQt.Data!BF58,(AppQt.Data!BF58*ozton*AppQt.Data!BF$7)/1000000),\"-\")","v":7.6666775879588833},{"$f":"IFERROR(IF($B$2=\"トン\",AppQt.Data!BG58,(AppQt.Data!BG58*ozton*AppQt.Data!BG$7)/1000000),\"-\")","v":8.4697375654607097},{"$f":"IFERROR(IF($B$2=\"トン\",AppQt.Data!BH58,(AppQt.Data!BH58*ozton*AppQt.Data!BH$7)/1000000),\"-\")","v":9.3678607364738209},{"$f":"IFERROR(IF($B$2=\"トン\",AppQt.Data!BI58,(AppQt.Data!BI58*ozton*AppQt.Data!BI$7)/1000000),\"-\")","v":9.0595096199014584},{"$f":"IFERROR(IF($B$2=\"トン\",AppQt.Data!BJ58,(AppQt.Data!BJ58*ozton*AppQt.Data!BJ$7)/1000000),\"-\")","v":9.3913364234249475},{"$f":"IFERROR(IF($B$2=\"トン\",AppQt.Data!BK58,(AppQt.Data!BK58*ozton*AppQt.Data!BK$7)/1000000),\"-\")","v":10.170662257120545},{"$f":"IFERROR(IF($B$2=\"トン\",AppQt.Data!BL58,(AppQt.Data!BL58*ozton*AppQt.Data!BL$7)/1000000),\"-\")","v":9.2727643307471119},"▼",-1.0151347079323081]
[null,"UAE",{"$f":"IFERROR(IF($B$2=\"トン\",AppAn.Data!L49,(AppAn.Data!L49*ozton*AppAn.Data!L$6)/1000000),\"-\")","v":66.942832562723311},{"$f":"IFERROR(IF($B$2=\"トン\",AppAn.Data!M49,(AppAn.Data!M49*ozton*AppAn.Data!M$6)/1000000),\"-\")","v":56.344669689304943},{"$f":"IFERROR(IF($B$2=\"トン\",AppAn.Data!N49,(AppAn.Data!N49*ozton*AppAn.Data!N$6)/1000000),\"-\")","v":49.361620164381186},{"$f":"IFERROR(IF($B$2=\"トン\",AppAn.Data!O49,(AppAn.Data!O49*ozton*AppAn.Data!O$6)/1000000),\"-\")","v":64.361212278310362},{"$f":"IFERROR(IF($B$2=\"トン\",AppAn.Data!P49,(AppAn.Data!P49*ozton*AppAn.Data!P$6)/1000000),\"-\")","v":56.012267509341157},{"$f":"IFERROR(IF($B$2=\"トン\",AppAn.Data!Q49,(AppAn.Data!Q49*ozton*AppAn.Data!Q$6)/1000000),\"-\")","v":51.40966972778719},{"$f":"IFERROR(IF($B$2=\"トン\",AppAn.Data!R49,(AppAn.Data!R49*ozton*AppAn.Data!R$6)/1000000),\"-\")","v":45.183784263203108},{"$f":"IFERROR(IF($B$2=\"トン\",AppAn.Data!S49,(AppAn.Data!S49*ozton*AppAn.Data!S$6)/1000000),\"-\")","v":46.690815471248165},{"$f":"IFERROR(IF($B$2=\"トン\",AppAn.Data!T49,(AppAn.Data!T49*ozton*AppAn.Data!T$6)/1000000),\"-\")","v":36.175375393102534},{"$f":"IFERROR(IF($B$2=\"トン\",AppAn.Data!U49,(AppAn.Data!U49*ozton*AppAn.Data!U$6)/1000000),\"-\")","v":34.013328550638583},{"$f":"IFERROR(IF($B$2=\"トン\",AppAn.Data!V49,(AppAn.Data!V49*ozton*AppAn.Data!V$6)/1000000),\"-\")","v":21.496678832314039},{"$f":"IFERROR(IF($B$2=\"トン\",AppAn.Data!W49,(AppAn.Data!W49*ozton*AppAn.Data!W$6)/1000000),\"-\")","v":33.849116050640937},{"$f":"IFERROR(IF($B$2=\"トン\",AppAn.Data!X49,(AppAn.Data!X49*ozton*AppAn.Data!X$6)/1000000),\"-\")","v":46.868456851356889},"▲",38.462867926116573,null,{"$f":"IFERROR(IF($B$2=\"トン\",AppQt.Data!M59,(AppQt.Data!M59*ozton*AppQt.Data!M$7)/1000000),\"-\")","v":20.559086559612751},{"$f":"IFERROR(IF($B$2=\"トン\",AppQt.Data!N59,(AppQt.Data!N59*ozton*AppQt.Data!N$7)/1000000),\"-\")","v":17.606256017698762},{"$f":"IFERROR(IF($B$2=\"トン\",AppQt.Data!O59,(AppQt.Data!O59*ozton*AppQt.Data!O$7)/1000000),\"-\")","v":15.597466925021408},{"$f":"IFERROR(IF($B$2=\"トン\",AppQt.Data!P59,(AppQt.Data!P59*ozton*AppQt.Data!P$7)/1000000),\"-\")","v":13.180023060390397},{"$f":"IFERROR(IF($B$2=\"トン\",AppQt.Data!Q59,(AppQt.Data!Q59*ozton*AppQt.Data!Q$7)/1000000),\"-\")","v":21.26134289452207},{"$f":"IFERROR(IF($B$2=\"トン\",AppQt.Data!R59,(AppQt.Data!R59*ozton*AppQt.Data!R$7)/1000000),\"-\")","v":16.495935552672027},{"$f":"IFERROR(IF($B$2=\"トン\",AppQt.Data!S59,(AppQt.Data!S59*ozton*AppQt.Data!S$7)/1000000),\"-\")","v":9.8471548868704186},{"$f":"IFERROR(IF($B$2=\"トン\",AppQt.Data!T59,(AppQt.Data!T59*ozton*AppQt.Data!T$7)/1000000),\"-\")","v":8.7402363552404285},{"$f":"IFERROR(IF($B$2=\"トン\",AppQt.Data!U59,(AppQt.Data!U59*ozton*AppQt.Data!U$7)/1000000),\"-\")","v":16.663994522762291},{"$f":"IFERROR(IF($B$2=\"トン\",AppQt.Data!V59,(AppQt.Data!V59*ozton*AppQt.Data!V$7)/1000000),\"-\")","v":14.072269988308502},{"$f":"IFERROR(IF($B$2=\"トン\",AppQt.Data!W59,(AppQt.Data!W59*ozton*AppQt.Data!W$7)/1000000),\"-\")","v":9.3564962343990761},{"$f":"IFERROR(IF($B$2=\"トン\",AppQt.Data!X59,(AppQt.Data!X59*ozton*AppQt.Data!X$7)/1000000),\"-\")","v":9.2688594189113207},{"$f":"IFERROR(IF($B$2=\"トン\",AppQt.Data!Y59,(AppQt.Data!Y59*ozton*AppQt.Data!Y$7)/1000000),\"-\")","v":16.740400156049354},{"$f":"IFERROR(IF($B$2=\"トン\",AppQt.Data!Z59,(AppQt.Data!Z59*ozton*AppQt.Data!Z$7)/1000000),\"-\")","v":22.723529010891934},{"$f":"IFERROR(IF($B$2=\"トン\",AppQt.Data!AA59,(AppQt.Data!AA59*ozton*AppQt.Data!AA$7)/1000000),\"-\")","v":12.721855097110042},{"$f":"IFERROR(IF($B$2=\"トン\",AppQt.Data!AB59,(AppQt.Data!AB59*ozton*AppQt.Data!AB$7)/1000000),\"-\")","v":12.175428014259037},{"$f":"IFERROR(IF($B$2=\"トン\",AppQt.Data!AC59,(AppQt.Data!AC59*ozton*AppQt.Data!AC$7)/1000000),\"-\")","v":17.971801685482408},{"$f":"IFERROR(IF($B$2=\"トン\",AppQt.Data!AD59,(AppQt.Data!AD59*ozton*AppQt.Data!AD$7)/1000000),\"-\")","v":17.029177837411954},{"$f":"IFERROR(IF($B$2=\"トン\",AppQt.Data!AE59,(AppQt.Data!AE59*ozton*AppQt.Data!AE$7)/1000000),\"-\")","v":10.375829312093433},{"$f":"IFERROR(IF($B$2=\"トン\",AppQt.Data!AF59,(AppQt.Data!AF59*ozton*AppQt.Data!AF$7)/1000000),\"-\")","v":10.635458674353359},{"$f":"IFERROR(IF($B$2=\"トン\",AppQt.Data!AG59,(AppQt.Data!AG59*ozton*AppQt.Data!AG$7)/1000000),\"-\")","v":16.289404150141497},{"$f":"IFERROR(IF($B$2=\"トン\",AppQt.Data!AH59,(AppQt.Data!AH59*ozton*AppQt.Data!AH$7)/1000000),\"-\")","v":14.877277877697136},{"$f":"IFERROR(IF($B$2=\"トン\",AppQt.Data!AI59,(AppQt.Data!AI59*ozton*AppQt.Data!AI$7)/1000000),\"-\")","v":10.006260905194043},{"$f":"IFERROR(IF($B$2=\"トン\",AppQt.Data!AJ59,(AppQt.Data!AJ59*ozton*AppQt.Data!AJ$7)/1000000),\"-\")","v":10.236726794754514},{"$f":"IFERROR(IF($B$2=\"トン\",AppQt.Data!AK59,(AppQt.Data!AK59*ozton*AppQt.Data!AK$7)/1000000),\"-\")","v":16.728281115858259},{"$f":"IFERROR(IF($B$2=\"トン\",AppQt.Data!AL59,(AppQt.Data!AL59*ozton*AppQt.Data!AL$7)/1000000),\"-\")","v":11.717344356409505},{"$f":"IFERROR(IF($B$2=\"トン\",AppQt.Data!AM59,(AppQt.Data!AM59*ozton*AppQt.Data!AM$7)/1000000),\"-\")","v":7.7876877205707302},{"$f":"IFERROR(IF($B$2=\"トン\",AppQt.Data!AN59,(AppQt.Data!AN59*ozton*AppQt.Data!AN$7)/1000000),\"-\")","v":8.9504710703646104},{"$f":"IFERROR(IF($B$2=\"トン\",AppQt.Data!AO59,(AppQt.Data!AO59*ozton*AppQt.Data!AO$7)/1000000),\"-\")","v":15.532209461374089},{"$f":"IFERROR(IF($B$2=\"トン\",AppQt.Data!AP59,(AppQt.Data!AP59*ozton*AppQt.Data!AP$7)/1000000),\"-\")","v":12.623216967001952},{"$f":"IFERROR(IF($B$2=\"トン\",AppQt.Data!AQ59,(AppQt.Data!AQ59*ozton*AppQt.Data!AQ$7)/1000000),\"-\")","v":7.4003195701908684},{"$f":"IFERROR(IF($B$2=\"トン\",AppQt.Data!AR59,(AppQt.Data!AR59*ozton*AppQt.Data!AR$7)/1000000),\"-\")","v":11.135069472681261},{"$f":"IFERROR(IF($B$2=\"トン\",AppQt.Data!AS59,(AppQt.Data!AS59*ozton*AppQt.Data!AS$7)/1000000),\"-\")","v":10.052428962039913},{"$f":"IFERROR(IF($B$2=\"トン\",AppQt.Data!AT59,(AppQt.Data!AT59*ozton*AppQt.Data!AT$7)/1000000),\"-\")","v":9.785574649148554},{"$f":"IFERROR(IF($B$2=\"トン\",AppQt.Data!AU59,(AppQt.Data!AU59*ozton*AppQt.Data!AU$7)/1000000),\"-\")","v":6.8672111980676513},{"$f":"IFERROR(IF($B$2=\"トン\",AppQt.Data!AV59,(AppQt.Data!AV59*ozton*AppQt.Data!AV$7)/1000000),\"-\")","v":9.4701605838464129},{"$f":"IFERROR(IF($B$2=\"トン\",AppQt.Data!AW59,(AppQt.Data!AW59*ozton*AppQt.Data!AW$7)/1000000),\"-\")","v":10.679352567785104},{"$f":"IFERROR(IF($B$2=\"トン\",AppQt.Data!AX59,(AppQt.Data!AX59*ozton*AppQt.Data!AX$7)/1000000),\"-\")","v":9.2637811039410014},{"$f":"IFERROR(IF($B$2=\"トン\",AppQt.Data!AY59,(AppQt.Data!AY59*ozton*AppQt.Data!AY$7)/1000000),\"-\")","v":5.4498247780888605},{"$f":"IFERROR(IF($B$2=\"トン\",AppQt.Data!AZ59,(AppQt.Data!AZ59*ozton*AppQt.Data!AZ$7)/1000000),\"-\")","v":8.6203701008236191},{"$f":"IFERROR(IF($B$2=\"トン\",AppQt.Data!BA59,(AppQt.Data!BA59*ozton*AppQt.Data!BA$7)/1000000),\"-\")","v":9.5149006328254053},{"$f":"IFERROR(IF($B$2=\"トン\",AppQt.Data!BB59,(AppQt.Data!BB59*ozton*AppQt.Data!BB$7)/1000000),\"-\")","v":1.2835113034143162},{"$f":"IFERROR(IF($B$2=\"トン\",AppQt.Data!BC59,(AppQt.Data!BC59*ozton*AppQt.Data!BC$7)/1000000),\"-\")","v":3.803409015193234},{"$f":"IFERROR(IF($B$2=\"トン\",AppQt.Data!BD59,(AppQt.Data!BD59*ozton*AppQt.Data!BD$7)/1000000),\"-\")","v":6.8948578808810845},{"$f":"IFERROR(IF($B$2=\"トン\",AppQt.Data!BE59,(AppQt.Data!BE59*ozton*AppQt.Data!BE$7)/1000000),\"-\")","v":8.3308959003408738},{"$f":"IFERROR(IF($B$2=\"トン\",AppQt.Data!BF59,(AppQt.Data!BF59*ozton*AppQt.Data!BF$7)/1000000),\"-\")","v":7.3262638939837519},{"$f":"IFERROR(IF($B$2=\"トン\",AppQt.Data!BG59,(AppQt.Data!BG59*ozton*AppQt.Data!BG$7)/1000000),\"-\")","v":8.2370521500930387},{"$f":"IFERROR(IF($B$2=\"トン\",AppQt.Data!BH59,(AppQt.Data!BH59*ozton*AppQt.Data!BH$7)/1000000),\"-\")","v":9.9549041062232764},{"$f":"IFERROR(IF($B$2=\"トン\",AppQt.Data!BI59,(AppQt.Data!BI59*ozton*AppQt.Data!BI$7)/1000000),\"-\")","v":12.491775698486325},{"$f":"IFERROR(IF($B$2=\"トン\",AppQt.Data!BJ59,(AppQt.Data!BJ59*ozton*AppQt.Data!BJ$7)/1000000),\"-\")","v":13.181305481230201},{"$f":"IFERROR(IF($B$2=\"トン\",AppQt.Data!BK59,(AppQt.Data!BK59*ozton*AppQt.Data!BK$7)/1000000),\"-\")","v":10.738060003966027},{"$f":"IFERROR(IF($B$2=\"トン\",AppQt.Data!BL59,(AppQt.Data!BL59*ozton*AppQt.Data!BL$7)/1000000),\"-\")","v":10.457315667674335},"▲",5.0468749481672903]
[null,"クウェート",{"$f":"IFERROR(IF($B$2=\"トン\",AppAn.Data!L50,(AppAn.Data!L50*ozton*AppAn.Data!L$6)/1000000),\"-\")","v":8.9703643653502034},{"$f":"IFERROR(IF($B$2=\"トン\",AppAn.Data!M50,(AppAn.Data!M50*ozton*AppAn.Data!M$6)/1000000),\"-\")","v":8.3683846332028065},{"$f":"IFERROR(IF($B$2=\"トン\",AppAn.Data!N50,(AppAn.Data!N50*ozton*AppAn.Data!N$6)/1000000),\"-\")","v":7.6780776070867685},{"$f":"IFERROR(IF($B$2=\"トン\",AppAn.Data!O50,(AppAn.Data!O50*ozton*AppAn.Data!O$6)/1000000),\"-\")","v":11.674912969870952},{"$f":"IFERROR(IF($B$2=\"トン\",AppAn.Data!P50,(AppAn.Data!P50*ozton*AppAn.Data!P$6)/1000000),\"-\")","v":14.187805551611071},{"$f":"IFERROR(IF($B$2=\"トン\",AppAn.Data!Q50,(AppAn.Data!Q50*ozton*AppAn.Data!Q$6)/1000000),\"-\")","v":13.170969087400001},{"$f":"IFERROR(IF($B$2=\"トン\",AppAn.Data!R50,(AppAn.Data!R50*ozton*AppAn.Data!R$6)/1000000),\"-\")","v":12.559646645435},{"$f":"IFERROR(IF($B$2=\"トン\",AppAn.Data!S50,(AppAn.Data!S50*ozton*AppAn.Data!S$6)/1000000),\"-\")","v":13.884438660593752},{"$f":"IFERROR(IF($B$2=\"トン\",AppAn.Data!T50,(AppAn.Data!T50*ozton*AppAn.Data!T$6)/1000000),\"-\")","v":14.046187062499438},{"$f":"IFERROR(IF($B$2=\"トン\",AppAn.Data!U50,(AppAn.Data!U50*ozton*AppAn.Data!U$6)/1000000),\"-\")","v":13.293400236310671},{"$f":"IFERROR(IF($B$2=\"トン\",AppAn.Data!V50,(AppAn.Data!V50*ozton*AppAn.Data!V$6)/1000000),\"-\")","v":10.310403723100613},{"$f":"IFERROR(IF($B$2=\"トン\",AppAn.Data!W50,(AppAn.Data!W50*ozton*AppAn.Data!W$6)/1000000),\"-\")","v":12.98082490767233},{"$f":"IFERROR(IF($B$2=\"トン\",AppAn.Data!X50,(AppAn.Data!X50*ozton*AppAn.Data!X$6)/1000000),\"-\")","v":14.682615732763217},"▲",13.110036050829411,null,{"$f":"IFERROR(IF($B$2=\"トン\",AppQt.Data!M60,(AppQt.Data!M60*ozton*AppQt.Data!M$7)/1000000),\"-\")","v":2.6809957577797863},{"$f":"IFERROR(IF($B$2=\"トン\",AppQt.Data!N60,(AppQt.Data!N60*ozton*AppQt.Data!N$7)/1000000),\"-\")","v":1.8521394383058787},{"$f":"IFERROR(IF($B$2=\"トン\",AppQt.Data!O60,(AppQt.Data!O60*ozton*AppQt.Data!O$7)/1000000),\"-\")","v":2.7279318023094934},{"$f":"IFERROR(IF($B$2=\"トン\",AppQt.Data!P60,(AppQt.Data!P60*ozton*AppQt.Data!P$7)/1000000),\"-\")","v":1.7092973669550449},{"$f":"IFERROR(IF($B$2=\"トン\",AppQt.Data!Q60,(AppQt.Data!Q60*ozton*AppQt.Data!Q$7)/1000000),\"-\")","v":2.5400164534685028},{"$f":"IFERROR(IF($B$2=\"トン\",AppQt.Data!R60,(AppQt.Data!R60*ozton*AppQt.Data!R$7)/1000000),\"-\")","v":1.8190139854482272},{"$f":"IFERROR(IF($B$2=\"トン\",AppQt.Data!S60,(AppQt.Data!S60*ozton*AppQt.Data!S$7)/1000000),\"-\")","v":2.3256039687250798},{"$f":"IFERROR(IF($B$2=\"トン\",AppQt.Data!T60,(AppQt.Data!T60*ozton*AppQt.Data!T$7)/1000000),\"-\")","v":1.683750225560996},{"$f":"IFERROR(IF($B$2=\"トン\",AppQt.Data!U60,(AppQt.Data!U60*ozton*AppQt.Data!U$7)/1000000),\"-\")","v":2.1811180896643108},{"$f":"IFERROR(IF($B$2=\"トン\",AppQt.Data!V60,(AppQt.Data!V60*ozton*AppQt.Data!V$7)/1000000),\"-\")","v":1.8042509497985488},{"$f":"IFERROR(IF($B$2=\"トン\",AppQt.Data!W60,(AppQt.Data!W60*ozton*AppQt.Data!W$7)/1000000),\"-\")","v":2.0944231731542242},{"$f":"IFERROR(IF($B$2=\"トン\",AppQt.Data!X60,(AppQt.Data!X60*ozton*AppQt.Data!X$7)/1000000),\"-\")","v":1.5982853944696842},{"$f":"IFERROR(IF($B$2=\"トン\",AppQt.Data!Y60,(AppQt.Data!Y60*ozton*AppQt.Data!Y$7)/1000000),\"-\")","v":4.1273389549999999},{"$f":"IFERROR(IF($B$2=\"トン\",AppQt.Data!Z60,(AppQt.Data!Z60*ozton*AppQt.Data!Z$7)/1000000),\"-\")","v":3.4570193854037492},{"$f":"IFERROR(IF($B$2=\"トン\",AppQt.Data!AA60,(AppQt.Data!AA60*ozton*AppQt.Data!AA$7)/1000000),\"-\")","v":1.8872656023794563},{"$f":"IFERROR(IF($B$2=\"トン\",AppQt.Data!AB60,(AppQt.Data!AB60*ozton*AppQt.Data!AB$7)/1000000),\"-\")","v":2.203289027087747},{"$f":"IFERROR(IF($B$2=\"トン\",AppQt.Data!AC60,(AppQt.Data!AC60*ozton*AppQt.Data!AC$7)/1000000),\"-\")","v":4.0420088220000014},{"$f":"IFERROR(IF($B$2=\"トン\",AppQt.Data!AD60,(AppQt.Data!AD60*ozton*AppQt.Data!AD$7)/1000000),\"-\")","v":3.6512660233185699},{"$f":"IFERROR(IF($B$2=\"トン\",AppQt.Data!AE60,(AppQt.Data!AE60*ozton*AppQt.Data!AE$7)/1000000),\"-\")","v":2.6175634792047533},{"$f":"IFERROR(IF($B$2=\"トン\",AppQt.Data!AF60,(AppQt.Data!AF60*ozton*AppQt.Data!AF$7)/1000000),\"-\")","v":3.8769672270877469},{"$f":"IFERROR(IF($B$2=\"トン\",AppQt.Data!AG60,(AppQt.Data!AG60*ozton*AppQt.Data!AG$7)/1000000),\"-\")","v":3.7707070059000003},{"$f":"IFERROR(IF($B$2=\"トン\",AppQt.Data!AH60,(AppQt.Data!AH60*ozton*AppQt.Data!AH$7)/1000000),\"-\")","v":3.4160980320000007},{"$f":"IFERROR(IF($B$2=\"トン\",AppQt.Data!AI60,(AppQt.Data!AI60*ozton*AppQt.Data!AI$7)/1000000),\"-\")","v":2.3182698770000001},{"$f":"IFERROR(IF($B$2=\"トン\",AppQt.Data!AJ60,(AppQt.Data!AJ60*ozton*AppQt.Data!AJ$7)/1000000),\"-\")","v":3.6658941724999998},{"$f":"IFERROR(IF($B$2=\"トン\",AppQt.Data!AK60,(AppQt.Data!AK60*ozton*AppQt.Data!AK$7)/1000000),\"-\")","v":3.4322510053099999},{"$f":"IFERROR(IF($B$2=\"トン\",AppQt.Data!AL60,(AppQt.Data!AL60*ozton*AppQt.Data!AL$7)/1000000),\"-\")","v":3.3436096768000008},{"$f":"IFERROR(IF($B$2=\"トン\",AppQt.Data!AM60,(AppQt.Data!AM60*ozton*AppQt.Data!AM$7)/1000000),\"-\")","v":2.3492849479500002},{"$f":"IFERROR(IF($B$2=\"トン\",AppQt.Data!AN60,(AppQt.Data!AN60*ozton*AppQt.Data!AN$7)/1000000),\"-\")","v":3.434501015375},{"$f":"IFERROR(IF($B$2=\"トン\",AppQt.Data!AO60,(AppQt.Data!AO60*ozton*AppQt.Data!AO$7)/1000000),\"-\")","v":3.9320804855450002},{"$f":"IFERROR(IF($B$2=\"トン\",AppQt.Data!AP60,(AppQt.Data!AP60*ozton*AppQt.Data!AP$7)/1000000),\"-\")","v":3.7244476897600003},{"$f":"IFERROR(IF($B$2=\"トン\",AppQt.Data!AQ60,(AppQt.Data!AQ60*ozton*AppQt.Data!AQ$7)/1000000),\"-\")","v":2.4444258050575001},{"$f":"IFERROR(IF($B$2=\"トン\",AppQt.Data!AR60,(AppQt.Data!AR60*ozton*AppQt.Data!AR$7)/1000000),\"-\")","v":3.7834846802312496},{"$f":"IFERROR(IF($B$2=\"トン\",AppQt.Data!AS60,(AppQt.Data!AS60*ozton*AppQt.Data!AS$7)/1000000),\"-\")","v":3.6007793769904999},{"$f":"IFERROR(IF($B$2=\"トン\",AppQt.Data!AT60,(AppQt.Data!AT60*ozton*AppQt.Data!AT$7)/1000000),\"-\")","v":4.127944066136001},{"$f":"IFERROR(IF($B$2=\"トン\",AppQt.Data!AU60,(AppQt.Data!AU60*ozton*AppQt.Data!AU$7)/1000000),\"-\")","v":2.6473562698601247},{"$f":"IFERROR(IF($B$2=\"トン\",AppQt.Data!AV60,(AppQt.Data!AV60*ozton*AppQt.Data!AV$7)/1000000),\"-\")","v":3.6701073495128123},{"$f":"IFERROR(IF($B$2=\"トン\",AppQt.Data!AW60,(AppQt.Data!AW60*ozton*AppQt.Data!AW$7)/1000000),\"-\")","v":3.7913584541820753},{"$f":"IFERROR(IF($B$2=\"トン\",AppQt.Data!AX60,(AppQt.Data!AX60*ozton*AppQt.Data!AX$7)/1000000),\"-\")","v":3.8051496595224004},{"$f":"IFERROR(IF($B$2=\"トン\",AppQt.Data!AY60,(AppQt.Data!AY60*ozton*AppQt.Data!AY$7)/1000000),\"-\")","v":2.2717318597263056},{"$f":"IFERROR(IF($B$2=\"トン\",AppQt.Data!AZ60,(AppQt.Data!AZ60*ozton*AppQt.Data!AZ$7)/1000000),\"-\")","v":3.4251602628798912},{"$f":"IFERROR(IF($B$2=\"トン\",AppQt.Data!BA60,(AppQt.Data!BA60*ozton*AppQt.Data!BA$7)/1000000),\"-\")","v":3.3330696583065231},{"$f":"IFERROR(IF($B$2=\"トン\",AppQt.Data!BB60,(AppQt.Data!BB60*ozton*AppQt.Data!BB$7)/1000000),\"-\")","v":2.456752731946481},{"$f":"IFERROR(IF($B$2=\"トン\",AppQt.Data!BC60,(AppQt.Data!BC60*ozton*AppQt.Data!BC$7)/1000000),\"-\")","v":1.8128023180974098},{"$f":"IFERROR(IF($B$2=\"トン\",AppQt.Data!BD60,(AppQt.Data!BD60*ozton*AppQt.Data!BD$7)/1000000),\"-\")","v":2.7077790147502001},{"$f":"IFERROR(IF($B$2=\"トン\",AppQt.Data!BE60,(AppQt.Data!BE60*ozton*AppQt.Data!BE$7)/1000000),\"-\")","v":3.4472231412218508},{"$f":"IFERROR(IF($B$2=\"トン\",AppQt.Data!BF60,(AppQt.Data!BF60*ozton*AppQt.Data!BF$7)/1000000),\"-\")","v":3.6748153780170703},{"$f":"IFERROR(IF($B$2=\"トン\",AppQt.Data!BG60,(AppQt.Data!BG60*ozton*AppQt.Data!BG$7)/1000000),\"-\")","v":2.8969480061238055},{"$f":"IFERROR(IF($B$2=\"トン\",AppQt.Data!BH60,(AppQt.Data!BH60*ozton*AppQt.Data!BH$7)/1000000),\"-\")","v":2.9618383823096024},{"$f":"IFERROR(IF($B$2=\"トン\",AppQt.Data!BI60,(AppQt.Data!BI60*ozton*AppQt.Data!BI$7)/1000000),\"-\")","v":3.1099303014250825},{"$f":"IFERROR(IF($B$2=\"トン\",AppQt.Data!BJ60,(AppQt.Data!BJ60*ozton*AppQt.Data!BJ$7)/1000000),\"-\")","v":3.7674273353516248},{"$f":"IFERROR(IF($B$2=\"トン\",AppQt.Data!BK60,(AppQt.Data!BK60*ozton*AppQt.Data!BK$7)/1000000),\"-\")","v":3.959290698887028},{"$f":"IFERROR(IF($B$2=\"トン\",AppQt.Data!BL60,(AppQt.Data!BL60*ozton*AppQt.Data!BL$7)/1000000),\"-\")","v":3.8459673970994821},"▲",29.850683955970879]
[null,"エジプト",{"$f":"IFERROR(IF($B$2=\"トン\",AppAn.Data!L51,(AppAn.Data!L51*ozton*AppAn.Data!L$6)/1000000),\"-\")","v":52.99244765373659},{"$f":"IFERROR(IF($B$2=\"トン\",AppAn.Data!M51,(AppAn.Data!M51*ozton*AppAn.Data!M$6)/1000000),\"-\")","v":34.062988063851321},{"$f":"IFERROR(IF($B$2=\"トン\",AppAn.Data!N51,(AppAn.Data!N51*ozton*AppAn.Data!N$6)/1000000),\"-\")","v":42.08488138449917},{"$f":"IFERROR(IF($B$2=\"トン\",AppAn.Data!O51,(AppAn.Data!O51*ozton*AppAn.Data!O$6)/1000000),\"-\")","v":45.646887906094889},{"$f":"IFERROR(IF($B$2=\"トン\",AppAn.Data!P51,(AppAn.Data!P51*ozton*AppAn.Data!P$6)/1000000),\"-\")","v":45.113690469393433},{"$f":"IFERROR(IF($B$2=\"トン\",AppAn.Data!Q51,(AppAn.Data!Q51*ozton*AppAn.Data!Q$6)/1000000),\"-\")","v":38.231053774663707},{"$f":"IFERROR(IF($B$2=\"トン\",AppAn.Data!R51,(AppAn.Data!R51*ozton*AppAn.Data!R$6)/1000000),\"-\")","v":25.393005289796623},{"$f":"IFERROR(IF($B$2=\"トン\",AppAn.Data!S51,(AppAn.Data!S51*ozton*AppAn.Data!S$6)/1000000),\"-\")","v":22.0129555410359},{"$f":"IFERROR(IF($B$2=\"トン\",AppAn.Data!T51,(AppAn.Data!T51*ozton*AppAn.Data!T$6)/1000000),\"-\")","v":24.73804045361441},{"$f":"IFERROR(IF($B$2=\"トン\",AppAn.Data!U51,(AppAn.Data!U51*ozton*AppAn.Data!U$6)/1000000),\"-\")","v":26.684417258578407},{"$f":"IFERROR(IF($B$2=\"トン\",AppAn.Data!V51,(AppAn.Data!V51*ozton*AppAn.Data!V$6)/1000000),\"-\")","v":21.176773272632175},{"$f":"IFERROR(IF($B$2=\"トン\",AppAn.Data!W51,(AppAn.Data!W51*ozton*AppAn.Data!W$6)/1000000),\"-\")","v":31.709569114822223},{"$f":"IFERROR(IF($B$2=\"トン\",AppAn.Data!X51,(AppAn.Data!X51*ozton*AppAn.Data!X$6)/1000000),\"-\")","v":33.562498378009877},"▲",5.8434387943844035,null,{"$f":"IFERROR(IF($B$2=\"トン\",AppQt.Data!M61,(AppQt.Data!M61*ozton*AppQt.Data!M$7)/1000000),\"-\")","v":17.738572192101202},{"$f":"IFERROR(IF($B$2=\"トン\",AppQt.Data!N61,(AppQt.Data!N61*ozton*AppQt.Data!N$7)/1000000),\"-\")","v":8.9378819920124517},{"$f":"IFERROR(IF($B$2=\"トン\",AppQt.Data!O61,(AppQt.Data!O61*ozton*AppQt.Data!O$7)/1000000),\"-\")","v":15.369217889325563},{"$f":"IFERROR(IF($B$2=\"トン\",AppQt.Data!P61,(AppQt.Data!P61*ozton*AppQt.Data!P$7)/1000000),\"-\")","v":10.946775580297381},{"$f":"IFERROR(IF($B$2=\"トン\",AppQt.Data!Q61,(AppQt.Data!Q61*ozton*AppQt.Data!Q$7)/1000000),\"-\")","v":8.5669233523121786},{"$f":"IFERROR(IF($B$2=\"トン\",AppQt.Data!R61,(AppQt.Data!R61*ozton*AppQt.Data!R$7)/1000000),\"-\")","v":7.8515495983147865},{"$f":"IFERROR(IF($B$2=\"トン\",AppQt.Data!S61,(AppQt.Data!S61*ozton*AppQt.Data!S$7)/1000000),\"-\")","v":8.8678516080382668},{"$f":"IFERROR(IF($B$2=\"トン\",AppQt.Data!T61,(AppQt.Data!T61*ozton*AppQt.Data!T$7)/1000000),\"-\")","v":8.7766635051860931},{"$f":"IFERROR(IF($B$2=\"トン\",AppQt.Data!U61,(AppQt.Data!U61*ozton*AppQt.Data!U$7)/1000000),\"-\")","v":9.8371499488958758},{"$f":"IFERROR(IF($B$2=\"トン\",AppQt.Data!V61,(AppQt.Data!V61*ozton*AppQt.Data!V$7)/1000000),\"-\")","v":8.8333870556483127},{"$f":"IFERROR(IF($B$2=\"トン\",AppQt.Data!W61,(AppQt.Data!W61*ozton*AppQt.Data!W$7)/1000000),\"-\")","v":11.115453198164953},{"$f":"IFERROR(IF($B$2=\"トン\",AppQt.Data!X61,(AppQt.Data!X61*ozton*AppQt.Data!X$7)/1000000),\"-\")","v":12.298891181790026},{"$f":"IFERROR(IF($B$2=\"トン\",AppQt.Data!Y61,(AppQt.Data!Y61*ozton*AppQt.Data!Y$7)/1000000),\"-\")","v":11.882170415371338},{"$f":"IFERROR(IF($B$2=\"トン\",AppQt.Data!Z61,(AppQt.Data!Z61*ozton*AppQt.Data!Z$7)/1000000),\"-\")","v":13.299539969759508},{"$f":"IFERROR(IF($B$2=\"トン\",AppQt.Data!AA61,(AppQt.Data!AA61*ozton*AppQt.Data!AA$7)/1000000),\"-\")","v":10.584662643281794},{"$f":"IFERROR(IF($B$2=\"トン\",AppQt.Data!AB61,(AppQt.Data!AB61*ozton*AppQt.Data!AB$7)/1000000),\"-\")","v":9.8805148776822485},{"$f":"IFERROR(IF($B$2=\"トン\",AppQt.Data!AC61,(AppQt.Data!AC61*ozton*AppQt.Data!AC$7)/1000000),\"-\")","v":13.03921258344929},{"$f":"IFERROR(IF($B$2=\"トン\",AppQt.Data!AD61,(AppQt.Data!AD61*ozton*AppQt.Data!AD$7)/1000000),\"-\")","v":11.423647975965732},{"$f":"IFERROR(IF($B$2=\"トン\",AppQt.Data!AE61,(AppQt.Data!AE61*ozton*AppQt.Data!AE$7)/1000000),\"-\")","v":11.108254250032495},{"$f":"IFERROR(IF($B$2=\"トン\",AppQt.Data!AF61,(AppQt.Data!AF61*ozton*AppQt.Data!AF$7)/1000000),\"-\")","v":9.5425756599459177},{"$f":"IFERROR(IF($B$2=\"トン\",AppQt.Data!AG61,(AppQt.Data!AG61*ozton*AppQt.Data!AG$7)/1000000),\"-\")","v":9.3157033727890504},{"$f":"IFERROR(IF($B$2=\"トン\",AppQt.Data!AH61,(AppQt.Data!AH61*ozton*AppQt.Data!AH$7)/1000000),\"-\")","v":8.9095580659307014},{"$f":"IFERROR(IF($B$2=\"トン\",AppQt.Data!AI61,(AppQt.Data!AI61*ozton*AppQt.Data!AI$7)/1000000),\"-\")","v":11.842216125976535},{"$f":"IFERROR(IF($B$2=\"トン\",AppQt.Data!AJ61,(AppQt.Data!AJ61*ozton*AppQt.Data!AJ$7)/1000000),\"-\")","v":8.1635762099674221},{"$f":"IFERROR(IF($B$2=\"トン\",AppQt.Data!AK61,(AppQt.Data!AK61*ozton*AppQt.Data!AK$7)/1000000),\"-\")","v":6.5570972361534263},{"$f":"IFERROR(IF($B$2=\"トン\",AppQt.Data!AL61,(AppQt.Data!AL61*ozton*AppQt.Data!AL$7)/1000000),\"-\")","v":5.7714264415679866},{"$f":"IFERROR(IF($B$2=\"トン\",AppQt.Data!AM61,(AppQt.Data!AM61*ozton*AppQt.Data!AM$7)/1000000),\"-\")","v":7.0600880902143253},{"$f":"IFERROR(IF($B$2=\"トン\",AppQt.Data!AN61,(AppQt.Data!AN61*ozton*AppQt.Data!AN$7)/1000000),\"-\")","v":6.0043935218608828},{"$f":"IFERROR(IF($B$2=\"トン\",AppQt.Data!AO61,(AppQt.Data!AO61*ozton*AppQt.Data!AO$7)/1000000),\"-\")","v":5.6846909180253871},{"$f":"IFERROR(IF($B$2=\"トン\",AppQt.Data!AP61,(AppQt.Data!AP61*ozton*AppQt.Data!AP$7)/1000000),\"-\")","v":4.6751846841477906},{"$f":"IFERROR(IF($B$2=\"トン\",AppQt.Data!AQ61,(AppQt.Data!AQ61*ozton*AppQt.Data!AQ$7)/1000000),\"-\")","v":6.3476178597432034},{"$f":"IFERROR(IF($B$2=\"トン\",AppQt.Data!AR61,(AppQt.Data!AR61*ozton*AppQt.Data!AR$7)/1000000),\"-\")","v":5.3054620791195184},{"$f":"IFERROR(IF($B$2=\"トン\",AppQt.Data!AS61,(AppQt.Data!AS61*ozton*AppQt.Data!AS$7)/1000000),\"-\")","v":6.0456837511527572},{"$f":"IFERROR(IF($B$2=\"トン\",AppQt.Data!AT61,(AppQt.Data!AT61*ozton*AppQt.Data!AT$7)/1000000),\"-\")","v":5.1806566733557151},{"$f":"IFERROR(IF($B$2=\"トン\",AppQt.Data!AU61,(AppQt.Data!AU61*ozton*AppQt.Data!AU$7)/1000000),\"-\")","v":7.4338347022274123},{"$f":"IFERROR(IF($B$2=\"トン\",AppQt.Data!AV61,(AppQt.Data!AV61*ozton*AppQt.Data!AV$7)/1000000),\"-\")","v":6.0778653268785261},{"$f":"IFERROR(IF($B$2=\"トン\",AppQt.Data!AW61,(AppQt.Data!AW61*ozton*AppQt.Data!AW$7)/1000000),\"-\")","v":6.9492182642097813},{"$f":"IFERROR(IF($B$2=\"トン\",AppQt.Data!AX61,(AppQt.Data!AX61*ozton*AppQt.Data!AX$7)/1000000),\"-\")","v":5.5626883239153972},{"$f":"IFERROR(IF($B$2=\"トン\",AppQt.Data!AY61,(AppQt.Data!AY61*ozton*AppQt.Data!AY$7)/1000000),\"-\")","v":7.0583924440154693},{"$f":"IFERROR(IF($B$2=\"トン\",AppQt.Data!AZ61,(AppQt.Data!AZ61*ozton*AppQt.Data!AZ$7)/1000000),\"-\")","v":7.1141182264377587},{"$f":"IFERROR(IF($B$2=\"トン\",AppQt.Data!BA61,(AppQt.Data!BA61*ozton*AppQt.Data!BA$7)/1000000),\"-\")","v":7.1387280623974645},{"$f":"IFERROR(IF($B$2=\"トン\",AppQt.Data!BB61,(AppQt.Data!BB61*ozton*AppQt.Data!BB$7)/1000000),\"-\")","v":1.6950587041671417},{"$f":"IFERROR(IF($B$2=\"トン\",AppQt.Data!BC61,(AppQt.Data!BC61*ozton*AppQt.Data!BC$7)/1000000),\"-\")","v":5.6967869650157681},{"$f":"IFERROR(IF($B$2=\"トン\",AppQt.Data!BD61,(AppQt.Data!BD61*ozton*AppQt.Data!BD$7)/1000000),\"-\")","v":6.6461995410518},{"$f":"IFERROR(IF($B$2=\"トン\",AppQt.Data!BE61,(AppQt.Data!BE61*ozton*AppQt.Data!BE$7)/1000000),\"-\")","v":8.1466515129410357},{"$f":"IFERROR(IF($B$2=\"トン\",AppQt.Data!BF61,(AppQt.Data!BF61*ozton*AppQt.Data!BF$7)/1000000),\"-\")","v":7.2725775503271564},{"$f":"IFERROR(IF($B$2=\"トン\",AppQt.Data!BG61,(AppQt.Data!BG61*ozton*AppQt.Data!BG$7)/1000000),\"-\")","v":8.324481729174888},{"$f":"IFERROR(IF($B$2=\"トン\",AppQt.Data!BH61,(AppQt.Data!BH61*ozton*AppQt.Data!BH$7)/1000000),\"-\")","v":7.9658583223791428},{"$f":"IFERROR(IF($B$2=\"トン\",AppQt.Data!BI61,(AppQt.Data!BI61*ozton*AppQt.Data!BI$7)/1000000),\"-\")","v":8.7131448896869994},{"$f":"IFERROR(IF($B$2=\"トン\",AppQt.Data!BJ61,(AppQt.Data!BJ61*ozton*AppQt.Data!BJ$7)/1000000),\"-\")","v":7.0455362805915547},{"$f":"IFERROR(IF($B$2=\"トン\",AppQt.Data!BK61,(AppQt.Data!BK61*ozton*AppQt.Data!BK$7)/1000000),\"-\")","v":9.0336069220786346},{"$f":"IFERROR(IF($B$2=\"トン\",AppQt.Data!BL61,(AppQt.Data!BL61*ozton*AppQt.Data!BL$7)/1000000),\"-\")","v":8.7702102856526842},"▲",10.097492708523447]
[null,"イラン",{"$f":"IFERROR(IF($B$2=\"トン\",AppAn.Data!L52,(AppAn.Data!L52*ozton*AppAn.Data!L$6)/1000000),\"-\")","v":41.528146044895784},{"$f":"IFERROR(IF($B$2=\"トン\",AppAn.Data!M52,(AppAn.Data!M52*ozton*AppAn.Data!M$6)/1000000),\"-\")","v":44.964425436730849},{"$f":"IFERROR(IF($B$2=\"トン\",AppAn.Data!N52,(AppAn.Data!N52*ozton*AppAn.Data!N$6)/1000000),\"-\")","v":45.16010436276671},{"$f":"IFERROR(IF($B$2=\"トン\",AppAn.Data!O52,(AppAn.Data!O52*ozton*AppAn.Data!O$6)/1000000),\"-\")","v":63.659739823747287},{"$f":"IFERROR(IF($B$2=\"トン\",AppAn.Data!P52,(AppAn.Data!P52*ozton*AppAn.Data!P$6)/1000000),\"-\")","v":39.298197304151742},{"$f":"IFERROR(IF($B$2=\"トン\",AppAn.Data!Q52,(AppAn.Data!Q52*ozton*AppAn.Data!Q$6)/1000000),\"-\")","v":37.217273141418616},{"$f":"IFERROR(IF($B$2=\"トン\",AppAn.Data!R52,(AppAn.Data!R52*ozton*AppAn.Data!R$6)/1000000),\"-\")","v":40.511752994773829},{"$f":"IFERROR(IF($B$2=\"トン\",AppAn.Data!S52,(AppAn.Data!S52*ozton*AppAn.Data!S$6)/1000000),\"-\")","v":45.375292838509765},{"$f":"IFERROR(IF($B$2=\"トン\",AppAn.Data!T52,(AppAn.Data!T52*ozton*AppAn.Data!T$6)/1000000),\"-\")","v":29.373255222543516},{"$f":"IFERROR(IF($B$2=\"トン\",AppAn.Data!U52,(AppAn.Data!U52*ozton*AppAn.Data!U$6)/1000000),\"-\")","v":30.541891411403537},{"$f":"IFERROR(IF($B$2=\"トン\",AppAn.Data!V52,(AppAn.Data!V52*ozton*AppAn.Data!V$6)/1000000),\"-\")","v":20.009731451529138},{"$f":"IFERROR(IF($B$2=\"トン\",AppAn.Data!W52,(AppAn.Data!W52*ozton*AppAn.Data!W$6)/1000000),\"-\")","v":26.335457110097121},{"$f":"IFERROR(IF($B$2=\"トン\",AppAn.Data!X52,(AppAn.Data!X52*ozton*AppAn.Data!X$6)/1000000),\"-\")","v":29.889836800573043},"▲",13.496555900346063,null,{"$f":"IFERROR(IF($B$2=\"トン\",AppQt.Data!M62,(AppQt.Data!M62*ozton*AppQt.Data!M$7)/1000000),\"-\")","v":10.022340994120791},{"$f":"IFERROR(IF($B$2=\"トン\",AppQt.Data!N62,(AppQt.Data!N62*ozton*AppQt.Data!N$7)/1000000),\"-\")","v":8.3231059593800119},{"$f":"IFERROR(IF($B$2=\"トン\",AppQt.Data!O62,(AppQt.Data!O62*ozton*AppQt.Data!O$7)/1000000),\"-\")","v":13.810175040085515},{"$f":"IFERROR(IF($B$2=\"トン\",AppQt.Data!P62,(AppQt.Data!P62*ozton*AppQt.Data!P$7)/1000000),\"-\")","v":9.3725240513094619},{"$f":"IFERROR(IF($B$2=\"トン\",AppQt.Data!Q62,(AppQt.Data!Q62*ozton*AppQt.Data!Q$7)/1000000),\"-\")","v":11.083161466492871},{"$f":"IFERROR(IF($B$2=\"トン\",AppQt.Data!R62,(AppQt.Data!R62*ozton*AppQt.Data!R$7)/1000000),\"-\")","v":10.256123435945547},{"$f":"IFERROR(IF($B$2=\"トン\",AppQt.Data!S62,(AppQt.Data!S62*ozton*AppQt.Data!S$7)/1000000),\"-\")","v":13.442548169981013},{"$f":"IFERROR(IF($B$2=\"トン\",AppQt.Data!T62,(AppQt.Data!T62*ozton*AppQt.Data!T$7)/1000000),\"-\")","v":10.182592364311418},{"$f":"IFERROR(IF($B$2=\"トン\",AppQt.Data!U62,(AppQt.Data!U62*ozton*AppQt.Data!U$7)/1000000),\"-\")","v":10.882436060159277},{"$f":"IFERROR(IF($B$2=\"トン\",AppQt.Data!V62,(AppQt.Data!V62*ozton*AppQt.Data!V$7)/1000000),\"-\")","v":10.987524460023447},{"$f":"IFERROR(IF($B$2=\"トン\",AppQt.Data!W62,(AppQt.Data!W62*ozton*AppQt.Data!W$7)/1000000),\"-\")","v":12.634426859661239},{"$f":"IFERROR(IF($B$2=\"トン\",AppQt.Data!X62,(AppQt.Data!X62*ozton*AppQt.Data!X$7)/1000000),\"-\")","v":10.655716982922749},{"$f":"IFERROR(IF($B$2=\"トン\",AppQt.Data!Y62,(AppQt.Data!Y62*ozton*AppQt.Data!Y$7)/1000000),\"-\")","v":12.705014587490414},{"$f":"IFERROR(IF($B$2=\"トン\",AppQt.Data!Z62,(AppQt.Data!Z62*ozton*AppQt.Data!Z$7)/1000000),\"-\")","v":20.650001784929444},{"$f":"IFERROR(IF($B$2=\"トン\",AppQt.Data!AA62,(AppQt.Data!AA62*ozton*AppQt.Data!AA$7)/1000000),\"-\")","v":16.876935840707965},{"$f":"IFERROR(IF($B$2=\"トン\",AppQt.Data!AB62,(AppQt.Data!AB62*ozton*AppQt.Data!AB$7)/1000000),\"-\")","v":13.42778761061947},{"$f":"IFERROR(IF($B$2=\"トン\",AppQt.Data!AC62,(AppQt.Data!AC62*ozton*AppQt.Data!AC$7)/1000000),\"-\")","v":11.285926233392738},{"$f":"IFERROR(IF($B$2=\"トン\",AppQt.Data!AD62,(AppQt.Data!AD62*ozton*AppQt.Data!AD$7)/1000000),\"-\")","v":10.36440563886762},{"$f":"IFERROR(IF($B$2=\"トン\",AppQt.Data!AE62,(AppQt.Data!AE62*ozton*AppQt.Data!AE$7)/1000000),\"-\")","v":9.1134219003234094},{"$f":"IFERROR(IF($B$2=\"トン\",AppQt.Data!AF62,(AppQt.Data!AF62*ozton*AppQt.Data!AF$7)/1000000),\"-\")","v":8.5344435315679696},{"$f":"IFERROR(IF($B$2=\"トン\",AppQt.Data!AG62,(AppQt.Data!AG62*ozton*AppQt.Data!AG$7)/1000000),\"-\")","v":9.3158429712022599},{"$f":"IFERROR(IF($B$2=\"トン\",AppQt.Data!AH62,(AppQt.Data!AH62*ozton*AppQt.Data!AH$7)/1000000),\"-\")","v":7.9394540384250769},{"$f":"IFERROR(IF($B$2=\"トン\",AppQt.Data!AI62,(AppQt.Data!AI62*ozton*AppQt.Data!AI$7)/1000000),\"-\")","v":10.446131949272157},{"$f":"IFERROR(IF($B$2=\"トン\",AppQt.Data!AJ62,(AppQt.Data!AJ62*ozton*AppQt.Data!AJ$7)/1000000),\"-\")","v":9.5158441825191176},{"$f":"IFERROR(IF($B$2=\"トン\",AppQt.Data!AK62,(AppQt.Data!AK62*ozton*AppQt.Data!AK$7)/1000000),\"-\")","v":10.198449309239818},{"$f":"IFERROR(IF($B$2=\"トン\",AppQt.Data!AL62,(AppQt.Data!AL62*ozton*AppQt.Data!AL$7)/1000000),\"-\")","v":8.8431078595473647},{"$f":"IFERROR(IF($B$2=\"トン\",AppQt.Data!AM62,(AppQt.Data!AM62*ozton*AppQt.Data!AM$7)/1000000),\"-\")","v":10.526449714390317},{"$f":"IFERROR(IF($B$2=\"トン\",AppQt.Data!AN62,(AppQt.Data!AN62*ozton*AppQt.Data!AN$7)/1000000),\"-\")","v":10.943746111596328},{"$f":"IFERROR(IF($B$2=\"トン\",AppQt.Data!AO62,(AppQt.Data!AO62*ozton*AppQt.Data!AO$7)/1000000),\"-\")","v":12.701621113299463},{"$f":"IFERROR(IF($B$2=\"トン\",AppQt.Data!AP62,(AppQt.Data!AP62*ozton*AppQt.Data!AP$7)/1000000),\"-\")","v":10.160770927306816},{"$f":"IFERROR(IF($B$2=\"トン\",AppQt.Data!AQ62,(AppQt.Data!AQ62*ozton*AppQt.Data!AQ$7)/1000000),\"-\")","v":11.370880734073038},{"$f":"IFERROR(IF($B$2=\"トン\",AppQt.Data!AR62,(AppQt.Data!AR62*ozton*AppQt.Data!AR$7)/1000000),\"-\")","v":11.142020063830444},{"$f":"IFERROR(IF($B$2=\"トン\",AppQt.Data!AS62,(AppQt.Data!AS62*ozton*AppQt.Data!AS$7)/1000000),\"-\")","v":10.664939215141207},{"$f":"IFERROR(IF($B$2=\"トン\",AppQt.Data!AT62,(AppQt.Data!AT62*ozton*AppQt.Data!AT$7)/1000000),\"-\")","v":6.5579097559670023},{"$f":"IFERROR(IF($B$2=\"トン\",AppQt.Data!AU62,(AppQt.Data!AU62*ozton*AppQt.Data!AU$7)/1000000),\"-\")","v":4.6133086336779074},{"$f":"IFERROR(IF($B$2=\"トン\",AppQt.Data!AV62,(AppQt.Data!AV62*ozton*AppQt.Data!AV$7)/1000000),\"-\")","v":7.5370976177574009},{"$f":"IFERROR(IF($B$2=\"トン\",AppQt.Data!AW62,(AppQt.Data!AW62*ozton*AppQt.Data!AW$7)/1000000),\"-\")","v":9.6782793285783288},{"$f":"IFERROR(IF($B$2=\"トン\",AppQt.Data!AX62,(AppQt.Data!AX62*ozton*AppQt.Data!AX$7)/1000000),\"-\")","v":7.3833371248323383},{"$f":"IFERROR(IF($B$2=\"トン\",AppQt.Data!AY62,(AppQt.Data!AY62*ozton*AppQt.Data!AY$7)/1000000),\"-\")","v":6.6623694044275679},{"$f":"IFERROR(IF($B$2=\"トン\",AppQt.Data!AZ62,(AppQt.Data!AZ62*ozton*AppQt.Data!AZ$7)/1000000),\"-\")","v":6.8179055535653008},{"$f":"IFERROR(IF($B$2=\"トン\",AppQt.Data!BA62,(AppQt.Data!BA62*ozton*AppQt.Data!BA$7)/1000000),\"-\")","v":7.7136649635704941},{"$f":"IFERROR(IF($B$2=\"トン\",AppQt.Data!BB62,(AppQt.Data!BB62*ozton*AppQt.Data!BB$7)/1000000),\"-\")","v":2.4775953759732707},{"$f":"IFERROR(IF($B$2=\"トン\",AppQt.Data!BC62,(AppQt.Data!BC62*ozton*AppQt.Data!BC$7)/1000000),\"-\")","v":4.4053708165272694},{"$f":"IFERROR(IF($B$2=\"トン\",AppQt.Data!BD62,(AppQt.Data!BD62*ozton*AppQt.Data!BD$7)/1000000),\"-\")","v":5.4131002954581042},{"$f":"IFERROR(IF($B$2=\"トン\",AppQt.Data!BE62,(AppQt.Data!BE62*ozton*AppQt.Data!BE$7)/1000000),\"-\")","v":5.9437422932930666},{"$f":"IFERROR(IF($B$2=\"トン\",AppQt.Data!BF62,(AppQt.Data!BF62*ozton*AppQt.Data!BF$7)/1000000),\"-\")","v":6.2596214743063401},{"$f":"IFERROR(IF($B$2=\"トン\",AppQt.Data!BG62,(AppQt.Data!BG62*ozton*AppQt.Data!BG$7)/1000000),\"-\")","v":7.0655188999216181},{"$f":"IFERROR(IF($B$2=\"トン\",AppQt.Data!BH62,(AppQt.Data!BH62*ozton*AppQt.Data!BH$7)/1000000),\"-\")","v":7.0665744425760968},{"$f":"IFERROR(IF($B$2=\"トン\",AppQt.Data!BI62,(AppQt.Data!BI62*ozton*AppQt.Data!BI$7)/1000000),\"-\")","v":8.3797416450831808},{"$f":"IFERROR(IF($B$2=\"トン\",AppQt.Data!BJ62,(AppQt.Data!BJ62*ozton*AppQt.Data!BJ$7)/1000000),\"-\")","v":7.1330608032268659},{"$f":"IFERROR(IF($B$2=\"トン\",AppQt.Data!BK62,(AppQt.Data!BK62*ozton*AppQt.Data!BK$7)/1000000),\"-\")","v":7.8519121768848565},{"$f":"IFERROR(IF($B$2=\"トン\",AppQt.Data!BL62,(AppQt.Data!BL62*ozton*AppQt.Data!BL$7)/1000000),\"-\")","v":6.5251221753781383},"▼",-7.6621603805050125]
[null,"その他中東",{"$f":"IFERROR(IF($B$2=\"トン\",AppAn.Data!L53,(AppAn.Data!L53*ozton*AppAn.Data!L$6)/1000000),\"-\")","v":13.913594433034596},{"$f":"IFERROR(IF($B$2=\"トン\",AppAn.Data!M53,(AppAn.Data!M53*ozton*AppAn.Data!M$6)/1000000),\"-\")","v":14.515978694985535},{"$f":"IFERROR(IF($B$2=\"トン\",AppAn.Data!N53,(AppAn.Data!N53*ozton*AppAn.Data!N$6)/1000000),\"-\")","v":16.362948914176624},{"$f":"IFERROR(IF($B$2=\"トン\",AppAn.Data!O53,(AppAn.Data!O53*ozton*AppAn.Data!O$6)/1000000),\"-\")","v":25.88818002153857},{"$f":"IFERROR(IF($B$2=\"トン\",AppAn.Data!P53,(AppAn.Data!P53*ozton*AppAn.Data!P$6)/1000000),\"-\")","v":30.99643260236035},{"$f":"IFERROR(IF($B$2=\"トン\",AppAn.Data!Q53,(AppAn.Data!Q53*ozton*AppAn.Data!Q$6)/1000000),\"-\")","v":28.419928399259877},{"$f":"IFERROR(IF($B$2=\"トン\",AppAn.Data!R53,(AppAn.Data!R53*ozton*AppAn.Data!R$6)/1000000),\"-\")","v":25.807053785974592},{"$f":"IFERROR(IF($B$2=\"トン\",AppAn.Data!S53,(AppAn.Data!S53*ozton*AppAn.Data!S$6)/1000000),\"-\")","v":26.376498536017266},{"$f":"IFERROR(IF($B$2=\"トン\",AppAn.Data!T53,(AppAn.Data!T53*ozton*AppAn.Data!T$6)/1000000),\"-\")","v":28.906129458435053},{"$f":"IFERROR(IF($B$2=\"トン\",AppAn.Data!U53,(AppAn.Data!U53*ozton*AppAn.Data!U$6)/1000000),\"-\")","v":28.696740713539967},{"$f":"IFERROR(IF($B$2=\"トン\",AppAn.Data!V53,(AppAn.Data!V53*ozton*AppAn.Data!V$6)/1000000),\"-\")","v":19.09328854950099},{"$f":"IFERROR(IF($B$2=\"トン\",AppAn.Data!W53,(AppAn.Data!W53*ozton*AppAn.Data!W$6)/1000000),\"-\")","v":26.918194567908099},{"$f":"IFERROR(IF($B$2=\"トン\",AppAn.Data!X53,(AppAn.Data!X53*ozton*AppAn.Data!X$6)/1000000),\"-\")","v":27.466422915161942},"▲",2.0366460531771491,null,{"$f":"IFERROR(IF($B$2=\"トン\",AppQt.Data!M63,(AppQt.Data!M63*ozton*AppQt.Data!M$7)/1000000),\"-\")","v":3.473452982305393},{"$f":"IFERROR(IF($B$2=\"トン\",AppQt.Data!N63,(AppQt.Data!N63*ozton*AppQt.Data!N$7)/1000000),\"-\")","v":3.6773040029168822},{"$f":"IFERROR(IF($B$2=\"トン\",AppQt.Data!O63,(AppQt.Data!O63*ozton*AppQt.Data!O$7)/1000000),\"-\")","v":4.0219710020558708},{"$f":"IFERROR(IF($B$2=\"トン\",AppQt.Data!P63,(AppQt.Data!P63*ozton*AppQt.Data!P$7)/1000000),\"-\")","v":2.7408664457564513},{"$f":"IFERROR(IF($B$2=\"トン\",AppQt.Data!Q63,(AppQt.Data!Q63*ozton*AppQt.Data!Q$7)/1000000),\"-\")","v":3.6863667272137794},{"$f":"IFERROR(IF($B$2=\"トン\",AppQt.Data!R63,(AppQt.Data!R63*ozton*AppQt.Data!R$7)/1000000),\"-\")","v":3.9942528769041479},{"$f":"IFERROR(IF($B$2=\"トン\",AppQt.Data!S63,(AppQt.Data!S63*ozton*AppQt.Data!S$7)/1000000),\"-\")","v":3.9440715532583539},{"$f":"IFERROR(IF($B$2=\"トン\",AppQt.Data!T63,(AppQt.Data!T63*ozton*AppQt.Data!T$7)/1000000),\"-\")","v":2.8912875376092542},{"$f":"IFERROR(IF($B$2=\"トン\",AppQt.Data!U63,(AppQt.Data!U63*ozton*AppQt.Data!U$7)/1000000),\"-\")","v":3.868365026199442},{"$f":"IFERROR(IF($B$2=\"トン\",AppQt.Data!V63,(AppQt.Data!V63*ozton*AppQt.Data!V$7)/1000000),\"-\")","v":4.3021461851959133},{"$f":"IFERROR(IF($B$2=\"トン\",AppQt.Data!W63,(AppQt.Data!W63*ozton*AppQt.Data!W$7)/1000000),\"-\")","v":4.3024926158466625},{"$f":"IFERROR(IF($B$2=\"トン\",AppQt.Data!X63,(AppQt.Data!X63*ozton*AppQt.Data!X$7)/1000000),\"-\")","v":3.8899450869346053},{"$f":"IFERROR(IF($B$2=\"トン\",AppQt.Data!Y63,(AppQt.Data!Y63*ozton*AppQt.Data!Y$7)/1000000),\"-\")","v":5.7287921177531578},{"$f":"IFERROR(IF($B$2=\"トン\",AppQt.Data!Z63,(AppQt.Data!Z63*ozton*AppQt.Data!Z$7)/1000000),\"-\")","v":7.0029141385591345},{"$f":"IFERROR(IF($B$2=\"トン\",AppQt.Data!AA63,(AppQt.Data!AA63*ozton*AppQt.Data!AA$7)/1000000),\"-\")","v":6.7649435589119475},{"$f":"IFERROR(IF($B$2=\"トン\",AppQt.Data!AB63,(AppQt.Data!AB63*ozton*AppQt.Data!AB$7)/1000000),\"-\")","v":6.3915302063143278},{"$f":"IFERROR(IF($B$2=\"トン\",AppQt.Data!AC63,(AppQt.Data!AC63*ozton*AppQt.Data!AC$7)/1000000),\"-\")","v":8.6361772473705987},{"$f":"IFERROR(IF($B$2=\"トン\",AppQt.Data!AD63,(AppQt.Data!AD63*ozton*AppQt.Data!AD$7)/1000000),\"-\")","v":8.5023886488336693},{"$f":"IFERROR(IF($B$2=\"トン\",AppQt.Data!AE63,(AppQt.Data!AE63*ozton*AppQt.Data!AE$7)/1000000),\"-\")","v":6.6708886048060752},{"$f":"IFERROR(IF($B$2=\"トン\",AppQt.Data!AF63,(AppQt.Data!AF63*ozton*AppQt.Data!AF$7)/1000000),\"-\")","v":7.1869781013500065},{"$f":"IFERROR(IF($B$2=\"トン\",AppQt.Data!AG63,(AppQt.Data!AG63*ozton*AppQt.Data!AG$7)/1000000),\"-\")","v":7.7474648622929543},{"$f":"IFERROR(IF($B$2=\"トン\",AppQt.Data!AH63,(AppQt.Data!AH63*ozton*AppQt.Data!AH$7)/1000000),\"-\")","v":8.157553124839966},{"$f":"IFERROR(IF($B$2=\"トン\",AppQt.Data!AI63,(AppQt.Data!AI63*ozton*AppQt.Data!AI$7)/1000000),\"-\")","v":6.0800541394053358},{"$f":"IFERROR(IF($B$2=\"トン\",AppQt.Data!AJ63,(AppQt.Data!AJ63*ozton*AppQt.Data!AJ$7)/1000000),\"-\")","v":6.4348562727216203},{"$f":"IFERROR(IF($B$2=\"トン\",AppQt.Data!AK63,(AppQt.Data!AK63*ozton*AppQt.Data!AK$7)/1000000),\"-\")","v":7.3162925007069095},{"$f":"IFERROR(IF($B$2=\"トン\",AppQt.Data!AL63,(AppQt.Data!AL63*ozton*AppQt.Data!AL$7)/1000000),\"-\")","v":7.0887424780208868},{"$f":"IFERROR(IF($B$2=\"トン\",AppQt.Data!AM63,(AppQt.Data!AM63*ozton*AppQt.Data!AM$7)/1000000),\"-\")","v":4.9711211892638598},{"$f":"IFERROR(IF($B$2=\"トン\",AppQt.Data!AN63,(AppQt.Data!AN63*ozton*AppQt.Data!AN$7)/1000000),\"-\")","v":6.4308976179829358},{"$f":"IFERROR(IF($B$2=\"トン\",AppQt.Data!AO63,(AppQt.Data!AO63*ozton*AppQt.Data!AO$7)/1000000),\"-\")","v":6.8387659301576758},{"$f":"IFERROR(IF($B$2=\"トン\",AppQt.Data!AP63,(AppQt.Data!AP63*ozton*AppQt.Data!AP$7)/1000000),\"-\")","v":7.2856215486590408},{"$f":"IFERROR(IF($B$2=\"トン\",AppQt.Data!AQ63,(AppQt.Data!AQ63*ozton*AppQt.Data!AQ$7)/1000000),\"-\")","v":5.2657836942936971},{"$f":"IFERROR(IF($B$2=\"トン\",AppQt.Data!AR63,(AppQt.Data!AR63*ozton*AppQt.Data!AR$7)/1000000),\"-\")","v":6.9863273629068541},{"$f":"IFERROR(IF($B$2=\"トン\",AppQt.Data!AS63,(AppQt.Data!AS63*ozton*AppQt.Data!AS$7)/1000000),\"-\")","v":6.7193608087316328},{"$f":"IFERROR(IF($B$2=\"トン\",AppQt.Data!AT63,(AppQt.Data!AT63*ozton*AppQt.Data!AT$7)/1000000),\"-\")","v":8.5731469414011752},{"$f":"IFERROR(IF($B$2=\"トン\",AppQt.Data!AU63,(AppQt.Data!AU63*ozton*AppQt.Data!AU$7)/1000000),\"-\")","v":6.6869821578365789},{"$f":"IFERROR(IF($B$2=\"トン\",AppQt.Data!AV63,(AppQt.Data!AV63*ozton*AppQt.Data!AV$7)/1000000),\"-\")","v":6.9266395504656675},{"$f":"IFERROR(IF($B$2=\"トン\",AppQt.Data!AW63,(AppQt.Data!AW63*ozton*AppQt.Data!AW$7)/1000000),\"-\")","v":7.0138271083108386},{"$f":"IFERROR(IF($B$2=\"トン\",AppQt.Data!AX63,(AppQt.Data!AX63*ozton*AppQt.Data!AX$7)/1000000),\"-\")","v":8.7075076537745222},{"$f":"IFERROR(IF($B$2=\"トン\",AppQt.Data!AY63,(AppQt.Data!AY63*ozton*AppQt.Data!AY$7)/1000000),\"-\")","v":6.485590352124337},{"$f":"IFERROR(IF($B$2=\"トン\",AppQt.Data!AZ63,(AppQt.Data!AZ63*ozton*AppQt.Data!AZ$7)/1000000),\"-\")","v":6.4898155993302691},{"$f":"IFERROR(IF($B$2=\"トン\",AppQt.Data!BA63,(AppQt.Data!BA63*ozton*AppQt.Data!BA$7)/1000000),\"-\")","v":6.4211304927785626},{"$f":"IFERROR(IF($B$2=\"トン\",AppQt.Data!BB63,(AppQt.Data!BB63*ozton*AppQt.Data!BB$7)/1000000),\"-\")","v":2.8609974909422995},{"$f":"IFERROR(IF($B$2=\"トン\",AppQt.Data!BC63,(AppQt.Data!BC63*ozton*AppQt.Data!BC$7)/1000000),\"-\")","v":4.5339530745692409},{"$f":"IFERROR(IF($B$2=\"トン\",AppQt.Data!BD63,(AppQt.Data!BD63*ozton*AppQt.Data!BD$7)/1000000),\"-\")","v":5.2772074912108868},{"$f":"IFERROR(IF($B$2=\"トン\",AppQt.Data!BE63,(AppQt.Data!BE63*ozton*AppQt.Data!BE$7)/1000000),\"-\")","v":6.739697820839317},{"$f":"IFERROR(IF($B$2=\"トン\",AppQt.Data!BF63,(AppQt.Data!BF63*ozton*AppQt.Data!BF$7)/1000000),\"-\")","v":5.7973214564563857},{"$f":"IFERROR(IF($B$2=\"トン\",AppQt.Data!BG63,(AppQt.Data!BG63*ozton*AppQt.Data!BG$7)/1000000),\"-\")","v":5.9767008492574227},{"$f":"IFERROR(IF($B$2=\"トン\",AppQt.Data!BH63,(AppQt.Data!BH63*ozton*AppQt.Data!BH$7)/1000000),\"-\")","v":8.4044744413549743},{"$f":"IFERROR(IF($B$2=\"トン\",AppQt.Data!BI63,(AppQt.Data!BI63*ozton*AppQt.Data!BI$7)/1000000),\"-\")","v":5.9107211840276488},{"$f":"IFERROR(IF($B$2=\"トン\",AppQt.Data!BJ63,(AppQt.Data!BJ63*ozton*AppQt.Data!BJ$7)/1000000),\"-\")","v":7.0354244193869446},{"$f":"IFERROR(IF($B$2=\"トン\",AppQt.Data!BK63,(AppQt.Data!BK63*ozton*AppQt.Data!BK$7)/1000000),\"-\")","v":6.9192940555211324},{"$f":"IFERROR(IF($B$2=\"トン\",AppQt.Data!BL63,(AppQt.Data!BL63*ozton*AppQt.Data!BL$7)/1000000),\"-\")","v":7.6009832562262165},"▼",-9.5602787626446588]
[null,"トルコ",{"$f":"IFERROR(IF($B$2=\"トン\",AppAn.Data!L54,(AppAn.Data!L54*ozton*AppAn.Data!L$6)/1000000),\"-\")","v":67.883408910409358},{"$f":"IFERROR(IF($B$2=\"トン\",AppAn.Data!M54,(AppAn.Data!M54*ozton*AppAn.Data!M$6)/1000000),\"-\")","v":73.579378801478327},{"$f":"IFERROR(IF($B$2=\"トン\",AppAn.Data!N54,(AppAn.Data!N54*ozton*AppAn.Data!N$6)/1000000),\"-\")","v":65.863883634451383},{"$f":"IFERROR(IF($B$2=\"トン\",AppAn.Data!O54,(AppAn.Data!O54*ozton*AppAn.Data!O$6)/1000000),\"-\")","v":79.863719925364691},{"$f":"IFERROR(IF($B$2=\"トン\",AppAn.Data!P54,(AppAn.Data!P54*ozton*AppAn.Data!P$6)/1000000),\"-\")","v":68.079708558128658},{"$f":"IFERROR(IF($B$2=\"トン\",AppAn.Data!Q54,(AppAn.Data!Q54*ozton*AppAn.Data!Q$6)/1000000),\"-\")","v":49.009646144526982},{"$f":"IFERROR(IF($B$2=\"トン\",AppAn.Data!R54,(AppAn.Data!R54*ozton*AppAn.Data!R$6)/1000000),\"-\")","v":40.771133447308443},{"$f":"IFERROR(IF($B$2=\"トン\",AppAn.Data!S54,(AppAn.Data!S54*ozton*AppAn.Data!S$6)/1000000),\"-\")","v":41.201122143143365},{"$f":"IFERROR(IF($B$2=\"トン\",AppAn.Data!T54,(AppAn.Data!T54*ozton*AppAn.Data!T$6)/1000000),\"-\")","v":36.372346513573468},{"$f":"IFERROR(IF($B$2=\"トン\",AppAn.Data!U54,(AppAn.Data!U54*ozton*AppAn.Data!U$6)/1000000),\"-\")","v":36.458246050515854},{"$f":"IFERROR(IF($B$2=\"トン\",AppAn.Data!V54,(AppAn.Data!V54*ozton*AppAn.Data!V$6)/1000000),\"-\")","v":25.897734032056963},{"$f":"IFERROR(IF($B$2=\"トン\",AppAn.Data!W54,(AppAn.Data!W54*ozton*AppAn.Data!W$6)/1000000),\"-\")","v":33.86780654527162},{"$f":"IFERROR(IF($B$2=\"トン\",AppAn.Data!X54,(AppAn.Data!X54*ozton*AppAn.Data!X$6)/1000000),\"-\")","v":36.691889016241959},"▲",8.3385455364384029,null,{"$f":"IFERROR(IF($B$2=\"トン\",AppQt.Data!M64,(AppQt.Data!M64*ozton*AppQt.Data!M$7)/1000000),\"-\")","v":17.484449023629541},{"$f":"IFERROR(IF($B$2=\"トン\",AppQt.Data!N64,(AppQt.Data!N64*ozton*AppQt.Data!N$7)/1000000),\"-\")","v":16.304943101078564},{"$f":"IFERROR(IF($B$2=\"トン\",AppQt.Data!O64,(AppQt.Data!O64*ozton*AppQt.Data!O$7)/1000000),\"-\")","v":27.489544067302216},{"$f":"IFERROR(IF($B$2=\"トン\",AppQt.Data!P64,(AppQt.Data!P64*ozton*AppQt.Data!P$7)/1000000),\"-\")","v":6.6044727183990419},{"$f":"IFERROR(IF($B$2=\"トン\",AppQt.Data!Q64,(AppQt.Data!Q64*ozton*AppQt.Data!Q$7)/1000000),\"-\")","v":19.749758837258668},{"$f":"IFERROR(IF($B$2=\"トン\",AppQt.Data!R64,(AppQt.Data!R64*ozton*AppQt.Data!R$7)/1000000),\"-\")","v":23.249492001798359},{"$f":"IFERROR(IF($B$2=\"トン\",AppQt.Data!S64,(AppQt.Data!S64*ozton*AppQt.Data!S$7)/1000000),\"-\")","v":23.670416370127633},{"$f":"IFERROR(IF($B$2=\"トン\",AppQt.Data!T64,(AppQt.Data!T64*ozton*AppQt.Data!T$7)/1000000),\"-\")","v":6.9097115922936547},{"$f":"IFERROR(IF($B$2=\"トン\",AppQt.Data!U64,(AppQt.Data!U64*ozton*AppQt.Data!U$7)/1000000),\"-\")","v":16.349852361834362},{"$f":"IFERROR(IF($B$2=\"トン\",AppQt.Data!V64,(AppQt.Data!V64*ozton*AppQt.Data!V$7)/1000000),\"-\")","v":20.404898870973817},{"$f":"IFERROR(IF($B$2=\"トン\",AppQt.Data!W64,(AppQt.Data!W64*ozton*AppQt.Data!W$7)/1000000),\"-\")","v":22.07624176323506},{"$f":"IFERROR(IF($B$2=\"トン\",AppQt.Data!X64,(AppQt.Data!X64*ozton*AppQt.Data!X$7)/1000000),\"-\")","v":7.032890638408154},{"$f":"IFERROR(IF($B$2=\"トン\",AppQt.Data!Y64,(AppQt.Data!Y64*ozton*AppQt.Data!Y$7)/1000000),\"-\")","v":16.705793294869217},{"$f":"IFERROR(IF($B$2=\"トン\",AppQt.Data!Z64,(AppQt.Data!Z64*ozton*AppQt.Data!Z$7)/1000000),\"-\")","v":27.162420559335306},{"$f":"IFERROR(IF($B$2=\"トン\",AppQt.Data!AA64,(AppQt.Data!AA64*ozton*AppQt.Data!AA$7)/1000000),\"-\")","v":23.401398000657423},{"$f":"IFERROR(IF($B$2=\"トン\",AppQt.Data!AB64,(AppQt.Data!AB64*ozton*AppQt.Data!AB$7)/1000000),\"-\")","v":12.594108070502747},{"$f":"IFERROR(IF($B$2=\"トン\",AppQt.Data!AC64,(AppQt.Data!AC64*ozton*AppQt.Data!AC$7)/1000000),\"-\")","v":14.436452880224452},{"$f":"IFERROR(IF($B$2=\"トン\",AppQt.Data!AD64,(AppQt.Data!AD64*ozton*AppQt.Data!AD$7)/1000000),\"-\")","v":16.559469558766477},{"$f":"IFERROR(IF($B$2=\"トン\",AppQt.Data!AE64,(AppQt.Data!AE64*ozton*AppQt.Data!AE$7)/1000000),\"-\")","v":16.885700595992589},{"$f":"IFERROR(IF($B$2=\"トン\",AppQt.Data!AF64,(AppQt.Data!AF64*ozton*AppQt.Data!AF$7)/1000000),\"-\")","v":20.198085523145135},{"$f":"IFERROR(IF($B$2=\"トン\",AppQt.Data!AG64,(AppQt.Data!AG64*ozton*AppQt.Data!AG$7)/1000000),\"-\")","v":10.412969130397563},{"$f":"IFERROR(IF($B$2=\"トン\",AppQt.Data!AH64,(AppQt.Data!AH64*ozton*AppQt.Data!AH$7)/1000000),\"-\")","v":11.55152863681243},{"$f":"IFERROR(IF($B$2=\"トン\",AppQt.Data!AI64,(AppQt.Data!AI64*ozton*AppQt.Data!AI$7)/1000000),\"-\")","v":12.05544307085918},{"$f":"IFERROR(IF($B$2=\"トン\",AppQt.Data!AJ64,(AppQt.Data!AJ64*ozton*AppQt.Data!AJ$7)/1000000),\"-\")","v":14.989705306457806},{"$f":"IFERROR(IF($B$2=\"トン\",AppQt.Data!AK64,(AppQt.Data!AK64*ozton*AppQt.Data!AK$7)/1000000),\"-\")","v":8.6550515439477582},{"$f":"IFERROR(IF($B$2=\"トン\",AppQt.Data!AL64,(AppQt.Data!AL64*ozton*AppQt.Data!AL$7)/1000000),\"-\")","v":9.2435039707309947},{"$f":"IFERROR(IF($B$2=\"トン\",AppQt.Data!AM64,(AppQt.Data!AM64*ozton*AppQt.Data!AM$7)/1000000),\"-\")","v":9.3199247799951941},{"$f":"IFERROR(IF($B$2=\"トン\",AppQt.Data!AN64,(AppQt.Data!AN64*ozton*AppQt.Data!AN$7)/1000000),\"-\")","v":13.552653152634496},{"$f":"IFERROR(IF($B$2=\"トン\",AppQt.Data!AO64,(AppQt.Data!AO64*ozton*AppQt.Data!AO$7)/1000000),\"-\")","v":8.2962005984354441},{"$f":"IFERROR(IF($B$2=\"トン\",AppQt.Data!AP64,(AppQt.Data!AP64*ozton*AppQt.Data!AP$7)/1000000),\"-\")","v":11.100644334361384},{"$f":"IFERROR(IF($B$2=\"トン\",AppQt.Data!AQ64,(AppQt.Data!AQ64*ozton*AppQt.Data!AQ$7)/1000000),\"-\")","v":10.313856683705513},{"$f":"IFERROR(IF($B$2=\"トン\",AppQt.Data!AR64,(AppQt.Data!AR64*ozton*AppQt.Data!AR$7)/1000000),\"-\")","v":11.490420526641024},{"$f":"IFERROR(IF($B$2=\"トン\",AppQt.Data!AS64,(AppQt.Data!AS64*ozton*AppQt.Data!AS$7)/1000000),\"-\")","v":10.057969184197479},{"$f":"IFERROR(IF($B$2=\"トン\",AppQt.Data!AT64,(AppQt.Data!AT64*ozton*AppQt.Data!AT$7)/1000000),\"-\")","v":9.9169225057427219},{"$f":"IFERROR(IF($B$2=\"トン\",AppQt.Data!AU64,(AppQt.Data!AU64*ozton*AppQt.Data!AU$7)/1000000),\"-\")","v":7.2039269579980925},{"$f":"IFERROR(IF($B$2=\"トン\",AppQt.Data!AV64,(AppQt.Data!AV64*ozton*AppQt.Data!AV$7)/1000000),\"-\")","v":9.1935278656351755},{"$f":"IFERROR(IF($B$2=\"トン\",AppQt.Data!AW64,(AppQt.Data!AW64*ozton*AppQt.Data!AW$7)/1000000),\"-\")","v":9.5695225055202577},{"$f":"IFERROR(IF($B$2=\"トン\",AppQt.Data!AX64,(AppQt.Data!AX64*ozton*AppQt.Data!AX$7)/1000000),\"-\")","v":9.5270663092827235},{"$f":"IFERROR(IF($B$2=\"トン\",AppQt.Data!AY64,(AppQt.Data!AY64*ozton*AppQt.Data!AY$7)/1000000),\"-\")","v":8.2654057486824861},{"$f":"IFERROR(IF($B$2=\"トン\",AppQt.Data!AZ64,(AppQt.Data!AZ64*ozton*AppQt.Data!AZ$7)/1000000),\"-\")","v":9.0962514870303846},{"$f":"IFERROR(IF($B$2=\"トン\",AppQt.Data!BA64,(AppQt.Data!BA64*ozton*AppQt.Data!BA$7)/1000000),\"-\")","v":8.6097678536657583},{"$f":"IFERROR(IF($B$2=\"トン\",AppQt.Data!BB64,(AppQt.Data!BB64*ozton*AppQt.Data!BB$7)/1000000),\"-\")","v":3.9569713464478431},{"$f":"IFERROR(IF($B$2=\"トン\",AppQt.Data!BC64,(AppQt.Data!BC64*ozton*AppQt.Data!BC$7)/1000000),\"-\")","v":6.5247139673600252},{"$f":"IFERROR(IF($B$2=\"トン\",AppQt.Data!BD64,(AppQt.Data!BD64*ozton*AppQt.Data!BD$7)/1000000),\"-\")","v":6.8062808645833357},{"$f":"IFERROR(IF($B$2=\"トン\",AppQt.Data!BE64,(AppQt.Data!BE64*ozton*AppQt.Data!BE$7)/1000000),\"-\")","v":8.9810078614726567},{"$f":"IFERROR(IF($B$2=\"トン\",AppQt.Data!BF64,(AppQt.Data!BF64*ozton*AppQt.Data!BF$7)/1000000),\"-\")","v":8.09214904476584},{"$f":"IFERROR(IF($B$2=\"トン\",AppQt.Data!BG64,(AppQt.Data!BG64*ozton*AppQt.Data!BG$7)/1000000),\"-\")","v":9.2899512422486072},{"$f":"IFERROR(IF($B$2=\"トン\",AppQt.Data!BH64,(AppQt.Data!BH64*ozton*AppQt.Data!BH$7)/1000000),\"-\")","v":7.5046983967845193},{"$f":"IFERROR(IF($B$2=\"トン\",AppQt.Data!BI64,(AppQt.Data!BI64*ozton*AppQt.Data!BI$7)/1000000),\"-\")","v":7.5007717481196776},{"$f":"IFERROR(IF($B$2=\"トン\",AppQt.Data!BJ64,(AppQt.Data!BJ64*ozton*AppQt.Data!BJ$7)/1000000),\"-\")","v":8.2667098340574867},{"$f":"IFERROR(IF($B$2=\"トン\",AppQt.Data!BK64,(AppQt.Data!BK64*ozton*AppQt.Data!BK$7)/1000000),\"-\")","v":11.017830660445599},{"$f":"IFERROR(IF($B$2=\"トン\",AppQt.Data!BL64,(AppQt.Data!BL64*ozton*AppQt.Data!BL$7)/1000000),\"-\")","v":9.9065767736191948},"▲",32.004995402130888]
[null,"ロシア",{"$f":"IFERROR(IF($B$2=\"トン\",AppAn.Data!L55,(AppAn.Data!L55*ozton*AppAn.Data!L$6)/1000000),\"-\")","v":60.331146228484116},{"$f":"IFERROR(IF($B$2=\"トン\",AppAn.Data!M55,(AppAn.Data!M55*ozton*AppAn.Data!M$6)/1000000),\"-\")","v":64.351035548686241},{"$f":"IFERROR(IF($B$2=\"トン\",AppAn.Data!N55,(AppAn.Data!N55*ozton*AppAn.Data!N$6)/1000000),\"-\")","v":67.656104525862048},{"$f":"IFERROR(IF($B$2=\"トン\",AppAn.Data!O55,(AppAn.Data!O55*ozton*AppAn.Data!O$6)/1000000),\"-\")","v":79.704222187499994},{"$f":"IFERROR(IF($B$2=\"トン\",AppAn.Data!P55,(AppAn.Data!P55*ozton*AppAn.Data!P$6)/1000000),\"-\")","v":67.58962111755568},{"$f":"IFERROR(IF($B$2=\"トン\",AppAn.Data!Q55,(AppAn.Data!Q55*ozton*AppAn.Data!Q$6)/1000000),\"-\")","v":43.148042150967115},{"$f":"IFERROR(IF($B$2=\"トン\",AppAn.Data!R55,(AppAn.Data!R55*ozton*AppAn.Data!R$6)/1000000),\"-\")","v":38.313456520722795},{"$f":"IFERROR(IF($B$2=\"トン\",AppAn.Data!S55,(AppAn.Data!S55*ozton*AppAn.Data!S$6)/1000000),\"-\")","v":39.808478910012425},{"$f":"IFERROR(IF($B$2=\"トン\",AppAn.Data!T55,(AppAn.Data!T55*ozton*AppAn.Data!T$6)/1000000),\"-\")","v":42.969371167437615},{"$f":"IFERROR(IF($B$2=\"トン\",AppAn.Data!U55,(AppAn.Data!U55*ozton*AppAn.Data!U$6)/1000000),\"-\")","v":44.450751344758203},{"$f":"IFERROR(IF($B$2=\"トン\",AppAn.Data!V55,(AppAn.Data!V55*ozton*AppAn.Data!V$6)/1000000),\"-\")","v":29.823632727919996},{"$f":"IFERROR(IF($B$2=\"トン\",AppAn.Data!W55,(AppAn.Data!W55*ozton*AppAn.Data!W$6)/1000000),\"-\")","v":41.541833678963279},{"$f":"IFERROR(IF($B$2=\"トン\",AppAn.Data!X55,(AppAn.Data!X55*ozton*AppAn.Data!X$6)/1000000),\"-\")","v":35.683784228853838},"▼",-14.10156685759384,null,{"$f":"IFERROR(IF($B$2=\"トン\",AppQt.Data!M65,(AppQt.Data!M65*ozton*AppQt.Data!M$7)/1000000),\"-\")","v":14.218584660319307},{"$f":"IFERROR(IF($B$2=\"トン\",AppQt.Data!N65,(AppQt.Data!N65*ozton*AppQt.Data!N$7)/1000000),\"-\")","v":15.340048634209213},{"$f":"IFERROR(IF($B$2=\"トン\",AppQt.Data!O65,(AppQt.Data!O65*ozton*AppQt.Data!O$7)/1000000),\"-\")","v":13.683515969046233},{"$f":"IFERROR(IF($B$2=\"トン\",AppQt.Data!P65,(AppQt.Data!P65*ozton*AppQt.Data!P$7)/1000000),\"-\")","v":17.088996964909363},{"$f":"IFERROR(IF($B$2=\"トン\",AppQt.Data!Q65,(AppQt.Data!Q65*ozton*AppQt.Data!Q$7)/1000000),\"-\")","v":14.938562596599692},{"$f":"IFERROR(IF($B$2=\"トン\",AppQt.Data!R65,(AppQt.Data!R65*ozton*AppQt.Data!R$7)/1000000),\"-\")","v":15.324309119010818},{"$f":"IFERROR(IF($B$2=\"トン\",AppQt.Data!S65,(AppQt.Data!S65*ozton*AppQt.Data!S$7)/1000000),\"-\")","v":15.70940030911901},{"$f":"IFERROR(IF($B$2=\"トン\",AppQt.Data!T65,(AppQt.Data!T65*ozton*AppQt.Data!T$7)/1000000),\"-\")","v":18.378763523956721},{"$f":"IFERROR(IF($B$2=\"トン\",AppQt.Data!U65,(AppQt.Data!U65*ozton*AppQt.Data!U$7)/1000000),\"-\")","v":16.303195043103447},{"$f":"IFERROR(IF($B$2=\"トン\",AppQt.Data!V65,(AppQt.Data!V65*ozton*AppQt.Data!V$7)/1000000),\"-\")","v":15.38286637931034},{"$f":"IFERROR(IF($B$2=\"トン\",AppQt.Data!W65,(AppQt.Data!W65*ozton*AppQt.Data!W$7)/1000000),\"-\")","v":16.70049568965517},{"$f":"IFERROR(IF($B$2=\"トン\",AppQt.Data!X65,(AppQt.Data!X65*ozton*AppQt.Data!X$7)/1000000),\"-\")","v":19.269547413793099},{"$f":"IFERROR(IF($B$2=\"トン\",AppQt.Data!Y65,(AppQt.Data!Y65*ozton*AppQt.Data!Y$7)/1000000),\"-\")","v":17.841102812499997},{"$f":"IFERROR(IF($B$2=\"トン\",AppQt.Data!Z65,(AppQt.Data!Z65*ozton*AppQt.Data!Z$7)/1000000),\"-\")","v":18.236422499999996},{"$f":"IFERROR(IF($B$2=\"トン\",AppQt.Data!AA65,(AppQt.Data!AA65*ozton*AppQt.Data!AA$7)/1000000),\"-\")","v":21.349296874999997},{"$f":"IFERROR(IF($B$2=\"トン\",AppQt.Data!AB65,(AppQt.Data!AB65*ozton*AppQt.Data!AB$7)/1000000),\"-\")","v":22.277399999999997},{"$f":"IFERROR(IF($B$2=\"トン\",AppQt.Data!AC65,(AppQt.Data!AC65*ozton*AppQt.Data!AC$7)/1000000),\"-\")","v":19.555531233522224},{"$f":"IFERROR(IF($B$2=\"トン\",AppQt.Data!AD65,(AppQt.Data!AD65*ozton*AppQt.Data!AD$7)/1000000),\"-\")","v":16.993050041101519},{"$f":"IFERROR(IF($B$2=\"トン\",AppQt.Data!AE65,(AppQt.Data!AE65*ozton*AppQt.Data!AE$7)/1000000),\"-\")","v":16.820729842931936},{"$f":"IFERROR(IF($B$2=\"トン\",AppQt.Data!AF65,(AppQt.Data!AF65*ozton*AppQt.Data!AF$7)/1000000),\"-\")","v":14.220309999999998},{"$f":"IFERROR(IF($B$2=\"トン\",AppQt.Data!AG65,(AppQt.Data!AG65*ozton*AppQt.Data!AG$7)/1000000),\"-\")","v":11.932608251807739},{"$f":"IFERROR(IF($B$2=\"トン\",AppQt.Data!AH65,(AppQt.Data!AH65*ozton*AppQt.Data!AH$7)/1000000),\"-\")","v":8.9049784217016033},{"$f":"IFERROR(IF($B$2=\"トン\",AppQt.Data!AI65,(AppQt.Data!AI65*ozton*AppQt.Data!AI$7)/1000000),\"-\")","v":13.382515183246072},{"$f":"IFERROR(IF($B$2=\"トン\",AppQt.Data!AJ65,(AppQt.Data!AJ65*ozton*AppQt.Data!AJ$7)/1000000),\"-\")","v":8.9279402942117017},{"$f":"IFERROR(IF($B$2=\"トン\",AppQt.Data!AK65,(AppQt.Data!AK65*ozton*AppQt.Data!AK$7)/1000000),\"-\")","v":9.7801463207145876},{"$f":"IFERROR(IF($B$2=\"トン\",AppQt.Data!AL65,(AppQt.Data!AL65*ozton*AppQt.Data!AL$7)/1000000),\"-\")","v":8.6934140156185791},{"$f":"IFERROR(IF($B$2=\"トン\",AppQt.Data!AM65,(AppQt.Data!AM65*ozton*AppQt.Data!AM$7)/1000000),\"-\")","v":9.6532502617801033},{"$f":"IFERROR(IF($B$2=\"トン\",AppQt.Data!AN65,(AppQt.Data!AN65*ozton*AppQt.Data!AN$7)/1000000),\"-\")","v":10.186645922609529},{"$f":"IFERROR(IF($B$2=\"トン\",AppQt.Data!AO65,(AppQt.Data!AO65*ozton*AppQt.Data!AO$7)/1000000),\"-\")","v":9.4215226286686509},{"$f":"IFERROR(IF($B$2=\"トン\",AppQt.Data!AP65,(AppQt.Data!AP65*ozton*AppQt.Data!AP$7)/1000000),\"-\")","v":8.1359131113851202},{"$f":"IFERROR(IF($B$2=\"トン\",AppQt.Data!AQ65,(AppQt.Data!AQ65*ozton*AppQt.Data!AQ$7)/1000000),\"-\")","v":10.607068062827222},{"$f":"IFERROR(IF($B$2=\"トン\",AppQt.Data!AR65,(AppQt.Data!AR65*ozton*AppQt.Data!AR$7)/1000000),\"-\")","v":11.643975107131434},{"$f":"IFERROR(IF($B$2=\"トン\",AppQt.Data!AS65,(AppQt.Data!AS65*ozton*AppQt.Data!AS$7)/1000000),\"-\")","v":10.072598760102085},{"$f":"IFERROR(IF($B$2=\"トン\",AppQt.Data!AT65,(AppQt.Data!AT65*ozton*AppQt.Data!AT$7)/1000000),\"-\")","v":8.8795044225236328},{"$f":"IFERROR(IF($B$2=\"トン\",AppQt.Data!AU65,(AppQt.Data!AU65*ozton*AppQt.Data!AU$7)/1000000),\"-\")","v":11.477774869109945},{"$f":"IFERROR(IF($B$2=\"トン\",AppQt.Data!AV65,(AppQt.Data!AV65*ozton*AppQt.Data!AV$7)/1000000),\"-\")","v":12.53949311570195},{"$f":"IFERROR(IF($B$2=\"トン\",AppQt.Data!AW65,(AppQt.Data!AW65*ozton*AppQt.Data!AW$7)/1000000),\"-\")","v":10.506502710506167},{"$f":"IFERROR(IF($B$2=\"トン\",AppQt.Data!AX65,(AppQt.Data!AX65*ozton*AppQt.Data!AX$7)/1000000),\"-\")","v":9.1816845994245782},{"$f":"IFERROR(IF($B$2=\"トン\",AppQt.Data!AY65,(AppQt.Data!AY65*ozton*AppQt.Data!AY$7)/1000000),\"-\")","v":11.799886125654448},{"$f":"IFERROR(IF($B$2=\"トン\",AppQt.Data!AZ65,(AppQt.Data!AZ65*ozton*AppQt.Data!AZ$7)/1000000),\"-\")","v":12.96267790917301},{"$f":"IFERROR(IF($B$2=\"トン\",AppQt.Data!BA65,(AppQt.Data!BA65*ozton*AppQt.Data!BA$7)/1000000),\"-\")","v":9.5728024394555522},{"$f":"IFERROR(IF($B$2=\"トン\",AppQt.Data!BB65,(AppQt.Data!BB65*ozton*AppQt.Data!BB$7)/1000000),\"-\")","v":3.638923839769832},{"$f":"IFERROR(IF($B$2=\"トン\",AppQt.Data!BC65,(AppQt.Data!BC65*ozton*AppQt.Data!BC$7)/1000000),\"-\")","v":7.7506976795396634},{"$f":"IFERROR(IF($B$2=\"トン\",AppQt.Data!BD65,(AppQt.Data!BD65*ozton*AppQt.Data!BD$7)/1000000),\"-\")","v":8.861208769154949},{"$f":"IFERROR(IF($B$2=\"トン\",AppQt.Data!BE65,(AppQt.Data!BE65*ozton*AppQt.Data!BE$7)/1000000),\"-\")","v":9.0301112504419425},{"$f":"IFERROR(IF($B$2=\"トン\",AppQt.Data!BF65,(AppQt.Data!BF65*ozton*AppQt.Data!BF$7)/1000000),\"-\")","v":9.3940442004596179},{"$f":"IFERROR(IF($B$2=\"トン\",AppQt.Data!BG65,(AppQt.Data!BG65*ozton*AppQt.Data!BG$7)/1000000),\"-\")","v":11.436569870505581},{"$f":"IFERROR(IF($B$2=\"トン\",AppQt.Data!BH65,(AppQt.Data!BH65*ozton*AppQt.Data!BH$7)/1000000),\"-\")","v":11.681108357556139},{"$f":"IFERROR(IF($B$2=\"トン\",AppQt.Data!BI65,(AppQt.Data!BI65*ozton*AppQt.Data!BI$7)/1000000),\"-\")","v":8.4355121860449103},{"$f":"IFERROR(IF($B$2=\"トン\",AppQt.Data!BJ65,(AppQt.Data!BJ65*ozton*AppQt.Data!BJ$7)/1000000),\"-\")","v":7.5324816103676948},{"$f":"IFERROR(IF($B$2=\"トン\",AppQt.Data!BK65,(AppQt.Data!BK65*ozton*AppQt.Data!BK$7)/1000000),\"-\")","v":9.5934129324412325},{"$f":"IFERROR(IF($B$2=\"トン\",AppQt.Data!BL65,(AppQt.Data!BL65*ozton*AppQt.Data!BL$7)/1000000),\"-\")","v":10.122377499999999},"▼",-13.344032174377073]
[null,"南北アメリカ",{"$f":"IFERROR(IF($B$2=\"トン\",AppAn.Data!L56,(AppAn.Data!L56*ozton*AppAn.Data!L$6)/1000000),\"-\")","v":190.58860359519966},{"$f":"IFERROR(IF($B$2=\"トン\",AppAn.Data!M56,(AppAn.Data!M56*ozton*AppAn.Data!M$6)/1000000),\"-\")","v":174.42852414569461},{"$f":"IFERROR(IF($B$2=\"トン\",AppAn.Data!N56,(AppAn.Data!N56*ozton*AppAn.Data!N$6)/1000000),\"-\")","v":162.56919588373586},{"$f":"IFERROR(IF($B$2=\"トン\",AppAn.Data!O56,(AppAn.Data!O56*ozton*AppAn.Data!O$6)/1000000),\"-\")","v":165.81123120076154},{"$f":"IFERROR(IF($B$2=\"トン\",AppAn.Data!P56,(AppAn.Data!P56*ozton*AppAn.Data!P$6)/1000000),\"-\")","v":168.51811069050964},{"$f":"IFERROR(IF($B$2=\"トン\",AppAn.Data!Q56,(AppAn.Data!Q56*ozton*AppAn.Data!Q$6)/1000000),\"-\")","v":170.27115734648672},{"$f":"IFERROR(IF($B$2=\"トン\",AppAn.Data!R56,(AppAn.Data!R56*ozton*AppAn.Data!R$6)/1000000),\"-\")","v":167.45061893093819},{"$f":"IFERROR(IF($B$2=\"トン\",AppAn.Data!S56,(AppAn.Data!S56*ozton*AppAn.Data!S$6)/1000000),\"-\")","v":173.53997617116286},{"$f":"IFERROR(IF($B$2=\"トン\",AppAn.Data!T56,(AppAn.Data!T56*ozton*AppAn.Data!T$6)/1000000),\"-\")","v":178.67611265666844},{"$f":"IFERROR(IF($B$2=\"トン\",AppAn.Data!U56,(AppAn.Data!U56*ozton*AppAn.Data!U$6)/1000000),\"-\")","v":180.93354373935537},{"$f":"IFERROR(IF($B$2=\"トン\",AppAn.Data!V56,(AppAn.Data!V56*ozton*AppAn.Data!V$6)/1000000),\"-\")","v":158.20762662302806},{"$f":"IFERROR(IF($B$2=\"トン\",AppAn.Data!W56,(AppAn.Data!W56*ozton*AppAn.Data!W$6)/1000000),\"-\")","v":191.59606879600707},{"$f":"IFERROR(IF($B$2=\"トン\",AppAn.Data!X56,(AppAn.Data!X56*ozton*AppAn.Data!X$6)/1000000),\"-\")","v":187.77555130678473},"▼",-1.9940479537135292,null,{"$f":"IFERROR(IF($B$2=\"トン\",AppQt.Data!M66,(AppQt.Data!M66*ozton*AppQt.Data!M$7)/1000000),\"-\")","v":34.700858197985198},{"$f":"IFERROR(IF($B$2=\"トン\",AppQt.Data!N66,(AppQt.Data!N66*ozton*AppQt.Data!N$7)/1000000),\"-\")","v":42.034664368595386},{"$f":"IFERROR(IF($B$2=\"トン\",AppQt.Data!O66,(AppQt.Data!O66*ozton*AppQt.Data!O$7)/1000000),\"-\")","v":44.985466926840495},{"$f":"IFERROR(IF($B$2=\"トン\",AppQt.Data!P66,(AppQt.Data!P66*ozton*AppQt.Data!P$7)/1000000),\"-\")","v":68.867614101778571},{"$f":"IFERROR(IF($B$2=\"トン\",AppQt.Data!Q66,(AppQt.Data!Q66*ozton*AppQt.Data!Q$7)/1000000),\"-\")","v":31.152547680883774},{"$f":"IFERROR(IF($B$2=\"トン\",AppQt.Data!R66,(AppQt.Data!R66*ozton*AppQt.Data!R$7)/1000000),\"-\")","v":38.983193645512245},{"$f":"IFERROR(IF($B$2=\"トン\",AppQt.Data!S66,(AppQt.Data!S66*ozton*AppQt.Data!S$7)/1000000),\"-\")","v":42.200945373420751},{"$f":"IFERROR(IF($B$2=\"トン\",AppQt.Data!T66,(AppQt.Data!T66*ozton*AppQt.Data!T$7)/1000000),\"-\")","v":62.091837445877829},{"$f":"IFERROR(IF($B$2=\"トン\",AppQt.Data!U66,(AppQt.Data!U66*ozton*AppQt.Data!U$7)/1000000),\"-\")","v":28.274691771067754},{"$f":"IFERROR(IF($B$2=\"トン\",AppQt.Data!V66,(AppQt.Data!V66*ozton*AppQt.Data!V$7)/1000000),\"-\")","v":35.940265735093249},{"$f":"IFERROR(IF($B$2=\"トン\",AppQt.Data!W66,(AppQt.Data!W66*ozton*AppQt.Data!W$7)/1000000),\"-\")","v":40.865445745588303},{"$f":"IFERROR(IF($B$2=\"トン\",AppQt.Data!X66,(AppQt.Data!X66*ozton*AppQt.Data!X$7)/1000000),\"-\")","v":57.488792631986577},{"$f":"IFERROR(IF($B$2=\"トン\",AppQt.Data!Y66,(AppQt.Data!Y66*ozton*AppQt.Data!Y$7)/1000000),\"-\")","v":31.365997981864865},{"$f":"IFERROR(IF($B$2=\"トン\",AppQt.Data!Z66,(AppQt.Data!Z66*ozton*AppQt.Data!Z$7)/1000000),\"-\")","v":36.638810002765425},{"$f":"IFERROR(IF($B$2=\"トン\",AppQt.Data!AA66,(AppQt.Data!AA66*ozton*AppQt.Data!AA$7)/1000000),\"-\")","v":37.888416598875139},{"$f":"IFERROR(IF($B$2=\"トン\",AppQt.Data!AB66,(AppQt.Data!AB66*ozton*AppQt.Data!AB$7)/1000000),\"-\")","v":59.91800661725609},{"$f":"IFERROR(IF($B$2=\"トン\",AppQt.Data!AC66,(AppQt.Data!AC66*ozton*AppQt.Data!AC$7)/1000000),\"-\")","v":32.160869465722094},{"$f":"IFERROR(IF($B$2=\"トン\",AppQt.Data!AD66,(AppQt.Data!AD66*ozton*AppQt.Data!AD$7)/1000000),\"-\")","v":38.603734554232389},{"$f":"IFERROR(IF($B$2=\"トン\",AppQt.Data!AE66,(AppQt.Data!AE66*ozton*AppQt.Data!AE$7)/1000000),\"-\")","v":38.239795975991868},{"$f":"IFERROR(IF($B$2=\"トン\",AppQt.Data!AF66,(AppQt.Data!AF66*ozton*AppQt.Data!AF$7)/1000000),\"-\")","v":59.513710694563301},{"$f":"IFERROR(IF($B$2=\"トン\",AppQt.Data!AG66,(AppQt.Data!AG66*ozton*AppQt.Data!AG$7)/1000000),\"-\")","v":32.729201815646569},{"$f":"IFERROR(IF($B$2=\"トン\",AppQt.Data!AH66,(AppQt.Data!AH66*ozton*AppQt.Data!AH$7)/1000000),\"-\")","v":39.048085439643394},{"$f":"IFERROR(IF($B$2=\"トン\",AppQt.Data!AI66,(AppQt.Data!AI66*ozton*AppQt.Data!AI$7)/1000000),\"-\")","v":38.157801717973676},{"$f":"IFERROR(IF($B$2=\"トン\",AppQt.Data!AJ66,(AppQt.Data!AJ66*ozton*AppQt.Data!AJ$7)/1000000),\"-\")","v":60.336068373223071},{"$f":"IFERROR(IF($B$2=\"トン\",AppQt.Data!AK66,(AppQt.Data!AK66*ozton*AppQt.Data!AK$7)/1000000),\"-\")","v":32.421730458500988},{"$f":"IFERROR(IF($B$2=\"トン\",AppQt.Data!AL66,(AppQt.Data!AL66*ozton*AppQt.Data!AL$7)/1000000),\"-\")","v":38.514147964747117},{"$f":"IFERROR(IF($B$2=\"トン\",AppQt.Data!AM66,(AppQt.Data!AM66*ozton*AppQt.Data!AM$7)/1000000),\"-\")","v":37.315125024716131},{"$f":"IFERROR(IF($B$2=\"トン\",AppQt.Data!AN66,(AppQt.Data!AN66*ozton*AppQt.Data!AN$7)/1000000),\"-\")","v":59.19961548297394},{"$f":"IFERROR(IF($B$2=\"トン\",AppQt.Data!AO66,(AppQt.Data!AO66*ozton*AppQt.Data!AO$7)/1000000),\"-\")","v":32.999519363161902},{"$f":"IFERROR(IF($B$2=\"トン\",AppQt.Data!AP66,(AppQt.Data!AP66*ozton*AppQt.Data!AP$7)/1000000),\"-\")","v":39.845462040868398},{"$f":"IFERROR(IF($B$2=\"トン\",AppQt.Data!AQ66,(AppQt.Data!AQ66*ozton*AppQt.Data!AQ$7)/1000000),\"-\")","v":38.821640565192581},{"$f":"IFERROR(IF($B$2=\"トン\",AppQt.Data!AR66,(AppQt.Data!AR66*ozton*AppQt.Data!AR$7)/1000000),\"-\")","v":61.873354201939989},{"$f":"IFERROR(IF($B$2=\"トン\",AppQt.Data!AS66,(AppQt.Data!AS66*ozton*AppQt.Data!AS$7)/1000000),\"-\")","v":34.117941307522635},{"$f":"IFERROR(IF($B$2=\"トン\",AppQt.Data!AT66,(AppQt.Data!AT66*ozton*AppQt.Data!AT$7)/1000000),\"-\")","v":41.280559756838485},{"$f":"IFERROR(IF($B$2=\"トン\",AppQt.Data!AU66,(AppQt.Data!AU66*ozton*AppQt.Data!AU$7)/1000000),\"-\")","v":40.106053417100505},{"$f":"IFERROR(IF($B$2=\"トン\",AppQt.Data!AV66,(AppQt.Data!AV66*ozton*AppQt.Data!AV$7)/1000000),\"-\")","v":63.171558175206769},{"$f":"IFERROR(IF($B$2=\"トン\",AppQt.Data!AW66,(AppQt.Data!AW66*ozton*AppQt.Data!AW$7)/1000000),\"-\")","v":34.38699498490125},{"$f":"IFERROR(IF($B$2=\"トン\",AppQt.Data!AX66,(AppQt.Data!AX66*ozton*AppQt.Data!AX$7)/1000000),\"-\")","v":41.472521198618772},{"$f":"IFERROR(IF($B$2=\"トン\",AppQt.Data!AY66,(AppQt.Data!AY66*ozton*AppQt.Data!AY$7)/1000000),\"-\")","v":40.733097694187414},{"$f":"IFERROR(IF($B$2=\"トン\",AppQt.Data!AZ66,(AppQt.Data!AZ66*ozton*AppQt.Data!AZ$7)/1000000),\"-\")","v":64.340929861647979},{"$f":"IFERROR(IF($B$2=\"トン\",AppQt.Data!BA66,(AppQt.Data!BA66*ozton*AppQt.Data!BA$7)/1000000),\"-\")","v":32.232625687166063},{"$f":"IFERROR(IF($B$2=\"トン\",AppQt.Data!BB66,(AppQt.Data!BB66*ozton*AppQt.Data!BB$7)/1000000),\"-\")","v":27.157885727080711},{"$f":"IFERROR(IF($B$2=\"トン\",AppQt.Data!BC66,(AppQt.Data!BC66*ozton*AppQt.Data!BC$7)/1000000),\"-\")","v":36.862838337545284},{"$f":"IFERROR(IF($B$2=\"トン\",AppQt.Data!BD66,(AppQt.Data!BD66*ozton*AppQt.Data!BD$7)/1000000),\"-\")","v":61.954276871235983},{"$f":"IFERROR(IF($B$2=\"トン\",AppQt.Data!BE66,(AppQt.Data!BE66*ozton*AppQt.Data!BE$7)/1000000),\"-\")","v":34.80487574285786},{"$f":"IFERROR(IF($B$2=\"トン\",AppQt.Data!BF66,(AppQt.Data!BF66*ozton*AppQt.Data!BF$7)/1000000),\"-\")","v":48.023202903552253},{"$f":"IFERROR(IF($B$2=\"トン\",AppQt.Data!BG66,(AppQt.Data!BG66*ozton*AppQt.Data!BG$7)/1000000),\"-\")","v":40.826189191713794},{"$f":"IFERROR(IF($B$2=\"トン\",AppQt.Data!BH66,(AppQt.Data!BH66*ozton*AppQt.Data!BH$7)/1000000),\"-\")","v":67.941800957883174},{"$f":"IFERROR(IF($B$2=\"トン\",AppQt.Data!BI66,(AppQt.Data!BI66*ozton*AppQt.Data!BI$7)/1000000),\"-\")","v":35.535249432207905},{"$f":"IFERROR(IF($B$2=\"トン\",AppQt.Data!BJ66,(AppQt.Data!BJ66*ozton*AppQt.Data!BJ$7)/1000000),\"-\")","v":47.587218921590889},{"$f":"IFERROR(IF($B$2=\"トン\",AppQt.Data!BK66,(AppQt.Data!BK66*ozton*AppQt.Data!BK$7)/1000000),\"-\")","v":39.273151775671437},{"$f":"IFERROR(IF($B$2=\"トン\",AppQt.Data!BL66,(AppQt.Data!BL66*ozton*AppQt.Data!BL$7)/1000000),\"-\")","v":65.379931177314504},"▼",-3.77068276738316]
[null,"米国",{"$f":"IFERROR(IF($B$2=\"トン\",AppAn.Data!L57,(AppAn.Data!L57*ozton*AppAn.Data!L$6)/1000000),\"-\")","v":122.33281211308571},{"$f":"IFERROR(IF($B$2=\"トン\",AppAn.Data!M57,(AppAn.Data!M57*ozton*AppAn.Data!M$6)/1000000),\"-\")","v":115.88160749906325},{"$f":"IFERROR(IF($B$2=\"トン\",AppAn.Data!N57,(AppAn.Data!N57*ozton*AppAn.Data!N$6)/1000000),\"-\")","v":107.05386929056775},{"$f":"IFERROR(IF($B$2=\"トン\",AppAn.Data!O57,(AppAn.Data!O57*ozton*AppAn.Data!O$6)/1000000),\"-\")","v":112.50252781914477},{"$f":"IFERROR(IF($B$2=\"トン\",AppAn.Data!P57,(AppAn.Data!P57*ozton*AppAn.Data!P$6)/1000000),\"-\")","v":116.55751744856846},{"$f":"IFERROR(IF($B$2=\"トン\",AppAn.Data!Q57,(AppAn.Data!Q57*ozton*AppAn.Data!Q$6)/1000000),\"-\")","v":119.49657516903576},{"$f":"IFERROR(IF($B$2=\"トン\",AppAn.Data!R57,(AppAn.Data!R57*ozton*AppAn.Data!R$6)/1000000),\"-\")","v":118.77624333553348},{"$f":"IFERROR(IF($B$2=\"トン\",AppAn.Data!S57,(AppAn.Data!S57*ozton*AppAn.Data!S$6)/1000000),\"-\")","v":123.65757419730505},{"$f":"IFERROR(IF($B$2=\"トン\",AppAn.Data!T57,(AppAn.Data!T57*ozton*AppAn.Data!T$6)/1000000),\"-\")","v":128.37651231462507},{"$f":"IFERROR(IF($B$2=\"トン\",AppAn.Data!U57,(AppAn.Data!U57*ozton*AppAn.Data!U$6)/1000000),\"-\")","v":131.1},{"$f":"IFERROR(IF($B$2=\"トン\",AppAn.Data!V57,(AppAn.Data!V57*ozton*AppAn.Data!V$6)/1000000),\"-\")","v":118.20000000000002},{"$f":"IFERROR(IF($B$2=\"トン\",AppAn.Data!W57,(AppAn.Data!W57*ozton*AppAn.Data!W$6)/1000000),\"-\")","v":149.0976},{"$f":"IFERROR(IF($B$2=\"トン\",AppAn.Data!X57,(AppAn.Data!X57*ozton*AppAn.Data!X$6)/1000000),\"-\")","v":143.69499999999999},"▼",-3.6235325048827094,null,{"$f":"IFERROR(IF($B$2=\"トン\",AppQt.Data!M67,(AppQt.Data!M67*ozton*AppQt.Data!M$7)/1000000),\"-\")","v":22.952142579583995},{"$f":"IFERROR(IF($B$2=\"トン\",AppQt.Data!N67,(AppQt.Data!N67*ozton*AppQt.Data!N$7)/1000000),\"-\")","v":23.883684919066102},{"$f":"IFERROR(IF($B$2=\"トン\",AppQt.Data!O67,(AppQt.Data!O67*ozton*AppQt.Data!O$7)/1000000),\"-\")","v":31.0699805039472},{"$f":"IFERROR(IF($B$2=\"トン\",AppQt.Data!P67,(AppQt.Data!P67*ozton*AppQt.Data!P$7)/1000000),\"-\")","v":44.427004110488411},{"$f":"IFERROR(IF($B$2=\"トン\",AppQt.Data!Q67,(AppQt.Data!Q67*ozton*AppQt.Data!Q$7)/1000000),\"-\")","v":21.073225243510961},{"$f":"IFERROR(IF($B$2=\"トン\",AppQt.Data!R67,(AppQt.Data!R67*ozton*AppQt.Data!R$7)/1000000),\"-\")","v":22.623572599017741},{"$f":"IFERROR(IF($B$2=\"トン\",AppQt.Data!S67,(AppQt.Data!S67*ozton*AppQt.Data!S$7)/1000000),\"-\")","v":30.248503001876735},{"$f":"IFERROR(IF($B$2=\"トン\",AppQt.Data!T67,(AppQt.Data!T67*ozton*AppQt.Data!T$7)/1000000),\"-\")","v":41.93630665465782},{"$f":"IFERROR(IF($B$2=\"トン\",AppQt.Data!U67,(AppQt.Data!U67*ozton*AppQt.Data!U$7)/1000000),\"-\")","v":19.349981448600332},{"$f":"IFERROR(IF($B$2=\"トン\",AppQt.Data!V67,(AppQt.Data!V67*ozton*AppQt.Data!V$7)/1000000),\"-\")","v":20.080228485150357},{"$f":"IFERROR(IF($B$2=\"トン\",AppQt.Data!W67,(AppQt.Data!W67*ozton*AppQt.Data!W$7)/1000000),\"-\")","v":27.699744114312601},{"$f":"IFERROR(IF($B$2=\"トン\",AppQt.Data!X67,(AppQt.Data!X67*ozton*AppQt.Data!X$7)/1000000),\"-\")","v":39.923915242504457},{"$f":"IFERROR(IF($B$2=\"トン\",AppQt.Data!Y67,(AppQt.Data!Y67*ozton*AppQt.Data!Y$7)/1000000),\"-\")","v":20.650412482246804},{"$f":"IFERROR(IF($B$2=\"トン\",AppQt.Data!Z67,(AppQt.Data!Z67*ozton*AppQt.Data!Z$7)/1000000),\"-\")","v":24.02891216612392},{"$f":"IFERROR(IF($B$2=\"トン\",AppQt.Data!AA67,(AppQt.Data!AA67*ozton*AppQt.Data!AA$7)/1000000),\"-\")","v":25.306112486098371},{"$f":"IFERROR(IF($B$2=\"トン\",AppQt.Data!AB67,(AppQt.Data!AB67*ozton*AppQt.Data!AB$7)/1000000),\"-\")","v":42.517090684675672},{"$f":"IFERROR(IF($B$2=\"トン\",AppQt.Data!AC67,(AppQt.Data!AC67*ozton*AppQt.Data!AC$7)/1000000),\"-\")","v":21.519548340618961},{"$f":"IFERROR(IF($B$2=\"トン\",AppQt.Data!AD67,(AppQt.Data!AD67*ozton*AppQt.Data!AD$7)/1000000),\"-\")","v":25.020066300968114},{"$f":"IFERROR(IF($B$2=\"トン\",AppQt.Data!AE67,(AppQt.Data!AE67*ozton*AppQt.Data!AE$7)/1000000),\"-\")","v":26.214198059353905},{"$f":"IFERROR(IF($B$2=\"トン\",AppQt.Data!AF67,(AppQt.Data!AF67*ozton*AppQt.Data!AF$7)/1000000),\"-\")","v":43.803704747627471},{"$f":"IFERROR(IF($B$2=\"トン\",AppQt.Data!AG67,(AppQt.Data!AG67*ozton*AppQt.Data!AG$7)/1000000),\"-\")","v":22.18532252786261},{"$f":"IFERROR(IF($B$2=\"トン\",AppQt.Data!AH67,(AppQt.Data!AH67*ozton*AppQt.Data!AH$7)/1000000),\"-\")","v":25.640942375103112},{"$f":"IFERROR(IF($B$2=\"トン\",AppQt.Data!AI67,(AppQt.Data!AI67*ozton*AppQt.Data!AI$7)/1000000),\"-\")","v":26.487241528878965},{"$f":"IFERROR(IF($B$2=\"トン\",AppQt.Data!AJ67,(AppQt.Data!AJ67*ozton*AppQt.Data!AJ$7)/1000000),\"-\")","v":45.183068737191086},{"$f":"IFERROR(IF($B$2=\"トン\",AppQt.Data!AK67,(AppQt.Data!AK67*ozton*AppQt.Data!AK$7)/1000000),\"-\")","v":22.300505544934758},{"$f":"IFERROR(IF($B$2=\"トン\",AppQt.Data!AL67,(AppQt.Data!AL67*ozton*AppQt.Data!AL$7)/1000000),\"-\")","v":25.809369928834787},{"$f":"IFERROR(IF($B$2=\"トン\",AppQt.Data!AM67,(AppQt.Data!AM67*ozton*AppQt.Data!AM$7)/1000000),\"-\")","v":25.982192270429838},{"$f":"IFERROR(IF($B$2=\"トン\",AppQt.Data!AN67,(AppQt.Data!AN67*ozton*AppQt.Data!AN$7)/1000000),\"-\")","v":44.684175591334103},{"$f":"IFERROR(IF($B$2=\"トン\",AppQt.Data!AO67,(AppQt.Data!AO67*ozton*AppQt.Data!AO$7)/1000000),\"-\")","v":22.69649540872787},{"$f":"IFERROR(IF($B$2=\"トン\",AppQt.Data!AP67,(AppQt.Data!AP67*ozton*AppQt.Data!AP$7)/1000000),\"-\")","v":26.824140999667058},{"$f":"IFERROR(IF($B$2=\"トン\",AppQt.Data!AQ67,(AppQt.Data!AQ67*ozton*AppQt.Data!AQ$7)/1000000),\"-\")","v":27.196352073191967},{"$f":"IFERROR(IF($B$2=\"トン\",AppQt.Data!AR67,(AppQt.Data!AR67*ozton*AppQt.Data!AR$7)/1000000),\"-\")","v":46.940585715718157},{"$f":"IFERROR(IF($B$2=\"トン\",AppQt.Data!AS67,(AppQt.Data!AS67*ozton*AppQt.Data!AS$7)/1000000),\"-\")","v":23.675623507239361},{"$f":"IFERROR(IF($B$2=\"トン\",AppQt.Data!AT67,(AppQt.Data!AT67*ozton*AppQt.Data!AT$7)/1000000),\"-\")","v":28.267218832858678},{"$f":"IFERROR(IF($B$2=\"トン\",AppQt.Data!AU67,(AppQt.Data!AU67*ozton*AppQt.Data!AU$7)/1000000),\"-\")","v":28.287922101001438},{"$f":"IFERROR(IF($B$2=\"トン\",AppQt.Data!AV67,(AppQt.Data!AV67*ozton*AppQt.Data!AV$7)/1000000),\"-\")","v":48.145747873525579},{"$f":"IFERROR(IF($B$2=\"トン\",AppQt.Data!AW67,(AppQt.Data!AW67*ozton*AppQt.Data!AW$7)/1000000),\"-\")","v":23.979999999999993},{"$f":"IFERROR(IF($B$2=\"トン\",AppQt.Data!AX67,(AppQt.Data!AX67*ozton*AppQt.Data!AX$7)/1000000),\"-\")","v":28.669999999999998},{"$f":"IFERROR(IF($B$2=\"トン\",AppQt.Data!AY67,(AppQt.Data!AY67*ozton*AppQt.Data!AY$7)/1000000),\"-\")","v":29.25},{"$f":"IFERROR(IF($B$2=\"トン\",AppQt.Data!AZ67,(AppQt.Data!AZ67*ozton*AppQt.Data!AZ$7)/1000000),\"-\")","v":49.2},{"$f":"IFERROR(IF($B$2=\"トン\",AppQt.Data!BA67,(AppQt.Data!BA67*ozton*AppQt.Data!BA$7)/1000000),\"-\")","v":22.799999999999997},{"$f":"IFERROR(IF($B$2=\"トン\",AppQt.Data!BB67,(AppQt.Data!BB67*ozton*AppQt.Data!BB$7)/1000000),\"-\")","v":18.55},{"$f":"IFERROR(IF($B$2=\"トン\",AppQt.Data!BC67,(AppQt.Data!BC67*ozton*AppQt.Data!BC$7)/1000000),\"-\")","v":28.169999999999998},{"$f":"IFERROR(IF($B$2=\"トン\",AppQt.Data!BD67,(AppQt.Data!BD67*ozton*AppQt.Data!BD$7)/1000000),\"-\")","v":48.680000000000014},{"$f":"IFERROR(IF($B$2=\"トン\",AppQt.Data!BE67,(AppQt.Data!BE67*ozton*AppQt.Data!BE$7)/1000000),\"-\")","v":26.522000000000002},{"$f":"IFERROR(IF($B$2=\"トン\",AppQt.Data!BF67,(AppQt.Data!BF67*ozton*AppQt.Data!BF$7)/1000000),\"-\")","v":37.672600000000003},{"$f":"IFERROR(IF($B$2=\"トン\",AppQt.Data!BG67,(AppQt.Data!BG67*ozton*AppQt.Data!BG$7)/1000000),\"-\")","v":31.679999999999989},{"$f":"IFERROR(IF($B$2=\"トン\",AppQt.Data!BH67,(AppQt.Data!BH67*ozton*AppQt.Data!BH$7)/1000000),\"-\")","v":53.222999999999999},{"$f":"IFERROR(IF($B$2=\"トン\",AppQt.Data!BI67,(AppQt.Data!BI67*ozton*AppQt.Data!BI$7)/1000000),\"-\")","v":26.650000000000006},{"$f":"IFERROR(IF($B$2=\"トン\",AppQt.Data!BJ67,(AppQt.Data!BJ67*ozton*AppQt.Data!BJ$7)/1000000),\"-\")","v":36.699999999999996},{"$f":"IFERROR(IF($B$2=\"トン\",AppQt.Data!BK67,(AppQt.Data!BK67*ozton*AppQt.Data!BK$7)/1000000),\"-\")","v":29.794999999999995},{"$f":"IFERROR(IF($B$2=\"トン\",AppQt.Data!BL67,(AppQt.Data!BL67*ozton*AppQt.Data!BL$7)/1000000),\"-\")","v":50.55},"▼",-5.0222648103263712]
[null,"カナダ",{"$f":"IFERROR(IF($B$2=\"トン\",AppAn.Data!L58,(AppAn.Data!L58*ozton*AppAn.Data!L$6)/1000000),\"-\")","v":16.740439621901906},{"$f":"IFERROR(IF($B$2=\"トン\",AppAn.Data!M58,(AppAn.Data!M58*ozton*AppAn.Data!M$6)/1000000),\"-\")","v":14.611983590032867},{"$f":"IFERROR(IF($B$2=\"トン\",AppAn.Data!N58,(AppAn.Data!N58*ozton*AppAn.Data!N$6)/1000000),\"-\")","v":13.191312351935418},{"$f":"IFERROR(IF($B$2=\"トン\",AppAn.Data!O58,(AppAn.Data!O58*ozton*AppAn.Data!O$6)/1000000),\"-\")","v":13.198213964747957},{"$f":"IFERROR(IF($B$2=\"トン\",AppAn.Data!P58,(AppAn.Data!P58*ozton*AppAn.Data!P$6)/1000000),\"-\")","v":13.956399999999999},{"$f":"IFERROR(IF($B$2=\"トン\",AppAn.Data!Q58,(AppAn.Data!Q58*ozton*AppAn.Data!Q$6)/1000000),\"-\")","v":14.16685},{"$f":"IFERROR(IF($B$2=\"トン\",AppAn.Data!R58,(AppAn.Data!R58*ozton*AppAn.Data!R$6)/1000000),\"-\")","v":13.789429999999999},{"$f":"IFERROR(IF($B$2=\"トン\",AppAn.Data!S58,(AppAn.Data!S58*ozton*AppAn.Data!S$6)/1000000),\"-\")","v":14.116610000000001},{"$f":"IFERROR(IF($B$2=\"トン\",AppAn.Data!T58,(AppAn.Data!T58*ozton*AppAn.Data!T$6)/1000000),\"-\")","v":14.274000000000001},{"$f":"IFERROR(IF($B$2=\"トン\",AppAn.Data!U58,(AppAn.Data!U58*ozton*AppAn.Data!U$6)/1000000),\"-\")","v":14.443999999999999},{"$f":"IFERROR(IF($B$2=\"トン\",AppAn.Data!V58,(AppAn.Data!V58*ozton*AppAn.Data!V$6)/1000000),\"-\")","v":13.055999999999999},{"$f":"IFERROR(IF($B$2=\"トン\",AppAn.Data!W58,(AppAn.Data!W58*ozton*AppAn.Data!W$6)/1000000),\"-\")","v":15.170300000000001},{"$f":"IFERROR(IF($B$2=\"トン\",AppAn.Data!X58,(AppAn.Data!X58*ozton*AppAn.Data!X$6)/1000000),\"-\")","v":15.43},"▲",1.7118975893686939,null,{"$f":"IFERROR(IF($B$2=\"トン\",AppQt.Data!M68,(AppQt.Data!M68*ozton*AppQt.Data!M$7)/1000000),\"-\")","v":2.8614456072876675},{"$f":"IFERROR(IF($B$2=\"トン\",AppQt.Data!N68,(AppQt.Data!N68*ozton*AppQt.Data!N$7)/1000000),\"-\")","v":4.477047203650959},{"$f":"IFERROR(IF($B$2=\"トン\",AppQt.Data!O68,(AppQt.Data!O68*ozton*AppQt.Data!O$7)/1000000),\"-\")","v":3.7435230306801563},{"$f":"IFERROR(IF($B$2=\"トン\",AppQt.Data!P68,(AppQt.Data!P68*ozton*AppQt.Data!P$7)/1000000),\"-\")","v":5.6584237802831217},{"$f":"IFERROR(IF($B$2=\"トン\",AppQt.Data!Q68,(AppQt.Data!Q68*ozton*AppQt.Data!Q$7)/1000000),\"-\")","v":2.5484860043987108},{"$f":"IFERROR(IF($B$2=\"トン\",AppQt.Data!R68,(AppQt.Data!R68*ozton*AppQt.Data!R$7)/1000000),\"-\")","v":3.8591231400386854},{"$f":"IFERROR(IF($B$2=\"トン\",AppQt.Data!S68,(AppQt.Data!S68*ozton*AppQt.Data!S$7)/1000000),\"-\")","v":3.2816339836480024},{"$f":"IFERROR(IF($B$2=\"トン\",AppQt.Data!T68,(AppQt.Data!T68*ozton*AppQt.Data!T$7)/1000000),\"-\")","v":4.9227404619474706},{"$f":"IFERROR(IF($B$2=\"トン\",AppQt.Data!U68,(AppQt.Data!U68*ozton*AppQt.Data!U$7)/1000000),\"-\")","v":2.2768841856854132},{"$f":"IFERROR(IF($B$2=\"トン\",AppQt.Data!V68,(AppQt.Data!V68*ozton*AppQt.Data!V$7)/1000000),\"-\")","v":3.5339930607460053},{"$f":"IFERROR(IF($B$2=\"トン\",AppQt.Data!W68,(AppQt.Data!W68*ozton*AppQt.Data!W$7)/1000000),\"-\")","v":2.975288047166404},{"$f":"IFERROR(IF($B$2=\"トン\",AppQt.Data!X68,(AppQt.Data!X68*ozton*AppQt.Data!X$7)/1000000),\"-\")","v":4.4051470583375956},{"$f":"IFERROR(IF($B$2=\"トン\",AppQt.Data!Y68,(AppQt.Data!Y68*ozton*AppQt.Data!Y$7)/1000000),\"-\")","v":2.5583815693037097},{"$f":"IFERROR(IF($B$2=\"トン\",AppQt.Data!Z68,(AppQt.Data!Z68*ozton*AppQt.Data!Z$7)/1000000),\"-\")","v":3.1284910080087984},{"$f":"IFERROR(IF($B$2=\"トン\",AppQt.Data!AA68,(AppQt.Data!AA68*ozton*AppQt.Data!AA$7)/1000000),\"-\")","v":2.491524050451642},{"$f":"IFERROR(IF($B$2=\"トン\",AppQt.Data!AB68,(AppQt.Data!AB68*ozton*AppQt.Data!AB$7)/1000000),\"-\")","v":5.0198173369838059},{"$f":"IFERROR(IF($B$2=\"トン\",AppQt.Data!AC68,(AppQt.Data!AC68*ozton*AppQt.Data!AC$7)/1000000),\"-\")","v":2.6029999999999998},{"$f":"IFERROR(IF($B$2=\"トン\",AppQt.Data!AD68,(AppQt.Data!AD68*ozton*AppQt.Data!AD$7)/1000000),\"-\")","v":3.2834000000000003},{"$f":"IFERROR(IF($B$2=\"トン\",AppQt.Data!AE68,(AppQt.Data!AE68*ozton*AppQt.Data!AE$7)/1000000),\"-\")","v":2.6339999999999995},{"$f":"IFERROR(IF($B$2=\"トン\",AppQt.Data!AF68,(AppQt.Data!AF68*ozton*AppQt.Data!AF$7)/1000000),\"-\")","v":5.4360000000000008},{"$f":"IFERROR(IF($B$2=\"トン\",AppQt.Data!AG68,(AppQt.Data!AG68*ozton*AppQt.Data!AG$7)/1000000),\"-\")","v":2.7021999999999995},{"$f":"IFERROR(IF($B$2=\"トン\",AppQt.Data!AH68,(AppQt.Data!AH68*ozton*AppQt.Data!AH$7)/1000000),\"-\")","v":3.4634499999999995},{"$f":"IFERROR(IF($B$2=\"トン\",AppQt.Data!AI68,(AppQt.Data!AI68*ozton*AppQt.Data!AI$7)/1000000),\"-\")","v":2.6568999999999998},{"$f":"IFERROR(IF($B$2=\"トン\",AppQt.Data!AJ68,(AppQt.Data!AJ68*ozton*AppQt.Data!AJ$7)/1000000),\"-\")","v":5.3442999999999996},{"$f":"IFERROR(IF($B$2=\"トン\",AppQt.Data!AK68,(AppQt.Data!AK68*ozton*AppQt.Data!AK$7)/1000000),\"-\")","v":2.6572},{"$f":"IFERROR(IF($B$2=\"トン\",AppQt.Data!AL68,(AppQt.Data!AL68*ozton*AppQt.Data!AL$7)/1000000),\"-\")","v":3.4215999999999993},{"$f":"IFERROR(IF($B$2=\"トン\",AppQt.Data!AM68,(AppQt.Data!AM68*ozton*AppQt.Data!AM$7)/1000000),\"-\")","v":2.5979299999999999},{"$f":"IFERROR(IF($B$2=\"トン\",AppQt.Data!AN68,(AppQt.Data!AN68*ozton*AppQt.Data!AN$7)/1000000),\"-\")","v":5.1127000000000002},{"$f":"IFERROR(IF($B$2=\"トン\",AppQt.Data!AO68,(AppQt.Data!AO68*ozton*AppQt.Data!AO$7)/1000000),\"-\")","v":2.7170000000000005},{"$f":"IFERROR(IF($B$2=\"トン\",AppQt.Data!AP68,(AppQt.Data!AP68*ozton*AppQt.Data!AP$7)/1000000),\"-\")","v":3.5236999999999994},{"$f":"IFERROR(IF($B$2=\"トン\",AppQt.Data!AQ68,(AppQt.Data!AQ68*ozton*AppQt.Data!AQ$7)/1000000),\"-\")","v":2.6180500000000002},{"$f":"IFERROR(IF($B$2=\"トン\",AppQt.Data!AR68,(AppQt.Data!AR68*ozton*AppQt.Data!AR$7)/1000000),\"-\")","v":5.25786},{"$f":"IFERROR(IF($B$2=\"トン\",AppQt.Data!AS68,(AppQt.Data!AS68*ozton*AppQt.Data!AS$7)/1000000),\"-\")","v":2.7255000000000007},{"$f":"IFERROR(IF($B$2=\"トン\",AppQt.Data!AT68,(AppQt.Data!AT68*ozton*AppQt.Data!AT$7)/1000000),\"-\")","v":3.5554999999999999},{"$f":"IFERROR(IF($B$2=\"トン\",AppQt.Data!AU68,(AppQt.Data!AU68*ozton*AppQt.Data!AU$7)/1000000),\"-\")","v":2.6375000000000006},{"$f":"IFERROR(IF($B$2=\"トン\",AppQt.Data!AV68,(AppQt.Data!AV68*ozton*AppQt.Data!AV$7)/1000000),\"-\")","v":5.3554999999999993},{"$f":"IFERROR(IF($B$2=\"トン\",AppQt.Data!AW68,(AppQt.Data!AW68*ozton*AppQt.Data!AW$7)/1000000),\"-\")","v":2.7610000000000001},{"$f":"IFERROR(IF($B$2=\"トン\",AppQt.Data!AX68,(AppQt.Data!AX68*ozton*AppQt.Data!AX$7)/1000000),\"-\")","v":3.5979999999999999},{"$f":"IFERROR(IF($B$2=\"トン\",AppQt.Data!AY68,(AppQt.Data!AY68*ozton*AppQt.Data!AY$7)/1000000),\"-\")","v":2.6150000000000002},{"$f":"IFERROR(IF($B$2=\"トン\",AppQt.Data!AZ68,(AppQt.Data!AZ68*ozton*AppQt.Data!AZ$7)/1000000),\"-\")","v":5.47},{"$f":"IFERROR(IF($B$2=\"トン\",AppQt.Data!BA68,(AppQt.Data!BA68*ozton*AppQt.Data!BA$7)/1000000),\"-\")","v":2.5829999999999993},{"$f":"IFERROR(IF($B$2=\"トン\",AppQt.Data!BB68,(AppQt.Data!BB68*ozton*AppQt.Data!BB$7)/1000000),\"-\")","v":2.016},{"$f":"IFERROR(IF($B$2=\"トン\",AppQt.Data!BC68,(AppQt.Data!BC68*ozton*AppQt.Data!BC$7)/1000000),\"-\")","v":2.629},{"$f":"IFERROR(IF($B$2=\"トン\",AppQt.Data!BD68,(AppQt.Data!BD68*ozton*AppQt.Data!BD$7)/1000000),\"-\")","v":5.8279999999999994},{"$f":"IFERROR(IF($B$2=\"トン\",AppQt.Data!BE68,(AppQt.Data!BE68*ozton*AppQt.Data!BE$7)/1000000),\"-\")","v":2.617},{"$f":"IFERROR(IF($B$2=\"トン\",AppQt.Data!BF68,(AppQt.Data!BF68*ozton*AppQt.Data!BF$7)/1000000),\"-\")","v":3.4102999999999999},{"$f":"IFERROR(IF($B$2=\"トン\",AppQt.Data!BG68,(AppQt.Data!BG68*ozton*AppQt.Data!BG$7)/1000000),\"-\")","v":2.6819999999999999},{"$f":"IFERROR(IF($B$2=\"トン\",AppQt.Data!BH68,(AppQt.Data!BH68*ozton*AppQt.Data!BH$7)/1000000),\"-\")","v":6.4610000000000003},{"$f":"IFERROR(IF($B$2=\"トン\",AppQt.Data!BI68,(AppQt.Data!BI68*ozton*AppQt.Data!BI$7)/1000000),\"-\")","v":2.851},{"$f":"IFERROR(IF($B$2=\"トン\",AppQt.Data!BJ68,(AppQt.Data!BJ68*ozton*AppQt.Data!BJ$7)/1000000),\"-\")","v":3.6279999999999997},{"$f":"IFERROR(IF($B$2=\"トン\",AppQt.Data!BK68,(AppQt.Data!BK68*ozton*AppQt.Data!BK$7)/1000000),\"-\")","v":2.7559999999999998},{"$f":"IFERROR(IF($B$2=\"トン\",AppQt.Data!BL68,(AppQt.Data!BL68*ozton*AppQt.Data!BL$7)/1000000),\"-\")","v":6.1950000000000003},"▼",-4.1170097508125725]
[null,"メキシコ",{"$f":"IFERROR(IF($B$2=\"トン\",AppAn.Data!L59,(AppAn.Data!L59*ozton*AppAn.Data!L$6)/1000000),\"-\")","v":22.766523856014288},{"$f":"IFERROR(IF($B$2=\"トン\",AppAn.Data!M59,(AppAn.Data!M59*ozton*AppAn.Data!M$6)/1000000),\"-\")","v":18.916729384596277},{"$f":"IFERROR(IF($B$2=\"トン\",AppAn.Data!N59,(AppAn.Data!N59*ozton*AppAn.Data!N$6)/1000000),\"-\")","v":15.261253628921494},{"$f":"IFERROR(IF($B$2=\"トン\",AppAn.Data!O59,(AppAn.Data!O59*ozton*AppAn.Data!O$6)/1000000),\"-\")","v":15.87210916788295},{"$f":"IFERROR(IF($B$2=\"トン\",AppAn.Data!P59,(AppAn.Data!P59*ozton*AppAn.Data!P$6)/1000000),\"-\")","v":15.777822288927755},{"$f":"IFERROR(IF($B$2=\"トン\",AppAn.Data!Q59,(AppAn.Data!Q59*ozton*AppAn.Data!Q$6)/1000000),\"-\")","v":16.637960195381453},{"$f":"IFERROR(IF($B$2=\"トン\",AppAn.Data!R59,(AppAn.Data!R59*ozton*AppAn.Data!R$6)/1000000),\"-\")","v":15.951600456538129},{"$f":"IFERROR(IF($B$2=\"トン\",AppAn.Data!S59,(AppAn.Data!S59*ozton*AppAn.Data!S$6)/1000000),\"-\")","v":16.601202973857799},{"$f":"IFERROR(IF($B$2=\"トン\",AppAn.Data!T59,(AppAn.Data!T59*ozton*AppAn.Data!T$6)/1000000),\"-\")","v":16.835222392043349},{"$f":"IFERROR(IF($B$2=\"トン\",AppAn.Data!U59,(AppAn.Data!U59*ozton*AppAn.Data!U$6)/1000000),\"-\")","v":16.64316378125541},{"$f":"IFERROR(IF($B$2=\"トン\",AppAn.Data!V59,(AppAn.Data!V59*ozton*AppAn.Data!V$6)/1000000),\"-\")","v":12.403891985458035},{"$f":"IFERROR(IF($B$2=\"トン\",AppAn.Data!W59,(AppAn.Data!W59*ozton*AppAn.Data!W$6)/1000000),\"-\")","v":12.725100792266081},{"$f":"IFERROR(IF($B$2=\"トン\",AppAn.Data!X59,(AppAn.Data!X59*ozton*AppAn.Data!X$6)/1000000),\"-\")","v":13.189050111523711},"▲",3.6459382666705675,null,{"$f":"IFERROR(IF($B$2=\"トン\",AppQt.Data!M69,(AppQt.Data!M69*ozton*AppQt.Data!M$7)/1000000),\"-\")","v":4.8192820636649643},{"$f":"IFERROR(IF($B$2=\"トン\",AppQt.Data!N69,(AppQt.Data!N69*ozton*AppQt.Data!N$7)/1000000),\"-\")","v":5.9957342019276663},{"$f":"IFERROR(IF($B$2=\"トン\",AppQt.Data!O69,(AppQt.Data!O69*ozton*AppQt.Data!O$7)/1000000),\"-\")","v":4.0195311466575347},{"$f":"IFERROR(IF($B$2=\"トン\",AppQt.Data!P69,(AppQt.Data!P69*ozton*AppQt.Data!P$7)/1000000),\"-\")","v":7.9319764437641247},{"$f":"IFERROR(IF($B$2=\"トン\",AppQt.Data!Q69,(AppQt.Data!Q69*ozton*AppQt.Data!Q$7)/1000000),\"-\")","v":3.5639453523936515},{"$f":"IFERROR(IF($B$2=\"トン\",AppQt.Data!R69,(AppQt.Data!R69*ozton*AppQt.Data!R$7)/1000000),\"-\")","v":5.0661330922226},{"$f":"IFERROR(IF($B$2=\"トン\",AppQt.Data!S69,(AppQt.Data!S69*ozton*AppQt.Data!S$7)/1000000),\"-\")","v":3.6043754796578975},{"$f":"IFERROR(IF($B$2=\"トン\",AppQt.Data!T69,(AppQt.Data!T69*ozton*AppQt.Data!T$7)/1000000),\"-\")","v":6.6822754603221277},{"$f":"IFERROR(IF($B$2=\"トン\",AppQt.Data!U69,(AppQt.Data!U69*ozton*AppQt.Data!U$7)/1000000),\"-\")","v":2.8492618325620223},{"$f":"IFERROR(IF($B$2=\"トン\",AppQt.Data!V69,(AppQt.Data!V69*ozton*AppQt.Data!V$7)/1000000),\"-\")","v":4.3123677437634296},{"$f":"IFERROR(IF($B$2=\"トン\",AppQt.Data!W69,(AppQt.Data!W69*ozton*AppQt.Data!W$7)/1000000),\"-\")","v":4.1970262257721931},{"$f":"IFERROR(IF($B$2=\"トン\",AppQt.Data!X69,(AppQt.Data!X69*ozton*AppQt.Data!X$7)/1000000),\"-\")","v":3.9025978268238495},{"$f":"IFERROR(IF($B$2=\"トン\",AppQt.Data!Y69,(AppQt.Data!Y69*ozton*AppQt.Data!Y$7)/1000000),\"-\")","v":3.5003853895264601},{"$f":"IFERROR(IF($B$2=\"トン\",AppQt.Data!Z69,(AppQt.Data!Z69*ozton*AppQt.Data!Z$7)/1000000),\"-\")","v":3.9025887648849573},{"$f":"IFERROR(IF($B$2=\"トン\",AppQt.Data!AA69,(AppQt.Data!AA69*ozton*AppQt.Data!AA$7)/1000000),\"-\")","v":4.2460684772489881},{"$f":"IFERROR(IF($B$2=\"トン\",AppQt.Data!AB69,(AppQt.Data!AB69*ozton*AppQt.Data!AB$7)/1000000),\"-\")","v":4.2230665362225457},{"$f":"IFERROR(IF($B$2=\"トン\",AppQt.Data!AC69,(AppQt.Data!AC69*ozton*AppQt.Data!AC$7)/1000000),\"-\")","v":3.7847148703583233},{"$f":"IFERROR(IF($B$2=\"トン\",AppQt.Data!AD69,(AppQt.Data!AD69*ozton*AppQt.Data!AD$7)/1000000),\"-\")","v":3.8940083868172204},{"$f":"IFERROR(IF($B$2=\"トン\",AppQt.Data!AE69,(AppQt.Data!AE69*ozton*AppQt.Data!AE$7)/1000000),\"-\")","v":4.1696674100235533},{"$f":"IFERROR(IF($B$2=\"トン\",AppQt.Data!AF69,(AppQt.Data!AF69*ozton*AppQt.Data!AF$7)/1000000),\"-\")","v":3.9294316217286576},{"$f":"IFERROR(IF($B$2=\"トン\",AppQt.Data!AG69,(AppQt.Data!AG69*ozton*AppQt.Data!AG$7)/1000000),\"-\")","v":3.9788834841796779},{"$f":"IFERROR(IF($B$2=\"トン\",AppQt.Data!AH69,(AppQt.Data!AH69*ozton*AppQt.Data!AH$7)/1000000),\"-\")","v":4.168459189174273},{"$f":"IFERROR(IF($B$2=\"トン\",AppQt.Data!AI69,(AppQt.Data!AI69*ozton*AppQt.Data!AI$7)/1000000),\"-\")","v":4.3575944781960967},{"$f":"IFERROR(IF($B$2=\"トン\",AppQt.Data!AJ69,(AppQt.Data!AJ69*ozton*AppQt.Data!AJ$7)/1000000),\"-\")","v":4.1330230438314048},{"$f":"IFERROR(IF($B$2=\"トン\",AppQt.Data!AK69,(AppQt.Data!AK69*ozton*AppQt.Data!AK$7)/1000000),\"-\")","v":3.865477580896441},{"$f":"IFERROR(IF($B$2=\"トン\",AppQt.Data!AL69,(AppQt.Data!AL69*ozton*AppQt.Data!AL$7)/1000000),\"-\")","v":4.0150362297155597},{"$f":"IFERROR(IF($B$2=\"トン\",AppQt.Data!AM69,(AppQt.Data!AM69*ozton*AppQt.Data!AM$7)/1000000),\"-\")","v":4.1347147542862928},{"$f":"IFERROR(IF($B$2=\"トン\",AppQt.Data!AN69,(AppQt.Data!AN69*ozton*AppQt.Data!AN$7)/1000000),\"-\")","v":3.9363718916398351},{"$f":"IFERROR(IF($B$2=\"トン\",AppQt.Data!AO69,(AppQt.Data!AO69*ozton*AppQt.Data!AO$7)/1000000),\"-\")","v":3.9750239544340311},{"$f":"IFERROR(IF($B$2=\"トン\",AppQt.Data!AP69,(AppQt.Data!AP69*ozton*AppQt.Data!AP$7)/1000000),\"-\")","v":4.1916880412013366},{"$f":"IFERROR(IF($B$2=\"トン\",AppQt.Data!AQ69,(AppQt.Data!AQ69*ozton*AppQt.Data!AQ$7)/1000000),\"-\")","v":4.3464504920006073},{"$f":"IFERROR(IF($B$2=\"トン\",AppQt.Data!AR69,(AppQt.Data!AR69*ozton*AppQt.Data!AR$7)/1000000),\"-\")","v":4.0880404862218258},{"$f":"IFERROR(IF($B$2=\"トン\",AppQt.Data!AS69,(AppQt.Data!AS69*ozton*AppQt.Data!AS$7)/1000000),\"-\")","v":4.1086078002832744},{"$f":"IFERROR(IF($B$2=\"トン\",AppQt.Data!AT69,(AppQt.Data!AT69*ozton*AppQt.Data!AT$7)/1000000),\"-\")","v":4.2120163339798147},{"$f":"IFERROR(IF($B$2=\"トン\",AppQt.Data!AU69,(AppQt.Data!AU69*ozton*AppQt.Data!AU$7)/1000000),\"-\")","v":4.4414875560990712},{"$f":"IFERROR(IF($B$2=\"トン\",AppQt.Data!AV69,(AppQt.Data!AV69*ozton*AppQt.Data!AV$7)/1000000),\"-\")","v":4.0731107016811903},{"$f":"IFERROR(IF($B$2=\"トン\",AppQt.Data!AW69,(AppQt.Data!AW69*ozton*AppQt.Data!AW$7)/1000000),\"-\")","v":4.1406954849012569},{"$f":"IFERROR(IF($B$2=\"トン\",AppQt.Data!AX69,(AppQt.Data!AX69*ozton*AppQt.Data!AX$7)/1000000),\"-\")","v":4.1909878381187688},{"$f":"IFERROR(IF($B$2=\"トン\",AppQt.Data!AY69,(AppQt.Data!AY69*ozton*AppQt.Data!AY$7)/1000000),\"-\")","v":4.3381661845874113},{"$f":"IFERROR(IF($B$2=\"トン\",AppQt.Data!AZ69,(AppQt.Data!AZ69*ozton*AppQt.Data!AZ$7)/1000000),\"-\")","v":3.9733142736479703},{"$f":"IFERROR(IF($B$2=\"トン\",AppQt.Data!BA69,(AppQt.Data!BA69*ozton*AppQt.Data!BA$7)/1000000),\"-\")","v":3.5195911621660674},{"$f":"IFERROR(IF($B$2=\"トン\",AppQt.Data!BB69,(AppQt.Data!BB69*ozton*AppQt.Data!BB$7)/1000000),\"-\")","v":2.9454972872307095},{"$f":"IFERROR(IF($B$2=\"トン\",AppQt.Data!BC69,(AppQt.Data!BC69*ozton*AppQt.Data!BC$7)/1000000),\"-\")","v":2.9588178308252804},{"$f":"IFERROR(IF($B$2=\"トン\",AppQt.Data!BD69,(AppQt.Data!BD69*ozton*AppQt.Data!BD$7)/1000000),\"-\")","v":2.9799857052359782},{"$f":"IFERROR(IF($B$2=\"トン\",AppQt.Data!BE69,(AppQt.Data!BE69*ozton*AppQt.Data!BE$7)/1000000),\"-\")","v":2.8156729297328544},{"$f":"IFERROR(IF($B$2=\"トン\",AppQt.Data!BF69,(AppQt.Data!BF69*ozton*AppQt.Data!BF$7)/1000000),\"-\")","v":3.174755391592246},{"$f":"IFERROR(IF($B$2=\"トン\",AppQt.Data!BG69,(AppQt.Data!BG69*ozton*AppQt.Data!BG$7)/1000000),\"-\")","v":3.158689624657808},{"$f":"IFERROR(IF($B$2=\"トン\",AppQt.Data!BH69,(AppQt.Data!BH69*ozton*AppQt.Data!BH$7)/1000000),\"-\")","v":3.5759828462831726},{"$f":"IFERROR(IF($B$2=\"トン\",AppQt.Data!BI69,(AppQt.Data!BI69*ozton*AppQt.Data!BI$7)/1000000),\"-\")","v":3.0099140348141544},{"$f":"IFERROR(IF($B$2=\"トン\",AppQt.Data!BJ69,(AppQt.Data!BJ69*ozton*AppQt.Data!BJ$7)/1000000),\"-\")","v":3.2382504994240913},{"$f":"IFERROR(IF($B$2=\"トン\",AppQt.Data!BK69,(AppQt.Data!BK69*ozton*AppQt.Data!BK$7)/1000000),\"-\")","v":3.2218634171509657},{"$f":"IFERROR(IF($B$2=\"トン\",AppQt.Data!BL69,(AppQt.Data!BL69*ozton*AppQt.Data!BL$7)/1000000),\"-\")","v":3.7190221601345002},"▲",4.0000000000000258]
[null,"ブラジル",{"$f":"IFERROR(IF($B$2=\"トン\",AppAn.Data!L60,(AppAn.Data!L60*ozton*AppAn.Data!L$6)/1000000),\"-\")","v":28.748828004197748},{"$f":"IFERROR(IF($B$2=\"トン\",AppAn.Data!M60,(AppAn.Data!M60*ozton*AppAn.Data!M$6)/1000000),\"-\")","v":25.018203672002201},{"$f":"IFERROR(IF($B$2=\"トン\",AppAn.Data!N60,(AppAn.Data!N60*ozton*AppAn.Data!N$6)/1000000),\"-\")","v":27.062760612311209},{"$f":"IFERROR(IF($B$2=\"トン\",AppAn.Data!O60,(AppAn.Data!O60*ozton*AppAn.Data!O$6)/1000000),\"-\")","v":24.238380248985855},{"$f":"IFERROR(IF($B$2=\"トン\",AppAn.Data!P60,(AppAn.Data!P60*ozton*AppAn.Data!P$6)/1000000),\"-\")","v":22.226370953013436},{"$f":"IFERROR(IF($B$2=\"トン\",AppAn.Data!Q60,(AppAn.Data!Q60*ozton*AppAn.Data!Q$6)/1000000),\"-\")","v":19.969771982069489},{"$f":"IFERROR(IF($B$2=\"トン\",AppAn.Data!R60,(AppAn.Data!R60*ozton*AppAn.Data!R$6)/1000000),\"-\")","v":18.93334513886656},{"$f":"IFERROR(IF($B$2=\"トン\",AppAn.Data!S60,(AppAn.Data!S60*ozton*AppAn.Data!S$6)/1000000),\"-\")","v":19.164588999999999},{"$f":"IFERROR(IF($B$2=\"トン\",AppAn.Data!T60,(AppAn.Data!T60*ozton*AppAn.Data!T$6)/1000000),\"-\")","v":19.190377949999998},{"$f":"IFERROR(IF($B$2=\"トン\",AppAn.Data!U60,(AppAn.Data!U60*ozton*AppAn.Data!U$6)/1000000),\"-\")","v":18.746379958099997},{"$f":"IFERROR(IF($B$2=\"トン\",AppAn.Data!V60,(AppAn.Data!V60*ozton*AppAn.Data!V$6)/1000000),\"-\")","v":14.547734637569997},{"$f":"IFERROR(IF($B$2=\"トン\",AppAn.Data!W60,(AppAn.Data!W60*ozton*AppAn.Data!W$6)/1000000),\"-\")","v":14.603068003740999},{"$f":"IFERROR(IF($B$2=\"トン\",AppAn.Data!X60,(AppAn.Data!X60*ozton*AppAn.Data!X$6)/1000000),\"-\")","v":15.461501195261031},"▲",5.8784441139363208,null,{"$f":"IFERROR(IF($B$2=\"トン\",AppQt.Data!M70,(AppQt.Data!M70*ozton*AppQt.Data!M$7)/1000000),\"-\")","v":4.0679879474485698},{"$f":"IFERROR(IF($B$2=\"トン\",AppQt.Data!N70,(AppQt.Data!N70*ozton*AppQt.Data!N$7)/1000000),\"-\")","v":7.6781980439506583},{"$f":"IFERROR(IF($B$2=\"トン\",AppQt.Data!O70,(AppQt.Data!O70*ozton*AppQt.Data!O$7)/1000000),\"-\")","v":6.1524322455556035},{"$f":"IFERROR(IF($B$2=\"トン\",AppQt.Data!P70,(AppQt.Data!P70*ozton*AppQt.Data!P$7)/1000000),\"-\")","v":10.850209767242914},{"$f":"IFERROR(IF($B$2=\"トン\",AppQt.Data!Q70,(AppQt.Data!Q70*ozton*AppQt.Data!Q$7)/1000000),\"-\")","v":3.9668910805804503},{"$f":"IFERROR(IF($B$2=\"トン\",AppQt.Data!R70,(AppQt.Data!R70*ozton*AppQt.Data!R$7)/1000000),\"-\")","v":7.4343648142332146},{"$f":"IFERROR(IF($B$2=\"トン\",AppQt.Data!S70,(AppQt.Data!S70*ozton*AppQt.Data!S$7)/1000000),\"-\")","v":5.0664329082381201},{"$f":"IFERROR(IF($B$2=\"トン\",AppQt.Data!T70,(AppQt.Data!T70*ozton*AppQt.Data!T$7)/1000000),\"-\")","v":8.5505148689504136},{"$f":"IFERROR(IF($B$2=\"トン\",AppQt.Data!U70,(AppQt.Data!U70*ozton*AppQt.Data!U$7)/1000000),\"-\")","v":3.7985643042199873},{"$f":"IFERROR(IF($B$2=\"トン\",AppQt.Data!V70,(AppQt.Data!V70*ozton*AppQt.Data!V$7)/1000000),\"-\")","v":8.0136764454334504},{"$f":"IFERROR(IF($B$2=\"トン\",AppQt.Data!W70,(AppQt.Data!W70*ozton*AppQt.Data!W$7)/1000000),\"-\")","v":5.9933873583371016},{"$f":"IFERROR(IF($B$2=\"トン\",AppQt.Data!X70,(AppQt.Data!X70*ozton*AppQt.Data!X$7)/1000000),\"-\")","v":9.2571325043206709},{"$f":"IFERROR(IF($B$2=\"トン\",AppQt.Data!Y70,(AppQt.Data!Y70*ozton*AppQt.Data!Y$7)/1000000),\"-\")","v":4.6568185407878913},{"$f":"IFERROR(IF($B$2=\"トン\",AppQt.Data!Z70,(AppQt.Data!Z70*ozton*AppQt.Data!Z$7)/1000000),\"-\")","v":5.5788180637477529},{"$f":"IFERROR(IF($B$2=\"トン\",AppQt.Data!AA70,(AppQt.Data!AA70*ozton*AppQt.Data!AA$7)/1000000),\"-\")","v":5.8447115850761442},{"$f":"IFERROR(IF($B$2=\"トン\",AppQt.Data!AB70,(AppQt.Data!AB70*ozton*AppQt.Data!AB$7)/1000000),\"-\")","v":8.1580320593740652},{"$f":"IFERROR(IF($B$2=\"トン\",AppQt.Data!AC70,(AppQt.Data!AC70*ozton*AppQt.Data!AC$7)/1000000),\"-\")","v":4.2536062547448088},{"$f":"IFERROR(IF($B$2=\"トン\",AppQt.Data!AD70,(AppQt.Data!AD70*ozton*AppQt.Data!AD$7)/1000000),\"-\")","v":6.4062598664470496},{"$f":"IFERROR(IF($B$2=\"トン\",AppQt.Data!AE70,(AppQt.Data!AE70*ozton*AppQt.Data!AE$7)/1000000),\"-\")","v":5.2219305066144113},{"$f":"IFERROR(IF($B$2=\"トン\",AppQt.Data!AF70,(AppQt.Data!AF70*ozton*AppQt.Data!AF$7)/1000000),\"-\")","v":6.3445743252071694},{"$f":"IFERROR(IF($B$2=\"トン\",AppQt.Data!AG70,(AppQt.Data!AG70*ozton*AppQt.Data!AG$7)/1000000),\"-\")","v":3.8627958036042815},{"$f":"IFERROR(IF($B$2=\"トン\",AppQt.Data!AH70,(AppQt.Data!AH70*ozton*AppQt.Data!AH$7)/1000000),\"-\")","v":5.7752338753660144},{"$f":"IFERROR(IF($B$2=\"トン\",AppQt.Data!AI70,(AppQt.Data!AI70*ozton*AppQt.Data!AI$7)/1000000),\"-\")","v":4.6560657108986154},{"$f":"IFERROR(IF($B$2=\"トン\",AppQt.Data!AJ70,(AppQt.Data!AJ70*ozton*AppQt.Data!AJ$7)/1000000),\"-\")","v":5.6756765922005776},{"$f":"IFERROR(IF($B$2=\"トン\",AppQt.Data!AK70,(AppQt.Data!AK70*ozton*AppQt.Data!AK$7)/1000000),\"-\")","v":3.5985473326697877},{"$f":"IFERROR(IF($B$2=\"トン\",AppQt.Data!AL70,(AppQt.Data!AL70*ozton*AppQt.Data!AL$7)/1000000),\"-\")","v":5.2681418061967724},{"$f":"IFERROR(IF($B$2=\"トン\",AppQt.Data!AM70,(AppQt.Data!AM70*ozton*AppQt.Data!AM$7)/1000000),\"-\")","v":4.6002879999999999},{"$f":"IFERROR(IF($B$2=\"トン\",AppQt.Data!AN70,(AppQt.Data!AN70*ozton*AppQt.Data!AN$7)/1000000),\"-\")","v":5.4663679999999992},{"$f":"IFERROR(IF($B$2=\"トン\",AppQt.Data!AO70,(AppQt.Data!AO70*ozton*AppQt.Data!AO$7)/1000000),\"-\")","v":3.6109999999999998},{"$f":"IFERROR(IF($B$2=\"トン\",AppQt.Data!AP70,(AppQt.Data!AP70*ozton*AppQt.Data!AP$7)/1000000),\"-\")","v":5.3059329999999996},{"$f":"IFERROR(IF($B$2=\"トン\",AppQt.Data!AQ70,(AppQt.Data!AQ70*ozton*AppQt.Data!AQ$7)/1000000),\"-\")","v":4.6607880000000002},{"$f":"IFERROR(IF($B$2=\"トン\",AppQt.Data!AR70,(AppQt.Data!AR70*ozton*AppQt.Data!AR$7)/1000000),\"-\")","v":5.5868679999999991},{"$f":"IFERROR(IF($B$2=\"トン\",AppQt.Data!AS70,(AppQt.Data!AS70*ozton*AppQt.Data!AS$7)/1000000),\"-\")","v":3.6082099999999993},{"$f":"IFERROR(IF($B$2=\"トン\",AppQt.Data!AT70,(AppQt.Data!AT70*ozton*AppQt.Data!AT$7)/1000000),\"-\")","v":5.2458245899999998},{"$f":"IFERROR(IF($B$2=\"トン\",AppQt.Data!AU70,(AppQt.Data!AU70*ozton*AppQt.Data!AU$7)/1000000),\"-\")","v":4.7391437600000001},{"$f":"IFERROR(IF($B$2=\"トン\",AppQt.Data!AV70,(AppQt.Data!AV70*ozton*AppQt.Data!AV$7)/1000000),\"-\")","v":5.5971995999999997},{"$f":"IFERROR(IF($B$2=\"トン\",AppQt.Data!AW70,(AppQt.Data!AW70*ozton*AppQt.Data!AW$7)/1000000),\"-\")","v":3.5052994999999996},{"$f":"IFERROR(IF($B$2=\"トン\",AppQt.Data!AX70,(AppQt.Data!AX70*ozton*AppQt.Data!AX$7)/1000000),\"-\")","v":5.0135333604999994},{"$f":"IFERROR(IF($B$2=\"トン\",AppQt.Data!AY70,(AppQt.Data!AY70*ozton*AppQt.Data!AY$7)/1000000),\"-\")","v":4.529931509599999},{"$f":"IFERROR(IF($B$2=\"トン\",AppQt.Data!AZ70,(AppQt.Data!AZ70*ozton*AppQt.Data!AZ$7)/1000000),\"-\")","v":5.6976155879999997},{"$f":"IFERROR(IF($B$2=\"トン\",AppQt.Data!BA70,(AppQt.Data!BA70*ozton*AppQt.Data!BA$7)/1000000),\"-\")","v":3.3300345249999994},{"$f":"IFERROR(IF($B$2=\"トン\",AppQt.Data!BB70,(AppQt.Data!BB70*ozton*AppQt.Data!BB$7)/1000000),\"-\")","v":3.6463884398499995},{"$f":"IFERROR(IF($B$2=\"トン\",AppQt.Data!BC70,(AppQt.Data!BC70*ozton*AppQt.Data!BC$7)/1000000),\"-\")","v":3.1050205067199999},{"$f":"IFERROR(IF($B$2=\"トン\",AppQt.Data!BD70,(AppQt.Data!BD70*ozton*AppQt.Data!BD$7)/1000000),\"-\")","v":4.4662911659999995},{"$f":"IFERROR(IF($B$2=\"トン\",AppQt.Data!BE70,(AppQt.Data!BE70*ozton*AppQt.Data!BE$7)/1000000),\"-\")","v":2.8502028131249992},{"$f":"IFERROR(IF($B$2=\"トン\",AppQt.Data!BF70,(AppQt.Data!BF70*ozton*AppQt.Data!BF$7)/1000000),\"-\")","v":3.7655475119600004},{"$f":"IFERROR(IF($B$2=\"トン\",AppQt.Data!BG70,(AppQt.Data!BG70*ozton*AppQt.Data!BG$7)/1000000),\"-\")","v":3.3054995670559997},{"$f":"IFERROR(IF($B$2=\"トン\",AppQt.Data!BH70,(AppQt.Data!BH70*ozton*AppQt.Data!BH$7)/1000000),\"-\")","v":4.6818181116000002},{"$f":"IFERROR(IF($B$2=\"トン\",AppQt.Data!BI70,(AppQt.Data!BI70*ozton*AppQt.Data!BI$7)/1000000),\"-\")","v":3.0243353973937497},{"$f":"IFERROR(IF($B$2=\"トン\",AppQt.Data!BJ70,(AppQt.Data!BJ70*ozton*AppQt.Data!BJ$7)/1000000),\"-\")","v":4.0209684221668001},{"$f":"IFERROR(IF($B$2=\"トン\",AppQt.Data!BK70,(AppQt.Data!BK70*ozton*AppQt.Data!BK$7)/1000000),\"-\")","v":3.5002883585204798},{"$f":"IFERROR(IF($B$2=\"トン\",AppQt.Data!BL70,(AppQt.Data!BL70*ozton*AppQt.Data!BL$7)/1000000),\"-\")","v":4.9159090171800006},"▲",5.0000000000000044]
[null,"ヨーロッパ（CISを除く）",{"$f":"IFERROR(IF($B$2=\"トン\",AppAn.Data!L61,(AppAn.Data!L61*ozton*AppAn.Data!L$6)/1000000),\"-\")","v":106.21737982242271},{"$f":"IFERROR(IF($B$2=\"トン\",AppAn.Data!M61,(AppAn.Data!M61*ozton*AppAn.Data!M$6)/1000000),\"-\")","v":87.767022154189902},{"$f":"IFERROR(IF($B$2=\"トン\",AppAn.Data!N61,(AppAn.Data!N61*ozton*AppAn.Data!N$6)/1000000),\"-\")","v":77.421500306086728},{"$f":"IFERROR(IF($B$2=\"トン\",AppAn.Data!O61,(AppAn.Data!O61*ozton*AppAn.Data!O$6)/1000000),\"-\")","v":75.055595256814698},{"$f":"IFERROR(IF($B$2=\"トン\",AppAn.Data!P61,(AppAn.Data!P61*ozton*AppAn.Data!P$6)/1000000),\"-\")","v":78.035648696022349},{"$f":"IFERROR(IF($B$2=\"トン\",AppAn.Data!Q61,(AppAn.Data!Q61*ozton*AppAn.Data!Q$6)/1000000),\"-\")","v":77.374163875513261},{"$f":"IFERROR(IF($B$2=\"トン\",AppAn.Data!R61,(AppAn.Data!R61*ozton*AppAn.Data!R$6)/1000000),\"-\")","v":76.125123996382285},{"$f":"IFERROR(IF($B$2=\"トン\",AppAn.Data!S61,(AppAn.Data!S61*ozton*AppAn.Data!S$6)/1000000),\"-\")","v":74.017640477437254},{"$f":"IFERROR(IF($B$2=\"トン\",AppAn.Data!T61,(AppAn.Data!T61*ozton*AppAn.Data!T$6)/1000000),\"-\")","v":73.392010082906722},{"$f":"IFERROR(IF($B$2=\"トン\",AppAn.Data!U61,(AppAn.Data!U61*ozton*AppAn.Data!U$6)/1000000),\"-\")","v":72.065184668057995},{"$f":"IFERROR(IF($B$2=\"トン\",AppAn.Data!V61,(AppAn.Data!V61*ozton*AppAn.Data!V$6)/1000000),\"-\")","v":55.941609618503257},{"$f":"IFERROR(IF($B$2=\"トン\",AppAn.Data!W61,(AppAn.Data!W61*ozton*AppAn.Data!W$6)/1000000),\"-\")","v":67.807569408953782},{"$f":"IFERROR(IF($B$2=\"トン\",AppAn.Data!X61,(AppAn.Data!X61*ozton*AppAn.Data!X$6)/1000000),\"-\")","v":70.550840837549885},"▲",4.0456713793281418,null,{"$f":"IFERROR(IF($B$2=\"トン\",AppQt.Data!M71,(AppQt.Data!M71*ozton*AppQt.Data!M$7)/1000000),\"-\")","v":17.973179829421198},{"$f":"IFERROR(IF($B$2=\"トン\",AppQt.Data!N71,(AppQt.Data!N71*ozton*AppQt.Data!N$7)/1000000),\"-\")","v":21.085756554206831},{"$f":"IFERROR(IF($B$2=\"トン\",AppQt.Data!O71,(AppQt.Data!O71*ozton*AppQt.Data!O$7)/1000000),\"-\")","v":16.035556421357484},{"$f":"IFERROR(IF($B$2=\"トン\",AppQt.Data!P71,(AppQt.Data!P71*ozton*AppQt.Data!P$7)/1000000),\"-\")","v":51.122887017437186},{"$f":"IFERROR(IF($B$2=\"トン\",AppQt.Data!Q71,(AppQt.Data!Q71*ozton*AppQt.Data!Q$7)/1000000),\"-\")","v":14.576800528756038},{"$f":"IFERROR(IF($B$2=\"トン\",AppQt.Data!R71,(AppQt.Data!R71*ozton*AppQt.Data!R$7)/1000000),\"-\")","v":17.999482694138351},{"$f":"IFERROR(IF($B$2=\"トン\",AppQt.Data!S71,(AppQt.Data!S71*ozton*AppQt.Data!S$7)/1000000),\"-\")","v":13.008477846917152},{"$f":"IFERROR(IF($B$2=\"トン\",AppQt.Data!T71,(AppQt.Data!T71*ozton*AppQt.Data!T$7)/1000000),\"-\")","v":42.182261084378354},{"$f":"IFERROR(IF($B$2=\"トン\",AppQt.Data!U71,(AppQt.Data!U71*ozton*AppQt.Data!U$7)/1000000),\"-\")","v":12.694180558019234},{"$f":"IFERROR(IF($B$2=\"トン\",AppQt.Data!V71,(AppQt.Data!V71*ozton*AppQt.Data!V$7)/1000000),\"-\")","v":15.563041456268792},{"$f":"IFERROR(IF($B$2=\"トン\",AppQt.Data!W71,(AppQt.Data!W71*ozton*AppQt.Data!W$7)/1000000),\"-\")","v":11.617890379303271},{"$f":"IFERROR(IF($B$2=\"トン\",AppQt.Data!X71,(AppQt.Data!X71*ozton*AppQt.Data!X$7)/1000000),\"-\")","v":37.546387912495426},{"$f":"IFERROR(IF($B$2=\"トン\",AppQt.Data!Y71,(AppQt.Data!Y71*ozton*AppQt.Data!Y$7)/1000000),\"-\")","v":12.269818803316491},{"$f":"IFERROR(IF($B$2=\"トン\",AppQt.Data!Z71,(AppQt.Data!Z71*ozton*AppQt.Data!Z$7)/1000000),\"-\")","v":14.197083125610426},{"$f":"IFERROR(IF($B$2=\"トン\",AppQt.Data!AA71,(AppQt.Data!AA71*ozton*AppQt.Data!AA$7)/1000000),\"-\")","v":12.532967433813043},{"$f":"IFERROR(IF($B$2=\"トン\",AppQt.Data!AB71,(AppQt.Data!AB71*ozton*AppQt.Data!AB$7)/1000000),\"-\")","v":36.05572589407474},{"$f":"IFERROR(IF($B$2=\"トン\",AppQt.Data!AC71,(AppQt.Data!AC71*ozton*AppQt.Data!AC$7)/1000000),\"-\")","v":13.191429651969786},{"$f":"IFERROR(IF($B$2=\"トン\",AppQt.Data!AD71,(AppQt.Data!AD71*ozton*AppQt.Data!AD$7)/1000000),\"-\")","v":15.057227426705523},{"$f":"IFERROR(IF($B$2=\"トン\",AppQt.Data!AE71,(AppQt.Data!AE71*ozton*AppQt.Data!AE$7)/1000000),\"-\")","v":13.040955010336287},{"$f":"IFERROR(IF($B$2=\"トン\",AppQt.Data!AF71,(AppQt.Data!AF71*ozton*AppQt.Data!AF$7)/1000000),\"-\")","v":36.746036607010765},{"$f":"IFERROR(IF($B$2=\"トン\",AppQt.Data!AG71,(AppQt.Data!AG71*ozton*AppQt.Data!AG$7)/1000000),\"-\")","v":13.080630732499682},{"$f":"IFERROR(IF($B$2=\"トン\",AppQt.Data!AH71,(AppQt.Data!AH71*ozton*AppQt.Data!AH$7)/1000000),\"-\")","v":14.844117508245859},{"$f":"IFERROR(IF($B$2=\"トン\",AppQt.Data!AI71,(AppQt.Data!AI71*ozton*AppQt.Data!AI$7)/1000000),\"-\")","v":13.057107237256517},{"$f":"IFERROR(IF($B$2=\"トン\",AppQt.Data!AJ71,(AppQt.Data!AJ71*ozton*AppQt.Data!AJ$7)/1000000),\"-\")","v":36.392308397511208},{"$f":"IFERROR(IF($B$2=\"トン\",AppQt.Data!AK71,(AppQt.Data!AK71*ozton*AppQt.Data!AK$7)/1000000),\"-\")","v":13.08369473278335},{"$f":"IFERROR(IF($B$2=\"トン\",AppQt.Data!AL71,(AppQt.Data!AL71*ozton*AppQt.Data!AL$7)/1000000),\"-\")","v":14.845206744304573},{"$f":"IFERROR(IF($B$2=\"トン\",AppQt.Data!AM71,(AppQt.Data!AM71*ozton*AppQt.Data!AM$7)/1000000),\"-\")","v":12.804146073967328},{"$f":"IFERROR(IF($B$2=\"トン\",AppQt.Data!AN71,(AppQt.Data!AN71*ozton*AppQt.Data!AN$7)/1000000),\"-\")","v":35.392076445327035},{"$f":"IFERROR(IF($B$2=\"トン\",AppQt.Data!AO71,(AppQt.Data!AO71*ozton*AppQt.Data!AO$7)/1000000),\"-\")","v":12.725734816531686},{"$f":"IFERROR(IF($B$2=\"トン\",AppQt.Data!AP71,(AppQt.Data!AP71*ozton*AppQt.Data!AP$7)/1000000),\"-\")","v":14.39927279491752},{"$f":"IFERROR(IF($B$2=\"トン\",AppQt.Data!AQ71,(AppQt.Data!AQ71*ozton*AppQt.Data!AQ$7)/1000000),\"-\")","v":12.559133438851832},{"$f":"IFERROR(IF($B$2=\"トン\",AppQt.Data!AR71,(AppQt.Data!AR71*ozton*AppQt.Data!AR$7)/1000000),\"-\")","v":34.333499427136218},{"$f":"IFERROR(IF($B$2=\"トン\",AppQt.Data!AS71,(AppQt.Data!AS71*ozton*AppQt.Data!AS$7)/1000000),\"-\")","v":12.841819764426099},{"$f":"IFERROR(IF($B$2=\"トン\",AppQt.Data!AT71,(AppQt.Data!AT71*ozton*AppQt.Data!AT$7)/1000000),\"-\")","v":14.431118318208636},{"$f":"IFERROR(IF($B$2=\"トン\",AppQt.Data!AU71,(AppQt.Data!AU71*ozton*AppQt.Data!AU$7)/1000000),\"-\")","v":12.587690486465812},{"$f":"IFERROR(IF($B$2=\"トン\",AppQt.Data!AV71,(AppQt.Data!AV71*ozton*AppQt.Data!AV$7)/1000000),\"-\")","v":33.531381513806181},{"$f":"IFERROR(IF($B$2=\"トン\",AppQt.Data!AW71,(AppQt.Data!AW71*ozton*AppQt.Data!AW$7)/1000000),\"-\")","v":12.658911988582314},{"$f":"IFERROR(IF($B$2=\"トン\",AppQt.Data!AX71,(AppQt.Data!AX71*ozton*AppQt.Data!AX$7)/1000000),\"-\")","v":14.203611558435883},{"$f":"IFERROR(IF($B$2=\"トン\",AppQt.Data!AY71,(AppQt.Data!AY71*ozton*AppQt.Data!AY$7)/1000000),\"-\")","v":12.376081494508062},{"$f":"IFERROR(IF($B$2=\"トン\",AppQt.Data!AZ71,(AppQt.Data!AZ71*ozton*AppQt.Data!AZ$7)/1000000),\"-\")","v":32.826579626531739},{"$f":"IFERROR(IF($B$2=\"トン\",AppQt.Data!BA71,(AppQt.Data!BA71*ozton*AppQt.Data!BA$7)/1000000),\"-\")","v":10.607379188578202},{"$f":"IFERROR(IF($B$2=\"トン\",AppQt.Data!BB71,(AppQt.Data!BB71*ozton*AppQt.Data!BB$7)/1000000),\"-\")","v":7.6451259726065661},{"$f":"IFERROR(IF($B$2=\"トン\",AppQt.Data!BC71,(AppQt.Data!BC71*ozton*AppQt.Data!BC$7)/1000000),\"-\")","v":10.29447538673595},{"$f":"IFERROR(IF($B$2=\"トン\",AppQt.Data!BD71,(AppQt.Data!BD71*ozton*AppQt.Data!BD$7)/1000000),\"-\")","v":27.394629070582543},{"$f":"IFERROR(IF($B$2=\"トン\",AppQt.Data!BE71,(AppQt.Data!BE71*ozton*AppQt.Data!BE$7)/1000000),\"-\")","v":9.7749515466103638},{"$f":"IFERROR(IF($B$2=\"トン\",AppQt.Data!BF71,(AppQt.Data!BF71*ozton*AppQt.Data!BF$7)/1000000),\"-\")","v":13.070022698745518},{"$f":"IFERROR(IF($B$2=\"トン\",AppQt.Data!BG71,(AppQt.Data!BG71*ozton*AppQt.Data!BG$7)/1000000),\"-\")","v":12.762882833997056},{"$f":"IFERROR(IF($B$2=\"トン\",AppQt.Data!BH71,(AppQt.Data!BH71*ozton*AppQt.Data!BH$7)/1000000),\"-\")","v":32.199712329600835},{"$f":"IFERROR(IF($B$2=\"トン\",AppQt.Data!BI71,(AppQt.Data!BI71*ozton*AppQt.Data!BI$7)/1000000),\"-\")","v":10.990491419304956},{"$f":"IFERROR(IF($B$2=\"トン\",AppQt.Data!BJ71,(AppQt.Data!BJ71*ozton*AppQt.Data!BJ$7)/1000000),\"-\")","v":15.591729092108922},{"$f":"IFERROR(IF($B$2=\"トン\",AppQt.Data!BK71,(AppQt.Data!BK71*ozton*AppQt.Data!BK$7)/1000000),\"-\")","v":13.223517316524253},{"$f":"IFERROR(IF($B$2=\"トン\",AppQt.Data!BL71,(AppQt.Data!BL71*ozton*AppQt.Data!BL$7)/1000000),\"-\")","v":30.745103009611764},"▼",-4.517460606788914]
[null,"フランス",{"$f":"IFERROR(IF($B$2=\"トン\",AppAn.Data!L62,(AppAn.Data!L62*ozton*AppAn.Data!L$6)/1000000),\"-\")","v":20.718858757123389},{"$f":"IFERROR(IF($B$2=\"トン\",AppAn.Data!M62,(AppAn.Data!M62*ozton*AppAn.Data!M$6)/1000000),\"-\")","v":19.214274629820938},{"$f":"IFERROR(IF($B$2=\"トン\",AppAn.Data!N62,(AppAn.Data!N62*ozton*AppAn.Data!N$6)/1000000),\"-\")","v":15.715332001060773},{"$f":"IFERROR(IF($B$2=\"トン\",AppAn.Data!O62,(AppAn.Data!O62*ozton*AppAn.Data!O$6)/1000000),\"-\")","v":14.880993820086509},{"$f":"IFERROR(IF($B$2=\"トン\",AppAn.Data!P62,(AppAn.Data!P62*ozton*AppAn.Data!P$6)/1000000),\"-\")","v":14.159299999999998},{"$f":"IFERROR(IF($B$2=\"トン\",AppAn.Data!Q62,(AppAn.Data!Q62*ozton*AppAn.Data!Q$6)/1000000),\"-\")","v":13.573345},{"$f":"IFERROR(IF($B$2=\"トン\",AppAn.Data!R62,(AppAn.Data!R62*ozton*AppAn.Data!R$6)/1000000),\"-\")","v":13.375695},{"$f":"IFERROR(IF($B$2=\"トン\",AppAn.Data!S62,(AppAn.Data!S62*ozton*AppAn.Data!S$6)/1000000),\"-\")","v":13.311500000000001},{"$f":"IFERROR(IF($B$2=\"トン\",AppAn.Data!T62,(AppAn.Data!T62*ozton*AppAn.Data!T$6)/1000000),\"-\")","v":12.997349999999999},{"$f":"IFERROR(IF($B$2=\"トン\",AppAn.Data!U62,(AppAn.Data!U62*ozton*AppAn.Data!U$6)/1000000),\"-\")","v":12.649850000000001},{"$f":"IFERROR(IF($B$2=\"トン\",AppAn.Data!V62,(AppAn.Data!V62*ozton*AppAn.Data!V$6)/1000000),\"-\")","v":10.5},{"$f":"IFERROR(IF($B$2=\"トン\",AppAn.Data!W62,(AppAn.Data!W62*ozton*AppAn.Data!W$6)/1000000),\"-\")","v":12.399249999999999},{"$f":"IFERROR(IF($B$2=\"トン\",AppAn.Data!X62,(AppAn.Data!X62*ozton*AppAn.Data!X$6)/1000000),\"-\")","v":14.22625},"▲",14.734762183196581,null,{"$f":"IFERROR(IF($B$2=\"トン\",AppQt.Data!M72,(AppQt.Data!M72*ozton*AppQt.Data!M$7)/1000000),\"-\")","v":4.087235590621904},{"$f":"IFERROR(IF($B$2=\"トン\",AppQt.Data!N72,(AppQt.Data!N72*ozton*AppQt.Data!N$7)/1000000),\"-\")","v":3.7985870385282454},{"$f":"IFERROR(IF($B$2=\"トン\",AppQt.Data!O72,(AppQt.Data!O72*ozton*AppQt.Data!O$7)/1000000),\"-\")","v":2.5689547974479678},{"$f":"IFERROR(IF($B$2=\"トン\",AppQt.Data!P72,(AppQt.Data!P72*ozton*AppQt.Data!P$7)/1000000),\"-\")","v":10.264081330525272},{"$f":"IFERROR(IF($B$2=\"トン\",AppQt.Data!Q72,(AppQt.Data!Q72*ozton*AppQt.Data!Q$7)/1000000),\"-\")","v":3.7017948949724522},{"$f":"IFERROR(IF($B$2=\"トン\",AppQt.Data!R72,(AppQt.Data!R72*ozton*AppQt.Data!R$7)/1000000),\"-\")","v":4.1001127066115703},{"$f":"IFERROR(IF($B$2=\"トン\",AppQt.Data!S72,(AppQt.Data!S72*ozton*AppQt.Data!S$7)/1000000),\"-\")","v":2.4376843836088158},{"$f":"IFERROR(IF($B$2=\"トン\",AppQt.Data!T72,(AppQt.Data!T72*ozton*AppQt.Data!T$7)/1000000),\"-\")","v":8.9746826446280998},{"$f":"IFERROR(IF($B$2=\"トン\",AppQt.Data!U72,(AppQt.Data!U72*ozton*AppQt.Data!U$7)/1000000),\"-\")","v":3.0568122814240333},{"$f":"IFERROR(IF($B$2=\"トン\",AppQt.Data!V72,(AppQt.Data!V72*ozton*AppQt.Data!V$7)/1000000),\"-\")","v":3.3057289064571815},{"$f":"IFERROR(IF($B$2=\"トン\",AppQt.Data!W72,(AppQt.Data!W72*ozton*AppQt.Data!W$7)/1000000),\"-\")","v":2.0017810782617405},{"$f":"IFERROR(IF($B$2=\"トン\",AppQt.Data!X72,(AppQt.Data!X72*ozton*AppQt.Data!X$7)/1000000),\"-\")","v":7.3510097349178176},{"$f":"IFERROR(IF($B$2=\"トン\",AppQt.Data!Y72,(AppQt.Data!Y72*ozton*AppQt.Data!Y$7)/1000000),\"-\")","v":2.7828940387985996},{"$f":"IFERROR(IF($B$2=\"トン\",AppQt.Data!Z72,(AppQt.Data!Z72*ozton*AppQt.Data!Z$7)/1000000),\"-\")","v":2.9202543982122586},{"$f":"IFERROR(IF($B$2=\"トン\",AppQt.Data!AA72,(AppQt.Data!AA72*ozton*AppQt.Data!AA$7)/1000000),\"-\")","v":2.139514159560854},{"$f":"IFERROR(IF($B$2=\"トン\",AppQt.Data!AB72,(AppQt.Data!AB72*ozton*AppQt.Data!AB$7)/1000000),\"-\")","v":7.0383312235147981},{"$f":"IFERROR(IF($B$2=\"トン\",AppQt.Data!AC72,(AppQt.Data!AC72*ozton*AppQt.Data!AC$7)/1000000),\"-\")","v":2.8549999999999995},{"$f":"IFERROR(IF($B$2=\"トン\",AppQt.Data!AD72,(AppQt.Data!AD72*ozton*AppQt.Data!AD$7)/1000000),\"-\")","v":2.6967999999999996},{"$f":"IFERROR(IF($B$2=\"トン\",AppQt.Data!AE72,(AppQt.Data!AE72*ozton*AppQt.Data!AE$7)/1000000),\"-\")","v":2.0549999999999997},{"$f":"IFERROR(IF($B$2=\"トン\",AppQt.Data!AF72,(AppQt.Data!AF72*ozton*AppQt.Data!AF$7)/1000000),\"-\")","v":6.5525000000000002},{"$f":"IFERROR(IF($B$2=\"トン\",AppQt.Data!AG72,(AppQt.Data!AG72*ozton*AppQt.Data!AG$7)/1000000),\"-\")","v":2.76},{"$f":"IFERROR(IF($B$2=\"トン\",AppQt.Data!AH72,(AppQt.Data!AH72*ozton*AppQt.Data!AH$7)/1000000),\"-\")","v":2.5783449999999997},{"$f":"IFERROR(IF($B$2=\"トン\",AppQt.Data!AI72,(AppQt.Data!AI72*ozton*AppQt.Data!AI$7)/1000000),\"-\")","v":1.9720000000000004},{"$f":"IFERROR(IF($B$2=\"トン\",AppQt.Data!AJ72,(AppQt.Data!AJ72*ozton*AppQt.Data!AJ$7)/1000000),\"-\")","v":6.2629999999999999},{"$f":"IFERROR(IF($B$2=\"トン\",AppQt.Data!AK72,(AppQt.Data!AK72*ozton*AppQt.Data!AK$7)/1000000),\"-\")","v":2.8070000000000004},{"$f":"IFERROR(IF($B$2=\"トン\",AppQt.Data!AL72,(AppQt.Data!AL72*ozton*AppQt.Data!AL$7)/1000000),\"-\")","v":2.5251950000000001},{"$f":"IFERROR(IF($B$2=\"トン\",AppQt.Data!AM72,(AppQt.Data!AM72*ozton*AppQt.Data!AM$7)/1000000),\"-\")","v":1.9399999999999995},{"$f":"IFERROR(IF($B$2=\"トン\",AppQt.Data!AN72,(AppQt.Data!AN72*ozton*AppQt.Data!AN$7)/1000000),\"-\")","v":6.1035000000000004},{"$f":"IFERROR(IF($B$2=\"トン\",AppQt.Data!AO72,(AppQt.Data!AO72*ozton*AppQt.Data!AO$7)/1000000),\"-\")","v":2.7489999999999997},{"$f":"IFERROR(IF($B$2=\"トン\",AppQt.Data!AP72,(AppQt.Data!AP72*ozton*AppQt.Data!AP$7)/1000000),\"-\")","v":2.5035000000000003},{"$f":"IFERROR(IF($B$2=\"トン\",AppQt.Data!AQ72,(AppQt.Data!AQ72*ozton*AppQt.Data!AQ$7)/1000000),\"-\")","v":1.9310000000000005},{"$f":"IFERROR(IF($B$2=\"トン\",AppQt.Data!AR72,(AppQt.Data!AR72*ozton*AppQt.Data!AR$7)/1000000),\"-\")","v":6.1280000000000001},{"$f":"IFERROR(IF($B$2=\"トン\",AppQt.Data!AS72,(AppQt.Data!AS72*ozton*AppQt.Data!AS$7)/1000000),\"-\")","v":2.7819999999999996},{"$f":"IFERROR(IF($B$2=\"トン\",AppQt.Data!AT72,(AppQt.Data!AT72*ozton*AppQt.Data!AT$7)/1000000),\"-\")","v":2.4135},{"$f":"IFERROR(IF($B$2=\"トン\",AppQt.Data!AU72,(AppQt.Data!AU72*ozton*AppQt.Data!AU$7)/1000000),\"-\")","v":1.8679999999999999},{"$f":"IFERROR(IF($B$2=\"トン\",AppQt.Data!AV72,(AppQt.Data!AV72*ozton*AppQt.Data!AV$7)/1000000),\"-\")","v":5.9338499999999996},{"$f":"IFERROR(IF($B$2=\"トン\",AppQt.Data!AW72,(AppQt.Data!AW72*ozton*AppQt.Data!AW$7)/1000000),\"-\")","v":2.6890000000000001},{"$f":"IFERROR(IF($B$2=\"トン\",AppQt.Data!AX72,(AppQt.Data!AX72*ozton*AppQt.Data!AX$7)/1000000),\"-\")","v":2.3289999999999997},{"$f":"IFERROR(IF($B$2=\"トン\",AppQt.Data!AY72,(AppQt.Data!AY72*ozton*AppQt.Data!AY$7)/1000000),\"-\")","v":1.891},{"$f":"IFERROR(IF($B$2=\"トン\",AppQt.Data!AZ72,(AppQt.Data!AZ72*ozton*AppQt.Data!AZ$7)/1000000),\"-\")","v":5.74085},{"$f":"IFERROR(IF($B$2=\"トン\",AppQt.Data!BA72,(AppQt.Data!BA72*ozton*AppQt.Data!BA$7)/1000000),\"-\")","v":2.2969999999999997},{"$f":"IFERROR(IF($B$2=\"トン\",AppQt.Data!BB72,(AppQt.Data!BB72*ozton*AppQt.Data!BB$7)/1000000),\"-\")","v":1.244},{"$f":"IFERROR(IF($B$2=\"トン\",AppQt.Data!BC72,(AppQt.Data!BC72*ozton*AppQt.Data!BC$7)/1000000),\"-\")","v":1.915},{"$f":"IFERROR(IF($B$2=\"トン\",AppQt.Data!BD72,(AppQt.Data!BD72*ozton*AppQt.Data!BD$7)/1000000),\"-\")","v":5.0440000000000005},{"$f":"IFERROR(IF($B$2=\"トン\",AppQt.Data!BE72,(AppQt.Data!BE72*ozton*AppQt.Data!BE$7)/1000000),\"-\")","v":2.3379999999999996},{"$f":"IFERROR(IF($B$2=\"トン\",AppQt.Data!BF72,(AppQt.Data!BF72*ozton*AppQt.Data!BF$7)/1000000),\"-\")","v":2.1715},{"$f":"IFERROR(IF($B$2=\"トン\",AppQt.Data!BG72,(AppQt.Data!BG72*ozton*AppQt.Data!BG$7)/1000000),\"-\")","v":1.8869999999999996},{"$f":"IFERROR(IF($B$2=\"トン\",AppQt.Data!BH72,(AppQt.Data!BH72*ozton*AppQt.Data!BH$7)/1000000),\"-\")","v":6.0027499999999998},{"$f":"IFERROR(IF($B$2=\"トン\",AppQt.Data!BI72,(AppQt.Data!BI72*ozton*AppQt.Data!BI$7)/1000000),\"-\")","v":3.01},{"$f":"IFERROR(IF($B$2=\"トン\",AppQt.Data!BJ72,(AppQt.Data!BJ72*ozton*AppQt.Data!BJ$7)/1000000),\"-\")","v":2.9480000000000004},{"$f":"IFERROR(IF($B$2=\"トン\",AppQt.Data!BK72,(AppQt.Data!BK72*ozton*AppQt.Data!BK$7)/1000000),\"-\")","v":2.0899999999999994},{"$f":"IFERROR(IF($B$2=\"トン\",AppQt.Data!BL72,(AppQt.Data!BL72*ozton*AppQt.Data!BL$7)/1000000),\"-\")","v":6.1782499999999994},"▲",2.923659989171612]
[null,"ドイツ",{"$f":"IFERROR(IF($B$2=\"トン\",AppAn.Data!L63,(AppAn.Data!L63*ozton*AppAn.Data!L$6)/1000000),\"-\")","v":13.704481098430811},{"$f":"IFERROR(IF($B$2=\"トン\",AppAn.Data!M63,(AppAn.Data!M63*ozton*AppAn.Data!M$6)/1000000),\"-\")","v":12.030431224899598},{"$f":"IFERROR(IF($B$2=\"トン\",AppAn.Data!N63,(AppAn.Data!N63*ozton*AppAn.Data!N$6)/1000000),\"-\")","v":10.738841586299628},{"$f":"IFERROR(IF($B$2=\"トン\",AppAn.Data!O63,(AppAn.Data!O63*ozton*AppAn.Data!O$6)/1000000),\"-\")","v":10.095246602537696},{"$f":"IFERROR(IF($B$2=\"トン\",AppAn.Data!P63,(AppAn.Data!P63*ozton*AppAn.Data!P$6)/1000000),\"-\")","v":10.000097662938867},{"$f":"IFERROR(IF($B$2=\"トン\",AppAn.Data!Q63,(AppAn.Data!Q63*ozton*AppAn.Data!Q$6)/1000000),\"-\")","v":10.185337724462689},{"$f":"IFERROR(IF($B$2=\"トン\",AppAn.Data!R63,(AppAn.Data!R63*ozton*AppAn.Data!R$6)/1000000),\"-\")","v":10.325500000000002},{"$f":"IFERROR(IF($B$2=\"トン\",AppAn.Data!S63,(AppAn.Data!S63*ozton*AppAn.Data!S$6)/1000000),\"-\")","v":10.425499999999998},{"$f":"IFERROR(IF($B$2=\"トン\",AppAn.Data!T63,(AppAn.Data!T63*ozton*AppAn.Data!T$6)/1000000),\"-\")","v":10.629999999999999},{"$f":"IFERROR(IF($B$2=\"トン\",AppAn.Data!U63,(AppAn.Data!U63*ozton*AppAn.Data!U$6)/1000000),\"-\")","v":10.619},{"$f":"IFERROR(IF($B$2=\"トン\",AppAn.Data!V63,(AppAn.Data!V63*ozton*AppAn.Data!V$6)/1000000),\"-\")","v":9.0445000000000011},{"$f":"IFERROR(IF($B$2=\"トン\",AppAn.Data!W63,(AppAn.Data!W63*ozton*AppAn.Data!W$6)/1000000),\"-\")","v":11.108149999999998},{"$f":"IFERROR(IF($B$2=\"トン\",AppAn.Data!X63,(AppAn.Data!X63*ozton*AppAn.Data!X$6)/1000000),\"-\")","v":11.092000000000001},"▼",-0.14538874610081631,null,{"$f":"IFERROR(IF($B$2=\"トン\",AppQt.Data!M73,(AppQt.Data!M73*ozton*AppQt.Data!M$7)/1000000),\"-\")","v":2.4811652995720399},{"$f":"IFERROR(IF($B$2=\"トン\",AppQt.Data!N73,(AppQt.Data!N73*ozton*AppQt.Data!N$7)/1000000),\"-\")","v":2.5608238231098426},{"$f":"IFERROR(IF($B$2=\"トン\",AppQt.Data!O73,(AppQt.Data!O73*ozton*AppQt.Data!O$7)/1000000),\"-\")","v":1.4660975392296711},{"$f":"IFERROR(IF($B$2=\"トン\",AppQt.Data!P73,(AppQt.Data!P73*ozton*AppQt.Data!P$7)/1000000),\"-\")","v":7.1963944365192578},{"$f":"IFERROR(IF($B$2=\"トン\",AppQt.Data!Q73,(AppQt.Data!Q73*ozton*AppQt.Data!Q$7)/1000000),\"-\")","v":2.0497665662650602},{"$f":"IFERROR(IF($B$2=\"トン\",AppQt.Data!R73,(AppQt.Data!R73*ozton*AppQt.Data!R$7)/1000000),\"-\")","v":1.9911551204819271},{"$f":"IFERROR(IF($B$2=\"トン\",AppQt.Data!S73,(AppQt.Data!S73*ozton*AppQt.Data!S$7)/1000000),\"-\")","v":1.4497665662650605},{"$f":"IFERROR(IF($B$2=\"トン\",AppQt.Data!T73,(AppQt.Data!T73*ozton*AppQt.Data!T$7)/1000000),\"-\")","v":6.5397429718875504},{"$f":"IFERROR(IF($B$2=\"トン\",AppQt.Data!U73,(AppQt.Data!U73*ozton*AppQt.Data!U$7)/1000000),\"-\")","v":1.6975435802690897},{"$f":"IFERROR(IF($B$2=\"トン\",AppQt.Data!V73,(AppQt.Data!V73*ozton*AppQt.Data!V$7)/1000000),\"-\")","v":1.7883845228557573},{"$f":"IFERROR(IF($B$2=\"トン\",AppQt.Data!W73,(AppQt.Data!W73*ozton*AppQt.Data!W$7)/1000000),\"-\")","v":1.3487092784853325},{"$f":"IFERROR(IF($B$2=\"トン\",AppQt.Data!X73,(AppQt.Data!X73*ozton*AppQt.Data!X$7)/1000000),\"-\")","v":5.9042042046894494},{"$f":"IFERROR(IF($B$2=\"トン\",AppQt.Data!Y73,(AppQt.Data!Y73*ozton*AppQt.Data!Y$7)/1000000),\"-\")","v":1.7688341883289833},{"$f":"IFERROR(IF($B$2=\"トン\",AppQt.Data!Z73,(AppQt.Data!Z73*ozton*AppQt.Data!Z$7)/1000000),\"-\")","v":1.9846890632805858},{"$f":"IFERROR(IF($B$2=\"トン\",AppQt.Data!AA73,(AppQt.Data!AA73*ozton*AppQt.Data!AA$7)/1000000),\"-\")","v":1.2671665235767737},{"$f":"IFERROR(IF($B$2=\"トン\",AppQt.Data!AB73,(AppQt.Data!AB73*ozton*AppQt.Data!AB$7)/1000000),\"-\")","v":5.074556827351353},{"$f":"IFERROR(IF($B$2=\"トン\",AppQt.Data!AC73,(AppQt.Data!AC73*ozton*AppQt.Data!AC$7)/1000000),\"-\")","v":1.7166804115646932},{"$f":"IFERROR(IF($B$2=\"トン\",AppQt.Data!AD73,(AppQt.Data!AD73*ozton*AppQt.Data!AD$7)/1000000),\"-\")","v":2.0121951492010757},{"$f":"IFERROR(IF($B$2=\"トン\",AppQt.Data!AE73,(AppQt.Data!AE73*ozton*AppQt.Data!AE$7)/1000000),\"-\")","v":1.1674411671675329},{"$f":"IFERROR(IF($B$2=\"トン\",AppQt.Data!AF73,(AppQt.Data!AF73*ozton*AppQt.Data!AF$7)/1000000),\"-\")","v":5.1037809350055641},{"$f":"IFERROR(IF($B$2=\"トン\",AppQt.Data!AG73,(AppQt.Data!AG73*ozton*AppQt.Data!AG$7)/1000000),\"-\")","v":1.7331125160906864},{"$f":"IFERROR(IF($B$2=\"トン\",AppQt.Data!AH73,(AppQt.Data!AH73*ozton*AppQt.Data!AH$7)/1000000),\"-\")","v":2.0656597083064465},{"$f":"IFERROR(IF($B$2=\"トン\",AppQt.Data!AI73,(AppQt.Data!AI73*ozton*AppQt.Data!AI$7)/1000000),\"-\")","v":1.1950655000655572},{"$f":"IFERROR(IF($B$2=\"トン\",AppQt.Data!AJ73,(AppQt.Data!AJ73*ozton*AppQt.Data!AJ$7)/1000000),\"-\")","v":5.1914999999999996},{"$f":"IFERROR(IF($B$2=\"トン\",AppQt.Data!AK73,(AppQt.Data!AK73*ozton*AppQt.Data!AK$7)/1000000),\"-\")","v":1.7395},{"$f":"IFERROR(IF($B$2=\"トン\",AppQt.Data!AL73,(AppQt.Data!AL73*ozton*AppQt.Data!AL$7)/1000000),\"-\")","v":2.1037500000000002},{"$f":"IFERROR(IF($B$2=\"トン\",AppQt.Data!AM73,(AppQt.Data!AM73*ozton*AppQt.Data!AM$7)/1000000),\"-\")","v":1.1837499999999999},{"$f":"IFERROR(IF($B$2=\"トン\",AppQt.Data!AN73,(AppQt.Data!AN73*ozton*AppQt.Data!AN$7)/1000000),\"-\")","v":5.2985000000000007},{"$f":"IFERROR(IF($B$2=\"トン\",AppQt.Data!AO73,(AppQt.Data!AO73*ozton*AppQt.Data!AO$7)/1000000),\"-\")","v":1.7384999999999995},{"$f":"IFERROR(IF($B$2=\"トン\",AppQt.Data!AP73,(AppQt.Data!AP73*ozton*AppQt.Data!AP$7)/1000000),\"-\")","v":2.1149999999999989},{"$f":"IFERROR(IF($B$2=\"トン\",AppQt.Data!AQ73,(AppQt.Data!AQ73*ozton*AppQt.Data!AQ$7)/1000000),\"-\")","v":1.2119999999999993},{"$f":"IFERROR(IF($B$2=\"トン\",AppQt.Data!AR73,(AppQt.Data!AR73*ozton*AppQt.Data!AR$7)/1000000),\"-\")","v":5.3599999999999994},{"$f":"IFERROR(IF($B$2=\"トン\",AppQt.Data!AS73,(AppQt.Data!AS73*ozton*AppQt.Data!AS$7)/1000000),\"-\")","v":1.7800000000000002},{"$f":"IFERROR(IF($B$2=\"トン\",AppQt.Data!AT73,(AppQt.Data!AT73*ozton*AppQt.Data!AT$7)/1000000),\"-\")","v":2.1499999999999995},{"$f":"IFERROR(IF($B$2=\"トン\",AppQt.Data!AU73,(AppQt.Data!AU73*ozton*AppQt.Data!AU$7)/1000000),\"-\")","v":1.2499999999999991},{"$f":"IFERROR(IF($B$2=\"トン\",AppQt.Data!AV73,(AppQt.Data!AV73*ozton*AppQt.Data!AV$7)/1000000),\"-\")","v":5.4500000000000011},{"$f":"IFERROR(IF($B$2=\"トン\",AppQt.Data!AW73,(AppQt.Data!AW73*ozton*AppQt.Data!AW$7)/1000000),\"-\")","v":1.7999999999999998},{"$f":"IFERROR(IF($B$2=\"トン\",AppQt.Data!AX73,(AppQt.Data!AX73*ozton*AppQt.Data!AX$7)/1000000),\"-\")","v":2.169},{"$f":"IFERROR(IF($B$2=\"トン\",AppQt.Data!AY73,(AppQt.Data!AY73*ozton*AppQt.Data!AY$7)/1000000),\"-\")","v":1.2299999999999995},{"$f":"IFERROR(IF($B$2=\"トン\",AppQt.Data!AZ73,(AppQt.Data!AZ73*ozton*AppQt.Data!AZ$7)/1000000),\"-\")","v":5.419999999999999},{"$f":"IFERROR(IF($B$2=\"トン\",AppQt.Data!BA73,(AppQt.Data!BA73*ozton*AppQt.Data!BA$7)/1000000),\"-\")","v":1.6570000000000005},{"$f":"IFERROR(IF($B$2=\"トン\",AppQt.Data!BB73,(AppQt.Data!BB73*ozton*AppQt.Data!BB$7)/1000000),\"-\")","v":1.0599999999999998},{"$f":"IFERROR(IF($B$2=\"トン\",AppQt.Data!BC73,(AppQt.Data!BC73*ozton*AppQt.Data!BC$7)/1000000),\"-\")","v":1.2075000000000002},{"$f":"IFERROR(IF($B$2=\"トン\",AppQt.Data!BD73,(AppQt.Data!BD73*ozton*AppQt.Data!BD$7)/1000000),\"-\")","v":5.12},{"$f":"IFERROR(IF($B$2=\"トン\",AppQt.Data!BE73,(AppQt.Data!BE73*ozton*AppQt.Data!BE$7)/1000000),\"-\")","v":1.5581500000000004},{"$f":"IFERROR(IF($B$2=\"トン\",AppQt.Data!BF73,(AppQt.Data!BF73*ozton*AppQt.Data!BF$7)/1000000),\"-\")","v":2.1299999999999994},{"$f":"IFERROR(IF($B$2=\"トン\",AppQt.Data!BG73,(AppQt.Data!BG73*ozton*AppQt.Data!BG$7)/1000000),\"-\")","v":2.1099999999999994},{"$f":"IFERROR(IF($B$2=\"トン\",AppQt.Data!BH73,(AppQt.Data!BH73*ozton*AppQt.Data!BH$7)/1000000),\"-\")","v":5.3099999999999987},{"$f":"IFERROR(IF($B$2=\"トン\",AppQt.Data!BI73,(AppQt.Data!BI73*ozton*AppQt.Data!BI$7)/1000000),\"-\")","v":1.1400000000000006},{"$f":"IFERROR(IF($B$2=\"トン\",AppQt.Data!BJ73,(AppQt.Data!BJ73*ozton*AppQt.Data!BJ$7)/1000000),\"-\")","v":2.6199999999999997},{"$f":"IFERROR(IF($B$2=\"トン\",AppQt.Data!BK73,(AppQt.Data!BK73*ozton*AppQt.Data!BK$7)/1000000),\"-\")","v":2.1560000000000006},{"$f":"IFERROR(IF($B$2=\"トン\",AppQt.Data!BL73,(AppQt.Data!BL73*ozton*AppQt.Data!BL$7)/1000000),\"-\")","v":5.1760000000000002},"▼",-2.523540489642162]
[null,"イタリア",{"$f":"IFERROR(IF($B$2=\"トン\",AppAn.Data!L64,(AppAn.Data!L64*ozton*AppAn.Data!L$6)/1000000),\"-\")","v":34.21341869627507},{"$f":"IFERROR(IF($B$2=\"トン\",AppAn.Data!M64,(AppAn.Data!M64*ozton*AppAn.Data!M$6)/1000000),\"-\")","v":26.919944519927537},{"$f":"IFERROR(IF($B$2=\"トン\",AppAn.Data!N64,(AppAn.Data!N64*ozton*AppAn.Data!N$6)/1000000),\"-\")","v":22.559438202247179},{"$f":"IFERROR(IF($B$2=\"トン\",AppAn.Data!O64,(AppAn.Data!O64*ozton*AppAn.Data!O$6)/1000000),\"-\")","v":21.114062500000003},{"$f":"IFERROR(IF($B$2=\"トン\",AppAn.Data!P64,(AppAn.Data!P64*ozton*AppAn.Data!P$6)/1000000),\"-\")","v":19.890000000000004},{"$f":"IFERROR(IF($B$2=\"トン\",AppAn.Data!Q64,(AppAn.Data!Q64*ozton*AppAn.Data!Q$6)/1000000),\"-\")","v":19.229999999999997},{"$f":"IFERROR(IF($B$2=\"トン\",AppAn.Data!R64,(AppAn.Data!R64*ozton*AppAn.Data!R$6)/1000000),\"-\")","v":18.957000000000001},{"$f":"IFERROR(IF($B$2=\"トン\",AppAn.Data!S64,(AppAn.Data!S64*ozton*AppAn.Data!S$6)/1000000),\"-\")","v":18.825000000000006},{"$f":"IFERROR(IF($B$2=\"トン\",AppAn.Data!T64,(AppAn.Data!T64*ozton*AppAn.Data!T$6)/1000000),\"-\")","v":18.542000000000002},{"$f":"IFERROR(IF($B$2=\"トン\",AppAn.Data!U64,(AppAn.Data!U64*ozton*AppAn.Data!U$6)/1000000),\"-\")","v":18.169350000000001},{"$f":"IFERROR(IF($B$2=\"トン\",AppAn.Data!V64,(AppAn.Data!V64*ozton*AppAn.Data!V$6)/1000000),\"-\")","v":13.795349999999999},{"$f":"IFERROR(IF($B$2=\"トン\",AppAn.Data!W64,(AppAn.Data!W64*ozton*AppAn.Data!W$6)/1000000),\"-\")","v":17.284000000000006},{"$f":"IFERROR(IF($B$2=\"トン\",AppAn.Data!X64,(AppAn.Data!X64*ozton*AppAn.Data!X$6)/1000000),\"-\")","v":17.838000000000005},"▲",3.2052765563526764,null,{"$f":"IFERROR(IF($B$2=\"トン\",AppQt.Data!M74,(AppQt.Data!M74*ozton*AppQt.Data!M$7)/1000000),\"-\")","v":5.1661590257879615},{"$f":"IFERROR(IF($B$2=\"トン\",AppQt.Data!N74,(AppQt.Data!N74*ozton*AppQt.Data!N$7)/1000000),\"-\")","v":6.514095988538684},{"$f":"IFERROR(IF($B$2=\"トン\",AppQt.Data!O74,(AppQt.Data!O74*ozton*AppQt.Data!O$7)/1000000),\"-\")","v":5.1965247134670483},{"$f":"IFERROR(IF($B$2=\"トン\",AppQt.Data!P74,(AppQt.Data!P74*ozton*AppQt.Data!P$7)/1000000),\"-\")","v":17.336638968481381},{"$f":"IFERROR(IF($B$2=\"トン\",AppQt.Data!Q74,(AppQt.Data!Q74*ozton*AppQt.Data!Q$7)/1000000),\"-\")","v":3.929800724637678},{"$f":"IFERROR(IF($B$2=\"トン\",AppQt.Data!R74,(AppQt.Data!R74*ozton*AppQt.Data!R$7)/1000000),\"-\")","v":5.4820652173913054},{"$f":"IFERROR(IF($B$2=\"トン\",AppQt.Data!S74,(AppQt.Data!S74*ozton*AppQt.Data!S$7)/1000000),\"-\")","v":3.7554064764492754},{"$f":"IFERROR(IF($B$2=\"トン\",AppQt.Data!T74,(AppQt.Data!T74*ozton*AppQt.Data!T$7)/1000000),\"-\")","v":13.752672101449278},{"$f":"IFERROR(IF($B$2=\"トン\",AppQt.Data!U74,(AppQt.Data!U74*ozton*AppQt.Data!U$7)/1000000),\"-\")","v":3.3881109550561765},{"$f":"IFERROR(IF($B$2=\"トン\",AppQt.Data!V74,(AppQt.Data!V74*ozton*AppQt.Data!V$7)/1000000),\"-\")","v":4.6075140449438203},{"$f":"IFERROR(IF($B$2=\"トン\",AppQt.Data!W74,(AppQt.Data!W74*ozton*AppQt.Data!W$7)/1000000),\"-\")","v":3.0924087078651668},{"$f":"IFERROR(IF($B$2=\"トン\",AppQt.Data!X74,(AppQt.Data!X74*ozton*AppQt.Data!X$7)/1000000),\"-\")","v":11.471404494382014},{"$f":"IFERROR(IF($B$2=\"トン\",AppQt.Data!Y74,(AppQt.Data!Y74*ozton*AppQt.Data!Y$7)/1000000),\"-\")","v":3.2323437500000014},{"$f":"IFERROR(IF($B$2=\"トン\",AppQt.Data!Z74,(AppQt.Data!Z74*ozton*AppQt.Data!Z$7)/1000000),\"-\")","v":4.3290625},{"$f":"IFERROR(IF($B$2=\"トン\",AppQt.Data!AA74,(AppQt.Data!AA74*ozton*AppQt.Data!AA$7)/1000000),\"-\")","v":3.1851562500000004},{"$f":"IFERROR(IF($B$2=\"トン\",AppQt.Data!AB74,(AppQt.Data!AB74*ozton*AppQt.Data!AB$7)/1000000),\"-\")","v":10.3675},{"$f":"IFERROR(IF($B$2=\"トン\",AppQt.Data!AC74,(AppQt.Data!AC74*ozton*AppQt.Data!AC$7)/1000000),\"-\")","v":3.0450000000000039},{"$f":"IFERROR(IF($B$2=\"トン\",AppQt.Data!AD74,(AppQt.Data!AD74*ozton*AppQt.Data!AD$7)/1000000),\"-\")","v":4.1449999999999996},{"$f":"IFERROR(IF($B$2=\"トン\",AppQt.Data!AE74,(AppQt.Data!AE74*ozton*AppQt.Data!AE$7)/1000000),\"-\")","v":3.0250000000000004},{"$f":"IFERROR(IF($B$2=\"トン\",AppQt.Data!AF74,(AppQt.Data!AF74*ozton*AppQt.Data!AF$7)/1000000),\"-\")","v":9.6750000000000007},{"$f":"IFERROR(IF($B$2=\"トン\",AppQt.Data!AG74,(AppQt.Data!AG74*ozton*AppQt.Data!AG$7)/1000000),\"-\")","v":2.8700000000000014},{"$f":"IFERROR(IF($B$2=\"トン\",AppQt.Data!AH74,(AppQt.Data!AH74*ozton*AppQt.Data!AH$7)/1000000),\"-\")","v":3.9899999999999993},{"$f":"IFERROR(IF($B$2=\"トン\",AppQt.Data!AI74,(AppQt.Data!AI74*ozton*AppQt.Data!AI$7)/1000000),\"-\")","v":2.9700000000000029},{"$f":"IFERROR(IF($B$2=\"トン\",AppQt.Data!AJ74,(AppQt.Data!AJ74*ozton*AppQt.Data!AJ$7)/1000000),\"-\")","v":9.399999999999995},{"$f":"IFERROR(IF($B$2=\"トン\",AppQt.Data!AK74,(AppQt.Data!AK74*ozton*AppQt.Data!AK$7)/1000000),\"-\")","v":2.8099999999999965},{"$f":"IFERROR(IF($B$2=\"トン\",AppQt.Data!AL74,(AppQt.Data!AL74*ozton*AppQt.Data!AL$7)/1000000),\"-\")","v":3.9899999999999993},{"$f":"IFERROR(IF($B$2=\"トン\",AppQt.Data!AM74,(AppQt.Data!AM74*ozton*AppQt.Data!AM$7)/1000000),\"-\")","v":2.9500000000000037},{"$f":"IFERROR(IF($B$2=\"トン\",AppQt.Data!AN74,(AppQt.Data!AN74*ozton*AppQt.Data!AN$7)/1000000),\"-\")","v":9.2070000000000007},{"$f":"IFERROR(IF($B$2=\"トン\",AppQt.Data!AO74,(AppQt.Data!AO74*ozton*AppQt.Data!AO$7)/1000000),\"-\")","v":2.7549999999999994},{"$f":"IFERROR(IF($B$2=\"トン\",AppQt.Data!AP74,(AppQt.Data!AP74*ozton*AppQt.Data!AP$7)/1000000),\"-\")","v":3.9350000000000023},{"$f":"IFERROR(IF($B$2=\"トン\",AppQt.Data!AQ74,(AppQt.Data!AQ74*ozton*AppQt.Data!AQ$7)/1000000),\"-\")","v":2.9300000000000037},{"$f":"IFERROR(IF($B$2=\"トン\",AppQt.Data!AR74,(AppQt.Data!AR74*ozton*AppQt.Data!AR$7)/1000000),\"-\")","v":9.2050000000000018},{"$f":"IFERROR(IF($B$2=\"トン\",AppQt.Data!AS74,(AppQt.Data!AS74*ozton*AppQt.Data!AS$7)/1000000),\"-\")","v":2.6917500000000012},{"$f":"IFERROR(IF($B$2=\"トン\",AppQt.Data!AT74,(AppQt.Data!AT74*ozton*AppQt.Data!AT$7)/1000000),\"-\")","v":3.9117499999999987},{"$f":"IFERROR(IF($B$2=\"トン\",AppQt.Data!AU74,(AppQt.Data!AU74*ozton*AppQt.Data!AU$7)/1000000),\"-\")","v":2.8617500000000025},{"$f":"IFERROR(IF($B$2=\"トン\",AppQt.Data!AV74,(AppQt.Data!AV74*ozton*AppQt.Data!AV$7)/1000000),\"-\")","v":9.0767499999999988},{"$f":"IFERROR(IF($B$2=\"トン\",AppQt.Data!AW74,(AppQt.Data!AW74*ozton*AppQt.Data!AW$7)/1000000),\"-\")","v":2.6573374999999988},{"$f":"IFERROR(IF($B$2=\"トン\",AppQt.Data!AX74,(AppQt.Data!AX74*ozton*AppQt.Data!AX$7)/1000000),\"-\")","v":3.8173375000000025},{"$f":"IFERROR(IF($B$2=\"トン\",AppQt.Data!AY74,(AppQt.Data!AY74*ozton*AppQt.Data!AY$7)/1000000),\"-\")","v":2.8073374999999956},{"$f":"IFERROR(IF($B$2=\"トン\",AppQt.Data!AZ74,(AppQt.Data!AZ74*ozton*AppQt.Data!AZ$7)/1000000),\"-\")","v":8.8873375000000046},{"$f":"IFERROR(IF($B$2=\"トン\",AppQt.Data!BA74,(AppQt.Data!BA74*ozton*AppQt.Data!BA$7)/1000000),\"-\")","v":2.0000000000000009},{"$f":"IFERROR(IF($B$2=\"トン\",AppQt.Data!BB74,(AppQt.Data!BB74*ozton*AppQt.Data!BB$7)/1000000),\"-\")","v":1.7560000000000016},{"$f":"IFERROR(IF($B$2=\"トン\",AppQt.Data!BC74,(AppQt.Data!BC74*ozton*AppQt.Data!BC$7)/1000000),\"-\")","v":2.4300000000000015},{"$f":"IFERROR(IF($B$2=\"トン\",AppQt.Data!BD74,(AppQt.Data!BD74*ozton*AppQt.Data!BD$7)/1000000),\"-\")","v":7.6093499999999956},{"$f":"IFERROR(IF($B$2=\"トン\",AppQt.Data!BE74,(AppQt.Data!BE74*ozton*AppQt.Data!BE$7)/1000000),\"-\")","v":2.2300000000000004},{"$f":"IFERROR(IF($B$2=\"トン\",AppQt.Data!BF74,(AppQt.Data!BF74*ozton*AppQt.Data!BF$7)/1000000),\"-\")","v":3.4439999999999964},{"$f":"IFERROR(IF($B$2=\"トン\",AppQt.Data!BG74,(AppQt.Data!BG74*ozton*AppQt.Data!BG$7)/1000000),\"-\")","v":2.7100000000000009},{"$f":"IFERROR(IF($B$2=\"トン\",AppQt.Data!BH74,(AppQt.Data!BH74*ozton*AppQt.Data!BH$7)/1000000),\"-\")","v":8.9000000000000075},{"$f":"IFERROR(IF($B$2=\"トン\",AppQt.Data!BI74,(AppQt.Data!BI74*ozton*AppQt.Data!BI$7)/1000000),\"-\")","v":2.4040000000000084},{"$f":"IFERROR(IF($B$2=\"トン\",AppQt.Data!BJ74,(AppQt.Data!BJ74*ozton*AppQt.Data!BJ$7)/1000000),\"-\")","v":3.7250000000000005},{"$f":"IFERROR(IF($B$2=\"トン\",AppQt.Data!BK74,(AppQt.Data!BK74*ozton*AppQt.Data!BK$7)/1000000),\"-\")","v":2.7589999999999968},{"$f":"IFERROR(IF($B$2=\"トン\",AppQt.Data!BL74,(AppQt.Data!BL74*ozton*AppQt.Data!BL$7)/1000000),\"-\")","v":8.9499999999999993},"▲",0.56179775280889022]
[null,"スペイン",{"$f":"IFERROR(IF($B$2=\"トン\",AppAn.Data!L65,(AppAn.Data!L65*ozton*AppAn.Data!L$6)/1000000),\"-\")","v":11.578406659511643},{"$f":"IFERROR(IF($B$2=\"トン\",AppAn.Data!M65,(AppAn.Data!M65*ozton*AppAn.Data!M$6)/1000000),\"-\")","v":8.1675658284118811},{"$f":"IFERROR(IF($B$2=\"トン\",AppAn.Data!N65,(AppAn.Data!N65*ozton*AppAn.Data!N$6)/1000000),\"-\")","v":8.3786363556876537},{"$f":"IFERROR(IF($B$2=\"トン\",AppAn.Data!O65,(AppAn.Data!O65*ozton*AppAn.Data!O$6)/1000000),\"-\")","v":7.7720768627497634},{"$f":"IFERROR(IF($B$2=\"トン\",AppAn.Data!P65,(AppAn.Data!P65*ozton*AppAn.Data!P$6)/1000000),\"-\")","v":8.3072592303392145},{"$f":"IFERROR(IF($B$2=\"トン\",AppAn.Data!Q65,(AppAn.Data!Q65*ozton*AppAn.Data!Q$6)/1000000),\"-\")","v":8.4916112014424865},{"$f":"IFERROR(IF($B$2=\"トン\",AppAn.Data!R65,(AppAn.Data!R65*ozton*AppAn.Data!R$6)/1000000),\"-\")","v":8.2612979621166485},{"$f":"IFERROR(IF($B$2=\"トン\",AppAn.Data!S65,(AppAn.Data!S65*ozton*AppAn.Data!S$6)/1000000),\"-\")","v":8.3863806759580175},{"$f":"IFERROR(IF($B$2=\"トン\",AppAn.Data!T65,(AppAn.Data!T65*ozton*AppAn.Data!T$6)/1000000),\"-\")","v":8.6882324632167798},{"$f":"IFERROR(IF($B$2=\"トン\",AppAn.Data!U65,(AppAn.Data!U65*ozton*AppAn.Data!U$6)/1000000),\"-\")","v":8.8489928470720631},{"$f":"IFERROR(IF($B$2=\"トン\",AppAn.Data!V65,(AppAn.Data!V65*ozton*AppAn.Data!V$6)/1000000),\"-\")","v":6.8964507913436224},{"$f":"IFERROR(IF($B$2=\"トン\",AppAn.Data!W65,(AppAn.Data!W65*ozton*AppAn.Data!W$6)/1000000),\"-\")","v":7.7548471227972247},{"$f":"IFERROR(IF($B$2=\"トン\",AppAn.Data!X65,(AppAn.Data!X65*ozton*AppAn.Data!X$6)/1000000),\"-\")","v":8.0769632819116701},"▲",4.1537396419783379,null,{"$f":"IFERROR(IF($B$2=\"トン\",AppQt.Data!M75,(AppQt.Data!M75*ozton*AppQt.Data!M$7)/1000000),\"-\")","v":2.5197539974238747},{"$f":"IFERROR(IF($B$2=\"トン\",AppQt.Data!N75,(AppQt.Data!N75*ozton*AppQt.Data!N$7)/1000000),\"-\")","v":3.1901258394162899},{"$f":"IFERROR(IF($B$2=\"トン\",AppQt.Data!O75,(AppQt.Data!O75*ozton*AppQt.Data!O$7)/1000000),\"-\")","v":2.4500028381282268},{"$f":"IFERROR(IF($B$2=\"トン\",AppQt.Data!P75,(AppQt.Data!P75*ozton*AppQt.Data!P$7)/1000000),\"-\")","v":3.4185239845432518},{"$f":"IFERROR(IF($B$2=\"トン\",AppQt.Data!Q75,(AppQt.Data!Q75*ozton*AppQt.Data!Q$7)/1000000),\"-\")","v":1.8657364239373999},{"$f":"IFERROR(IF($B$2=\"トン\",AppQt.Data!R75,(AppQt.Data!R75*ozton*AppQt.Data!R$7)/1000000),\"-\")","v":2.2659193643848479},{"$f":"IFERROR(IF($B$2=\"トン\",AppQt.Data!S75,(AppQt.Data!S75*ozton*AppQt.Data!S$7)/1000000),\"-\")","v":1.6739858603231963},{"$f":"IFERROR(IF($B$2=\"トン\",AppQt.Data!T75,(AppQt.Data!T75*ozton*AppQt.Data!T$7)/1000000),\"-\")","v":2.3619241797664356},{"$f":"IFERROR(IF($B$2=\"トン\",AppQt.Data!U75,(AppQt.Data!U75*ozton*AppQt.Data!U$7)/1000000),\"-\")","v":1.8105107474736559},{"$f":"IFERROR(IF($B$2=\"トン\",AppQt.Data!V75,(AppQt.Data!V75*ozton*AppQt.Data!V$7)/1000000),\"-\")","v":2.3012973610735834},{"$f":"IFERROR(IF($B$2=\"トン\",AppQt.Data!W75,(AppQt.Data!W75*ozton*AppQt.Data!W$7)/1000000),\"-\")","v":1.7338845938575167},{"$f":"IFERROR(IF($B$2=\"トン\",AppQt.Data!X75,(AppQt.Data!X75*ozton*AppQt.Data!X$7)/1000000),\"-\")","v":2.5329436532828971},{"$f":"IFERROR(IF($B$2=\"トン\",AppQt.Data!Y75,(AppQt.Data!Y75*ozton*AppQt.Data!Y$7)/1000000),\"-\")","v":1.5520026779597229},{"$f":"IFERROR(IF($B$2=\"トン\",AppQt.Data!Z75,(AppQt.Data!Z75*ozton*AppQt.Data!Z$7)/1000000),\"-\")","v":1.8751986063796322},{"$f":"IFERROR(IF($B$2=\"トン\",AppQt.Data!AA75,(AppQt.Data!AA75*ozton*AppQt.Data!AA$7)/1000000),\"-\")","v":2.0114049664369196},{"$f":"IFERROR(IF($B$2=\"トン\",AppQt.Data!AB75,(AppQt.Data!AB75*ozton*AppQt.Data!AB$7)/1000000),\"-\")","v":2.3334706119734894},{"$f":"IFERROR(IF($B$2=\"トン\",AppQt.Data!AC75,(AppQt.Data!AC75*ozton*AppQt.Data!AC$7)/1000000),\"-\")","v":1.7555847500504751},{"$f":"IFERROR(IF($B$2=\"トン\",AppQt.Data!AD75,(AppQt.Data!AD75*ozton*AppQt.Data!AD$7)/1000000),\"-\")","v":2.175067750143945},{"$f":"IFERROR(IF($B$2=\"トン\",AppQt.Data!AE75,(AppQt.Data!AE75*ozton*AppQt.Data!AE$7)/1000000),\"-\")","v":1.8541870827348239},{"$f":"IFERROR(IF($B$2=\"トン\",AppQt.Data!AF75,(AppQt.Data!AF75*ozton*AppQt.Data!AF$7)/1000000),\"-\")","v":2.5224196474099707},{"$f":"IFERROR(IF($B$2=\"トン\",AppQt.Data!AG75,(AppQt.Data!AG75*ozton*AppQt.Data!AG$7)/1000000),\"-\")","v":1.7447138123488874},{"$f":"IFERROR(IF($B$2=\"トン\",AppQt.Data!AH75,(AppQt.Data!AH75*ozton*AppQt.Data!AH$7)/1000000),\"-\")","v":2.0690891085570624},{"$f":"IFERROR(IF($B$2=\"トン\",AppQt.Data!AI75,(AppQt.Data!AI75*ozton*AppQt.Data!AI$7)/1000000),\"-\")","v":2.0321162443184386},{"$f":"IFERROR(IF($B$2=\"トン\",AppQt.Data!AJ75,(AppQt.Data!AJ75*ozton*AppQt.Data!AJ$7)/1000000),\"-\")","v":2.6456920362180978},{"$f":"IFERROR(IF($B$2=\"トン\",AppQt.Data!AK75,(AppQt.Data!AK75*ozton*AppQt.Data!AK$7)/1000000),\"-\")","v":1.7265888805341267},{"$f":"IFERROR(IF($B$2=\"トン\",AppQt.Data!AL75,(AppQt.Data!AL75*ozton*AppQt.Data!AL$7)/1000000),\"-\")","v":2.0599714368889823},{"$f":"IFERROR(IF($B$2=\"トン\",AppQt.Data!AM75,(AppQt.Data!AM75*ozton*AppQt.Data!AM$7)/1000000),\"-\")","v":1.8884212705207328},{"$f":"IFERROR(IF($B$2=\"トン\",AppQt.Data!AN75,(AppQt.Data!AN75*ozton*AppQt.Data!AN$7)/1000000),\"-\")","v":2.586316374172807},{"$f":"IFERROR(IF($B$2=\"トン\",AppQt.Data!AO75,(AppQt.Data!AO75*ozton*AppQt.Data!AO$7)/1000000),\"-\")","v":1.7476713739399079},{"$f":"IFERROR(IF($B$2=\"トン\",AppQt.Data!AP75,(AppQt.Data!AP75*ozton*AppQt.Data!AP$7)/1000000),\"-\")","v":2.088426033614267},{"$f":"IFERROR(IF($B$2=\"トン\",AppQt.Data!AQ75,(AppQt.Data!AQ75*ozton*AppQt.Data!AQ$7)/1000000),\"-\")","v":1.9068417884619502},{"$f":"IFERROR(IF($B$2=\"トン\",AppQt.Data!AR75,(AppQt.Data!AR75*ozton*AppQt.Data!AR$7)/1000000),\"-\")","v":2.6434414799418926},{"$f":"IFERROR(IF($B$2=\"トン\",AppQt.Data!AS75,(AppQt.Data!AS75*ozton*AppQt.Data!AS$7)/1000000),\"-\")","v":1.807060819437585},{"$f":"IFERROR(IF($B$2=\"トン\",AppQt.Data!AT75,(AppQt.Data!AT75*ozton*AppQt.Data!AT$7)/1000000),\"-\")","v":2.1823724999040639},{"$f":"IFERROR(IF($B$2=\"トン\",AppQt.Data!AU75,(AppQt.Data!AU75*ozton*AppQt.Data!AU$7)/1000000),\"-\")","v":1.9831650958800837},{"$f":"IFERROR(IF($B$2=\"トン\",AppQt.Data!AV75,(AppQt.Data!AV75*ozton*AppQt.Data!AV$7)/1000000),\"-\")","v":2.7156340479950472},{"$f":"IFERROR(IF($B$2=\"トン\",AppQt.Data!AW75,(AppQt.Data!AW75*ozton*AppQt.Data!AW$7)/1000000),\"-\")","v":1.8449958119434569},{"$f":"IFERROR(IF($B$2=\"トン\",AppQt.Data!AX75,(AppQt.Data!AX75*ozton*AppQt.Data!AX$7)/1000000),\"-\")","v":2.2279831146804452},{"$f":"IFERROR(IF($B$2=\"トン\",AppQt.Data!AY75,(AppQt.Data!AY75*ozton*AppQt.Data!AY$7)/1000000),\"-\")","v":2.0205453617331877},{"$f":"IFERROR(IF($B$2=\"トン\",AppQt.Data!AZ75,(AppQt.Data!AZ75*ozton*AppQt.Data!AZ$7)/1000000),\"-\")","v":2.755468558714973},{"$f":"IFERROR(IF($B$2=\"トン\",AppQt.Data!BA75,(AppQt.Data!BA75*ozton*AppQt.Data!BA$7)/1000000),\"-\")","v":1.7193162472671137},{"$f":"IFERROR(IF($B$2=\"トン\",AppQt.Data!BB75,(AppQt.Data!BB75*ozton*AppQt.Data!BB$7)/1000000),\"-\")","v":1.5719659535410746},{"$f":"IFERROR(IF($B$2=\"トン\",AppQt.Data!BC75,(AppQt.Data!BC75*ozton*AppQt.Data!BC$7)/1000000),\"-\")","v":1.5010821958154554},{"$f":"IFERROR(IF($B$2=\"トン\",AppQt.Data!BD75,(AppQt.Data!BD75*ozton*AppQt.Data!BD$7)/1000000),\"-\")","v":2.1040863947199782},{"$f":"IFERROR(IF($B$2=\"トン\",AppQt.Data!BE75,(AppQt.Data!BE75*ozton*AppQt.Data!BE$7)/1000000),\"-\")","v":1.5949574876926018},{"$f":"IFERROR(IF($B$2=\"トン\",AppQt.Data!BF75,(AppQt.Data!BF75*ozton*AppQt.Data!BF$7)/1000000),\"-\")","v":1.9021506663341916},{"$f":"IFERROR(IF($B$2=\"トン\",AppQt.Data!BG75,(AppQt.Data!BG75*ozton*AppQt.Data!BG$7)/1000000),\"-\")","v":1.7928671177909401},{"$f":"IFERROR(IF($B$2=\"トン\",AppQt.Data!BH75,(AppQt.Data!BH75*ozton*AppQt.Data!BH$7)/1000000),\"-\")","v":2.4648718509794909},{"$f":"IFERROR(IF($B$2=\"トン\",AppQt.Data!BI75,(AppQt.Data!BI75*ozton*AppQt.Data!BI$7)/1000000),\"-\")","v":1.7038853309283053},{"$f":"IFERROR(IF($B$2=\"トン\",AppQt.Data!BJ75,(AppQt.Data!BJ75*ozton*AppQt.Data!BJ$7)/1000000),\"-\")","v":1.987076551594757},{"$f":"IFERROR(IF($B$2=\"トン\",AppQt.Data!BK75,(AppQt.Data!BK75*ozton*AppQt.Data!BK$7)/1000000),\"-\")","v":1.8500092487428466},{"$f":"IFERROR(IF($B$2=\"トン\",AppQt.Data!BL75,(AppQt.Data!BL75*ozton*AppQt.Data!BL$7)/1000000),\"-\")","v":2.5359921506457614},"▲",2.8853548568055887]
[null,"英国",{"$f":"IFERROR(IF($B$2=\"トン\",AppAn.Data!L66,(AppAn.Data!L66*ozton*AppAn.Data!L$6)/1000000),\"-\")","v":26.00221461108179},{"$f":"IFERROR(IF($B$2=\"トン\",AppAn.Data!M66,(AppAn.Data!M66*ozton*AppAn.Data!M$6)/1000000),\"-\")","v":21.434805951129945},{"$f":"IFERROR(IF($B$2=\"トン\",AppAn.Data!N66,(AppAn.Data!N66*ozton*AppAn.Data!N$6)/1000000),\"-\")","v":20.029252160791494},{"$f":"IFERROR(IF($B$2=\"トン\",AppAn.Data!O66,(AppAn.Data!O66*ozton*AppAn.Data!O$6)/1000000),\"-\")","v":21.19321547144073},{"$f":"IFERROR(IF($B$2=\"トン\",AppAn.Data!P66,(AppAn.Data!P66*ozton*AppAn.Data!P$6)/1000000),\"-\")","v":25.678991802744271},{"$f":"IFERROR(IF($B$2=\"トン\",AppAn.Data!Q66,(AppAn.Data!Q66*ozton*AppAn.Data!Q$6)/1000000),\"-\")","v":25.893869949608089},{"$f":"IFERROR(IF($B$2=\"トン\",AppAn.Data!R66,(AppAn.Data!R66*ozton*AppAn.Data!R$6)/1000000),\"-\")","v":25.205631034265636},{"$f":"IFERROR(IF($B$2=\"トン\",AppAn.Data!S66,(AppAn.Data!S66*ozton*AppAn.Data!S$6)/1000000),\"-\")","v":23.069259801479241},{"$f":"IFERROR(IF($B$2=\"トン\",AppAn.Data!T66,(AppAn.Data!T66*ozton*AppAn.Data!T$6)/1000000),\"-\")","v":22.534427619689946},{"$f":"IFERROR(IF($B$2=\"トン\",AppAn.Data!U66,(AppAn.Data!U66*ozton*AppAn.Data!U$6)/1000000),\"-\")","v":21.777991820985932},{"$f":"IFERROR(IF($B$2=\"トン\",AppAn.Data!V66,(AppAn.Data!V66*ozton*AppAn.Data!V$6)/1000000),\"-\")","v":15.705308827159635},{"$f":"IFERROR(IF($B$2=\"トン\",AppAn.Data!W66,(AppAn.Data!W66*ozton*AppAn.Data!W$6)/1000000),\"-\")","v":19.261322286156549},{"$f":"IFERROR(IF($B$2=\"トン\",AppAn.Data!X66,(AppAn.Data!X66*ozton*AppAn.Data!X$6)/1000000),\"-\")","v":19.317627555638218},"▲",0.29232297058927603,null,{"$f":"IFERROR(IF($B$2=\"トン\",AppQt.Data!M76,(AppQt.Data!M76*ozton*AppQt.Data!M$7)/1000000),\"-\")","v":3.7188659160154192},{"$f":"IFERROR(IF($B$2=\"トン\",AppQt.Data!N76,(AppQt.Data!N76*ozton*AppQt.Data!N$7)/1000000),\"-\")","v":5.0221238646137714},{"$f":"IFERROR(IF($B$2=\"トン\",AppQt.Data!O76,(AppQt.Data!O76*ozton*AppQt.Data!O$7)/1000000),\"-\")","v":4.3539765330845714},{"$f":"IFERROR(IF($B$2=\"トン\",AppQt.Data!P76,(AppQt.Data!P76*ozton*AppQt.Data!P$7)/1000000),\"-\")","v":12.90724829736803},{"$f":"IFERROR(IF($B$2=\"トン\",AppQt.Data!Q76,(AppQt.Data!Q76*ozton*AppQt.Data!Q$7)/1000000),\"-\")","v":3.0297019189434478},{"$f":"IFERROR(IF($B$2=\"トン\",AppQt.Data!R76,(AppQt.Data!R76*ozton*AppQt.Data!R$7)/1000000),\"-\")","v":4.1602302852687014},{"$f":"IFERROR(IF($B$2=\"トン\",AppQt.Data!S76,(AppQt.Data!S76*ozton*AppQt.Data!S$7)/1000000),\"-\")","v":3.6916345602708045},{"$f":"IFERROR(IF($B$2=\"トン\",AppQt.Data!T76,(AppQt.Data!T76*ozton*AppQt.Data!T$7)/1000000),\"-\")","v":10.553239186646989},{"$f":"IFERROR(IF($B$2=\"トン\",AppQt.Data!U76,(AppQt.Data!U76*ozton*AppQt.Data!U$7)/1000000),\"-\")","v":2.7412029937962799},{"$f":"IFERROR(IF($B$2=\"トン\",AppQt.Data!V76,(AppQt.Data!V76*ozton*AppQt.Data!V$7)/1000000),\"-\")","v":3.5601166209384481},{"$f":"IFERROR(IF($B$2=\"トン\",AppQt.Data!W76,(AppQt.Data!W76*ozton*AppQt.Data!W$7)/1000000),\"-\")","v":3.4411067208335151},{"$f":"IFERROR(IF($B$2=\"トン\",AppQt.Data!X76,(AppQt.Data!X76*ozton*AppQt.Data!X$7)/1000000),\"-\")","v":10.28682582522325},{"$f":"IFERROR(IF($B$2=\"トン\",AppQt.Data!Y76,(AppQt.Data!Y76*ozton*AppQt.Data!Y$7)/1000000),\"-\")","v":2.9337441482291822},{"$f":"IFERROR(IF($B$2=\"トン\",AppQt.Data!Z76,(AppQt.Data!Z76*ozton*AppQt.Data!Z$7)/1000000),\"-\")","v":3.0878785577379491},{"$f":"IFERROR(IF($B$2=\"トン\",AppQt.Data!AA76,(AppQt.Data!AA76*ozton*AppQt.Data!AA$7)/1000000),\"-\")","v":3.9297255342384947},{"$f":"IFERROR(IF($B$2=\"トン\",AppQt.Data!AB76,(AppQt.Data!AB76*ozton*AppQt.Data!AB$7)/1000000),\"-\")","v":11.241867231235105},{"$f":"IFERROR(IF($B$2=\"トン\",AppQt.Data!AC76,(AppQt.Data!AC76*ozton*AppQt.Data!AC$7)/1000000),\"-\")","v":3.8191644903546149},{"$f":"IFERROR(IF($B$2=\"トン\",AppQt.Data!AD76,(AppQt.Data!AD76*ozton*AppQt.Data!AD$7)/1000000),\"-\")","v":4.0281645273605031},{"$f":"IFERROR(IF($B$2=\"トン\",AppQt.Data!AE76,(AppQt.Data!AE76*ozton*AppQt.Data!AE$7)/1000000),\"-\")","v":4.9393267604339286},{"$f":"IFERROR(IF($B$2=\"トン\",AppQt.Data!AF76,(AppQt.Data!AF76*ozton*AppQt.Data!AF$7)/1000000),\"-\")","v":12.892336024595224},{"$f":"IFERROR(IF($B$2=\"トン\",AppQt.Data!AG76,(AppQt.Data!AG76*ozton*AppQt.Data!AG$7)/1000000),\"-\")","v":3.9728044040601058},{"$f":"IFERROR(IF($B$2=\"トン\",AppQt.Data!AH76,(AppQt.Data!AH76*ozton*AppQt.Data!AH$7)/1000000),\"-\")","v":4.1410236913823502},{"$f":"IFERROR(IF($B$2=\"トン\",AppQt.Data!AI76,(AppQt.Data!AI76*ozton*AppQt.Data!AI$7)/1000000),\"-\")","v":4.8879254928725189},{"$f":"IFERROR(IF($B$2=\"トン\",AppQt.Data!AJ76,(AppQt.Data!AJ76*ozton*AppQt.Data!AJ$7)/1000000),\"-\")","v":12.892116361293116},{"$f":"IFERROR(IF($B$2=\"トン\",AppQt.Data!AK76,(AppQt.Data!AK76*ozton*AppQt.Data!AK$7)/1000000),\"-\")","v":4.0006058522492269},{"$f":"IFERROR(IF($B$2=\"トン\",AppQt.Data!AL76,(AppQt.Data!AL76*ozton*AppQt.Data!AL$7)/1000000),\"-\")","v":4.1662903074155899},{"$f":"IFERROR(IF($B$2=\"トン\",AppQt.Data!AM76,(AppQt.Data!AM76*ozton*AppQt.Data!AM$7)/1000000),\"-\")","v":4.8419748034465915},{"$f":"IFERROR(IF($B$2=\"トン\",AppQt.Data!AN76,(AppQt.Data!AN76*ozton*AppQt.Data!AN$7)/1000000),\"-\")","v":12.196760071154229},{"$f":"IFERROR(IF($B$2=\"トン\",AppQt.Data!AO76,(AppQt.Data!AO76*ozton*AppQt.Data!AO$7)/1000000),\"-\")","v":3.735563442591781},{"$f":"IFERROR(IF($B$2=\"トン\",AppQt.Data!AP76,(AppQt.Data!AP76*ozton*AppQt.Data!AP$7)/1000000),\"-\")","v":3.7573467613032512},{"$f":"IFERROR(IF($B$2=\"トン\",AppQt.Data!AQ76,(AppQt.Data!AQ76*ozton*AppQt.Data!AQ$7)/1000000),\"-\")","v":4.5792916503898784},{"$f":"IFERROR(IF($B$2=\"トン\",AppQt.Data!AR76,(AppQt.Data!AR76*ozton*AppQt.Data!AR$7)/1000000),\"-\")","v":10.997057947194328},{"$f":"IFERROR(IF($B$2=\"トン\",AppQt.Data!AS76,(AppQt.Data!AS76*ozton*AppQt.Data!AS$7)/1000000),\"-\")","v":3.781008944988514},{"$f":"IFERROR(IF($B$2=\"トン\",AppQt.Data!AT76,(AppQt.Data!AT76*ozton*AppQt.Data!AT$7)/1000000),\"-\")","v":3.773495818304573},{"$f":"IFERROR(IF($B$2=\"トン\",AppQt.Data!AU76,(AppQt.Data!AU76*ozton*AppQt.Data!AU$7)/1000000),\"-\")","v":4.624775390585727},{"$f":"IFERROR(IF($B$2=\"トン\",AppQt.Data!AV76,(AppQt.Data!AV76*ozton*AppQt.Data!AV$7)/1000000),\"-\")","v":10.355147465811132},{"$f":"IFERROR(IF($B$2=\"トン\",AppQt.Data!AW76,(AppQt.Data!AW76*ozton*AppQt.Data!AW$7)/1000000),\"-\")","v":3.6675786766388585},{"$f":"IFERROR(IF($B$2=\"トン\",AppQt.Data!AX76,(AppQt.Data!AX76*ozton*AppQt.Data!AX$7)/1000000),\"-\")","v":3.6602909437554363},{"$f":"IFERROR(IF($B$2=\"トン\",AppQt.Data!AY76,(AppQt.Data!AY76*ozton*AppQt.Data!AY$7)/1000000),\"-\")","v":4.4271986327748793},{"$f":"IFERROR(IF($B$2=\"トン\",AppQt.Data!AZ76,(AppQt.Data!AZ76*ozton*AppQt.Data!AZ$7)/1000000),\"-\")","v":10.022923567816758},{"$f":"IFERROR(IF($B$2=\"トン\",AppQt.Data!BA76,(AppQt.Data!BA76*ozton*AppQt.Data!BA$7)/1000000),\"-\")","v":2.9340629413110872},{"$f":"IFERROR(IF($B$2=\"トン\",AppQt.Data!BB76,(AppQt.Data!BB76*ozton*AppQt.Data!BB$7)/1000000),\"-\")","v":2.0131600190654897},{"$f":"IFERROR(IF($B$2=\"トン\",AppQt.Data!BC76,(AppQt.Data!BC76*ozton*AppQt.Data!BC$7)/1000000),\"-\")","v":3.2408931909204917},{"$f":"IFERROR(IF($B$2=\"トン\",AppQt.Data!BD76,(AppQt.Data!BD76*ozton*AppQt.Data!BD$7)/1000000),\"-\")","v":7.5171926758625673},{"$f":"IFERROR(IF($B$2=\"トン\",AppQt.Data!BE76,(AppQt.Data!BE76*ozton*AppQt.Data!BE$7)/1000000),\"-\")","v":2.0538440589177602},{"$f":"IFERROR(IF($B$2=\"トン\",AppQt.Data!BF76,(AppQt.Data!BF76*ozton*AppQt.Data!BF$7)/1000000),\"-\")","v":3.4223720324113325},{"$f":"IFERROR(IF($B$2=\"トン\",AppQt.Data!BG76,(AppQt.Data!BG76*ozton*AppQt.Data!BG$7)/1000000),\"-\")","v":4.263015716206116},{"$f":"IFERROR(IF($B$2=\"トン\",AppQt.Data!BH76,(AppQt.Data!BH76*ozton*AppQt.Data!BH$7)/1000000),\"-\")","v":9.5220904786213385},{"$f":"IFERROR(IF($B$2=\"トン\",AppQt.Data!BI76,(AppQt.Data!BI76*ozton*AppQt.Data!BI$7)/1000000),\"-\")","v":2.7326060883766412},{"$f":"IFERROR(IF($B$2=\"トン\",AppQt.Data!BJ76,(AppQt.Data!BJ76*ozton*AppQt.Data!BJ$7)/1000000),\"-\")","v":4.3116525405141655},{"$f":"IFERROR(IF($B$2=\"トン\",AppQt.Data!BK76,(AppQt.Data!BK76*ozton*AppQt.Data!BK$7)/1000000),\"-\")","v":4.3685080677814092},{"$f":"IFERROR(IF($B$2=\"トン\",AppQt.Data!BL76,(AppQt.Data!BL76*ozton*AppQt.Data!BL$7)/1000000),\"-\")","v":7.9048608589660034},"▼",-16.98397660982409]
[null,"スイス","-","-","-","-","-","-","-","-","-","-","-","-","-","-","-",null,"-","-","-","-","-","-","-","-","-","-","-","-","-","-","-","-","-","-","-","-","-","-","-","-","-","-","-","-","-","-","-","-","-","-","-","-","-","-","-","-","-","-","-","-","-","-","-","-","-","-","-","-","-","-"]
[null,"オーストリア","-","-","-","-","-","-","-","-","-","-","-","-","-","-","-",null,"-","-","-","-","-","-","-","-","-","-","-","-","-","-","-","-","-","-","-","-","-","-","-","-","-","-","-","-","-","-","-","-","-","-","-","-","-","-","-","-","-","-","-","-","-","-","-","-","-","-","-","-","-","-"]
[null,"その他ヨーロッパ","-","-","-","-","-","-","-","-","-","-","-","-","-","-","-",null,"-","-","-","-","-","-","-","-","-","-","-","-","-","-","-","-","-","-","-","-","-","-","-","-","-","-","-","-","-","-","-","-","-","-","-","-","-","-","-","-","-","-","-","-","-","-","-","-","-","-","-","-","-","-"]
[null,"上記合計",{"$f":"IFERROR(IF($B$2=\"トン\",AppAn.Data!L70,(AppAn.Data!L70*ozton*AppAn.Data!L$6)/1000000),\"-\")","v":1973.3594622381886},{"$f":"IFERROR(IF($B$2=\"トン\",AppAn.Data!M70,(AppAn.Data!M70*ozton*AppAn.Data!M$6)/1000000),\"-\")","v":1970.4065334452675},{"$f":"IFERROR(IF($B$2=\"トン\",AppAn.Data!N70,(AppAn.Data!N70*ozton*AppAn.Data!N$6)/1000000),\"-\")","v":1968.8887898915571},{"$f":"IFERROR(IF($B$2=\"トン\",AppAn.Data!O70,(AppAn.Data!O70*ozton*AppAn.Data!O$6)/1000000),\"-\")","v":2490.5078715276086},{"$f":"IFERROR(IF($B$2=\"トン\",AppAn.Data!P70,(AppAn.Data!P70*ozton*AppAn.Data!P$6)/1000000),\"-\")","v":2303.3153086911343},{"$f":"IFERROR(IF($B$2=\"トン\",AppAn.Data!Q70,(AppAn.Data!Q70*ozton*AppAn.Data!Q$6)/1000000),\"-\")","v":2236.0749946851461},{"$f":"IFERROR(IF($B$2=\"トン\",AppAn.Data!R70,(AppAn.Data!R70*ozton*AppAn.Data!R$6)/1000000),\"-\")","v":1888.4674950754747},{"$f":"IFERROR(IF($B$2=\"トン\",AppAn.Data!S70,(AppAn.Data!S70*ozton*AppAn.Data!S$6)/1000000),\"-\")","v":2015.1169756690008},{"$f":"IFERROR(IF($B$2=\"トン\",AppAn.Data!T70,(AppAn.Data!T70*ozton*AppAn.Data!T$6)/1000000),\"-\")","v":2014.7847018255443},{"$f":"IFERROR(IF($B$2=\"トン\",AppAn.Data!U70,(AppAn.Data!U70*ozton*AppAn.Data!U$6)/1000000),\"-\")","v":1890.3770942838423},{"$f":"IFERROR(IF($B$2=\"トン\",AppAn.Data!V70,(AppAn.Data!V70*ozton*AppAn.Data!V$6)/1000000),\"-\")","v":1237.4882314399888},{"$f":"IFERROR(IF($B$2=\"トン\",AppAn.Data!W70,(AppAn.Data!W70*ozton*AppAn.Data!W$6)/1000000),\"-\")","v":1944.4050943283378},{"$f":"IFERROR(IF($B$2=\"トン\",AppAn.Data!X70,(AppAn.Data!X70*ozton*AppAn.Data!X$6)/1000000),\"-\")","v":1866.7579240503424},"▼",{"$f":"IF(AND(O44>0,N44>0),(O44/N44-1)*100,\"-\")","v":-3.9933638573816488},null,{"$f":"IFERROR(IF($B$2=\"トン\",AppQt.Data!M80,(AppQt.Data!M80*ozton*AppQt.Data!M$7)/1000000),\"-\")","v":517.0295925220729},{"$f":"IFERROR(IF($B$2=\"トン\",AppQt.Data!N80,(AppQt.Data!N80*ozton*AppQt.Data!N$7)/1000000),\"-\")","v":406.69400883747988},{"$f":"IFERROR(IF($B$2=\"トン\",AppQt.Data!O80,(AppQt.Data!O80*ozton*AppQt.Data!O$7)/1000000),\"-\")","v":500.69702818106396},{"$f":"IFERROR(IF($B$2=\"トン\",AppQt.Data!P80,(AppQt.Data!P80*ozton*AppQt.Data!P$7)/1000000),\"-\")","v":548.93883269757282},{"$f":"IFERROR(IF($B$2=\"トン\",AppQt.Data!Q80,(AppQt.Data!Q80*ozton*AppQt.Data!Q$7)/1000000),\"-\")","v":551.98833398935233},{"$f":"IFERROR(IF($B$2=\"トン\",AppQt.Data!R80,(AppQt.Data!R80*ozton*AppQt.Data!R$7)/1000000),\"-\")","v":490.72896322348402},{"$f":"IFERROR(IF($B$2=\"トン\",AppQt.Data!S80,(AppQt.Data!S80*ozton*AppQt.Data!S$7)/1000000),\"-\")","v":454.8977474527685},{"$f":"IFERROR(IF($B$2=\"トン\",AppQt.Data!T80,(AppQt.Data!T80*ozton*AppQt.Data!T$7)/1000000),\"-\")","v":472.79148877966298},{"$f":"IFERROR(IF($B$2=\"トン\",AppQt.Data!U80,(AppQt.Data!U80*ozton*AppQt.Data!U$7)/1000000),\"-\")","v":502.73435864190543},{"$f":"IFERROR(IF($B$2=\"トン\",AppQt.Data!V80,(AppQt.Data!V80*ozton*AppQt.Data!V$7)/1000000),\"-\")","v":454.17815546132158},{"$f":"IFERROR(IF($B$2=\"トン\",AppQt.Data!W80,(AppQt.Data!W80*ozton*AppQt.Data!W$7)/1000000),\"-\")","v":476.12576784480245},{"$f":"IFERROR(IF($B$2=\"トン\",AppQt.Data!X80,(AppQt.Data!X80*ozton*AppQt.Data!X$7)/1000000),\"-\")","v":535.85050794352651},{"$f":"IFERROR(IF($B$2=\"トン\",AppQt.Data!Y80,(AppQt.Data!Y80*ozton*AppQt.Data!Y$7)/1000000),\"-\")","v":567.74479546669716},{"$f":"IFERROR(IF($B$2=\"トン\",AppQt.Data!Z80,(AppQt.Data!Z80*ozton*AppQt.Data!Z$7)/1000000),\"-\")","v":778.94787796434753},{"$f":"IFERROR(IF($B$2=\"トン\",AppQt.Data!AA80,(AppQt.Data!AA80*ozton*AppQt.Data!AA$7)/1000000),\"-\")","v":592.29984888257559},{"$f":"IFERROR(IF($B$2=\"トン\",AppQt.Data!AB80,(AppQt.Data!AB80*ozton*AppQt.Data!AB$7)/1000000),\"-\")","v":551.51534921398923},{"$f":"IFERROR(IF($B$2=\"トン\",AppQt.Data!AC80,(AppQt.Data!AC80*ozton*AppQt.Data!AC$7)/1000000),\"-\")","v":574.67320001908342},{"$f":"IFERROR(IF($B$2=\"トン\",AppQt.Data!AD80,(AppQt.Data!AD80*ozton*AppQt.Data!AD$7)/1000000),\"-\")","v":549.18264521695266},{"$f":"IFERROR(IF($B$2=\"トン\",AppQt.Data!AE80,(AppQt.Data!AE80*ozton*AppQt.Data!AE$7)/1000000),\"-\")","v":556.4880723655366},{"$f":"IFERROR(IF($B$2=\"トン\",AppQt.Data!AF80,(AppQt.Data!AF80*ozton*AppQt.Data!AF$7)/1000000),\"-\")","v":622.97139108956105},{"$f":"IFERROR(IF($B$2=\"トン\",AppQt.Data!AG80,(AppQt.Data!AG80*ozton*AppQt.Data!AG$7)/1000000),\"-\")","v":564.62944495694899},{"$f":"IFERROR(IF($B$2=\"トン\",AppQt.Data!AH80,(AppQt.Data!AH80*ozton*AppQt.Data!AH$7)/1000000),\"-\")","v":480.94310773580088},{"$f":"IFERROR(IF($B$2=\"トン\",AppQt.Data!AI80,(AppQt.Data!AI80*ozton*AppQt.Data!AI$7)/1000000),\"-\")","v":588.35504994585028},{"$f":"IFERROR(IF($B$2=\"トン\",AppQt.Data!AJ80,(AppQt.Data!AJ80*ozton*AppQt.Data!AJ$7)/1000000),\"-\")","v":602.14739204654518},{"$f":"IFERROR(IF($B$2=\"トン\",AppQt.Data!AK80,(AppQt.Data!AK80*ozton*AppQt.Data!AK$7)/1000000),\"-\")","v":441.75577592127314},{"$f":"IFERROR(IF($B$2=\"トン\",AppQt.Data!AL80,(AppQt.Data!AL80*ozton*AppQt.Data!AL$7)/1000000),\"-\")","v":411.27301588440611},{"$f":"IFERROR(IF($B$2=\"トン\",AppQt.Data!AM80,(AppQt.Data!AM80*ozton*AppQt.Data!AM$7)/1000000),\"-\")","v":457.82224916344609},{"$f":"IFERROR(IF($B$2=\"トン\",AppQt.Data!AN80,(AppQt.Data!AN80*ozton*AppQt.Data!AN$7)/1000000),\"-\")","v":577.6164541063506},{"$f":"IFERROR(IF($B$2=\"トン\",AppQt.Data!AO80,(AppQt.Data!AO80*ozton*AppQt.Data!AO$7)/1000000),\"-\")","v":476.78289461413982},{"$f":"IFERROR(IF($B$2=\"トン\",AppQt.Data!AP80,(AppQt.Data!AP80*ozton*AppQt.Data!AP$7)/1000000),\"-\")","v":479.22382855161214},{"$f":"IFERROR(IF($B$2=\"トン\",AppQt.Data!AQ80,(AppQt.Data!AQ80*ozton*AppQt.Data!AQ$7)/1000000),\"-\")","v":461.95232806361827},{"$f":"IFERROR(IF($B$2=\"トン\",AppQt.Data!AR80,(AppQt.Data!AR80*ozton*AppQt.Data!AR$7)/1000000),\"-\")","v":597.15792443963051},{"$f":"IFERROR(IF($B$2=\"トン\",AppQt.Data!AS80,(AppQt.Data!AS80*ozton*AppQt.Data!AS$7)/1000000),\"-\")","v":475.20432169004027},{"$f":"IFERROR(IF($B$2=\"トン\",AppQt.Data!AT80,(AppQt.Data!AT80*ozton*AppQt.Data!AT$7)/1000000),\"-\")","v":467.32139795911661},{"$f":"IFERROR(IF($B$2=\"トン\",AppQt.Data!AU80,(AppQt.Data!AU80*ozton*AppQt.Data!AU$7)/1000000),\"-\")","v":493.16614018489554},{"$f":"IFERROR(IF($B$2=\"トン\",AppQt.Data!AV80,(AppQt.Data!AV80*ozton*AppQt.Data!AV$7)/1000000),\"-\")","v":579.09284199149204},{"$f":"IFERROR(IF($B$2=\"トン\",AppQt.Data!AW80,(AppQt.Data!AW80*ozton*AppQt.Data!AW$7)/1000000),\"-\")","v":480.99594051594107},{"$f":"IFERROR(IF($B$2=\"トン\",AppQt.Data!AX80,(AppQt.Data!AX80*ozton*AppQt.Data!AX$7)/1000000),\"-\")","v":474.61769385758487},{"$f":"IFERROR(IF($B$2=\"トン\",AppQt.Data!AY80,(AppQt.Data!AY80*ozton*AppQt.Data!AY$7)/1000000),\"-\")","v":414.39380814668169},{"$f":"IFERROR(IF($B$2=\"トン\",AppQt.Data!AZ80,(AppQt.Data!AZ80*ozton*AppQt.Data!AZ$7)/1000000),\"-\")","v":520.36965176363515},{"$f":"IFERROR(IF($B$2=\"トン\",AppQt.Data!BA80,(AppQt.Data!BA80*ozton*AppQt.Data!BA$7)/1000000),\"-\")","v":273.53413891477294},{"$f":"IFERROR(IF($B$2=\"トン\",AppQt.Data!BB80,(AppQt.Data!BB80*ozton*AppQt.Data!BB$7)/1000000),\"-\")","v":210.1482422215779},{"$f":"IFERROR(IF($B$2=\"トン\",AppQt.Data!BC80,(AppQt.Data!BC80*ozton*AppQt.Data!BC$7)/1000000),\"-\")","v":295.92997472378897},{"$f":"IFERROR(IF($B$2=\"トン\",AppQt.Data!BD80,(AppQt.Data!BD80*ozton*AppQt.Data!BD$7)/1000000),\"-\")","v":457.87587557984858},{"$f":"IFERROR(IF($B$2=\"トン\",AppQt.Data!BE80,(AppQt.Data!BE80*ozton*AppQt.Data!BE$7)/1000000),\"-\")","v":466.20181014195816},{"$f":"IFERROR(IF($B$2=\"トン\",AppQt.Data!BF80,(AppQt.Data!BF80*ozton*AppQt.Data!BF$7)/1000000),\"-\")","v":392.67932768247243},{"$f":"IFERROR(IF($B$2=\"トン\",AppQt.Data!BG80,(AppQt.Data!BG80*ozton*AppQt.Data!BG$7)/1000000),\"-\")","v":430.90480137529829},{"$f":"IFERROR(IF($B$2=\"トン\",AppQt.Data!BH80,(AppQt.Data!BH80*ozton*AppQt.Data!BH$7)/1000000),\"-\")","v":654.61915512860821},{"$f":"IFERROR(IF($B$2=\"トン\",AppQt.Data!BI80,(AppQt.Data!BI80*ozton*AppQt.Data!BI$7)/1000000),\"-\")","v":424.13449771333319},{"$f":"IFERROR(IF($B$2=\"トン\",AppQt.Data!BJ80,(AppQt.Data!BJ80*ozton*AppQt.Data!BJ$7)/1000000),\"-\")","v":409.92513127219098},{"$f":"IFERROR(IF($B$2=\"トン\",AppQt.Data!BK80,(AppQt.Data!BK80*ozton*AppQt.Data!BK$7)/1000000),\"-\")","v":474.07766060197349},{"$f":"IFERROR(IF($B$2=\"トン\",AppQt.Data!BL80,(AppQt.Data!BL80*ozton*AppQt.Data!BL$7)/1000000),\"-\")","v":558.62063446284503},"▼",{"$f":"IF(AND(ISNUMBER(BR44),ISNUMBER(BN44),BR44>0,BN44>0,(BR44/BN44-1)*100<300),(BR44/BN44-1)*100,IF(AND(ISNUMBER(BR44),ISNUMBER(BN44),BR44>0,BN44>0,(BR44/BN44-1)*100>300),\">300\",\"-\"))","v":-14.664789429649838}]
[null,"その他&在庫変動分",{"$f":"IFERROR(IF($B$2=\"トン\",AppAn.Data!L71,(AppAn.Data!L71*ozton*AppAn.Data!L$6)/1000000),\"-\")","v":83.888147850843808},{"$f":"IFERROR(IF($B$2=\"トン\",AppAn.Data!M71,(AppAn.Data!M71*ozton*AppAn.Data!M$6)/1000000),\"-\")","v":134.0391601985468},{"$f":"IFERROR(IF($B$2=\"トン\",AppAn.Data!N71,(AppAn.Data!N71*ozton*AppAn.Data!N$6)/1000000),\"-\")","v":188.31619247164502},{"$f":"IFERROR(IF($B$2=\"トン\",AppAn.Data!O71,(AppAn.Data!O71*ozton*AppAn.Data!O$6)/1000000),\"-\")","v":237.46648899714538},{"$f":"IFERROR(IF($B$2=\"トン\",AppAn.Data!P71,(AppAn.Data!P71*ozton*AppAn.Data!P$6)/1000000),\"-\")","v":230.90319863472018},{"$f":"IFERROR(IF($B$2=\"トン\",AppAn.Data!Q71,(AppAn.Data!Q71*ozton*AppAn.Data!Q$6)/1000000),\"-\")","v":224.76627871707916},{"$f":"IFERROR(IF($B$2=\"トン\",AppAn.Data!R71,(AppAn.Data!R71*ozton*AppAn.Data!R$6)/1000000),\"-\")","v":216.76069701473369},{"$f":"IFERROR(IF($B$2=\"トン\",AppAn.Data!S71,(AppAn.Data!S71*ozton*AppAn.Data!S$6)/1000000),\"-\")","v":226.89377574689956},{"$f":"IFERROR(IF($B$2=\"トン\",AppAn.Data!T71,(AppAn.Data!T71*ozton*AppAn.Data!T$6)/1000000),\"-\")","v":235.43543497461167},{"$f":"IFERROR(IF($B$2=\"トン\",AppAn.Data!U71,(AppAn.Data!U71*ozton*AppAn.Data!U$6)/1000000),\"-\")","v":236.34305950457309},{"$f":"IFERROR(IF($B$2=\"トン\",AppAn.Data!V71,(AppAn.Data!V71*ozton*AppAn.Data!V$6)/1000000),\"-\")","v":160.49810801132926},{"$f":"IFERROR(IF($B$2=\"トン\",AppAn.Data!W71,(AppAn.Data!W71*ozton*AppAn.Data!W$6)/1000000),\"-\")","v":203.33321627578675},{"$f":"IFERROR(IF($B$2=\"トン\",AppAn.Data!X71,(AppAn.Data!X71*ozton*AppAn.Data!X$6)/1000000),\"-\")","v":219.41044936470291},"▲",{"$f":"IF(AND(O45>0,N45>0),(O45/N45-1)*100,\"-\")","v":7.9068404972801654},null,{"$f":"IFERROR(IF($B$2=\"トン\",AppQt.Data!M81,(AppQt.Data!M81*ozton*AppQt.Data!M$7)/1000000),\"-\")","v":17.964777162997834},{"$f":"IFERROR(IF($B$2=\"トン\",AppQt.Data!N81,(AppQt.Data!N81*ozton*AppQt.Data!N$7)/1000000),\"-\")","v":16.123207606501047},{"$f":"IFERROR(IF($B$2=\"トン\",AppQt.Data!O81,(AppQt.Data!O81*ozton*AppQt.Data!O$7)/1000000),\"-\")","v":22.454052655168166},{"$f":"IFERROR(IF($B$2=\"トン\",AppQt.Data!P81,(AppQt.Data!P81*ozton*AppQt.Data!P$7)/1000000),\"-\")","v":27.346110426176772},{"$f":"IFERROR(IF($B$2=\"トン\",AppQt.Data!Q81,(AppQt.Data!Q81*ozton*AppQt.Data!Q$7)/1000000),\"-\")","v":28.0709202494577},{"$f":"IFERROR(IF($B$2=\"トン\",AppQt.Data!R81,(AppQt.Data!R81*ozton*AppQt.Data!R$7)/1000000),\"-\")","v":32.218333793260484},{"$f":"IFERROR(IF($B$2=\"トン\",AppQt.Data!S81,(AppQt.Data!S81*ozton*AppQt.Data!S$7)/1000000),\"-\")","v":29.19683406255653},{"$f":"IFERROR(IF($B$2=\"トン\",AppQt.Data!T81,(AppQt.Data!T81*ozton*AppQt.Data!T$7)/1000000),\"-\")","v":44.553072093272078},{"$f":"IFERROR(IF($B$2=\"トン\",AppQt.Data!U81,(AppQt.Data!U81*ozton*AppQt.Data!U$7)/1000000),\"-\")","v":38.014990172211675},{"$f":"IFERROR(IF($B$2=\"トン\",AppQt.Data!V81,(AppQt.Data!V81*ozton*AppQt.Data!V$7)/1000000),\"-\")","v":45.624733627145382},{"$f":"IFERROR(IF($B$2=\"トン\",AppQt.Data!W81,(AppQt.Data!W81*ozton*AppQt.Data!W$7)/1000000),\"-\")","v":43.046372800560235},{"$f":"IFERROR(IF($B$2=\"トン\",AppQt.Data!X81,(AppQt.Data!X81*ozton*AppQt.Data!X$7)/1000000),\"-\")","v":61.63009587172774},{"$f":"IFERROR(IF($B$2=\"トン\",AppQt.Data!Y81,(AppQt.Data!Y81*ozton*AppQt.Data!Y$7)/1000000),\"-\")","v":48.396421017192878},{"$f":"IFERROR(IF($B$2=\"トン\",AppQt.Data!Z81,(AppQt.Data!Z81*ozton*AppQt.Data!Z$7)/1000000),\"-\")","v":55.313712120673387},{"$f":"IFERROR(IF($B$2=\"トン\",AppQt.Data!AA81,(AppQt.Data!AA81*ozton*AppQt.Data!AA$7)/1000000),\"-\")","v":56.636765167111349},{"$f":"IFERROR(IF($B$2=\"トン\",AppQt.Data!AB81,(AppQt.Data!AB81*ozton*AppQt.Data!AB$7)/1000000),\"-\")","v":77.119590692167748},{"$f":"IFERROR(IF($B$2=\"トン\",AppQt.Data!AC81,(AppQt.Data!AC81*ozton*AppQt.Data!AC$7)/1000000),\"-\")","v":52.364032264177354},{"$f":"IFERROR(IF($B$2=\"トン\",AppQt.Data!AD81,(AppQt.Data!AD81*ozton*AppQt.Data!AD$7)/1000000),\"-\")","v":53.907690932563128},{"$f":"IFERROR(IF($B$2=\"トン\",AppQt.Data!AE81,(AppQt.Data!AE81*ozton*AppQt.Data!AE$7)/1000000),\"-\")","v":53.745608643786795},{"$f":"IFERROR(IF($B$2=\"トン\",AppQt.Data!AF81,(AppQt.Data!AF81*ozton*AppQt.Data!AF$7)/1000000),\"-\")","v":70.885866794192907},{"$f":"IFERROR(IF($B$2=\"トン\",AppQt.Data!AG81,(AppQt.Data!AG81*ozton*AppQt.Data!AG$7)/1000000),\"-\")","v":51.338300215811728},{"$f":"IFERROR(IF($B$2=\"トン\",AppQt.Data!AH81,(AppQt.Data!AH81*ozton*AppQt.Data!AH$7)/1000000),\"-\")","v":52.191216050067794},{"$f":"IFERROR(IF($B$2=\"トン\",AppQt.Data!AI81,(AppQt.Data!AI81*ozton*AppQt.Data!AI$7)/1000000),\"-\")","v":53.084590426004979},{"$f":"IFERROR(IF($B$2=\"トン\",AppQt.Data!AJ81,(AppQt.Data!AJ81*ozton*AppQt.Data!AJ$7)/1000000),\"-\")","v":68.152172025194659},{"$f":"IFERROR(IF($B$2=\"トン\",AppQt.Data!AK81,(AppQt.Data!AK81*ozton*AppQt.Data!AK$7)/1000000),\"-\")","v":49.924546432279044},{"$f":"IFERROR(IF($B$2=\"トン\",AppQt.Data!AL81,(AppQt.Data!AL81*ozton*AppQt.Data!AL$7)/1000000),\"-\")","v":50.691128302729169},{"$f":"IFERROR(IF($B$2=\"トン\",AppQt.Data!AM81,(AppQt.Data!AM81*ozton*AppQt.Data!AM$7)/1000000),\"-\")","v":50.342679115530814},{"$f":"IFERROR(IF($B$2=\"トン\",AppQt.Data!AN81,(AppQt.Data!AN81*ozton*AppQt.Data!AN$7)/1000000),\"-\")","v":65.802343164194667},{"$f":"IFERROR(IF($B$2=\"トン\",AppQt.Data!AO81,(AppQt.Data!AO81*ozton*AppQt.Data!AO$7)/1000000),\"-\")","v":52.302560105291832},{"$f":"IFERROR(IF($B$2=\"トン\",AppQt.Data!AP81,(AppQt.Data!AP81*ozton*AppQt.Data!AP$7)/1000000),\"-\")","v":53.266684408979756},{"$f":"IFERROR(IF($B$2=\"トン\",AppQt.Data!AQ81,(AppQt.Data!AQ81*ozton*AppQt.Data!AQ$7)/1000000),\"-\")","v":52.841525446560865},{"$f":"IFERROR(IF($B$2=\"トン\",AppQt.Data!AR81,(AppQt.Data!AR81*ozton*AppQt.Data!AR$7)/1000000),\"-\")","v":68.48300578606711},{"$f":"IFERROR(IF($B$2=\"トン\",AppQt.Data!AS81,(AppQt.Data!AS81*ozton*AppQt.Data!AS$7)/1000000),\"-\")","v":54.306509120779936},{"$f":"IFERROR(IF($B$2=\"トン\",AppQt.Data!AT81,(AppQt.Data!AT81*ozton*AppQt.Data!AT$7)/1000000),\"-\")","v":55.275224329426351},{"$f":"IFERROR(IF($B$2=\"トン\",AppQt.Data!AU81,(AppQt.Data!AU81*ozton*AppQt.Data!AU$7)/1000000),\"-\")","v":55.209457515059796},{"$f":"IFERROR(IF($B$2=\"トン\",AppQt.Data!AV81,(AppQt.Data!AV81*ozton*AppQt.Data!AV$7)/1000000),\"-\")","v":70.644244009345584},{"$f":"IFERROR(IF($B$2=\"トン\",AppQt.Data!AW81,(AppQt.Data!AW81*ozton*AppQt.Data!AW$7)/1000000),\"-\")","v":55.129074105135089},{"$f":"IFERROR(IF($B$2=\"トン\",AppQt.Data!AX81,(AppQt.Data!AX81*ozton*AppQt.Data!AX$7)/1000000),\"-\")","v":55.96060578799046},{"$f":"IFERROR(IF($B$2=\"トン\",AppQt.Data!AY81,(AppQt.Data!AY81*ozton*AppQt.Data!AY$7)/1000000),\"-\")","v":55.378936711057293},{"$f":"IFERROR(IF($B$2=\"トン\",AppQt.Data!AZ81,(AppQt.Data!AZ81*ozton*AppQt.Data!AZ$7)/1000000),\"-\")","v":69.87444290039025},{"$f":"IFERROR(IF($B$2=\"トン\",AppQt.Data!BA81,(AppQt.Data!BA81*ozton*AppQt.Data!BA$7)/1000000),\"-\")","v":38.077702888582508},{"$f":"IFERROR(IF($B$2=\"トン\",AppQt.Data!BB81,(AppQt.Data!BB81*ozton*AppQt.Data!BB$7)/1000000),\"-\")","v":32.93956003386981},{"$f":"IFERROR(IF($B$2=\"トン\",AppQt.Data!BC81,(AppQt.Data!BC81*ozton*AppQt.Data!BC$7)/1000000),\"-\")","v":37.113717994137573},{"$f":"IFERROR(IF($B$2=\"トン\",AppQt.Data!BD81,(AppQt.Data!BD81*ozton*AppQt.Data!BD$7)/1000000),\"-\")","v":52.367127094739374},{"$f":"IFERROR(IF($B$2=\"トン\",AppQt.Data!BE81,(AppQt.Data!BE81*ozton*AppQt.Data!BE$7)/1000000),\"-\")","v":45.995076116640291},{"$f":"IFERROR(IF($B$2=\"トン\",AppQt.Data!BF81,(AppQt.Data!BF81*ozton*AppQt.Data!BF$7)/1000000),\"-\")","v":44.878645560376981},{"$f":"IFERROR(IF($B$2=\"トン\",AppQt.Data!BG81,(AppQt.Data!BG81*ozton*AppQt.Data!BG$7)/1000000),\"-\")","v":46.198939154175207},{"$f":"IFERROR(IF($B$2=\"トン\",AppQt.Data!BH81,(AppQt.Data!BH81*ozton*AppQt.Data!BH$7)/1000000),\"-\")","v":66.260555444594274},{"$f":"IFERROR(IF($B$2=\"トン\",AppQt.Data!BI81,(AppQt.Data!BI81*ozton*AppQt.Data!BI$7)/1000000),\"-\")","v":50.526780606725708},{"$f":"IFERROR(IF($B$2=\"トン\",AppQt.Data!BJ81,(AppQt.Data!BJ81*ozton*AppQt.Data!BJ$7)/1000000),\"-\")","v":47.877579938486519},{"$f":"IFERROR(IF($B$2=\"トン\",AppQt.Data!BK81,(AppQt.Data!BK81*ozton*AppQt.Data!BK$7)/1000000),\"-\")","v":50.871589643995492},{"$f":"IFERROR(IF($B$2=\"トン\",AppQt.Data!BL81,(AppQt.Data!BL81*ozton*AppQt.Data!BL$7)/1000000),\"-\")","v":70.134499175495193},"▲",{"$f":"IF(AND(ISNUMBER(BR45),ISNUMBER(BN45),BR45>0,BN45>0,(BR45/BN45-1)*100<300),(BR45/BN45-1)*100,IF(AND(ISNUMBER(BR45),ISNUMBER(BN45),BR45>0,BN45>0,(BR45/BN45-1)*100>300),\">300\",\"-\"))","v":5.8465307223997343}]
[null,"世界合計",{"$f":"IFERROR(IF($B$2=\"トン\",AppAn.Data!L72,(AppAn.Data!L72*ozton*AppAn.Data!L$6)/1000000),\"-\")","v":2057.2476100890326},{"$f":"IFERROR(IF($B$2=\"トン\",AppAn.Data!M72,(AppAn.Data!M72*ozton*AppAn.Data!M$6)/1000000),\"-\")","v":2104.4456936438141},{"$f":"IFERROR(IF($B$2=\"トン\",AppAn.Data!N72,(AppAn.Data!N72*ozton*AppAn.Data!N$6)/1000000),\"-\")","v":2157.2049823632019},{"$f":"IFERROR(IF($B$2=\"トン\",AppAn.Data!O72,(AppAn.Data!O72*ozton*AppAn.Data!O$6)/1000000),\"-\")","v":2727.974360524754},{"$f":"IFERROR(IF($B$2=\"トン\",AppAn.Data!P72,(AppAn.Data!P72*ozton*AppAn.Data!P$6)/1000000),\"-\")","v":2534.2185073258543},{"$f":"IFERROR(IF($B$2=\"トン\",AppAn.Data!Q72,(AppAn.Data!Q72*ozton*AppAn.Data!Q$6)/1000000),\"-\")","v":2460.8412734022254},{"$f":"IFERROR(IF($B$2=\"トン\",AppAn.Data!R72,(AppAn.Data!R72*ozton*AppAn.Data!R$6)/1000000),\"-\")","v":2105.2281920902083},{"$f":"IFERROR(IF($B$2=\"トン\",AppAn.Data!S72,(AppAn.Data!S72*ozton*AppAn.Data!S$6)/1000000),\"-\")","v":2242.0107514159004},{"$f":"IFERROR(IF($B$2=\"トン\",AppAn.Data!T72,(AppAn.Data!T72*ozton*AppAn.Data!T$6)/1000000),\"-\")","v":2250.2201368001561},{"$f":"IFERROR(IF($B$2=\"トン\",AppAn.Data!U72,(AppAn.Data!U72*ozton*AppAn.Data!U$6)/1000000),\"-\")","v":2126.7201537884152},{"$f":"IFERROR(IF($B$2=\"トン\",AppAn.Data!V72,(AppAn.Data!V72*ozton*AppAn.Data!V$6)/1000000),\"-\")","v":1397.9863394513181},{"$f":"IFERROR(IF($B$2=\"トン\",AppAn.Data!W72,(AppAn.Data!W72*ozton*AppAn.Data!W$6)/1000000),\"-\")","v":2147.7383106041243},{"$f":"IFERROR(IF($B$2=\"トン\",AppAn.Data!X72,(AppAn.Data!X72*ozton*AppAn.Data!X$6)/1000000),\"-\")","v":2086.1683734150452},"▼",{"$f":"IF(AND(O46>0,N46>0),(O46/N46-1)*100,\"-\")","v":-2.866733665134491},null,{"$f":"IFERROR(IF($B$2=\"トン\",AppQt.Data!M82,(AppQt.Data!M82*ozton*AppQt.Data!M$7)/1000000),\"-\")","v":534.99436968507075},{"$f":"IFERROR(IF($B$2=\"トン\",AppQt.Data!N82,(AppQt.Data!N82*ozton*AppQt.Data!N$7)/1000000),\"-\")","v":422.81721644398095},{"$f":"IFERROR(IF($B$2=\"トン\",AppQt.Data!O82,(AppQt.Data!O82*ozton*AppQt.Data!O$7)/1000000),\"-\")","v":523.15108083623215},{"$f":"IFERROR(IF($B$2=\"トン\",AppQt.Data!P82,(AppQt.Data!P82*ozton*AppQt.Data!P$7)/1000000),\"-\")","v":576.2849431237496},{"$f":"IFERROR(IF($B$2=\"トン\",AppQt.Data!Q82,(AppQt.Data!Q82*ozton*AppQt.Data!Q$7)/1000000),\"-\")","v":580.05925423881001},{"$f":"IFERROR(IF($B$2=\"トン\",AppQt.Data!R82,(AppQt.Data!R82*ozton*AppQt.Data!R$7)/1000000),\"-\")","v":522.94729701674453},{"$f":"IFERROR(IF($B$2=\"トン\",AppQt.Data!S82,(AppQt.Data!S82*ozton*AppQt.Data!S$7)/1000000),\"-\")","v":484.09458151532505},{"$f":"IFERROR(IF($B$2=\"トン\",AppQt.Data!T82,(AppQt.Data!T82*ozton*AppQt.Data!T$7)/1000000),\"-\")","v":517.34456087293506},{"$f":"IFERROR(IF($B$2=\"トン\",AppQt.Data!U82,(AppQt.Data!U82*ozton*AppQt.Data!U$7)/1000000),\"-\")","v":540.74934881411707},{"$f":"IFERROR(IF($B$2=\"トン\",AppQt.Data!V82,(AppQt.Data!V82*ozton*AppQt.Data!V$7)/1000000),\"-\")","v":499.80288908846694},{"$f":"IFERROR(IF($B$2=\"トン\",AppQt.Data!W82,(AppQt.Data!W82*ozton*AppQt.Data!W$7)/1000000),\"-\")","v":519.17214064536267},{"$f":"IFERROR(IF($B$2=\"トン\",AppQt.Data!X82,(AppQt.Data!X82*ozton*AppQt.Data!X$7)/1000000),\"-\")","v":597.4806038152542},{"$f":"IFERROR(IF($B$2=\"トン\",AppQt.Data!Y82,(AppQt.Data!Y82*ozton*AppQt.Data!Y$7)/1000000),\"-\")","v":616.14121648389005},{"$f":"IFERROR(IF($B$2=\"トン\",AppQt.Data!Z82,(AppQt.Data!Z82*ozton*AppQt.Data!Z$7)/1000000),\"-\")","v":834.26159008502088},{"$f":"IFERROR(IF($B$2=\"トン\",AppQt.Data!AA82,(AppQt.Data!AA82*ozton*AppQt.Data!AA$7)/1000000),\"-\")","v":648.93661404968691},{"$f":"IFERROR(IF($B$2=\"トン\",AppQt.Data!AB82,(AppQt.Data!AB82*ozton*AppQt.Data!AB$7)/1000000),\"-\")","v":628.634939906157},{"$f":"IFERROR(IF($B$2=\"トン\",AppQt.Data!AC82,(AppQt.Data!AC82*ozton*AppQt.Data!AC$7)/1000000),\"-\")","v":627.03723228326078},{"$f":"IFERROR(IF($B$2=\"トン\",AppQt.Data!AD82,(AppQt.Data!AD82*ozton*AppQt.Data!AD$7)/1000000),\"-\")","v":603.09033614951579},{"$f":"IFERROR(IF($B$2=\"トン\",AppQt.Data!AE82,(AppQt.Data!AE82*ozton*AppQt.Data!AE$7)/1000000),\"-\")","v":610.23368100932339},{"$f":"IFERROR(IF($B$2=\"トン\",AppQt.Data!AF82,(AppQt.Data!AF82*ozton*AppQt.Data!AF$7)/1000000),\"-\")","v":693.85725788375396},{"$f":"IFERROR(IF($B$2=\"トン\",AppQt.Data!AG82,(AppQt.Data!AG82*ozton*AppQt.Data!AG$7)/1000000),\"-\")","v":615.96774517276071},{"$f":"IFERROR(IF($B$2=\"トン\",AppQt.Data!AH82,(AppQt.Data!AH82*ozton*AppQt.Data!AH$7)/1000000),\"-\")","v":533.13432378586867},{"$f":"IFERROR(IF($B$2=\"トン\",AppQt.Data!AI82,(AppQt.Data!AI82*ozton*AppQt.Data!AI$7)/1000000),\"-\")","v":641.43964037185526},{"$f":"IFERROR(IF($B$2=\"トン\",AppQt.Data!AJ82,(AppQt.Data!AJ82*ozton*AppQt.Data!AJ$7)/1000000),\"-\")","v":670.29956407173984},{"$f":"IFERROR(IF($B$2=\"トン\",AppQt.Data!AK82,(AppQt.Data!AK82*ozton*AppQt.Data!AK$7)/1000000),\"-\")","v":491.68032235355219},{"$f":"IFERROR(IF($B$2=\"トン\",AppQt.Data!AL82,(AppQt.Data!AL82*ozton*AppQt.Data!AL$7)/1000000),\"-\")","v":461.96414418713528},{"$f":"IFERROR(IF($B$2=\"トン\",AppQt.Data!AM82,(AppQt.Data!AM82*ozton*AppQt.Data!AM$7)/1000000),\"-\")","v":508.1649282789769},{"$f":"IFERROR(IF($B$2=\"トン\",AppQt.Data!AN82,(AppQt.Data!AN82*ozton*AppQt.Data!AN$7)/1000000),\"-\")","v":643.41879727054527},{"$f":"IFERROR(IF($B$2=\"トン\",AppQt.Data!AO82,(AppQt.Data!AO82*ozton*AppQt.Data!AO$7)/1000000),\"-\")","v":529.08545471943171},{"$f":"IFERROR(IF($B$2=\"トン\",AppQt.Data!AP82,(AppQt.Data!AP82*ozton*AppQt.Data!AP$7)/1000000),\"-\")","v":532.4905129605919},{"$f":"IFERROR(IF($B$2=\"トン\",AppQt.Data!AQ82,(AppQt.Data!AQ82*ozton*AppQt.Data!AQ$7)/1000000),\"-\")","v":514.79385351017913},{"$f":"IFERROR(IF($B$2=\"トン\",AppQt.Data!AR82,(AppQt.Data!AR82*ozton*AppQt.Data!AR$7)/1000000),\"-\")","v":665.64093022569762},{"$f":"IFERROR(IF($B$2=\"トン\",AppQt.Data!AS82,(AppQt.Data!AS82*ozton*AppQt.Data!AS$7)/1000000),\"-\")","v":529.51083081082015},{"$f":"IFERROR(IF($B$2=\"トン\",AppQt.Data!AT82,(AppQt.Data!AT82*ozton*AppQt.Data!AT$7)/1000000),\"-\")","v":522.5966222885429},{"$f":"IFERROR(IF($B$2=\"トン\",AppQt.Data!AU82,(AppQt.Data!AU82*ozton*AppQt.Data!AU$7)/1000000),\"-\")","v":548.37559769995528},{"$f":"IFERROR(IF($B$2=\"トン\",AppQt.Data!AV82,(AppQt.Data!AV82*ozton*AppQt.Data!AV$7)/1000000),\"-\")","v":649.73708600083762},{"$f":"IFERROR(IF($B$2=\"トン\",AppQt.Data!AW82,(AppQt.Data!AW82*ozton*AppQt.Data!AW$7)/1000000),\"-\")","v":536.12501462107616},{"$f":"IFERROR(IF($B$2=\"トン\",AppQt.Data!AX82,(AppQt.Data!AX82*ozton*AppQt.Data!AX$7)/1000000),\"-\")","v":530.57829964557527},{"$f":"IFERROR(IF($B$2=\"トン\",AppQt.Data!AY82,(AppQt.Data!AY82*ozton*AppQt.Data!AY$7)/1000000),\"-\")","v":469.77274485773899},{"$f":"IFERROR(IF($B$2=\"トン\",AppQt.Data!AZ82,(AppQt.Data!AZ82*ozton*AppQt.Data!AZ$7)/1000000),\"-\")","v":590.2440946640254},{"$f":"IFERROR(IF($B$2=\"トン\",AppQt.Data!BA82,(AppQt.Data!BA82*ozton*AppQt.Data!BA$7)/1000000),\"-\")","v":311.61184180335545},{"$f":"IFERROR(IF($B$2=\"トン\",AppQt.Data!BB82,(AppQt.Data!BB82*ozton*AppQt.Data!BB$7)/1000000),\"-\")","v":243.08780225544771},{"$f":"IFERROR(IF($B$2=\"トン\",AppQt.Data!BC82,(AppQt.Data!BC82*ozton*AppQt.Data!BC$7)/1000000),\"-\")","v":333.04369271792655},{"$f":"IFERROR(IF($B$2=\"トン\",AppQt.Data!BD82,(AppQt.Data!BD82*ozton*AppQt.Data!BD$7)/1000000),\"-\")","v":510.24300267458796},{"$f":"IFERROR(IF($B$2=\"トン\",AppQt.Data!BE82,(AppQt.Data!BE82*ozton*AppQt.Data!BE$7)/1000000),\"-\")","v":512.1968862585984},{"$f":"IFERROR(IF($B$2=\"トン\",AppQt.Data!BF82,(AppQt.Data!BF82*ozton*AppQt.Data!BF$7)/1000000),\"-\")","v":437.55797324284941},{"$f":"IFERROR(IF($B$2=\"トン\",AppQt.Data!BG82,(AppQt.Data!BG82*ozton*AppQt.Data!BG$7)/1000000),\"-\")","v":477.1037405294735},{"$f":"IFERROR(IF($B$2=\"トン\",AppQt.Data!BH82,(AppQt.Data!BH82*ozton*AppQt.Data!BH$7)/1000000),\"-\")","v":720.87971057320249},{"$f":"IFERROR(IF($B$2=\"トン\",AppQt.Data!BI82,(AppQt.Data!BI82*ozton*AppQt.Data!BI$7)/1000000),\"-\")","v":474.6612783200589},{"$f":"IFERROR(IF($B$2=\"トン\",AppQt.Data!BJ82,(AppQt.Data!BJ82*ozton*AppQt.Data!BJ$7)/1000000),\"-\")","v":457.8027112106775},{"$f":"IFERROR(IF($B$2=\"トン\",AppQt.Data!BK82,(AppQt.Data!BK82*ozton*AppQt.Data!BK$7)/1000000),\"-\")","v":524.94925024596898},{"$f":"IFERROR(IF($B$2=\"トン\",AppQt.Data!BL82,(AppQt.Data!BL82*ozton*AppQt.Data!BL$7)/1000000),\"-\")","v":628.75513363834023},"▼",{"$f":"IF(AND(ISNUMBER(BR46),ISNUMBER(BN46),BR46>0,BN46>0,(BR46/BN46-1)*100<300),(BR46/BN46-1)*100,IF(AND(ISNUMBER(BR46),ISNUMBER(BN46),BR46>0,BN46>0,(BR46/BN46-1)*100>300),\">300\",\"-\"))","v":-12.779465919717737}]
[null,"出所：Metals Focus, Refinitiv GFMS, ICE Benchmark Administration, ワールド・ゴールド・カウンシル"]

{"sheet":"地金&金貨","index":8,"n_rows":47,"n_cols":72,"rows_kept":47,"cut":false,"hidden":false,"merged":[]}
["▲"]
["▼","トン"]
[]
[null,{"$f":"\"主要国の地金&金貨需要 (\"&$B$2&\")\"","v":"主要国の地金&金貨需要 (トン)"}]
[null,null,{"$f":"AppAn.Data!L$2","v":2010},{"$f":"AppAn.Data!M$2","v":2011},{"$f":"AppAn.Data!N$2","v":2012},{"$f":"AppAn.Data!O$2","v":2013},{"$f":"AppAn.Data!P$2","v":2014},{"$f":"AppAn.Data!Q$2","v":2015},{"$f":"AppAn.Data!R$2","v":2016},{"$f":"AppAn.Data!S$2","v":2017},{"$f":"AppAn.Data!T$2","v":2018},{"$f":"AppAn.Data!U$2","v":2019},{"$f":"AppAn.Data!V$2","v":2020},{"$f":"AppAn.Data!W$2","v":2021},{"$f":"AppAn.Data!X$2","v":2022},null,"前年同期比%",null,"2010年第1四半期","2010年第2四半期","2010年第3四半期","2010年第4四半期","2011年第1四半期","2011年第2四半期","2011年第3四半期","2011年第4四半期","2012年第1四半期","2012年第2四半期","2012年第3四半期","2012年第4四半期","2013年第1四半期","2013年第2四半期","2013年第3四半期","2013年第4四半期","2014年第1四半期","2014年第2四半期","2014年第3四半期","2014年第4四半期","2015年第1四半期","2015年第2四半期","2015年第3四半期","2015年第4四半期","2016年第1四半期","2016年第2四半期","2016年第3四半期","2016年第4四半期","2017年第1四半期","2017年第2四半期","2017年第3四半期","2017年第4四半期","2018年第1四半期","2018年第2四半期","2018年第3四半期","2018年第4四半期","2019年第1四半期","2019年第2四半期","2019年第3四半期","2019年第4四半期","2020年第1四半期","2020年第2四半期","2020年第3四半期","2020年第4四半期","2021年第1四半期","2021年第2四半期","2021年第3四半期","2021年第4四半期","2022年第1四半期","2022年第2四半期","2022年第3四半期","2022年第4四半期",null,"前年同期比%"]
[null,"インド",{"$f":"IFERROR(IF($B$2=\"トン\",AppAn.Data!L74,(AppAn.Data!L74*ozton*AppAn.Data!L$6)/1000000),\"-\")","v":340.05526510414171},{"$f":"IFERROR(IF($B$2=\"トン\",AppAn.Data!M74,(AppAn.Data!M74*ozton*AppAn.Data!M$6)/1000000),\"-\")","v":354.71111070963963},{"$f":"IFERROR(IF($B$2=\"トン\",AppAn.Data!N74,(AppAn.Data!N74*ozton*AppAn.Data!N$6)/1000000),\"-\")","v":318.98363617736089},{"$f":"IFERROR(IF($B$2=\"トン\",AppAn.Data!O74,(AppAn.Data!O74*ozton*AppAn.Data!O$6)/1000000),\"-\")","v":341.15143461456643},{"$f":"IFERROR(IF($B$2=\"トン\",AppAn.Data!P74,(AppAn.Data!P74*ozton*AppAn.Data!P$6)/1000000),\"-\")","v":205.96222535388895},{"$f":"IFERROR(IF($B$2=\"トン\",AppAn.Data!Q74,(AppAn.Data!Q74*ozton*AppAn.Data!Q$6)/1000000),\"-\")","v":194.94149565862233},{"$f":"IFERROR(IF($B$2=\"トン\",AppAn.Data!R74,(AppAn.Data!R74*ozton*AppAn.Data!R$6)/1000000),\"-\")","v":161.5762212628552},{"$f":"IFERROR(IF($B$2=\"トン\",AppAn.Data!S74,(AppAn.Data!S74*ozton*AppAn.Data!S$6)/1000000),\"-\")","v":169.31574468516817},{"$f":"IFERROR(IF($B$2=\"トン\",AppAn.Data!T74,(AppAn.Data!T74*ozton*AppAn.Data!T$6)/1000000),\"-\")","v":162.40167618538692},{"$f":"IFERROR(IF($B$2=\"トン\",AppAn.Data!U74,(AppAn.Data!U74*ozton*AppAn.Data!U$6)/1000000),\"-\")","v":145.76963723015191},{"$f":"IFERROR(IF($B$2=\"トン\",AppAn.Data!V74,(AppAn.Data!V74*ozton*AppAn.Data!V$6)/1000000),\"-\")","v":130.43682281490322},{"$f":"IFERROR(IF($B$2=\"トン\",AppAn.Data!W74,(AppAn.Data!W74*ozton*AppAn.Data!W$6)/1000000),\"-\")","v":186.47749766776519},{"$f":"IFERROR(IF($B$2=\"トン\",AppAn.Data!X74,(AppAn.Data!X74*ozton*AppAn.Data!X$6)/1000000),\"-\")","v":173.55776157016675},{"$f":"IF(Q6<0,$A$2,IF(Q6>0,$A$1,\"-\"))","v":"▼"},{"$f":"IF(AND(O6>0,N6>0),(O6/N6-1)*100,\"-\")","v":-6.9283083799294047},null,{"$f":"IFERROR(IF($B$2=\"トン\",AppQt.Data!M84,(AppQt.Data!M84*ozton*AppQt.Data!M$7)/1000000),\"-\")","v":78.554001832331892},{"$f":"IFERROR(IF($B$2=\"トン\",AppQt.Data!N84,(AppQt.Data!N84*ozton*AppQt.Data!N$7)/1000000),\"-\")","v":59.852310511279825},{"$f":"IFERROR(IF($B$2=\"トン\",AppQt.Data!O84,(AppQt.Data!O84*ozton*AppQt.Data!O$7)/1000000),\"-\")","v":92.804811159685812},{"$f":"IFERROR(IF($B$2=\"トン\",AppQt.Data!P84,(AppQt.Data!P84*ozton*AppQt.Data!P$7)/1000000),\"-\")","v":108.8441416008442},{"$f":"IFERROR(IF($B$2=\"トン\",AppQt.Data!Q84,(AppQt.Data!Q84*ozton*AppQt.Data!Q$7)/1000000),\"-\")","v":100.05896949525759},{"$f":"IFERROR(IF($B$2=\"トン\",AppQt.Data!R84,(AppQt.Data!R84*ozton*AppQt.Data!R$7)/1000000),\"-\")","v":111.05959019752957},{"$f":"IFERROR(IF($B$2=\"トン\",AppQt.Data!S84,(AppQt.Data!S84*ozton*AppQt.Data!S$7)/1000000),\"-\")","v":74.881936591088618},{"$f":"IFERROR(IF($B$2=\"トン\",AppQt.Data!T84,(AppQt.Data!T84*ozton*AppQt.Data!T$7)/1000000),\"-\")","v":68.710614425763822},{"$f":"IFERROR(IF($B$2=\"トン\",AppQt.Data!U84,(AppQt.Data!U84*ozton*AppQt.Data!U$7)/1000000),\"-\")","v":64.959620093194587},{"$f":"IFERROR(IF($B$2=\"トン\",AppQt.Data!V84,(AppQt.Data!V84*ozton*AppQt.Data!V$7)/1000000),\"-\")","v":57.641040321586452},{"$f":"IFERROR(IF($B$2=\"トン\",AppQt.Data!W84,(AppQt.Data!W84*ozton*AppQt.Data!W$7)/1000000),\"-\")","v":84.843840378068023},{"$f":"IFERROR(IF($B$2=\"トン\",AppQt.Data!X84,(AppQt.Data!X84*ozton*AppQt.Data!X$7)/1000000),\"-\")","v":111.53913538451184},{"$f":"IFERROR(IF($B$2=\"トン\",AppQt.Data!Y84,(AppQt.Data!Y84*ozton*AppQt.Data!Y$7)/1000000),\"-\")","v":90.634917833187501},{"$f":"IFERROR(IF($B$2=\"トン\",AppQt.Data!Z84,(AppQt.Data!Z84*ozton*AppQt.Data!Z$7)/1000000),\"-\")","v":133.13957511019413},{"$f":"IFERROR(IF($B$2=\"トン\",AppQt.Data!AA84,(AppQt.Data!AA84*ozton*AppQt.Data!AA$7)/1000000),\"-\")","v":51.482250323253183},{"$f":"IFERROR(IF($B$2=\"トン\",AppQt.Data!AB84,(AppQt.Data!AB84*ozton*AppQt.Data!AB$7)/1000000),\"-\")","v":65.894691347931584},{"$f":"IFERROR(IF($B$2=\"トン\",AppQt.Data!AC84,(AppQt.Data!AC84*ozton*AppQt.Data!AC$7)/1000000),\"-\")","v":42.68893607375999},{"$f":"IFERROR(IF($B$2=\"トン\",AppQt.Data!AD84,(AppQt.Data!AD84*ozton*AppQt.Data!AD$7)/1000000),\"-\")","v":52.349520050374466},{"$f":"IFERROR(IF($B$2=\"トン\",AppQt.Data!AE84,(AppQt.Data!AE84*ozton*AppQt.Data!AE$7)/1000000),\"-\")","v":53.976724381360825},{"$f":"IFERROR(IF($B$2=\"トン\",AppQt.Data!AF84,(AppQt.Data!AF84*ozton*AppQt.Data!AF$7)/1000000),\"-\")","v":56.947044848393688},{"$f":"IFERROR(IF($B$2=\"トン\",AppQt.Data!AG84,(AppQt.Data!AG84*ozton*AppQt.Data!AG$7)/1000000),\"-\")","v":40.042222037186875},{"$f":"IFERROR(IF($B$2=\"トン\",AppQt.Data!AH84,(AppQt.Data!AH84*ozton*AppQt.Data!AH$7)/1000000),\"-\")","v":37.69445452800263},{"$f":"IFERROR(IF($B$2=\"トン\",AppQt.Data!AI84,(AppQt.Data!AI84*ozton*AppQt.Data!AI$7)/1000000),\"-\")","v":57.038719914599554},{"$f":"IFERROR(IF($B$2=\"トン\",AppQt.Data!AJ84,(AppQt.Data!AJ84*ozton*AppQt.Data!AJ$7)/1000000),\"-\")","v":60.166099178833285},{"$f":"IFERROR(IF($B$2=\"トン\",AppQt.Data!AK84,(AppQt.Data!AK84*ozton*AppQt.Data!AK$7)/1000000),\"-\")","v":27.461792576249803},{"$f":"IFERROR(IF($B$2=\"トン\",AppQt.Data!AL84,(AppQt.Data!AL84*ozton*AppQt.Data!AL$7)/1000000),\"-\")","v":32.256699654389664},{"$f":"IFERROR(IF($B$2=\"トン\",AppQt.Data!AM84,(AppQt.Data!AM84*ozton*AppQt.Data!AM$7)/1000000),\"-\")","v":40.084397824803148},{"$f":"IFERROR(IF($B$2=\"トン\",AppQt.Data!AN84,(AppQt.Data!AN84*ozton*AppQt.Data!AN$7)/1000000),\"-\")","v":61.773331207412582},{"$f":"IFERROR(IF($B$2=\"トン\",AppQt.Data!AO84,(AppQt.Data!AO84*ozton*AppQt.Data!AO$7)/1000000),\"-\")","v":37.073419977937235},{"$f":"IFERROR(IF($B$2=\"トン\",AppQt.Data!AP84,(AppQt.Data!AP84*ozton*AppQt.Data!AP$7)/1000000),\"-\")","v":41.557150398984433},{"$f":"IFERROR(IF($B$2=\"トン\",AppQt.Data!AQ84,(AppQt.Data!AQ84*ozton*AppQt.Data!AQ$7)/1000000),\"-\")","v":31.036849580758954},{"$f":"IFERROR(IF($B$2=\"トン\",AppQt.Data!AR84,(AppQt.Data!AR84*ozton*AppQt.Data!AR$7)/1000000),\"-\")","v":59.648324727487562},{"$f":"IFERROR(IF($B$2=\"トン\",AppQt.Data!AS84,(AppQt.Data!AS84*ozton*AppQt.Data!AS$7)/1000000),\"-\")","v":32.323665387945582},{"$f":"IFERROR(IF($B$2=\"トン\",AppQt.Data!AT84,(AppQt.Data!AT84*ozton*AppQt.Data!AT$7)/1000000),\"-\")","v":39.300953640630304},{"$f":"IFERROR(IF($B$2=\"トン\",AppQt.Data!AU84,(AppQt.Data!AU84*ozton*AppQt.Data!AU$7)/1000000),\"-\")","v":34.368623679968678},{"$f":"IFERROR(IF($B$2=\"トン\",AppQt.Data!AV84,(AppQt.Data!AV84*ozton*AppQt.Data!AV$7)/1000000),\"-\")","v":56.408433476842362},{"$f":"IFERROR(IF($B$2=\"トン\",AppQt.Data!AW84,(AppQt.Data!AW84*ozton*AppQt.Data!AW$7)/1000000),\"-\")","v":33.616612003463409},{"$f":"IFERROR(IF($B$2=\"トン\",AppQt.Data!AX84,(AppQt.Data!AX84*ozton*AppQt.Data!AX$7)/1000000),\"-\")","v":44.523949101393015},{"$f":"IFERROR(IF($B$2=\"トン\",AppQt.Data!AY84,(AppQt.Data!AY84*ozton*AppQt.Data!AY$7)/1000000),\"-\")","v":22.339605391979642},{"$f":"IFERROR(IF($B$2=\"トン\",AppQt.Data!AZ84,(AppQt.Data!AZ84*ozton*AppQt.Data!AZ$7)/1000000),\"-\")","v":45.289470733315838},{"$f":"IFERROR(IF($B$2=\"トン\",AppQt.Data!BA84,(AppQt.Data!BA84*ozton*AppQt.Data!BA$7)/1000000),\"-\")","v":28.058706880848014},{"$f":"IFERROR(IF($B$2=\"トン\",AppQt.Data!BB84,(AppQt.Data!BB84*ozton*AppQt.Data!BB$7)/1000000),\"-\")","v":19.756782076478416},{"$f":"IFERROR(IF($B$2=\"トン\",AppQt.Data!BC84,(AppQt.Data!BC84*ozton*AppQt.Data!BC$7)/1000000),\"-\")","v":33.766180969952913},{"$f":"IFERROR(IF($B$2=\"トン\",AppQt.Data!BD84,(AppQt.Data!BD84*ozton*AppQt.Data!BD$7)/1000000),\"-\")","v":48.855152887623881},{"$f":"IFERROR(IF($B$2=\"トン\",AppQt.Data!BE84,(AppQt.Data!BE84*ozton*AppQt.Data!BE$7)/1000000),\"-\")","v":39.298278416317643},{"$f":"IFERROR(IF($B$2=\"トン\",AppQt.Data!BF84,(AppQt.Data!BF84*ozton*AppQt.Data!BF$7)/1000000),\"-\")","v":25.372605410684258},{"$f":"IFERROR(IF($B$2=\"トン\",AppQt.Data!BG84,(AppQt.Data!BG84*ozton*AppQt.Data!BG$7)/1000000),\"-\")","v":42.91343401510921},{"$f":"IFERROR(IF($B$2=\"トン\",AppQt.Data!BH84,(AppQt.Data!BH84*ozton*AppQt.Data!BH$7)/1000000),\"-\")","v":78.893179825654073},{"$f":"IFERROR(IF($B$2=\"トン\",AppQt.Data!BI84,(AppQt.Data!BI84*ozton*AppQt.Data!BI$7)/1000000),\"-\")","v":41.263192337133532},{"$f":"IFERROR(IF($B$2=\"トン\",AppQt.Data!BJ84,(AppQt.Data!BJ84*ozton*AppQt.Data!BJ$7)/1000000),\"-\")","v":30.447126492821109},{"$f":"IFERROR(IF($B$2=\"トン\",AppQt.Data!BK84,(AppQt.Data!BK84*ozton*AppQt.Data!BK$7)/1000000),\"-\")","v":45.426073773252071},{"$f":"IFERROR(IF($B$2=\"トン\",AppQt.Data!BL84,(AppQt.Data!BL84*ozton*AppQt.Data!BL$7)/1000000),\"-\")","v":56.421368966960038},{"$f":"IF(BT6<0,$A$2,IF(BT6>0,$A$1,\"-\"))","v":"▼"},{"$f":"IF(AND(ISNUMBER(BR6),ISNUMBER(BN6),BR6>0,BN6>0,(BR6/BN6-1)*100<300),(BR6/BN6-1)*100,IF(AND(ISNUMBER(BR6),ISNUMBER(BN6),BR6>0,BN6>0,(BR6/BN6-1)*100>300),\">300\",\"-\"))","v":-28.483844748499752}]
[null,"パキスタン",{"$f":"IFERROR(IF($B$2=\"トン\",AppAn.Data!L75,(AppAn.Data!L75*ozton*AppAn.Data!L$6)/1000000),\"-\")","v":7.3562499999999993},{"$f":"IFERROR(IF($B$2=\"トン\",AppAn.Data!M75,(AppAn.Data!M75*ozton*AppAn.Data!M$6)/1000000),\"-\")","v":15.742123287671234},{"$f":"IFERROR(IF($B$2=\"トン\",AppAn.Data!N75,(AppAn.Data!N75*ozton*AppAn.Data!N$6)/1000000),\"-\")","v":13.243826219512195},{"$f":"IFERROR(IF($B$2=\"トン\",AppAn.Data!O75,(AppAn.Data!O75*ozton*AppAn.Data!O$6)/1000000),\"-\")","v":20.914031942198868},{"$f":"IFERROR(IF($B$2=\"トン\",AppAn.Data!P75,(AppAn.Data!P75*ozton*AppAn.Data!P$6)/1000000),\"-\")","v":13.930448156831043},{"$f":"IFERROR(IF($B$2=\"トン\",AppAn.Data!Q75,(AppAn.Data!Q75*ozton*AppAn.Data!Q$6)/1000000),\"-\")","v":14.46625624260307},{"$f":"IFERROR(IF($B$2=\"トン\",AppAn.Data!R75,(AppAn.Data!R75*ozton*AppAn.Data!R$6)/1000000),\"-\")","v":16.024677029769606},{"$f":"IFERROR(IF($B$2=\"トン\",AppAn.Data!S75,(AppAn.Data!S75*ozton*AppAn.Data!S$6)/1000000),\"-\")","v":16.863429437216894},{"$f":"IFERROR(IF($B$2=\"トン\",AppAn.Data!T75,(AppAn.Data!T75*ozton*AppAn.Data!T$6)/1000000),\"-\")","v":14.782752389447971},{"$f":"IFERROR(IF($B$2=\"トン\",AppAn.Data!U75,(AppAn.Data!U75*ozton*AppAn.Data!U$6)/1000000),\"-\")","v":14.246990820882234},{"$f":"IFERROR(IF($B$2=\"トン\",AppAn.Data!V75,(AppAn.Data!V75*ozton*AppAn.Data!V$6)/1000000),\"-\")","v":11.935182471284005},{"$f":"IFERROR(IF($B$2=\"トン\",AppAn.Data!W75,(AppAn.Data!W75*ozton*AppAn.Data!W$6)/1000000),\"-\")","v":18.056098839078302},{"$f":"IFERROR(IF($B$2=\"トン\",AppAn.Data!X75,(AppAn.Data!X75*ozton*AppAn.Data!X$6)/1000000),\"-\")","v":20.833962090868958},{"$f":"IF(Q7<0,$A$2,IF(Q7>0,$A$1,\"-\"))","v":"▲"},{"$f":"IF(AND(O7>0,N7>0),(O7/N7-1)*100,\"-\")","v":15.384625862695245},null,{"$f":"IFERROR(IF($B$2=\"トン\",AppQt.Data!M85,(AppQt.Data!M85*ozton*AppQt.Data!M$7)/1000000),\"-\")","v":7.5374999999999988},{"$f":"IFERROR(IF($B$2=\"トン\",AppQt.Data!N85,(AppQt.Data!N85*ozton*AppQt.Data!N$7)/1000000),\"-\")","v":-2.734375},{"$f":"IFERROR(IF($B$2=\"トン\",AppQt.Data!O85,(AppQt.Data!O85*ozton*AppQt.Data!O$7)/1000000),\"-\")","v":4.3343749999999996},{"$f":"IFERROR(IF($B$2=\"トン\",AppQt.Data!P85,(AppQt.Data!P85*ozton*AppQt.Data!P$7)/1000000),\"-\")","v":-1.78125},{"$f":"IFERROR(IF($B$2=\"トン\",AppQt.Data!Q85,(AppQt.Data!Q85*ozton*AppQt.Data!Q$7)/1000000),\"-\")","v":5.310359589041096},{"$f":"IFERROR(IF($B$2=\"トン\",AppQt.Data!R85,(AppQt.Data!R85*ozton*AppQt.Data!R$7)/1000000),\"-\")","v":3.6532534246575343},{"$f":"IFERROR(IF($B$2=\"トン\",AppQt.Data!S85,(AppQt.Data!S85*ozton*AppQt.Data!S$7)/1000000),\"-\")","v":3.2607020547945202},{"$f":"IFERROR(IF($B$2=\"トン\",AppQt.Data!T85,(AppQt.Data!T85*ozton*AppQt.Data!T$7)/1000000),\"-\")","v":3.5178082191780824},{"$f":"IFERROR(IF($B$2=\"トン\",AppQt.Data!U85,(AppQt.Data!U85*ozton*AppQt.Data!U$7)/1000000),\"-\")","v":4.4785060975609756},{"$f":"IFERROR(IF($B$2=\"トン\",AppQt.Data!V85,(AppQt.Data!V85*ozton*AppQt.Data!V$7)/1000000),\"-\")","v":2.1473577235772359},{"$f":"IFERROR(IF($B$2=\"トン\",AppQt.Data!W85,(AppQt.Data!W85*ozton*AppQt.Data!W$7)/1000000),\"-\")","v":3.1350355691056908},{"$f":"IFERROR(IF($B$2=\"トン\",AppQt.Data!X85,(AppQt.Data!X85*ozton*AppQt.Data!X$7)/1000000),\"-\")","v":3.4829268292682922},{"$f":"IFERROR(IF($B$2=\"トン\",AppQt.Data!Y85,(AppQt.Data!Y85*ozton*AppQt.Data!Y$7)/1000000),\"-\")","v":3.6704468724737267},{"$f":"IFERROR(IF($B$2=\"トン\",AppQt.Data!Z85,(AppQt.Data!Z85*ozton*AppQt.Data!Z$7)/1000000),\"-\")","v":6.5176169765561855},{"$f":"IFERROR(IF($B$2=\"トン\",AppQt.Data!AA85,(AppQt.Data!AA85*ozton*AppQt.Data!AA$7)/1000000),\"-\")","v":5.6875663146725941},{"$f":"IFERROR(IF($B$2=\"トン\",AppQt.Data!AB85,(AppQt.Data!AB85*ozton*AppQt.Data!AB$7)/1000000),\"-\")","v":5.0384017784963619},{"$f":"IFERROR(IF($B$2=\"トン\",AppQt.Data!AC85,(AppQt.Data!AC85*ozton*AppQt.Data!AC$7)/1000000),\"-\")","v":2.9290995957962811},{"$f":"IFERROR(IF($B$2=\"トン\",AppQt.Data!AD85,(AppQt.Data!AD85*ozton*AppQt.Data!AD$7)/1000000),\"-\")","v":4.1529705739692808},{"$f":"IFERROR(IF($B$2=\"トン\",AppQt.Data!AE85,(AppQt.Data!AE85*ozton*AppQt.Data!AE$7)/1000000),\"-\")","v":3.1909624090541633},{"$f":"IFERROR(IF($B$2=\"トン\",AppQt.Data!AF85,(AppQt.Data!AF85*ozton*AppQt.Data!AF$7)/1000000),\"-\")","v":3.6574155780113178},{"$f":"IFERROR(IF($B$2=\"トン\",AppQt.Data!AG85,(AppQt.Data!AG85*ozton*AppQt.Data!AG$7)/1000000),\"-\")","v":3.0570549991915921},{"$f":"IFERROR(IF($B$2=\"トン\",AppQt.Data!AH85,(AppQt.Data!AH85*ozton*AppQt.Data!AH$7)/1000000),\"-\")","v":3.7895856487469688},{"$f":"IFERROR(IF($B$2=\"トン\",AppQt.Data!AI85,(AppQt.Data!AI85*ozton*AppQt.Data!AI$7)/1000000),\"-\")","v":3.6696067704122877},{"$f":"IFERROR(IF($B$2=\"トン\",AppQt.Data!AJ85,(AppQt.Data!AJ85*ozton*AppQt.Data!AJ$7)/1000000),\"-\")","v":3.9500088242522233},{"$f":"IFERROR(IF($B$2=\"トン\",AppQt.Data!AK85,(AppQt.Data!AK85*ozton*AppQt.Data!AK$7)/1000000),\"-\")","v":3.3933310491026676},{"$f":"IFERROR(IF($B$2=\"トン\",AppQt.Data!AL85,(AppQt.Data!AL85*ozton*AppQt.Data!AL$7)/1000000),\"-\")","v":4.206440070109136},{"$f":"IFERROR(IF($B$2=\"トン\",AppQt.Data!AM85,(AppQt.Data!AM85*ozton*AppQt.Data!AM$7)/1000000),\"-\")","v":3.9191400308003232},{"$f":"IFERROR(IF($B$2=\"トン\",AppQt.Data!AN85,(AppQt.Data!AN85*ozton*AppQt.Data!AN$7)/1000000),\"-\")","v":4.5057658797574778},{"$f":"IFERROR(IF($B$2=\"トン\",AppQt.Data!AO85,(AppQt.Data!AO85*ozton*AppQt.Data!AO$7)/1000000),\"-\")","v":3.4611976700847213},{"$f":"IFERROR(IF($B$2=\"トン\",AppQt.Data!AP85,(AppQt.Data!AP85*ozton*AppQt.Data!AP$7)/1000000),\"-\")","v":4.2721296821628947},{"$f":"IFERROR(IF($B$2=\"トン\",AppQt.Data!AQ85,(AppQt.Data!AQ85*ozton*AppQt.Data!AQ$7)/1000000),\"-\")","v":3.7231830292603068},{"$f":"IFERROR(IF($B$2=\"トン\",AppQt.Data!AR85,(AppQt.Data!AR85*ozton*AppQt.Data!AR$7)/1000000),\"-\")","v":5.4069190557089728},{"$f":"IFERROR(IF($B$2=\"トン\",AppQt.Data!AS85,(AppQt.Data!AS85*ozton*AppQt.Data!AS$7)/1000000),\"-\")","v":3.6342575535889572},{"$f":"IFERROR(IF($B$2=\"トン\",AppQt.Data!AT85,(AppQt.Data!AT85*ozton*AppQt.Data!AT$7)/1000000),\"-\")","v":3.8541363086208174},{"$f":"IFERROR(IF($B$2=\"トン\",AppQt.Data!AU85,(AppQt.Data!AU85*ozton*AppQt.Data!AU$7)/1000000),\"-\")","v":3.2391692354564672},{"$f":"IFERROR(IF($B$2=\"トン\",AppQt.Data!AV85,(AppQt.Data!AV85*ozton*AppQt.Data!AV$7)/1000000),\"-\")","v":4.0551892917817298},{"$f":"IFERROR(IF($B$2=\"トン\",AppQt.Data!AW85,(AppQt.Data!AW85*ozton*AppQt.Data!AW$7)/1000000),\"-\")","v":3.9976833089478534},{"$f":"IFERROR(IF($B$2=\"トン\",AppQt.Data!AX85,(AppQt.Data!AX85*ozton*AppQt.Data!AX$7)/1000000),\"-\")","v":4.0083017609656508},{"$f":"IFERROR(IF($B$2=\"トン\",AppQt.Data!AY85,(AppQt.Data!AY85*ozton*AppQt.Data!AY$7)/1000000),\"-\")","v":2.5913353883651737},{"$f":"IFERROR(IF($B$2=\"トン\",AppQt.Data!AZ85,(AppQt.Data!AZ85*ozton*AppQt.Data!AZ$7)/1000000),\"-\")","v":3.6496703626035569},{"$f":"IFERROR(IF($B$2=\"トン\",AppQt.Data!BA85,(AppQt.Data!BA85*ozton*AppQt.Data!BA$7)/1000000),\"-\")","v":4.197567474395246},{"$f":"IFERROR(IF($B$2=\"トン\",AppQt.Data!BB85,(AppQt.Data!BB85*ozton*AppQt.Data!BB$7)/1000000),\"-\")","v":1.0020754402414127},{"$f":"IFERROR(IF($B$2=\"トン\",AppQt.Data!BC85,(AppQt.Data!BC85*ozton*AppQt.Data!BC$7)/1000000),\"-\")","v":2.7209021577834331},{"$f":"IFERROR(IF($B$2=\"トン\",AppQt.Data!BD85,(AppQt.Data!BD85*ozton*AppQt.Data!BD$7)/1000000),\"-\")","v":4.014637398863913},{"$f":"IFERROR(IF($B$2=\"トン\",AppQt.Data!BE85,(AppQt.Data!BE85*ozton*AppQt.Data!BE$7)/1000000),\"-\")","v":5.2469593429940575},{"$f":"IFERROR(IF($B$2=\"トン\",AppQt.Data!BF85,(AppQt.Data!BF85*ozton*AppQt.Data!BF$7)/1000000),\"-\")","v":3.9352195072455434},{"$f":"IFERROR(IF($B$2=\"トン\",AppQt.Data!BG85,(AppQt.Data!BG85*ozton*AppQt.Data!BG$7)/1000000),\"-\")","v":4.3287414579700974},{"$f":"IFERROR(IF($B$2=\"トン\",AppQt.Data!BH85,(AppQt.Data!BH85*ozton*AppQt.Data!BH$7)/1000000),\"-\")","v":4.5451785308686024},{"$f":"IFERROR(IF($B$2=\"トン\",AppQt.Data!BI85,(AppQt.Data!BI85*ozton*AppQt.Data!BI$7)/1000000),\"-\")","v":4.3179196043251729},{"$f":"IFERROR(IF($B$2=\"トン\",AppQt.Data!BJ85,(AppQt.Data!BJ85*ozton*AppQt.Data!BJ$7)/1000000),\"-\")","v":5.1815035251902071},{"$f":"IFERROR(IF($B$2=\"トン\",AppQt.Data!BK85,(AppQt.Data!BK85*ozton*AppQt.Data!BK$7)/1000000),\"-\")","v":6.4768794064877593},{"$f":"IFERROR(IF($B$2=\"トン\",AppQt.Data!BL85,(AppQt.Data!BL85*ozton*AppQt.Data!BL$7)/1000000),\"-\")","v":4.857659554865819},{"$f":"IF(BT7<0,$A$2,IF(BT7>0,$A$1,\"-\"))","v":"▲"},{"$f":"IF(AND(ISNUMBER(BR7),ISNUMBER(BN7),BR7>0,BN7>0,(BR7/BN7-1)*100<300),(BR7/BN7-1)*100,IF(AND(ISNUMBER(BR7),ISNUMBER(BN7),BR7>0,BN7>0,(BR7/BN7-1)*100>300),\">300\",\"-\"))","v":6.8750000000000089}]
[null,"スリランカ","-","-","-","-","-","-","-","-","-","-","-","-","-","-","-",null,"-","-","-","-","-","-","-","-","-","-","-","-","-","-","-","-","-","-","-","-","-","-","-","-","-","-","-","-","-","-","-","-","-","-","-","-","-","-","-","-","-","-","-","-","-","-","-","-","-","-","-","-","-","-"]
[null,"中華圏",{"$f":"IFERROR(IF($B$2=\"トン\",AppAn.Data!L77,(AppAn.Data!L77*ozton*AppAn.Data!L$6)/1000000),\"-\")","v":183.57573926155413},{"$f":"IFERROR(IF($B$2=\"トン\",AppAn.Data!M77,(AppAn.Data!M77*ozton*AppAn.Data!M$6)/1000000),\"-\")","v":266.48421127635515},{"$f":"IFERROR(IF($B$2=\"トン\",AppAn.Data!N77,(AppAn.Data!N77*ozton*AppAn.Data!N$6)/1000000),\"-\")","v":264.13415819200048},{"$f":"IFERROR(IF($B$2=\"トン\",AppAn.Data!O77,(AppAn.Data!O77*ozton*AppAn.Data!O$6)/1000000),\"-\")","v":418.47936629694686},{"$f":"IFERROR(IF($B$2=\"トン\",AppAn.Data!P77,(AppAn.Data!P77*ozton*AppAn.Data!P$6)/1000000),\"-\")","v":208.40220507462686},{"$f":"IFERROR(IF($B$2=\"トン\",AppAn.Data!Q77,(AppAn.Data!Q77*ozton*AppAn.Data!Q$6)/1000000),\"-\")","v":236.30469000000002},{"$f":"IFERROR(IF($B$2=\"トン\",AppAn.Data!R77,(AppAn.Data!R77*ozton*AppAn.Data!R$6)/1000000),\"-\")","v":292.18461627497436},{"$f":"IFERROR(IF($B$2=\"トン\",AppAn.Data!S77,(AppAn.Data!S77*ozton*AppAn.Data!S$6)/1000000),\"-\")","v":313.98842805398345},{"$f":"IFERROR(IF($B$2=\"トン\",AppAn.Data!T77,(AppAn.Data!T77*ozton*AppAn.Data!T$6)/1000000),\"-\")","v":315.42760957939453},{"$f":"IFERROR(IF($B$2=\"トン\",AppAn.Data!U77,(AppAn.Data!U77*ozton*AppAn.Data!U$6)/1000000),\"-\")","v":217.73193000000001},{"$f":"IFERROR(IF($B$2=\"トン\",AppAn.Data!V77,(AppAn.Data!V77*ozton*AppAn.Data!V$6)/1000000),\"-\")","v":208.01800000000003},{"$f":"IFERROR(IF($B$2=\"トン\",AppAn.Data!W77,(AppAn.Data!W77*ozton*AppAn.Data!W$6)/1000000),\"-\")","v":294.38219499999997},{"$f":"IFERROR(IF($B$2=\"トン\",AppAn.Data!X77,(AppAn.Data!X77*ozton*AppAn.Data!X$6)/1000000),\"-\")","v":226.63674760000001},{"$f":"IF(Q9<0,$A$2,IF(Q9>0,$A$1,\"-\"))","v":"▼"},{"$f":"IF(AND(O9>0,N9>0),(O9/N9-1)*100,\"-\")","v":-23.012752996151807},null,{"$f":"IFERROR(IF($B$2=\"トン\",AppQt.Data!M87,(AppQt.Data!M87*ozton*AppQt.Data!M$7)/1000000),\"-\")","v":39.632632251555059},{"$f":"IFERROR(IF($B$2=\"トン\",AppQt.Data!N87,(AppQt.Data!N87*ozton*AppQt.Data!N$7)/1000000),\"-\")","v":35.26752083753901},{"$f":"IFERROR(IF($B$2=\"トン\",AppQt.Data!O87,(AppQt.Data!O87*ozton*AppQt.Data!O$7)/1000000),\"-\")","v":48.154690314954934},{"$f":"IFERROR(IF($B$2=\"トン\",AppQt.Data!P87,(AppQt.Data!P87*ozton*AppQt.Data!P$7)/1000000),\"-\")","v":60.520895857505145},{"$f":"IFERROR(IF($B$2=\"トン\",AppQt.Data!Q87,(AppQt.Data!Q87*ozton*AppQt.Data!Q$7)/1000000),\"-\")","v":86.550419452018843},{"$f":"IFERROR(IF($B$2=\"トン\",AppQt.Data!R87,(AppQt.Data!R87*ozton*AppQt.Data!R$7)/1000000),\"-\")","v":54.91035851081466},{"$f":"IFERROR(IF($B$2=\"トン\",AppQt.Data!S87,(AppQt.Data!S87*ozton*AppQt.Data!S$7)/1000000),\"-\")","v":61.152933402745347},{"$f":"IFERROR(IF($B$2=\"トン\",AppQt.Data!T87,(AppQt.Data!T87*ozton*AppQt.Data!T$7)/1000000),\"-\")","v":63.870499910776331},{"$f":"IFERROR(IF($B$2=\"トン\",AppQt.Data!U87,(AppQt.Data!U87*ozton*AppQt.Data!U$7)/1000000),\"-\")","v":93.15110150864453},{"$f":"IFERROR(IF($B$2=\"トン\",AppQt.Data!V87,(AppQt.Data!V87*ozton*AppQt.Data!V$7)/1000000),\"-\")","v":52.376362132766999},{"$f":"IFERROR(IF($B$2=\"トン\",AppQt.Data!W87,(AppQt.Data!W87*ozton*AppQt.Data!W$7)/1000000),\"-\")","v":53.553717947161999},{"$f":"IFERROR(IF($B$2=\"トン\",AppQt.Data!X87,(AppQt.Data!X87*ozton*AppQt.Data!X$7)/1000000),\"-\")","v":65.052976603426941},{"$f":"IFERROR(IF($B$2=\"トン\",AppQt.Data!Y87,(AppQt.Data!Y87*ozton*AppQt.Data!Y$7)/1000000),\"-\")","v":119.62163659867154},{"$f":"IFERROR(IF($B$2=\"トン\",AppQt.Data!Z87,(AppQt.Data!Z87*ozton*AppQt.Data!Z$7)/1000000),\"-\")","v":158.89605623439439},{"$f":"IFERROR(IF($B$2=\"トン\",AppQt.Data!AA87,(AppQt.Data!AA87*ozton*AppQt.Data!AA$7)/1000000),\"-\")","v":84.273992999247199},{"$f":"IFERROR(IF($B$2=\"トン\",AppQt.Data!AB87,(AppQt.Data!AB87*ozton*AppQt.Data!AB$7)/1000000),\"-\")","v":55.687680464633722},{"$f":"IFERROR(IF($B$2=\"トン\",AppQt.Data!AC87,(AppQt.Data!AC87*ozton*AppQt.Data!AC$7)/1000000),\"-\")","v":64.514756268656726},{"$f":"IFERROR(IF($B$2=\"トン\",AppQt.Data!AD87,(AppQt.Data!AD87*ozton*AppQt.Data!AD$7)/1000000),\"-\")","v":46.445716417910447},{"$f":"IFERROR(IF($B$2=\"トン\",AppQt.Data!AE87,(AppQt.Data!AE87*ozton*AppQt.Data!AE$7)/1000000),\"-\")","v":42.550462686567165},{"$f":"IFERROR(IF($B$2=\"トン\",AppQt.Data!AF87,(AppQt.Data!AF87*ozton*AppQt.Data!AF$7)/1000000),\"-\")","v":54.891269701492533},{"$f":"IFERROR(IF($B$2=\"トン\",AppQt.Data!AG87,(AppQt.Data!AG87*ozton*AppQt.Data!AG$7)/1000000),\"-\")","v":66.096117499999991},{"$f":"IFERROR(IF($B$2=\"トン\",AppQt.Data!AH87,(AppQt.Data!AH87*ozton*AppQt.Data!AH$7)/1000000),\"-\")","v":46.8875125},{"$f":"IFERROR(IF($B$2=\"トン\",AppQt.Data!AI87,(AppQt.Data!AI87*ozton*AppQt.Data!AI$7)/1000000),\"-\")","v":55.300457500000007},{"$f":"IFERROR(IF($B$2=\"トン\",AppQt.Data!AJ87,(AppQt.Data!AJ87*ozton*AppQt.Data!AJ$7)/1000000),\"-\")","v":68.020602499999995},{"$f":"IFERROR(IF($B$2=\"トン\",AppQt.Data!AK87,(AppQt.Data!AK87*ozton*AppQt.Data!AK$7)/1000000),\"-\")","v":83.191207920081965},{"$f":"IFERROR(IF($B$2=\"トン\",AppQt.Data!AL87,(AppQt.Data!AL87*ozton*AppQt.Data!AL$7)/1000000),\"-\")","v":41.785328081454914},{"$f":"IFERROR(IF($B$2=\"トン\",AppQt.Data!AM87,(AppQt.Data!AM87*ozton*AppQt.Data!AM$7)/1000000),\"-\")","v":42.523526757812498},{"$f":"IFERROR(IF($B$2=\"トン\",AppQt.Data!AN87,(AppQt.Data!AN87*ozton*AppQt.Data!AN$7)/1000000),\"-\")","v":124.68455351562498},{"$f":"IFERROR(IF($B$2=\"トン\",AppQt.Data!AO87,(AppQt.Data!AO87*ozton*AppQt.Data!AO$7)/1000000),\"-\")","v":107.89929013671876},{"$f":"IFERROR(IF($B$2=\"トン\",AppQt.Data!AP87,(AppQt.Data!AP87*ozton*AppQt.Data!AP$7)/1000000),\"-\")","v":64.093924855957027},{"$f":"IFERROR(IF($B$2=\"トン\",AppQt.Data!AQ87,(AppQt.Data!AQ87*ozton*AppQt.Data!AQ$7)/1000000),\"-\")","v":71.146808844433608},{"$f":"IFERROR(IF($B$2=\"トン\",AppQt.Data!AR87,(AppQt.Data!AR87*ozton*AppQt.Data!AR$7)/1000000),\"-\")","v":70.84840421687403},{"$f":"IFERROR(IF($B$2=\"トン\",AppQt.Data!AS87,(AppQt.Data!AS87*ozton*AppQt.Data!AS$7)/1000000),\"-\")","v":79.348108840820316},{"$f":"IFERROR(IF($B$2=\"トン\",AppQt.Data!AT87,(AppQt.Data!AT87*ozton*AppQt.Data!AT$7)/1000000),\"-\")","v":70.81284718857421},{"$f":"IFERROR(IF($B$2=\"トン\",AppQt.Data!AU87,(AppQt.Data!AU87*ozton*AppQt.Data!AU$7)/1000000),\"-\")","v":90.148749999999993},{"$f":"IFERROR(IF($B$2=\"トン\",AppQt.Data!AV87,(AppQt.Data!AV87*ozton*AppQt.Data!AV$7)/1000000),\"-\")","v":75.117903549999994},{"$f":"IFERROR(IF($B$2=\"トン\",AppQt.Data!AW87,(AppQt.Data!AW87*ozton*AppQt.Data!AW$7)/1000000),\"-\")","v":72.94},{"$f":"IFERROR(IF($B$2=\"トン\",AppQt.Data!AX87,(AppQt.Data!AX87*ozton*AppQt.Data!AX$7)/1000000),\"-\")","v":50.700499999999991},{"$f":"IFERROR(IF($B$2=\"トン\",AppQt.Data!AY87,(AppQt.Data!AY87*ozton*AppQt.Data!AY$7)/1000000),\"-\")","v":44.496430000000004},{"$f":"IFERROR(IF($B$2=\"トン\",AppQt.Data!AZ87,(AppQt.Data!AZ87*ozton*AppQt.Data!AZ$7)/1000000),\"-\")","v":49.595000000000006},{"$f":"IFERROR(IF($B$2=\"トン\",AppQt.Data!BA87,(AppQt.Data!BA87*ozton*AppQt.Data!BA$7)/1000000),\"-\")","v":39.333800000000004},{"$f":"IFERROR(IF($B$2=\"トン\",AppQt.Data!BB87,(AppQt.Data!BB87*ozton*AppQt.Data!BB$7)/1000000),\"-\")","v":42.722000000000001},{"$f":"IFERROR(IF($B$2=\"トン\",AppQt.Data!BC87,(AppQt.Data!BC87*ozton*AppQt.Data!BC$7)/1000000),\"-\")","v":60.27},{"$f":"IFERROR(IF($B$2=\"トン\",AppQt.Data!BD87,(AppQt.Data!BD87*ozton*AppQt.Data!BD$7)/1000000),\"-\")","v":65.6922},{"$f":"IFERROR(IF($B$2=\"トン\",AppQt.Data!BE87,(AppQt.Data!BE87*ozton*AppQt.Data!BE$7)/1000000),\"-\")","v":88.998610000000014},{"$f":"IFERROR(IF($B$2=\"トン\",AppQt.Data!BF87,(AppQt.Data!BF87*ozton*AppQt.Data!BF$7)/1000000),\"-\")","v":59.716899999999995},{"$f":"IFERROR(IF($B$2=\"トン\",AppQt.Data!BG87,(AppQt.Data!BG87*ozton*AppQt.Data!BG$7)/1000000),\"-\")","v":66.51668500000001},{"$f":"IFERROR(IF($B$2=\"トン\",AppQt.Data!BH87,(AppQt.Data!BH87*ozton*AppQt.Data!BH$7)/1000000),\"-\")","v":79.149999999999991},{"$f":"IFERROR(IF($B$2=\"トン\",AppQt.Data!BI87,(AppQt.Data!BI87*ozton*AppQt.Data!BI$7)/1000000),\"-\")","v":51.826329600000001},{"$f":"IFERROR(IF($B$2=\"トン\",AppQt.Data!BJ87,(AppQt.Data!BJ87*ozton*AppQt.Data!BJ$7)/1000000),\"-\")","v":39.413679999999999},{"$f":"IFERROR(IF($B$2=\"トン\",AppQt.Data!BK87,(AppQt.Data!BK87*ozton*AppQt.Data!BK$7)/1000000),\"-\")","v":71.821923999999996},{"$f":"IFERROR(IF($B$2=\"トン\",AppQt.Data!BL87,(AppQt.Data!BL87*ozton*AppQt.Data!BL$7)/1000000),\"-\")","v":63.574813999999989},{"$f":"IF(BT9<0,$A$2,IF(BT9>0,$A$1,\"-\"))","v":"▼"},{"$f":"IF(AND(ISNUMBER(BR9),ISNUMBER(BN9),BR9>0,BN9>0,(BR9/BN9-1)*100<300),(BR9/BN9-1)*100,IF(AND(ISNUMBER(BR9),ISNUMBER(BN9),BR9>0,BN9>0,(BR9/BN9-1)*100>300),\">300\",\"-\"))","v":-19.678061907770061}]
[null,"中国",{"$f":"IFERROR(IF($B$2=\"トン\",AppAn.Data!L78,(AppAn.Data!L78*ozton*AppAn.Data!L$6)/1000000),\"-\")","v":183.7937917018449},{"$f":"IFERROR(IF($B$2=\"トン\",AppAn.Data!M78,(AppAn.Data!M78*ozton*AppAn.Data!M$6)/1000000),\"-\")","v":259.09565815460024},{"$f":"IFERROR(IF($B$2=\"トン\",AppAn.Data!N78,(AppAn.Data!N78*ozton*AppAn.Data!N$6)/1000000),\"-\")","v":256.96396355213449},{"$f":"IFERROR(IF($B$2=\"トン\",AppAn.Data!O78,(AppAn.Data!O78*ozton*AppAn.Data!O$6)/1000000),\"-\")","v":406.71080379694683},{"$f":"IFERROR(IF($B$2=\"トン\",AppAn.Data!P78,(AppAn.Data!P78*ozton*AppAn.Data!P$6)/1000000),\"-\")","v":198.45220507462687},{"$f":"IFERROR(IF($B$2=\"トン\",AppAn.Data!Q78,(AppAn.Data!Q78*ozton*AppAn.Data!Q$6)/1000000),\"-\")","v":228.103565},{"$f":"IFERROR(IF($B$2=\"トン\",AppAn.Data!R78,(AppAn.Data!R78*ozton*AppAn.Data!R$6)/1000000),\"-\")","v":284.55456803278685},{"$f":"IFERROR(IF($B$2=\"トン\",AppAn.Data!S78,(AppAn.Data!S78*ozton*AppAn.Data!S$6)/1000000),\"-\")","v":306.38583300000005},{"$f":"IFERROR(IF($B$2=\"トン\",AppAn.Data!T78,(AppAn.Data!T78*ozton*AppAn.Data!T$6)/1000000),\"-\")","v":308.03567355000001},{"$f":"IFERROR(IF($B$2=\"トン\",AppAn.Data!U78,(AppAn.Data!U78*ozton*AppAn.Data!U$6)/1000000),\"-\")","v":211.12092999999999},{"$f":"IFERROR(IF($B$2=\"トン\",AppAn.Data!V78,(AppAn.Data!V78*ozton*AppAn.Data!V$6)/1000000),\"-\")","v":198.87400000000002},{"$f":"IFERROR(IF($B$2=\"トン\",AppAn.Data!W78,(AppAn.Data!W78*ozton*AppAn.Data!W$6)/1000000),\"-\")","v":285.48719499999999},{"$f":"IFERROR(IF($B$2=\"トン\",AppAn.Data!X78,(AppAn.Data!X78*ozton*AppAn.Data!X$6)/1000000),\"-\")","v":218.22674760000001},"▼",-23.559882396826936,null,{"$f":"IFERROR(IF($B$2=\"トン\",AppQt.Data!M88,(AppQt.Data!M88*ozton*AppQt.Data!M$7)/1000000),\"-\")","v":39.371388092676554},{"$f":"IFERROR(IF($B$2=\"トン\",AppQt.Data!N88,(AppQt.Data!N88*ozton*AppQt.Data!N$7)/1000000),\"-\")","v":36.544890385825617},{"$f":"IFERROR(IF($B$2=\"トン\",AppQt.Data!O88,(AppQt.Data!O88*ozton*AppQt.Data!O$7)/1000000),\"-\")","v":47.672371779129392},{"$f":"IFERROR(IF($B$2=\"トン\",AppQt.Data!P88,(AppQt.Data!P88*ozton*AppQt.Data!P$7)/1000000),\"-\")","v":60.205141444213346},{"$f":"IFERROR(IF($B$2=\"トン\",AppQt.Data!Q88,(AppQt.Data!Q88*ozton*AppQt.Data!Q$7)/1000000),\"-\")","v":84.758332711364631},{"$f":"IFERROR(IF($B$2=\"トン\",AppQt.Data!R88,(AppQt.Data!R88*ozton*AppQt.Data!R$7)/1000000),\"-\")","v":53.272713066889423},{"$f":"IFERROR(IF($B$2=\"トン\",AppQt.Data!S88,(AppQt.Data!S88*ozton*AppQt.Data!S$7)/1000000),\"-\")","v":59.081908934936422},{"$f":"IFERROR(IF($B$2=\"トン\",AppQt.Data!T88,(AppQt.Data!T88*ozton*AppQt.Data!T$7)/1000000),\"-\")","v":61.982703441409768},{"$f":"IFERROR(IF($B$2=\"トン\",AppQt.Data!U88,(AppQt.Data!U88*ozton*AppQt.Data!U$7)/1000000),\"-\")","v":91.237554900604323},{"$f":"IFERROR(IF($B$2=\"トン\",AppQt.Data!V88,(AppQt.Data!V88*ozton*AppQt.Data!V$7)/1000000),\"-\")","v":50.636729385698317},{"$f":"IFERROR(IF($B$2=\"トン\",AppQt.Data!W88,(AppQt.Data!W88*ozton*AppQt.Data!W$7)/1000000),\"-\")","v":52.173638592053123},{"$f":"IFERROR(IF($B$2=\"トン\",AppQt.Data!X88,(AppQt.Data!X88*ozton*AppQt.Data!X$7)/1000000),\"-\")","v":62.916040673778696},{"$f":"IFERROR(IF($B$2=\"トン\",AppQt.Data!Y88,(AppQt.Data!Y88*ozton*AppQt.Data!Y$7)/1000000),\"-\")","v":116.22144909867154},{"$f":"IFERROR(IF($B$2=\"トン\",AppQt.Data!Z88,(AppQt.Data!Z88*ozton*AppQt.Data!Z$7)/1000000),\"-\")","v":155.16905623439439},{"$f":"IFERROR(IF($B$2=\"トン\",AppQt.Data!AA88,(AppQt.Data!AA88*ozton*AppQt.Data!AA$7)/1000000),\"-\")","v":81.949617999247209},{"$f":"IFERROR(IF($B$2=\"トン\",AppQt.Data!AB88,(AppQt.Data!AB88*ozton*AppQt.Data!AB$7)/1000000),\"-\")","v":53.370680464633722},{"$f":"IFERROR(IF($B$2=\"トン\",AppQt.Data!AC88,(AppQt.Data!AC88*ozton*AppQt.Data!AC$7)/1000000),\"-\")","v":62.295756268656717},{"$f":"IFERROR(IF($B$2=\"トン\",AppQt.Data!AD88,(AppQt.Data!AD88*ozton*AppQt.Data!AD$7)/1000000),\"-\")","v":43.431716417910451},{"$f":"IFERROR(IF($B$2=\"トン\",AppQt.Data!AE88,(AppQt.Data!AE88*ozton*AppQt.Data!AE$7)/1000000),\"-\")","v":40.487462686567163},{"$f":"IFERROR(IF($B$2=\"トン\",AppQt.Data!AF88,(AppQt.Data!AF88*ozton*AppQt.Data!AF$7)/1000000),\"-\")","v":52.237269701492536},{"$f":"IFERROR(IF($B$2=\"トン\",AppQt.Data!AG88,(AppQt.Data!AG88*ozton*AppQt.Data!AG$7)/1000000),\"-\")","v":63.950117499999998},{"$f":"IFERROR(IF($B$2=\"トン\",AppQt.Data!AH88,(AppQt.Data!AH88*ozton*AppQt.Data!AH$7)/1000000),\"-\")","v":45.144512500000005},{"$f":"IFERROR(IF($B$2=\"トン\",AppQt.Data!AI88,(AppQt.Data!AI88*ozton*AppQt.Data!AI$7)/1000000),\"-\")","v":53.208957500000004},{"$f":"IFERROR(IF($B$2=\"トン\",AppQt.Data!AJ88,(AppQt.Data!AJ88*ozton*AppQt.Data!AJ$7)/1000000),\"-\")","v":65.799977499999997},{"$f":"IFERROR(IF($B$2=\"トン\",AppQt.Data!AK88,(AppQt.Data!AK88*ozton*AppQt.Data!AK$7)/1000000),\"-\")","v":81.263942295081961},{"$f":"IFERROR(IF($B$2=\"トン\",AppQt.Data!AL88,(AppQt.Data!AL88*ozton*AppQt.Data!AL$7)/1000000),\"-\")","v":40.180625737704915},{"$f":"IFERROR(IF($B$2=\"トン\",AppQt.Data!AM88,(AppQt.Data!AM88*ozton*AppQt.Data!AM$7)/1000000),\"-\")","v":41.019999999999996},{"$f":"IFERROR(IF($B$2=\"トン\",AppQt.Data!AN88,(AppQt.Data!AN88*ozton*AppQt.Data!AN$7)/1000000),\"-\")","v":122.08999999999999},{"$f":"IFERROR(IF($B$2=\"トン\",AppQt.Data!AO88,(AppQt.Data!AO88*ozton*AppQt.Data!AO$7)/1000000),\"-\")","v":105.9},{"$f":"IFERROR(IF($B$2=\"トン\",AppQt.Data!AP88,(AppQt.Data!AP88*ozton*AppQt.Data!AP$7)/1000000),\"-\")","v":62.625999999999998},{"$f":"IFERROR(IF($B$2=\"トン\",AppQt.Data!AQ88,(AppQt.Data!AQ88*ozton*AppQt.Data!AQ$7)/1000000),\"-\")","v":69.28537},{"$f":"IFERROR(IF($B$2=\"トン\",AppQt.Data!AR88,(AppQt.Data!AR88*ozton*AppQt.Data!AR$7)/1000000),\"-\")","v":68.574463000000009},{"$f":"IFERROR(IF($B$2=\"トン\",AppQt.Data!AS88,(AppQt.Data!AS88*ozton*AppQt.Data!AS$7)/1000000),\"-\")","v":77.317250000000001},{"$f":"IFERROR(IF($B$2=\"トン\",AppQt.Data!AT88,(AppQt.Data!AT88*ozton*AppQt.Data!AT$7)/1000000),\"-\")","v":69.451769999999996},{"$f":"IFERROR(IF($B$2=\"トン\",AppQt.Data!AU88,(AppQt.Data!AU88*ozton*AppQt.Data!AU$7)/1000000),\"-\")","v":87.998750000000001},{"$f":"IFERROR(IF($B$2=\"トン\",AppQt.Data!AV88,(AppQt.Data!AV88*ozton*AppQt.Data!AV$7)/1000000),\"-\")","v":73.26790355},{"$f":"IFERROR(IF($B$2=\"トン\",AppQt.Data!AW88,(AppQt.Data!AW88*ozton*AppQt.Data!AW$7)/1000000),\"-\")","v":71.188999999999993},{"$f":"IFERROR(IF($B$2=\"トン\",AppQt.Data!AX88,(AppQt.Data!AX88*ozton*AppQt.Data!AX$7)/1000000),\"-\")","v":49.455499999999994},{"$f":"IFERROR(IF($B$2=\"トン\",AppQt.Data!AY88,(AppQt.Data!AY88*ozton*AppQt.Data!AY$7)/1000000),\"-\")","v":42.835430000000002},{"$f":"IFERROR(IF($B$2=\"トン\",AppQt.Data!AZ88,(AppQt.Data!AZ88*ozton*AppQt.Data!AZ$7)/1000000),\"-\")","v":47.641000000000005},{"$f":"IFERROR(IF($B$2=\"トン\",AppQt.Data!BA88,(AppQt.Data!BA88*ozton*AppQt.Data!BA$7)/1000000),\"-\")","v":37.074800000000003},{"$f":"IFERROR(IF($B$2=\"トン\",AppQt.Data!BB88,(AppQt.Data!BB88*ozton*AppQt.Data!BB$7)/1000000),\"-\")","v":40.667000000000002},{"$f":"IFERROR(IF($B$2=\"トン\",AppQt.Data!BC88,(AppQt.Data!BC88*ozton*AppQt.Data!BC$7)/1000000),\"-\")","v":57.56},{"$f":"IFERROR(IF($B$2=\"トン\",AppQt.Data!BD88,(AppQt.Data!BD88*ozton*AppQt.Data!BD$7)/1000000),\"-\")","v":63.572199999999995},{"$f":"IFERROR(IF($B$2=\"トン\",AppQt.Data!BE88,(AppQt.Data!BE88*ozton*AppQt.Data!BE$7)/1000000),\"-\")","v":86.463610000000003},{"$f":"IFERROR(IF($B$2=\"トン\",AppQt.Data!BF88,(AppQt.Data!BF88*ozton*AppQt.Data!BF$7)/1000000),\"-\")","v":57.431899999999999},{"$f":"IFERROR(IF($B$2=\"トン\",AppQt.Data!BG88,(AppQt.Data!BG88*ozton*AppQt.Data!BG$7)/1000000),\"-\")","v":64.701685000000012},{"$f":"IFERROR(IF($B$2=\"トン\",AppQt.Data!BH88,(AppQt.Data!BH88*ozton*AppQt.Data!BH$7)/1000000),\"-\")","v":76.89},{"$f":"IFERROR(IF($B$2=\"トン\",AppQt.Data!BI88,(AppQt.Data!BI88*ozton*AppQt.Data!BI$7)/1000000),\"-\")","v":49.331329600000004},{"$f":"IFERROR(IF($B$2=\"トン\",AppQt.Data!BJ88,(AppQt.Data!BJ88*ozton*AppQt.Data!BJ$7)/1000000),\"-\")","v":37.438680000000005},{"$f":"IFERROR(IF($B$2=\"トン\",AppQt.Data!BK88,(AppQt.Data!BK88*ozton*AppQt.Data!BK$7)/1000000),\"-\")","v":70.106924000000006},{"$f":"IFERROR(IF($B$2=\"トン\",AppQt.Data!BL88,(AppQt.Data!BL88*ozton*AppQt.Data!BL$7)/1000000),\"-\")","v":61.349813999999995},"▼",-20.210932500975431]
[null,"香港",{"$f":"IFERROR(IF($B$2=\"トン\",AppAn.Data!L79,(AppAn.Data!L79*ozton*AppAn.Data!L$6)/1000000),\"-\")","v":1.1923364485981307},{"$f":"IFERROR(IF($B$2=\"トン\",AppAn.Data!M79,(AppAn.Data!M79*ozton*AppAn.Data!M$6)/1000000),\"-\")","v":1.5370659722222224},{"$f":"IFERROR(IF($B$2=\"トン\",AppAn.Data!N79,(AppAn.Data!N79*ozton*AppAn.Data!N$6)/1000000),\"-\")","v":2.0128863065326636},{"$f":"IFERROR(IF($B$2=\"トン\",AppAn.Data!O79,(AppAn.Data!O79*ozton*AppAn.Data!O$6)/1000000),\"-\")","v":2.9143750000000002},{"$f":"IFERROR(IF($B$2=\"トン\",AppAn.Data!P79,(AppAn.Data!P79*ozton*AppAn.Data!P$6)/1000000),\"-\")","v":1.3900000000000001},{"$f":"IFERROR(IF($B$2=\"トン\",AppAn.Data!Q79,(AppAn.Data!Q79*ozton*AppAn.Data!Q$6)/1000000),\"-\")","v":1.49},{"$f":"IFERROR(IF($B$2=\"トン\",AppAn.Data!R79,(AppAn.Data!R79*ozton*AppAn.Data!R$6)/1000000),\"-\")","v":1.4244999999999999},{"$f":"IFERROR(IF($B$2=\"トン\",AppAn.Data!S79,(AppAn.Data!S79*ozton*AppAn.Data!S$6)/1000000),\"-\")","v":1.7094},{"$f":"IFERROR(IF($B$2=\"トン\",AppAn.Data!T79,(AppAn.Data!T79*ozton*AppAn.Data!T$6)/1000000),\"-\")","v":1.4759199999999999},{"$f":"IFERROR(IF($B$2=\"トン\",AppAn.Data!U79,(AppAn.Data!U79*ozton*AppAn.Data!U$6)/1000000),\"-\")","v":1.2350000000000001},{"$f":"IFERROR(IF($B$2=\"トン\",AppAn.Data!V79,(AppAn.Data!V79*ozton*AppAn.Data!V$6)/1000000),\"-\")","v":2.44},{"$f":"IFERROR(IF($B$2=\"トン\",AppAn.Data!W79,(AppAn.Data!W79*ozton*AppAn.Data!W$6)/1000000),\"-\")","v":2.8400000000000003},{"$f":"IFERROR(IF($B$2=\"トン\",AppAn.Data!X79,(AppAn.Data!X79*ozton*AppAn.Data!X$6)/1000000),\"-\")","v":2.13},"▼",-25.000000000000011,null,{"$f":"IFERROR(IF($B$2=\"トン\",AppQt.Data!M89,(AppQt.Data!M89*ozton*AppQt.Data!M$7)/1000000),\"-\")","v":0.26124415887850466},{"$f":"IFERROR(IF($B$2=\"トン\",AppQt.Data!N89,(AppQt.Data!N89*ozton*AppQt.Data!N$7)/1000000),\"-\")","v":0.26158878504672894},{"$f":"IFERROR(IF($B$2=\"トン\",AppQt.Data!O89,(AppQt.Data!O89*ozton*AppQt.Data!O$7)/1000000),\"-\")","v":0.37452686915887851},{"$f":"IFERROR(IF($B$2=\"トン\",AppQt.Data!P89,(AppQt.Data!P89*ozton*AppQt.Data!P$7)/1000000),\"-\")","v":0.2949766355140187},{"$f":"IFERROR(IF($B$2=\"トン\",AppQt.Data!Q89,(AppQt.Data!Q89*ozton*AppQt.Data!Q$7)/1000000),\"-\")","v":0.39921874999999996},{"$f":"IFERROR(IF($B$2=\"トン\",AppQt.Data!R89,(AppQt.Data!R89*ozton*AppQt.Data!R$7)/1000000),\"-\")","v":0.38906249999999998},{"$f":"IFERROR(IF($B$2=\"トン\",AppQt.Data!S89,(AppQt.Data!S89*ozton*AppQt.Data!S$7)/1000000),\"-\")","v":0.42100694444444442},{"$f":"IFERROR(IF($B$2=\"トン\",AppQt.Data!T89,(AppQt.Data!T89*ozton*AppQt.Data!T$7)/1000000),\"-\")","v":0.32777777777777783},{"$f":"IFERROR(IF($B$2=\"トン\",AppQt.Data!U89,(AppQt.Data!U89*ozton*AppQt.Data!U$7)/1000000),\"-\")","v":0.50494660804020097},{"$f":"IFERROR(IF($B$2=\"トン\",AppQt.Data!V89,(AppQt.Data!V89*ozton*AppQt.Data!V$7)/1000000),\"-\")","v":0.52571608040201012},{"$f":"IFERROR(IF($B$2=\"トン\",AppQt.Data!W89,(AppQt.Data!W89*ozton*AppQt.Data!W$7)/1000000),\"-\")","v":0.52628768844221108},{"$f":"IFERROR(IF($B$2=\"トン\",AppQt.Data!X89,(AppQt.Data!X89*ozton*AppQt.Data!X$7)/1000000),\"-\")","v":0.4559359296482412},{"$f":"IFERROR(IF($B$2=\"トン\",AppQt.Data!Y89,(AppQt.Data!Y89*ozton*AppQt.Data!Y$7)/1000000),\"-\")","v":0.68},{"$f":"IFERROR(IF($B$2=\"トン\",AppQt.Data!Z89,(AppQt.Data!Z89*ozton*AppQt.Data!Z$7)/1000000),\"-\")","v":1.08125},{"$f":"IFERROR(IF($B$2=\"トン\",AppQt.Data!AA89,(AppQt.Data!AA89*ozton*AppQt.Data!AA$7)/1000000),\"-\")","v":0.55312500000000009},{"$f":"IFERROR(IF($B$2=\"トン\",AppQt.Data!AB89,(AppQt.Data!AB89*ozton*AppQt.Data!AB$7)/1000000),\"-\")","v":0.6},{"$f":"IFERROR(IF($B$2=\"トン\",AppQt.Data!AC89,(AppQt.Data!AC89*ozton*AppQt.Data!AC$7)/1000000),\"-\")","v":0.49},{"$f":"IFERROR(IF($B$2=\"トン\",AppQt.Data!AD89,(AppQt.Data!AD89*ozton*AppQt.Data!AD$7)/1000000),\"-\")","v":0.28999999999999998},{"$f":"IFERROR(IF($B$2=\"トン\",AppQt.Data!AE89,(AppQt.Data!AE89*ozton*AppQt.Data!AE$7)/1000000),\"-\")","v":0.28000000000000003},{"$f":"IFERROR(IF($B$2=\"トン\",AppQt.Data!AF89,(AppQt.Data!AF89*ozton*AppQt.Data!AF$7)/1000000),\"-\")","v":0.33},{"$f":"IFERROR(IF($B$2=\"トン\",AppQt.Data!AG89,(AppQt.Data!AG89*ozton*AppQt.Data!AG$7)/1000000),\"-\")","v":0.37},{"$f":"IFERROR(IF($B$2=\"トン\",AppQt.Data!AH89,(AppQt.Data!AH89*ozton*AppQt.Data!AH$7)/1000000),\"-\")","v":0.3},{"$f":"IFERROR(IF($B$2=\"トン\",AppQt.Data!AI89,(AppQt.Data!AI89*ozton*AppQt.Data!AI$7)/1000000),\"-\")","v":0.49},{"$f":"IFERROR(IF($B$2=\"トン\",AppQt.Data!AJ89,(AppQt.Data!AJ89*ozton*AppQt.Data!AJ$7)/1000000),\"-\")","v":0.33},{"$f":"IFERROR(IF($B$2=\"トン\",AppQt.Data!AK89,(AppQt.Data!AK89*ozton*AppQt.Data!AK$7)/1000000),\"-\")","v":0.36},{"$f":"IFERROR(IF($B$2=\"トン\",AppQt.Data!AL89,(AppQt.Data!AL89*ozton*AppQt.Data!AL$7)/1000000),\"-\")","v":0.22},{"$f":"IFERROR(IF($B$2=\"トン\",AppQt.Data!AM89,(AppQt.Data!AM89*ozton*AppQt.Data!AM$7)/1000000),\"-\")","v":0.46500000000000002},{"$f":"IFERROR(IF($B$2=\"トン\",AppQt.Data!AN89,(AppQt.Data!AN89*ozton*AppQt.Data!AN$7)/1000000),\"-\")","v":0.3795},{"$f":"IFERROR(IF($B$2=\"トン\",AppQt.Data!AO89,(AppQt.Data!AO89*ozton*AppQt.Data!AO$7)/1000000),\"-\")","v":0.432},{"$f":"IFERROR(IF($B$2=\"トン\",AppQt.Data!AP89,(AppQt.Data!AP89*ozton*AppQt.Data!AP$7)/1000000),\"-\")","v":0.26400000000000001},{"$f":"IFERROR(IF($B$2=\"トン\",AppQt.Data!AQ89,(AppQt.Data!AQ89*ozton*AppQt.Data!AQ$7)/1000000),\"-\")","v":0.55800000000000005},{"$f":"IFERROR(IF($B$2=\"トン\",AppQt.Data!AR89,(AppQt.Data!AR89*ozton*AppQt.Data!AR$7)/1000000),\"-\")","v":0.45539999999999997},{"$f":"IFERROR(IF($B$2=\"トン\",AppQt.Data!AS89,(AppQt.Data!AS89*ozton*AppQt.Data!AS$7)/1000000),\"-\")","v":0.32832},{"$f":"IFERROR(IF($B$2=\"トン\",AppQt.Data!AT89,(AppQt.Data!AT89*ozton*AppQt.Data!AT$7)/1000000),\"-\")","v":0.23760000000000001},{"$f":"IFERROR(IF($B$2=\"トン\",AppQt.Data!AU89,(AppQt.Data!AU89*ozton*AppQt.Data!AU$7)/1000000),\"-\")","v":0.57999999999999996},{"$f":"IFERROR(IF($B$2=\"トン\",AppQt.Data!AV89,(AppQt.Data!AV89*ozton*AppQt.Data!AV$7)/1000000),\"-\")","v":0.33},{"$f":"IFERROR(IF($B$2=\"トン\",AppQt.Data!AW89,(AppQt.Data!AW89*ozton*AppQt.Data!AW$7)/1000000),\"-\")","v":0.28000000000000003},{"$f":"IFERROR(IF($B$2=\"トン\",AppQt.Data!AX89,(AppQt.Data!AX89*ozton*AppQt.Data!AX$7)/1000000),\"-\")","v":0.23},{"$f":"IFERROR(IF($B$2=\"トン\",AppQt.Data!AY89,(AppQt.Data!AY89*ozton*AppQt.Data!AY$7)/1000000),\"-\")","v":0.34},{"$f":"IFERROR(IF($B$2=\"トン\",AppQt.Data!AZ89,(AppQt.Data!AZ89*ozton*AppQt.Data!AZ$7)/1000000),\"-\")","v":0.38500000000000001},{"$f":"IFERROR(IF($B$2=\"トン\",AppQt.Data!BA89,(AppQt.Data!BA89*ozton*AppQt.Data!BA$7)/1000000),\"-\")","v":0.28000000000000003},{"$f":"IFERROR(IF($B$2=\"トン\",AppQt.Data!BB89,(AppQt.Data!BB89*ozton*AppQt.Data!BB$7)/1000000),\"-\")","v":0.46},{"$f":"IFERROR(IF($B$2=\"トン\",AppQt.Data!BC89,(AppQt.Data!BC89*ozton*AppQt.Data!BC$7)/1000000),\"-\")","v":1},{"$f":"IFERROR(IF($B$2=\"トン\",AppQt.Data!BD89,(AppQt.Data!BD89*ozton*AppQt.Data!BD$7)/1000000),\"-\")","v":0.7},{"$f":"IFERROR(IF($B$2=\"トン\",AppQt.Data!BE89,(AppQt.Data!BE89*ozton*AppQt.Data!BE$7)/1000000),\"-\")","v":0.73},{"$f":"IFERROR(IF($B$2=\"トン\",AppQt.Data!BF89,(AppQt.Data!BF89*ozton*AppQt.Data!BF$7)/1000000),\"-\")","v":0.8},{"$f":"IFERROR(IF($B$2=\"トン\",AppQt.Data!BG89,(AppQt.Data!BG89*ozton*AppQt.Data!BG$7)/1000000),\"-\")","v":0.71},{"$f":"IFERROR(IF($B$2=\"トン\",AppQt.Data!BH89,(AppQt.Data!BH89*ozton*AppQt.Data!BH$7)/1000000),\"-\")","v":0.6},{"$f":"IFERROR(IF($B$2=\"トン\",AppQt.Data!BI89,(AppQt.Data!BI89*ozton*AppQt.Data!BI$7)/1000000),\"-\")","v":0.5},{"$f":"IFERROR(IF($B$2=\"トン\",AppQt.Data!BJ89,(AppQt.Data!BJ89*ozton*AppQt.Data!BJ$7)/1000000),\"-\")","v":0.62},{"$f":"IFERROR(IF($B$2=\"トン\",AppQt.Data!BK89,(AppQt.Data!BK89*ozton*AppQt.Data!BK$7)/1000000),\"-\")","v":0.56999999999999995},{"$f":"IFERROR(IF($B$2=\"トン\",AppQt.Data!BL89,(AppQt.Data!BL89*ozton*AppQt.Data!BL$7)/1000000),\"-\")","v":0.44},"▼",-26.666666666666661]
[null,"台湾",{"$f":"IFERROR(IF($B$2=\"トン\",AppAn.Data!L80,(AppAn.Data!L80*ozton*AppAn.Data!L$6)/1000000),\"-\")","v":-1.4103888888888889},{"$f":"IFERROR(IF($B$2=\"トン\",AppAn.Data!M80,(AppAn.Data!M80*ozton*AppAn.Data!M$6)/1000000),\"-\")","v":5.8514871495327103},{"$f":"IFERROR(IF($B$2=\"トン\",AppAn.Data!N80,(AppAn.Data!N80*ozton*AppAn.Data!N$6)/1000000),\"-\")","v":5.1573083333333329},{"$f":"IFERROR(IF($B$2=\"トン\",AppAn.Data!O80,(AppAn.Data!O80*ozton*AppAn.Data!O$6)/1000000),\"-\")","v":8.8541875000000001},{"$f":"IFERROR(IF($B$2=\"トン\",AppAn.Data!P80,(AppAn.Data!P80*ozton*AppAn.Data!P$6)/1000000),\"-\")","v":8.56},{"$f":"IFERROR(IF($B$2=\"トン\",AppAn.Data!Q80,(AppAn.Data!Q80*ozton*AppAn.Data!Q$6)/1000000),\"-\")","v":6.711125},{"$f":"IFERROR(IF($B$2=\"トン\",AppAn.Data!R80,(AppAn.Data!R80*ozton*AppAn.Data!R$6)/1000000),\"-\")","v":6.2055482421874988},{"$f":"IFERROR(IF($B$2=\"トン\",AppAn.Data!S80,(AppAn.Data!S80*ozton*AppAn.Data!S$6)/1000000),\"-\")","v":5.8931950539833977},{"$f":"IFERROR(IF($B$2=\"トン\",AppAn.Data!T80,(AppAn.Data!T80*ozton*AppAn.Data!T$6)/1000000),\"-\")","v":5.9160160293945303},{"$f":"IFERROR(IF($B$2=\"トン\",AppAn.Data!U80,(AppAn.Data!U80*ozton*AppAn.Data!U$6)/1000000),\"-\")","v":5.3759999999999994},{"$f":"IFERROR(IF($B$2=\"トン\",AppAn.Data!V80,(AppAn.Data!V80*ozton*AppAn.Data!V$6)/1000000),\"-\")","v":6.7039999999999997},{"$f":"IFERROR(IF($B$2=\"トン\",AppAn.Data!W80,(AppAn.Data!W80*ozton*AppAn.Data!W$6)/1000000),\"-\")","v":6.0549999999999997},{"$f":"IFERROR(IF($B$2=\"トン\",AppAn.Data!X80,(AppAn.Data!X80*ozton*AppAn.Data!X$6)/1000000),\"-\")","v":6.28},"▲",3.7159372419488079,null,{"$f":"IFERROR(IF($B$2=\"トン\",AppQt.Data!M90,(AppQt.Data!M90*ozton*AppQt.Data!M$7)/1000000),\"-\")","v":0},{"$f":"IFERROR(IF($B$2=\"トン\",AppQt.Data!N90,(AppQt.Data!N90*ozton*AppQt.Data!N$7)/1000000),\"-\")","v":-1.5389583333333334},{"$f":"IFERROR(IF($B$2=\"トン\",AppQt.Data!O90,(AppQt.Data!O90*ozton*AppQt.Data!O$7)/1000000),\"-\")","v":0.10779166666666665},{"$f":"IFERROR(IF($B$2=\"トン\",AppQt.Data!P90,(AppQt.Data!P90*ozton*AppQt.Data!P$7)/1000000),\"-\")","v":2.0777777777777784E-2},{"$f":"IFERROR(IF($B$2=\"トン\",AppQt.Data!Q90,(AppQt.Data!Q90*ozton*AppQt.Data!Q$7)/1000000),\"-\")","v":1.3928679906542056},{"$f":"IFERROR(IF($B$2=\"トン\",AppQt.Data!R90,(AppQt.Data!R90*ozton*AppQt.Data!R$7)/1000000),\"-\")","v":1.2485829439252336},{"$f":"IFERROR(IF($B$2=\"トン\",AppQt.Data!S90,(AppQt.Data!S90*ozton*AppQt.Data!S$7)/1000000),\"-\")","v":1.650017523364486},{"$f":"IFERROR(IF($B$2=\"トン\",AppQt.Data!T90,(AppQt.Data!T90*ozton*AppQt.Data!T$7)/1000000),\"-\")","v":1.560018691588785},{"$f":"IFERROR(IF($B$2=\"トン\",AppQt.Data!U90,(AppQt.Data!U90*ozton*AppQt.Data!U$7)/1000000),\"-\")","v":1.4086000000000001},{"$f":"IFERROR(IF($B$2=\"トン\",AppQt.Data!V90,(AppQt.Data!V90*ozton*AppQt.Data!V$7)/1000000),\"-\")","v":1.213916666666667},{"$f":"IFERROR(IF($B$2=\"トン\",AppQt.Data!W90,(AppQt.Data!W90*ozton*AppQt.Data!W$7)/1000000),\"-\")","v":0.85379166666666662},{"$f":"IFERROR(IF($B$2=\"トン\",AppQt.Data!X90,(AppQt.Data!X90*ozton*AppQt.Data!X$7)/1000000),\"-\")","v":1.681},{"$f":"IFERROR(IF($B$2=\"トン\",AppQt.Data!Y90,(AppQt.Data!Y90*ozton*AppQt.Data!Y$7)/1000000),\"-\")","v":2.7201874999999998},{"$f":"IFERROR(IF($B$2=\"トン\",AppQt.Data!Z90,(AppQt.Data!Z90*ozton*AppQt.Data!Z$7)/1000000),\"-\")","v":2.6457499999999996},{"$f":"IFERROR(IF($B$2=\"トン\",AppQt.Data!AA90,(AppQt.Data!AA90*ozton*AppQt.Data!AA$7)/1000000),\"-\")","v":1.77125},{"$f":"IFERROR(IF($B$2=\"トン\",AppQt.Data!AB90,(AppQt.Data!AB90*ozton*AppQt.Data!AB$7)/1000000),\"-\")","v":1.7170000000000001},{"$f":"IFERROR(IF($B$2=\"トン\",AppQt.Data!AC90,(AppQt.Data!AC90*ozton*AppQt.Data!AC$7)/1000000),\"-\")","v":1.7290000000000001},{"$f":"IFERROR(IF($B$2=\"トン\",AppQt.Data!AD90,(AppQt.Data!AD90*ozton*AppQt.Data!AD$7)/1000000),\"-\")","v":2.7240000000000002},{"$f":"IFERROR(IF($B$2=\"トン\",AppQt.Data!AE90,(AppQt.Data!AE90*ozton*AppQt.Data!AE$7)/1000000),\"-\")","v":1.7829999999999999},{"$f":"IFERROR(IF($B$2=\"トン\",AppQt.Data!AF90,(AppQt.Data!AF90*ozton*AppQt.Data!AF$7)/1000000),\"-\")","v":2.3239999999999998},{"$f":"IFERROR(IF($B$2=\"トン\",AppQt.Data!AG90,(AppQt.Data!AG90*ozton*AppQt.Data!AG$7)/1000000),\"-\")","v":1.776},{"$f":"IFERROR(IF($B$2=\"トン\",AppQt.Data!AH90,(AppQt.Data!AH90*ozton*AppQt.Data!AH$7)/1000000),\"-\")","v":1.4430000000000001},{"$f":"IFERROR(IF($B$2=\"トン\",AppQt.Data!AI90,(AppQt.Data!AI90*ozton*AppQt.Data!AI$7)/1000000),\"-\")","v":1.6014999999999999},{"$f":"IFERROR(IF($B$2=\"トン\",AppQt.Data!AJ90,(AppQt.Data!AJ90*ozton*AppQt.Data!AJ$7)/1000000),\"-\")","v":1.8906249999999998},{"$f":"IFERROR(IF($B$2=\"トン\",AppQt.Data!AK90,(AppQt.Data!AK90*ozton*AppQt.Data!AK$7)/1000000),\"-\")","v":1.5672656249999997},{"$f":"IFERROR(IF($B$2=\"トン\",AppQt.Data!AL90,(AppQt.Data!AL90*ozton*AppQt.Data!AL$7)/1000000),\"-\")","v":1.3847023437499997},{"$f":"IFERROR(IF($B$2=\"トン\",AppQt.Data!AM90,(AppQt.Data!AM90*ozton*AppQt.Data!AM$7)/1000000),\"-\")","v":1.0385267578124999},{"$f":"IFERROR(IF($B$2=\"トン\",AppQt.Data!AN90,(AppQt.Data!AN90*ozton*AppQt.Data!AN$7)/1000000),\"-\")","v":2.2150535156249997},{"$f":"IFERROR(IF($B$2=\"トン\",AppQt.Data!AO90,(AppQt.Data!AO90*ozton*AppQt.Data!AO$7)/1000000),\"-\")","v":1.5672901367187497},{"$f":"IFERROR(IF($B$2=\"トン\",AppQt.Data!AP90,(AppQt.Data!AP90*ozton*AppQt.Data!AP$7)/1000000),\"-\")","v":1.203924855957031},{"$f":"IFERROR(IF($B$2=\"トン\",AppQt.Data!AQ90,(AppQt.Data!AQ90*ozton*AppQt.Data!AQ$7)/1000000),\"-\")","v":1.3034388444335936},{"$f":"IFERROR(IF($B$2=\"トン\",AppQt.Data!AR90,(AppQt.Data!AR90*ozton*AppQt.Data!AR$7)/1000000),\"-\")","v":1.8185412168740234},{"$f":"IFERROR(IF($B$2=\"トン\",AppQt.Data!AS90,(AppQt.Data!AS90*ozton*AppQt.Data!AS$7)/1000000),\"-\")","v":1.7025388408203121},{"$f":"IFERROR(IF($B$2=\"トン\",AppQt.Data!AT90,(AppQt.Data!AT90*ozton*AppQt.Data!AT$7)/1000000),\"-\")","v":1.1234771885742185},{"$f":"IFERROR(IF($B$2=\"トン\",AppQt.Data!AU90,(AppQt.Data!AU90*ozton*AppQt.Data!AU$7)/1000000),\"-\")","v":1.57},{"$f":"IFERROR(IF($B$2=\"トン\",AppQt.Data!AV90,(AppQt.Data!AV90*ozton*AppQt.Data!AV$7)/1000000),\"-\")","v":1.52},{"$f":"IFERROR(IF($B$2=\"トン\",AppQt.Data!AW90,(AppQt.Data!AW90*ozton*AppQt.Data!AW$7)/1000000),\"-\")","v":1.4710000000000001},{"$f":"IFERROR(IF($B$2=\"トン\",AppQt.Data!AX90,(AppQt.Data!AX90*ozton*AppQt.Data!AX$7)/1000000),\"-\")","v":1.0149999999999999},{"$f":"IFERROR(IF($B$2=\"トン\",AppQt.Data!AY90,(AppQt.Data!AY90*ozton*AppQt.Data!AY$7)/1000000),\"-\")","v":1.321},{"$f":"IFERROR(IF($B$2=\"トン\",AppQt.Data!AZ90,(AppQt.Data!AZ90*ozton*AppQt.Data!AZ$7)/1000000),\"-\")","v":1.569},{"$f":"IFERROR(IF($B$2=\"トン\",AppQt.Data!BA90,(AppQt.Data!BA90*ozton*AppQt.Data!BA$7)/1000000),\"-\")","v":1.9790000000000001},{"$f":"IFERROR(IF($B$2=\"トン\",AppQt.Data!BB90,(AppQt.Data!BB90*ozton*AppQt.Data!BB$7)/1000000),\"-\")","v":1.595},{"$f":"IFERROR(IF($B$2=\"トン\",AppQt.Data!BC90,(AppQt.Data!BC90*ozton*AppQt.Data!BC$7)/1000000),\"-\")","v":1.71},{"$f":"IFERROR(IF($B$2=\"トン\",AppQt.Data!BD90,(AppQt.Data!BD90*ozton*AppQt.Data!BD$7)/1000000),\"-\")","v":1.42},{"$f":"IFERROR(IF($B$2=\"トン\",AppQt.Data!BE90,(AppQt.Data!BE90*ozton*AppQt.Data!BE$7)/1000000),\"-\")","v":1.8049999999999999},{"$f":"IFERROR(IF($B$2=\"トン\",AppQt.Data!BF90,(AppQt.Data!BF90*ozton*AppQt.Data!BF$7)/1000000),\"-\")","v":1.4850000000000001},{"$f":"IFERROR(IF($B$2=\"トン\",AppQt.Data!BG90,(AppQt.Data!BG90*ozton*AppQt.Data!BG$7)/1000000),\"-\")","v":1.105},{"$f":"IFERROR(IF($B$2=\"トン\",AppQt.Data!BH90,(AppQt.Data!BH90*ozton*AppQt.Data!BH$7)/1000000),\"-\")","v":1.66},{"$f":"IFERROR(IF($B$2=\"トン\",AppQt.Data!BI90,(AppQt.Data!BI90*ozton*AppQt.Data!BI$7)/1000000),\"-\")","v":1.9950000000000001},{"$f":"IFERROR(IF($B$2=\"トン\",AppQt.Data!BJ90,(AppQt.Data!BJ90*ozton*AppQt.Data!BJ$7)/1000000),\"-\")","v":1.355},{"$f":"IFERROR(IF($B$2=\"トン\",AppQt.Data!BK90,(AppQt.Data!BK90*ozton*AppQt.Data!BK$7)/1000000),\"-\")","v":1.145},{"$f":"IFERROR(IF($B$2=\"トン\",AppQt.Data!BL90,(AppQt.Data!BL90*ozton*AppQt.Data!BL$7)/1000000),\"-\")","v":1.7849999999999999},"▲",7.5301204819277157]
[null,"日本",{"$f":"IFERROR(IF($B$2=\"トン\",AppAn.Data!L81,(AppAn.Data!L81*ozton*AppAn.Data!L$6)/1000000),\"-\")","v":-39.808294334975372},{"$f":"IFERROR(IF($B$2=\"トン\",AppAn.Data!M81,(AppAn.Data!M81*ozton*AppAn.Data!M$6)/1000000),\"-\")","v":-52.28364903846154},{"$f":"IFERROR(IF($B$2=\"トン\",AppAn.Data!N81,(AppAn.Data!N81*ozton*AppAn.Data!N$6)/1000000),\"-\")","v":-10.972298267326732},{"$f":"IFERROR(IF($B$2=\"トン\",AppAn.Data!O81,(AppAn.Data!O81*ozton*AppAn.Data!O$6)/1000000),\"-\")","v":3.9212187499999982},{"$f":"IFERROR(IF($B$2=\"トン\",AppAn.Data!P81,(AppAn.Data!P81*ozton*AppAn.Data!P$6)/1000000),\"-\")","v":-2.7407927549999984},{"$f":"IFERROR(IF($B$2=\"トン\",AppAn.Data!Q81,(AppAn.Data!Q81*ozton*AppAn.Data!Q$6)/1000000),\"-\")","v":16.164928500000002},{"$f":"IFERROR(IF($B$2=\"トン\",AppAn.Data!R81,(AppAn.Data!R81*ozton*AppAn.Data!R$6)/1000000),\"-\")","v":17.1008},{"$f":"IFERROR(IF($B$2=\"トン\",AppAn.Data!S81,(AppAn.Data!S81*ozton*AppAn.Data!S$6)/1000000),\"-\")","v":-3.2863999999999991},{"$f":"IFERROR(IF($B$2=\"トン\",AppAn.Data!T81,(AppAn.Data!T81*ozton*AppAn.Data!T$6)/1000000),\"-\")","v":12.510999999999999},{"$f":"IFERROR(IF($B$2=\"トン\",AppAn.Data!U81,(AppAn.Data!U81*ozton*AppAn.Data!U$6)/1000000),\"-\")","v":-20.119400000000002},{"$f":"IFERROR(IF($B$2=\"トン\",AppAn.Data!V81,(AppAn.Data!V81*ozton*AppAn.Data!V$6)/1000000),\"-\")","v":-9.3279999999999994},{"$f":"IFERROR(IF($B$2=\"トン\",AppAn.Data!W81,(AppAn.Data!W81*ozton*AppAn.Data!W$6)/1000000),\"-\")","v":0.11479999999999846},{"$f":"IFERROR(IF($B$2=\"トン\",AppAn.Data!X81,(AppAn.Data!X81*ozton*AppAn.Data!X$6)/1000000),\"-\")","v":-11.172399999999998},"▲","-",null,{"$f":"IFERROR(IF($B$2=\"トン\",AppQt.Data!M91,(AppQt.Data!M91*ozton*AppQt.Data!M$7)/1000000),\"-\")","v":-11.806719827586207},{"$f":"IFERROR(IF($B$2=\"トン\",AppQt.Data!N91,(AppQt.Data!N91*ozton*AppQt.Data!N$7)/1000000),\"-\")","v":-7.7761490147783254},{"$f":"IFERROR(IF($B$2=\"トン\",AppQt.Data!O91,(AppQt.Data!O91*ozton*AppQt.Data!O$7)/1000000),\"-\")","v":-9.667191502463055},{"$f":"IFERROR(IF($B$2=\"トン\",AppQt.Data!P91,(AppQt.Data!P91*ozton*AppQt.Data!P$7)/1000000),\"-\")","v":-10.558233990147784},{"$f":"IFERROR(IF($B$2=\"トン\",AppQt.Data!Q91,(AppQt.Data!Q91*ozton*AppQt.Data!Q$7)/1000000),\"-\")","v":-6.0814743589743596},{"$f":"IFERROR(IF($B$2=\"トン\",AppQt.Data!R91,(AppQt.Data!R91*ozton*AppQt.Data!R$7)/1000000),\"-\")","v":-10.369826923076923},{"$f":"IFERROR(IF($B$2=\"トン\",AppQt.Data!S91,(AppQt.Data!S91*ozton*AppQt.Data!S$7)/1000000),\"-\")","v":-22.295334935897436},{"$f":"IFERROR(IF($B$2=\"トン\",AppQt.Data!T91,(AppQt.Data!T91*ozton*AppQt.Data!T$7)/1000000),\"-\")","v":-13.537012820512821},{"$f":"IFERROR(IF($B$2=\"トン\",AppQt.Data!U91,(AppQt.Data!U91*ozton*AppQt.Data!U$7)/1000000),\"-\")","v":-3.6419975247524752},{"$f":"IFERROR(IF($B$2=\"トン\",AppQt.Data!V91,(AppQt.Data!V91*ozton*AppQt.Data!V$7)/1000000),\"-\")","v":2.2660767326732674},{"$f":"IFERROR(IF($B$2=\"トン\",AppQt.Data!W91,(AppQt.Data!W91*ozton*AppQt.Data!W$7)/1000000),\"-\")","v":-5.3262636138613857},{"$f":"IFERROR(IF($B$2=\"トン\",AppQt.Data!X91,(AppQt.Data!X91*ozton*AppQt.Data!X$7)/1000000),\"-\")","v":-4.2701138613861387},{"$f":"IFERROR(IF($B$2=\"トン\",AppQt.Data!Y91,(AppQt.Data!Y91*ozton*AppQt.Data!Y$7)/1000000),\"-\")","v":-9.8942812500000006},{"$f":"IFERROR(IF($B$2=\"トン\",AppQt.Data!Z91,(AppQt.Data!Z91*ozton*AppQt.Data!Z$7)/1000000),\"-\")","v":8.1369374999999984},{"$f":"IFERROR(IF($B$2=\"トン\",AppQt.Data!AA91,(AppQt.Data!AA91*ozton*AppQt.Data!AA$7)/1000000),\"-\")","v":-0.89593750000000016},{"$f":"IFERROR(IF($B$2=\"トン\",AppQt.Data!AB91,(AppQt.Data!AB91*ozton*AppQt.Data!AB$7)/1000000),\"-\")","v":6.5745000000000005},{"$f":"IFERROR(IF($B$2=\"トン\",AppQt.Data!AC91,(AppQt.Data!AC91*ozton*AppQt.Data!AC$7)/1000000),\"-\")","v":7.6080000000000005},{"$f":"IFERROR(IF($B$2=\"トン\",AppQt.Data!AD91,(AppQt.Data!AD91*ozton*AppQt.Data!AD$7)/1000000),\"-\")","v":-1.1099999999999999},{"$f":"IFERROR(IF($B$2=\"トン\",AppQt.Data!AE91,(AppQt.Data!AE91*ozton*AppQt.Data!AE$7)/1000000),\"-\")","v":-1.0448460000000004},{"$f":"IFERROR(IF($B$2=\"トン\",AppQt.Data!AF91,(AppQt.Data!AF91*ozton*AppQt.Data!AF$7)/1000000),\"-\")","v":-8.1939467549999989},{"$f":"IFERROR(IF($B$2=\"トン\",AppQt.Data!AG91,(AppQt.Data!AG91*ozton*AppQt.Data!AG$7)/1000000),\"-\")","v":-3.1723965000000005},{"$f":"IFERROR(IF($B$2=\"トン\",AppQt.Data!AH91,(AppQt.Data!AH91*ozton*AppQt.Data!AH$7)/1000000),\"-\")","v":-0.23227350000000024},{"$f":"IFERROR(IF($B$2=\"トン\",AppQt.Data!AI91,(AppQt.Data!AI91*ozton*AppQt.Data!AI$7)/1000000),\"-\")","v":10.764598500000002},{"$f":"IFERROR(IF($B$2=\"トン\",AppQt.Data!AJ91,(AppQt.Data!AJ91*ozton*AppQt.Data!AJ$7)/1000000),\"-\")","v":8.8049999999999997},{"$f":"IFERROR(IF($B$2=\"トン\",AppQt.Data!AK91,(AppQt.Data!AK91*ozton*AppQt.Data!AK$7)/1000000),\"-\")","v":3.5936000000000003},{"$f":"IFERROR(IF($B$2=\"トン\",AppQt.Data!AL91,(AppQt.Data!AL91*ozton*AppQt.Data!AL$7)/1000000),\"-\")","v":5.7243999999999993},{"$f":"IFERROR(IF($B$2=\"トン\",AppQt.Data!AM91,(AppQt.Data!AM91*ozton*AppQt.Data!AM$7)/1000000),\"-\")","v":3.1820000000000004},{"$f":"IFERROR(IF($B$2=\"トン\",AppQt.Data!AN91,(AppQt.Data!AN91*ozton*AppQt.Data!AN$7)/1000000),\"-\")","v":4.6007999999999996},{"$f":"IFERROR(IF($B$2=\"トン\",AppQt.Data!AO91,(AppQt.Data!AO91*ozton*AppQt.Data!AO$7)/1000000),\"-\")","v":-1.8399999999999999},{"$f":"IFERROR(IF($B$2=\"トン\",AppQt.Data!AP91,(AppQt.Data!AP91*ozton*AppQt.Data!AP$7)/1000000),\"-\")","v":1.1020000000000001},{"$f":"IFERROR(IF($B$2=\"トン\",AppQt.Data!AQ91,(AppQt.Data!AQ91*ozton*AppQt.Data!AQ$7)/1000000),\"-\")","v":-4.1579999999999995},{"$f":"IFERROR(IF($B$2=\"トン\",AppQt.Data!AR91,(AppQt.Data!AR91*ozton*AppQt.Data!AR$7)/1000000),\"-\")","v":1.6095999999999999},{"$f":"IFERROR(IF($B$2=\"トン\",AppQt.Data!AS91,(AppQt.Data!AS91*ozton*AppQt.Data!AS$7)/1000000),\"-\")","v":1.4556},{"$f":"IFERROR(IF($B$2=\"トン\",AppQt.Data!AT91,(AppQt.Data!AT91*ozton*AppQt.Data!AT$7)/1000000),\"-\")","v":2.7162000000000002},{"$f":"IFERROR(IF($B$2=\"トン\",AppQt.Data!AU91,(AppQt.Data!AU91*ozton*AppQt.Data!AU$7)/1000000),\"-\")","v":7.9656000000000002},{"$f":"IFERROR(IF($B$2=\"トン\",AppQt.Data!AV91,(AppQt.Data!AV91*ozton*AppQt.Data!AV$7)/1000000),\"-\")","v":0.37359999999999999},{"$f":"IFERROR(IF($B$2=\"トン\",AppQt.Data!AW91,(AppQt.Data!AW91*ozton*AppQt.Data!AW$7)/1000000),\"-\")","v":-6.1525999999999996},{"$f":"IFERROR(IF($B$2=\"トン\",AppQt.Data!AX91,(AppQt.Data!AX91*ozton*AppQt.Data!AX$7)/1000000),\"-\")","v":-3.1720000000000002},{"$f":"IFERROR(IF($B$2=\"トン\",AppQt.Data!AY91,(AppQt.Data!AY91*ozton*AppQt.Data!AY$7)/1000000),\"-\")","v":-7.8148},{"$f":"IFERROR(IF($B$2=\"トン\",AppQt.Data!AZ91,(AppQt.Data!AZ91*ozton*AppQt.Data!AZ$7)/1000000),\"-\")","v":-2.9800000000000004},{"$f":"IFERROR(IF($B$2=\"トン\",AppQt.Data!BA91,(AppQt.Data!BA91*ozton*AppQt.Data!BA$7)/1000000),\"-\")","v":-6.5331999999999999},{"$f":"IFERROR(IF($B$2=\"トン\",AppQt.Data!BB91,(AppQt.Data!BB91*ozton*AppQt.Data!BB$7)/1000000),\"-\")","v":-2.4028},{"$f":"IFERROR(IF($B$2=\"トン\",AppQt.Data!BC91,(AppQt.Data!BC91*ozton*AppQt.Data!BC$7)/1000000),\"-\")","v":4.0399999999999964E-2},{"$f":"IFERROR(IF($B$2=\"トン\",AppQt.Data!BD91,(AppQt.Data!BD91*ozton*AppQt.Data!BD$7)/1000000),\"-\")","v":-0.43240000000000006},{"$f":"IFERROR(IF($B$2=\"トン\",AppQt.Data!BE91,(AppQt.Data!BE91*ozton*AppQt.Data!BE$7)/1000000),\"-\")","v":5.4431999999999992},{"$f":"IFERROR(IF($B$2=\"トン\",AppQt.Data!BF91,(AppQt.Data!BF91*ozton*AppQt.Data!BF$7)/1000000),\"-\")","v":-3.2824000000000004},{"$f":"IFERROR(IF($B$2=\"トン\",AppQt.Data!BG91,(AppQt.Data!BG91*ozton*AppQt.Data!BG$7)/1000000),\"-\")","v":1.8159999999999998},{"$f":"IFERROR(IF($B$2=\"トン\",AppQt.Data!BH91,(AppQt.Data!BH91*ozton*AppQt.Data!BH$7)/1000000),\"-\")","v":-3.8620000000000001},{"$f":"IFERROR(IF($B$2=\"トン\",AppQt.Data!BI91,(AppQt.Data!BI91*ozton*AppQt.Data!BI$7)/1000000),\"-\")","v":-9.7479999999999993},{"$f":"IFERROR(IF($B$2=\"トン\",AppQt.Data!BJ91,(AppQt.Data!BJ91*ozton*AppQt.Data!BJ$7)/1000000),\"-\")","v":-3.6015999999999999},{"$f":"IFERROR(IF($B$2=\"トン\",AppQt.Data!BK91,(AppQt.Data!BK91*ozton*AppQt.Data!BK$7)/1000000),\"-\")","v":2.8444000000000003},{"$f":"IFERROR(IF($B$2=\"トン\",AppQt.Data!BL91,(AppQt.Data!BL91*ozton*AppQt.Data!BL$7)/1000000),\"-\")","v":-0.66720000000000013},"▲","-"]
[null,"インドネシア",{"$f":"IFERROR(IF($B$2=\"トン\",AppAn.Data!L82,(AppAn.Data!L82*ozton*AppAn.Data!L$6)/1000000),\"-\")","v":17.160040849673202},{"$f":"IFERROR(IF($B$2=\"トン\",AppAn.Data!M82,(AppAn.Data!M82*ozton*AppAn.Data!M$6)/1000000),\"-\")","v":27.427696572580647},{"$f":"IFERROR(IF($B$2=\"トン\",AppAn.Data!N82,(AppAn.Data!N82*ozton*AppAn.Data!N$6)/1000000),\"-\")","v":26.447364253393665},{"$f":"IFERROR(IF($B$2=\"トン\",AppAn.Data!O82,(AppAn.Data!O82*ozton*AppAn.Data!O$6)/1000000),\"-\")","v":46.938625000000002},{"$f":"IFERROR(IF($B$2=\"トン\",AppAn.Data!P82,(AppAn.Data!P82*ozton*AppAn.Data!P$6)/1000000),\"-\")","v":26.9},{"$f":"IFERROR(IF($B$2=\"トン\",AppAn.Data!Q82,(AppAn.Data!Q82*ozton*AppAn.Data!Q$6)/1000000),\"-\")","v":20.125610000000002},{"$f":"IFERROR(IF($B$2=\"トン\",AppAn.Data!R82,(AppAn.Data!R82*ozton*AppAn.Data!R$6)/1000000),\"-\")","v":21.114838726281249},{"$f":"IFERROR(IF($B$2=\"トン\",AppAn.Data!S82,(AppAn.Data!S82*ozton*AppAn.Data!S$6)/1000000),\"-\")","v":20.229689},{"$f":"IFERROR(IF($B$2=\"トン\",AppAn.Data!T82,(AppAn.Data!T82*ozton*AppAn.Data!T$6)/1000000),\"-\")","v":22.163154999999996},{"$f":"IFERROR(IF($B$2=\"トン\",AppAn.Data!U82,(AppAn.Data!U82*ozton*AppAn.Data!U$6)/1000000),\"-\")","v":14.168751349999999},{"$f":"IFERROR(IF($B$2=\"トン\",AppAn.Data!V82,(AppAn.Data!V82*ozton*AppAn.Data!V$6)/1000000),\"-\")","v":16.754400257499999},{"$f":"IFERROR(IF($B$2=\"トン\",AppAn.Data!W82,(AppAn.Data!W82*ozton*AppAn.Data!W$6)/1000000),\"-\")","v":19.786338071999999},{"$f":"IFERROR(IF($B$2=\"トン\",AppAn.Data!X82,(AppAn.Data!X82*ozton*AppAn.Data!X$6)/1000000),\"-\")","v":21.467787299200001},"▲",8.4980314249226918,null,{"$f":"IFERROR(IF($B$2=\"トン\",AppQt.Data!M92,(AppQt.Data!M92*ozton*AppQt.Data!M$7)/1000000),\"-\")","v":3.3410457516339869},{"$f":"IFERROR(IF($B$2=\"トン\",AppQt.Data!N92,(AppQt.Data!N92*ozton*AppQt.Data!N$7)/1000000),\"-\")","v":3.0468300653594773},{"$f":"IFERROR(IF($B$2=\"トン\",AppQt.Data!O92,(AppQt.Data!O92*ozton*AppQt.Data!O$7)/1000000),\"-\")","v":4.3024754901960787},{"$f":"IFERROR(IF($B$2=\"トン\",AppQt.Data!P92,(AppQt.Data!P92*ozton*AppQt.Data!P$7)/1000000),\"-\")","v":6.4696895424836605},{"$f":"IFERROR(IF($B$2=\"トン\",AppQt.Data!Q92,(AppQt.Data!Q92*ozton*AppQt.Data!Q$7)/1000000),\"-\")","v":5.7240801411290327},{"$f":"IFERROR(IF($B$2=\"トン\",AppQt.Data!R92,(AppQt.Data!R92*ozton*AppQt.Data!R$7)/1000000),\"-\")","v":6.7953125000000005},{"$f":"IFERROR(IF($B$2=\"トン\",AppQt.Data!S92,(AppQt.Data!S92*ozton*AppQt.Data!S$7)/1000000),\"-\")","v":6.5609248991935489},{"$f":"IFERROR(IF($B$2=\"トン\",AppQt.Data!T92,(AppQt.Data!T92*ozton*AppQt.Data!T$7)/1000000),\"-\")","v":8.3473790322580648},{"$f":"IFERROR(IF($B$2=\"トン\",AppQt.Data!U92,(AppQt.Data!U92*ozton*AppQt.Data!U$7)/1000000),\"-\")","v":10.444915158371042},{"$f":"IFERROR(IF($B$2=\"トン\",AppQt.Data!V92,(AppQt.Data!V92*ozton*AppQt.Data!V$7)/1000000),\"-\")","v":5.7257918552036191},{"$f":"IFERROR(IF($B$2=\"トン\",AppQt.Data!W92,(AppQt.Data!W92*ozton*AppQt.Data!W$7)/1000000),\"-\")","v":4.2425622171945694},{"$f":"IFERROR(IF($B$2=\"トン\",AppQt.Data!X92,(AppQt.Data!X92*ozton*AppQt.Data!X$7)/1000000),\"-\")","v":6.0340950226244345},{"$f":"IFERROR(IF($B$2=\"トン\",AppQt.Data!Y92,(AppQt.Data!Y92*ozton*AppQt.Data!Y$7)/1000000),\"-\")","v":14.246375},{"$f":"IFERROR(IF($B$2=\"トン\",AppQt.Data!Z92,(AppQt.Data!Z92*ozton*AppQt.Data!Z$7)/1000000),\"-\")","v":15.175374999999999},{"$f":"IFERROR(IF($B$2=\"トン\",AppQt.Data!AA92,(AppQt.Data!AA92*ozton*AppQt.Data!AA$7)/1000000),\"-\")","v":8.6068749999999987},{"$f":"IFERROR(IF($B$2=\"トン\",AppQt.Data!AB92,(AppQt.Data!AB92*ozton*AppQt.Data!AB$7)/1000000),\"-\")","v":8.91},{"$f":"IFERROR(IF($B$2=\"トン\",AppQt.Data!AC92,(AppQt.Data!AC92*ozton*AppQt.Data!AC$7)/1000000),\"-\")","v":5.54},{"$f":"IFERROR(IF($B$2=\"トン\",AppQt.Data!AD92,(AppQt.Data!AD92*ozton*AppQt.Data!AD$7)/1000000),\"-\")","v":6.74},{"$f":"IFERROR(IF($B$2=\"トン\",AppQt.Data!AE92,(AppQt.Data!AE92*ozton*AppQt.Data!AE$7)/1000000),\"-\")","v":6.76},{"$f":"IFERROR(IF($B$2=\"トン\",AppQt.Data!AF92,(AppQt.Data!AF92*ozton*AppQt.Data!AF$7)/1000000),\"-\")","v":7.86},{"$f":"IFERROR(IF($B$2=\"トン\",AppQt.Data!AG92,(AppQt.Data!AG92*ozton*AppQt.Data!AG$7)/1000000),\"-\")","v":5.6849999999999996},{"$f":"IFERROR(IF($B$2=\"トン\",AppQt.Data!AH92,(AppQt.Data!AH92*ozton*AppQt.Data!AH$7)/1000000),\"-\")","v":4.5279999999999996},{"$f":"IFERROR(IF($B$2=\"トン\",AppQt.Data!AI92,(AppQt.Data!AI92*ozton*AppQt.Data!AI$7)/1000000),\"-\")","v":4.6454000000000004},{"$f":"IFERROR(IF($B$2=\"トン\",AppQt.Data!AJ92,(AppQt.Data!AJ92*ozton*AppQt.Data!AJ$7)/1000000),\"-\")","v":5.2672100000000004},{"$f":"IFERROR(IF($B$2=\"トン\",AppQt.Data!AK92,(AppQt.Data!AK92*ozton*AppQt.Data!AK$7)/1000000),\"-\")","v":5.2288494999999999},{"$f":"IFERROR(IF($B$2=\"トン\",AppQt.Data!AL92,(AppQt.Data!AL92*ozton*AppQt.Data!AL$7)/1000000),\"-\")","v":5.9581769250000001},{"$f":"IFERROR(IF($B$2=\"トン\",AppQt.Data!AM92,(AppQt.Data!AM92*ozton*AppQt.Data!AM$7)/1000000),\"-\")","v":4.6175871168749998},{"$f":"IFERROR(IF($B$2=\"トン\",AppQt.Data!AN92,(AppQt.Data!AN92*ozton*AppQt.Data!AN$7)/1000000),\"-\")","v":5.3102251844062494},{"$f":"IFERROR(IF($B$2=\"トン\",AppQt.Data!AO92,(AppQt.Data!AO92*ozton*AppQt.Data!AO$7)/1000000),\"-\")","v":5.0030000000000001},{"$f":"IFERROR(IF($B$2=\"トン\",AppQt.Data!AP92,(AppQt.Data!AP92*ozton*AppQt.Data!AP$7)/1000000),\"-\")","v":5.615875},{"$f":"IFERROR(IF($B$2=\"トン\",AppQt.Data!AQ92,(AppQt.Data!AQ92*ozton*AppQt.Data!AQ$7)/1000000),\"-\")","v":4.3982140000000003},{"$f":"IFERROR(IF($B$2=\"トン\",AppQt.Data!AR92,(AppQt.Data!AR92*ozton*AppQt.Data!AR$7)/1000000),\"-\")","v":5.2126000000000001},{"$f":"IFERROR(IF($B$2=\"トン\",AppQt.Data!AS92,(AppQt.Data!AS92*ozton*AppQt.Data!AS$7)/1000000),\"-\")","v":5.1155749999999998},{"$f":"IFERROR(IF($B$2=\"トン\",AppQt.Data!AT92,(AppQt.Data!AT92*ozton*AppQt.Data!AT$7)/1000000),\"-\")","v":5.9886899999999992},{"$f":"IFERROR(IF($B$2=\"トン\",AppQt.Data!AU92,(AppQt.Data!AU92*ozton*AppQt.Data!AU$7)/1000000),\"-\")","v":5.08},{"$f":"IFERROR(IF($B$2=\"トン\",AppQt.Data!AV92,(AppQt.Data!AV92*ozton*AppQt.Data!AV$7)/1000000),\"-\")","v":5.9788899999999998},{"$f":"IFERROR(IF($B$2=\"トン\",AppQt.Data!AW92,(AppQt.Data!AW92*ozton*AppQt.Data!AW$7)/1000000),\"-\")","v":5.36635375},{"$f":"IFERROR(IF($B$2=\"トン\",AppQt.Data!AX92,(AppQt.Data!AX92*ozton*AppQt.Data!AX$7)/1000000),\"-\")","v":6.228237599999999},{"$f":"IFERROR(IF($B$2=\"トン\",AppQt.Data!AY92,(AppQt.Data!AY92*ozton*AppQt.Data!AY$7)/1000000),\"-\")","v":-0.8266},{"$f":"IFERROR(IF($B$2=\"トン\",AppQt.Data!AZ92,(AppQt.Data!AZ92*ozton*AppQt.Data!AZ$7)/1000000),\"-\")","v":3.4007599999999996},{"$f":"IFERROR(IF($B$2=\"トン\",AppQt.Data!BA92,(AppQt.Data!BA92*ozton*AppQt.Data!BA$7)/1000000),\"-\")","v":3.4725299375000005},{"$f":"IFERROR(IF($B$2=\"トン\",AppQt.Data!BB92,(AppQt.Data!BB92*ozton*AppQt.Data!BB$7)/1000000),\"-\")","v":3.1697663199999995},{"$f":"IFERROR(IF($B$2=\"トン\",AppQt.Data!BC92,(AppQt.Data!BC92*ozton*AppQt.Data!BC$7)/1000000),\"-\")","v":5.4874799999999997},{"$f":"IFERROR(IF($B$2=\"トン\",AppQt.Data!BD92,(AppQt.Data!BD92*ozton*AppQt.Data!BD$7)/1000000),\"-\")","v":4.6246239999999998},{"$f":"IFERROR(IF($B$2=\"トン\",AppQt.Data!BE92,(AppQt.Data!BE92*ozton*AppQt.Data!BE$7)/1000000),\"-\")","v":5.5399279000000012},{"$f":"IFERROR(IF($B$2=\"トン\",AppQt.Data!BF92,(AppQt.Data!BF92*ozton*AppQt.Data!BF$7)/1000000),\"-\")","v":3.7748885720000014},{"$f":"IFERROR(IF($B$2=\"トン\",AppQt.Data!BG92,(AppQt.Data!BG92*ozton*AppQt.Data!BG$7)/1000000),\"-\")","v":6.3093600000000007},{"$f":"IFERROR(IF($B$2=\"トン\",AppQt.Data!BH92,(AppQt.Data!BH92*ozton*AppQt.Data!BH$7)/1000000),\"-\")","v":4.1621615999999992},{"$f":"IFERROR(IF($B$2=\"トン\",AppQt.Data!BI92,(AppQt.Data!BI92*ozton*AppQt.Data!BI$7)/1000000),\"-\")","v":4.9859351100000016},{"$f":"IFERROR(IF($B$2=\"トン\",AppQt.Data!BJ92,(AppQt.Data!BJ92*ozton*AppQt.Data!BJ$7)/1000000),\"-\")","v":4.1523774292000013},{"$f":"IFERROR(IF($B$2=\"トン\",AppQt.Data!BK92,(AppQt.Data!BK92*ozton*AppQt.Data!BK$7)/1000000),\"-\")","v":7.5712320000000002},{"$f":"IFERROR(IF($B$2=\"トン\",AppQt.Data!BL92,(AppQt.Data!BL92*ozton*AppQt.Data!BL$7)/1000000),\"-\")","v":4.758242759999999},"▲",14.321432401855795]
[null,"マレーシア",{"$f":"IFERROR(IF($B$2=\"トン\",AppAn.Data!L83,(AppAn.Data!L83*ozton*AppAn.Data!L$6)/1000000),\"-\")","v":5.4583333176156819},{"$f":"IFERROR(IF($B$2=\"トン\",AppAn.Data!M83,(AppAn.Data!M83*ozton*AppAn.Data!M$6)/1000000),\"-\")","v":9.7590609517909481},{"$f":"IFERROR(IF($B$2=\"トン\",AppAn.Data!N83,(AppAn.Data!N83*ozton*AppAn.Data!N$6)/1000000),\"-\")","v":7.6873043545803323},{"$f":"IFERROR(IF($B$2=\"トン\",AppAn.Data!O83,(AppAn.Data!O83*ozton*AppAn.Data!O$6)/1000000),\"-\")","v":10.27530771921875},{"$f":"IFERROR(IF($B$2=\"トン\",AppAn.Data!P83,(AppAn.Data!P83*ozton*AppAn.Data!P$6)/1000000),\"-\")","v":8.23},{"$f":"IFERROR(IF($B$2=\"トン\",AppAn.Data!Q83,(AppAn.Data!Q83*ozton*AppAn.Data!Q$6)/1000000),\"-\")","v":6.7987519999999995},{"$f":"IFERROR(IF($B$2=\"トン\",AppAn.Data!R83,(AppAn.Data!R83*ozton*AppAn.Data!R$6)/1000000),\"-\")","v":5.1979411637500004},{"$f":"IFERROR(IF($B$2=\"トン\",AppAn.Data!S83,(AppAn.Data!S83*ozton*AppAn.Data!S$6)/1000000),\"-\")","v":5.7566050544062497},{"$f":"IFERROR(IF($B$2=\"トン\",AppAn.Data!T83,(AppAn.Data!T83*ozton*AppAn.Data!T$6)/1000000),\"-\")","v":5.9969999999999999},{"$f":"IFERROR(IF($B$2=\"トン\",AppAn.Data!U83,(AppAn.Data!U83*ozton*AppAn.Data!U$6)/1000000),\"-\")","v":5.3949999999999996},{"$f":"IFERROR(IF($B$2=\"トン\",AppAn.Data!V83,(AppAn.Data!V83*ozton*AppAn.Data!V$6)/1000000),\"-\")","v":3.9116},{"$f":"IFERROR(IF($B$2=\"トン\",AppAn.Data!W83,(AppAn.Data!W83*ozton*AppAn.Data!W$6)/1000000),\"-\")","v":4.3532500000000001},{"$f":"IFERROR(IF($B$2=\"トン\",AppAn.Data!X83,(AppAn.Data!X83*ozton*AppAn.Data!X$6)/1000000),\"-\")","v":5.5301324999999988},"▲",27.034571871590153,null,{"$f":"IFERROR(IF($B$2=\"トン\",AppQt.Data!M93,(AppQt.Data!M93*ozton*AppQt.Data!M$7)/1000000),\"-\")","v":1.7373071967789511},{"$f":"IFERROR(IF($B$2=\"トン\",AppQt.Data!N93,(AppQt.Data!N93*ozton*AppQt.Data!N$7)/1000000),\"-\")","v":1.7726275291555433},{"$f":"IFERROR(IF($B$2=\"トン\",AppQt.Data!O93,(AppQt.Data!O93*ozton*AppQt.Data!O$7)/1000000),\"-\")","v":1.1726180618757658},{"$f":"IFERROR(IF($B$2=\"トン\",AppQt.Data!P93,(AppQt.Data!P93*ozton*AppQt.Data!P$7)/1000000),\"-\")","v":0.77578052980542189},{"$f":"IFERROR(IF($B$2=\"トン\",AppQt.Data!Q93,(AppQt.Data!Q93*ozton*AppQt.Data!Q$7)/1000000),\"-\")","v":2.1601090937077401},{"$f":"IFERROR(IF($B$2=\"トン\",AppQt.Data!R93,(AppQt.Data!R93*ozton*AppQt.Data!R$7)/1000000),\"-\")","v":2.3674070216589209},{"$f":"IFERROR(IF($B$2=\"トン\",AppQt.Data!S93,(AppQt.Data!S93*ozton*AppQt.Data!S$7)/1000000),\"-\")","v":2.5139673795033732},{"$f":"IFERROR(IF($B$2=\"トン\",AppQt.Data!T93,(AppQt.Data!T93*ozton*AppQt.Data!T$7)/1000000),\"-\")","v":2.7175774569209139},{"$f":"IFERROR(IF($B$2=\"トン\",AppQt.Data!U93,(AppQt.Data!U93*ozton*AppQt.Data!U$7)/1000000),\"-\")","v":2.5814568454063762},{"$f":"IFERROR(IF($B$2=\"トン\",AppQt.Data!V93,(AppQt.Data!V93*ozton*AppQt.Data!V$7)/1000000),\"-\")","v":1.843861726348194},{"$f":"IFERROR(IF($B$2=\"トン\",AppQt.Data!W93,(AppQt.Data!W93*ozton*AppQt.Data!W$7)/1000000),\"-\")","v":1.2989234240935952},{"$f":"IFERROR(IF($B$2=\"トン\",AppQt.Data!X93,(AppQt.Data!X93*ozton*AppQt.Data!X$7)/1000000),\"-\")","v":1.9630623587321669},{"$f":"IFERROR(IF($B$2=\"トン\",AppQt.Data!Y93,(AppQt.Data!Y93*ozton*AppQt.Data!Y$7)/1000000),\"-\")","v":1.731716359609375},{"$f":"IFERROR(IF($B$2=\"トン\",AppQt.Data!Z93,(AppQt.Data!Z93*ozton*AppQt.Data!Z$7)/1000000),\"-\")","v":3.4265609064062503},{"$f":"IFERROR(IF($B$2=\"トン\",AppQt.Data!AA93,(AppQt.Data!AA93*ozton*AppQt.Data!AA$7)/1000000),\"-\")","v":2.7970304532031252},{"$f":"IFERROR(IF($B$2=\"トン\",AppQt.Data!AB93,(AppQt.Data!AB93*ozton*AppQt.Data!AB$7)/1000000),\"-\")","v":2.3199999999999998},{"$f":"IFERROR(IF($B$2=\"トン\",AppQt.Data!AC93,(AppQt.Data!AC93*ozton*AppQt.Data!AC$7)/1000000),\"-\")","v":2.27},{"$f":"IFERROR(IF($B$2=\"トン\",AppQt.Data!AD93,(AppQt.Data!AD93*ozton*AppQt.Data!AD$7)/1000000),\"-\")","v":2.0699999999999998},{"$f":"IFERROR(IF($B$2=\"トン\",AppQt.Data!AE93,(AppQt.Data!AE93*ozton*AppQt.Data!AE$7)/1000000),\"-\")","v":2.0699999999999998},{"$f":"IFERROR(IF($B$2=\"トン\",AppQt.Data!AF93,(AppQt.Data!AF93*ozton*AppQt.Data!AF$7)/1000000),\"-\")","v":1.82},{"$f":"IFERROR(IF($B$2=\"トン\",AppQt.Data!AG93,(AppQt.Data!AG93*ozton*AppQt.Data!AG$7)/1000000),\"-\")","v":2.5},{"$f":"IFERROR(IF($B$2=\"トン\",AppQt.Data!AH93,(AppQt.Data!AH93*ozton*AppQt.Data!AH$7)/1000000),\"-\")","v":1},{"$f":"IFERROR(IF($B$2=\"トン\",AppQt.Data!AI93,(AppQt.Data!AI93*ozton*AppQt.Data!AI$7)/1000000),\"-\")","v":1.7181},{"$f":"IFERROR(IF($B$2=\"トン\",AppQt.Data!AJ93,(AppQt.Data!AJ93*ozton*AppQt.Data!AJ$7)/1000000),\"-\")","v":1.5806519999999999},{"$f":"IFERROR(IF($B$2=\"トン\",AppQt.Data!AK93,(AppQt.Data!AK93*ozton*AppQt.Data!AK$7)/1000000),\"-\")","v":1.5016194},{"$f":"IFERROR(IF($B$2=\"トン\",AppQt.Data!AL93,(AppQt.Data!AL93*ozton*AppQt.Data!AL$7)/1000000),\"-\")","v":1.22192455},{"$f":"IFERROR(IF($B$2=\"トン\",AppQt.Data!AM93,(AppQt.Data!AM93*ozton*AppQt.Data!AM$7)/1000000),\"-\")","v":1.099732095},{"$f":"IFERROR(IF($B$2=\"トン\",AppQt.Data!AN93,(AppQt.Data!AN93*ozton*AppQt.Data!AN$7)/1000000),\"-\")","v":1.3746651187500001},{"$f":"IFERROR(IF($B$2=\"トン\",AppQt.Data!AO93,(AppQt.Data!AO93*ozton*AppQt.Data!AO$7)/1000000),\"-\")","v":1.4777650026562501},{"$f":"IFERROR(IF($B$2=\"トン\",AppQt.Data!AP93,(AppQt.Data!AP93*ozton*AppQt.Data!AP$7)/1000000),\"-\")","v":1.3907517234999998},{"$f":"IFERROR(IF($B$2=\"トン\",AppQt.Data!AQ93,(AppQt.Data!AQ93*ozton*AppQt.Data!AQ$7)/1000000),\"-\")","v":1.4380883282500001},{"$f":"IFERROR(IF($B$2=\"トン\",AppQt.Data!AR93,(AppQt.Data!AR93*ozton*AppQt.Data!AR$7)/1000000),\"-\")","v":1.45},{"$f":"IFERROR(IF($B$2=\"トン\",AppQt.Data!AS93,(AppQt.Data!AS93*ozton*AppQt.Data!AS$7)/1000000),\"-\")","v":1.58},{"$f":"IFERROR(IF($B$2=\"トン\",AppQt.Data!AT93,(AppQt.Data!AT93*ozton*AppQt.Data!AT$7)/1000000),\"-\")","v":1.357},{"$f":"IFERROR(IF($B$2=\"トン\",AppQt.Data!AU93,(AppQt.Data!AU93*ozton*AppQt.Data!AU$7)/1000000),\"-\")","v":1.65},{"$f":"IFERROR(IF($B$2=\"トン\",AppQt.Data!AV93,(AppQt.Data!AV93*ozton*AppQt.Data!AV$7)/1000000),\"-\")","v":1.41},{"$f":"IFERROR(IF($B$2=\"トン\",AppQt.Data!AW93,(AppQt.Data!AW93*ozton*AppQt.Data!AW$7)/1000000),\"-\")","v":1.39},{"$f":"IFERROR(IF($B$2=\"トン\",AppQt.Data!AX93,(AppQt.Data!AX93*ozton*AppQt.Data!AX$7)/1000000),\"-\")","v":1.3},{"$f":"IFERROR(IF($B$2=\"トン\",AppQt.Data!AY93,(AppQt.Data!AY93*ozton*AppQt.Data!AY$7)/1000000),\"-\")","v":1.42},{"$f":"IFERROR(IF($B$2=\"トン\",AppQt.Data!AZ93,(AppQt.Data!AZ93*ozton*AppQt.Data!AZ$7)/1000000),\"-\")","v":1.2849999999999999},{"$f":"IFERROR(IF($B$2=\"トン\",AppQt.Data!BA93,(AppQt.Data!BA93*ozton*AppQt.Data!BA$7)/1000000),\"-\")","v":1.05},{"$f":"IFERROR(IF($B$2=\"トン\",AppQt.Data!BB93,(AppQt.Data!BB93*ozton*AppQt.Data!BB$7)/1000000),\"-\")","v":0.53159999999999996},{"$f":"IFERROR(IF($B$2=\"トン\",AppQt.Data!BC93,(AppQt.Data!BC93*ozton*AppQt.Data!BC$7)/1000000),\"-\")","v":1.22},{"$f":"IFERROR(IF($B$2=\"トン\",AppQt.Data!BD93,(AppQt.Data!BD93*ozton*AppQt.Data!BD$7)/1000000),\"-\")","v":1.1100000000000001},{"$f":"IFERROR(IF($B$2=\"トン\",AppQt.Data!BE93,(AppQt.Data!BE93*ozton*AppQt.Data!BE$7)/1000000),\"-\")","v":1.3282499999999999},{"$f":"IFERROR(IF($B$2=\"トン\",AppQt.Data!BF93,(AppQt.Data!BF93*ozton*AppQt.Data!BF$7)/1000000),\"-\")","v":1.02},{"$f":"IFERROR(IF($B$2=\"トン\",AppQt.Data!BG93,(AppQt.Data!BG93*ozton*AppQt.Data!BG$7)/1000000),\"-\")","v":0.58499999999999996},{"$f":"IFERROR(IF($B$2=\"トン\",AppQt.Data!BH93,(AppQt.Data!BH93*ozton*AppQt.Data!BH$7)/1000000),\"-\")","v":1.42},{"$f":"IFERROR(IF($B$2=\"トン\",AppQt.Data!BI93,(AppQt.Data!BI93*ozton*AppQt.Data!BI$7)/1000000),\"-\")","v":1.5851324999999998},{"$f":"IFERROR(IF($B$2=\"トン\",AppQt.Data!BJ93,(AppQt.Data!BJ93*ozton*AppQt.Data!BJ$7)/1000000),\"-\")","v":1.355},{"$f":"IFERROR(IF($B$2=\"トン\",AppQt.Data!BK93,(AppQt.Data!BK93*ozton*AppQt.Data!BK$7)/1000000),\"-\")","v":1.1499999999999999},{"$f":"IFERROR(IF($B$2=\"トン\",AppQt.Data!BL93,(AppQt.Data!BL93*ozton*AppQt.Data!BL$7)/1000000),\"-\")","v":1.44},"▲",1.4084507042253502]
[null,"シンガポール",{"$f":"IFERROR(IF($B$2=\"トン\",AppAn.Data!L84,(AppAn.Data!L84*ozton*AppAn.Data!L$6)/1000000),\"-\")","v":1.3606695517071492},{"$f":"IFERROR(IF($B$2=\"トン\",AppAn.Data!M84,(AppAn.Data!M84*ozton*AppAn.Data!M$6)/1000000),\"-\")","v":4.1869029890012746},{"$f":"IFERROR(IF($B$2=\"トン\",AppAn.Data!N84,(AppAn.Data!N84*ozton*AppAn.Data!N$6)/1000000),\"-\")","v":5.1459084485853204},{"$f":"IFERROR(IF($B$2=\"トン\",AppAn.Data!O84,(AppAn.Data!O84*ozton*AppAn.Data!O$6)/1000000),\"-\")","v":6.5019159916597964},{"$f":"IFERROR(IF($B$2=\"トン\",AppAn.Data!P84,(AppAn.Data!P84*ozton*AppAn.Data!P$6)/1000000),\"-\")","v":6.5149999999999997},{"$f":"IFERROR(IF($B$2=\"トン\",AppAn.Data!Q84,(AppAn.Data!Q84*ozton*AppAn.Data!Q$6)/1000000),\"-\")","v":5.9029499999999997},{"$f":"IFERROR(IF($B$2=\"トン\",AppAn.Data!R84,(AppAn.Data!R84*ozton*AppAn.Data!R$6)/1000000),\"-\")","v":4.9959563855000013},{"$f":"IFERROR(IF($B$2=\"トン\",AppAn.Data!S84,(AppAn.Data!S84*ozton*AppAn.Data!S$6)/1000000),\"-\")","v":4.8145761278217423},{"$f":"IFERROR(IF($B$2=\"トン\",AppAn.Data!T84,(AppAn.Data!T84*ozton*AppAn.Data!T$6)/1000000),\"-\")","v":4.8664739089047604},{"$f":"IFERROR(IF($B$2=\"トン\",AppAn.Data!U84,(AppAn.Data!U84*ozton*AppAn.Data!U$6)/1000000),\"-\")","v":4.4399999999999995},{"$f":"IFERROR(IF($B$2=\"トン\",AppAn.Data!V84,(AppAn.Data!V84*ozton*AppAn.Data!V$6)/1000000),\"-\")","v":3.74},{"$f":"IFERROR(IF($B$2=\"トン\",AppAn.Data!W84,(AppAn.Data!W84*ozton*AppAn.Data!W$6)/1000000),\"-\")","v":4.4726999999999997},{"$f":"IFERROR(IF($B$2=\"トン\",AppAn.Data!X84,(AppAn.Data!X84*ozton*AppAn.Data!X$6)/1000000),\"-\")","v":5.9218199999999994},"▲",32.399221946475286,null,{"$f":"IFERROR(IF($B$2=\"トン\",AppQt.Data!M94,(AppQt.Data!M94*ozton*AppQt.Data!M$7)/1000000),\"-\")","v":1.1214108428880833},{"$f":"IFERROR(IF($B$2=\"トン\",AppQt.Data!N94,(AppQt.Data!N94*ozton*AppQt.Data!N$7)/1000000),\"-\")","v":-0.16025073437218559},{"$f":"IFERROR(IF($B$2=\"トン\",AppQt.Data!O94,(AppQt.Data!O94*ozton*AppQt.Data!O$7)/1000000),\"-\")","v":0.69515034880979754},{"$f":"IFERROR(IF($B$2=\"トン\",AppQt.Data!P94,(AppQt.Data!P94*ozton*AppQt.Data!P$7)/1000000),\"-\")","v":-0.29564090561854611},{"$f":"IFERROR(IF($B$2=\"トン\",AppQt.Data!Q94,(AppQt.Data!Q94*ozton*AppQt.Data!Q$7)/1000000),\"-\")","v":1.3487291328265134},{"$f":"IFERROR(IF($B$2=\"トン\",AppQt.Data!R94,(AppQt.Data!R94*ozton*AppQt.Data!R$7)/1000000),\"-\")","v":1.0845807692401976},{"$f":"IFERROR(IF($B$2=\"トン\",AppQt.Data!S94,(AppQt.Data!S94*ozton*AppQt.Data!S$7)/1000000),\"-\")","v":0.92811144542905777},{"$f":"IFERROR(IF($B$2=\"トン\",AppQt.Data!T94,(AppQt.Data!T94*ozton*AppQt.Data!T$7)/1000000),\"-\")","v":0.82548164150550574},{"$f":"IFERROR(IF($B$2=\"トン\",AppQt.Data!U94,(AppQt.Data!U94*ozton*AppQt.Data!U$7)/1000000),\"-\")","v":1.499169593494148},{"$f":"IFERROR(IF($B$2=\"トン\",AppQt.Data!V94,(AppQt.Data!V94*ozton*AppQt.Data!V$7)/1000000),\"-\")","v":1.275321792915922},{"$f":"IFERROR(IF($B$2=\"トン\",AppQt.Data!W94,(AppQt.Data!W94*ozton*AppQt.Data!W$7)/1000000),\"-\")","v":1.105870034150938},{"$f":"IFERROR(IF($B$2=\"トン\",AppQt.Data!X94,(AppQt.Data!X94*ozton*AppQt.Data!X$7)/1000000),\"-\")","v":1.2655470280243126},{"$f":"IFERROR(IF($B$2=\"トン\",AppQt.Data!Y94,(AppQt.Data!Y94*ozton*AppQt.Data!Y$7)/1000000),\"-\")","v":1.3837704958298978},{"$f":"IFERROR(IF($B$2=\"トン\",AppQt.Data!Z94,(AppQt.Data!Z94*ozton*AppQt.Data!Z$7)/1000000),\"-\")","v":1.8725136638865987},{"$f":"IFERROR(IF($B$2=\"トン\",AppQt.Data!AA94,(AppQt.Data!AA94*ozton*AppQt.Data!AA$7)/1000000),\"-\")","v":1.5956318319432992},{"$f":"IFERROR(IF($B$2=\"トン\",AppQt.Data!AB94,(AppQt.Data!AB94*ozton*AppQt.Data!AB$7)/1000000),\"-\")","v":1.65},{"$f":"IFERROR(IF($B$2=\"トン\",AppQt.Data!AC94,(AppQt.Data!AC94*ozton*AppQt.Data!AC$7)/1000000),\"-\")","v":1.42},{"$f":"IFERROR(IF($B$2=\"トン\",AppQt.Data!AD94,(AppQt.Data!AD94*ozton*AppQt.Data!AD$7)/1000000),\"-\")","v":1.7450000000000001},{"$f":"IFERROR(IF($B$2=\"トン\",AppQt.Data!AE94,(AppQt.Data!AE94*ozton*AppQt.Data!AE$7)/1000000),\"-\")","v":1.72},{"$f":"IFERROR(IF($B$2=\"トン\",AppQt.Data!AF94,(AppQt.Data!AF94*ozton*AppQt.Data!AF$7)/1000000),\"-\")","v":1.63},{"$f":"IFERROR(IF($B$2=\"トン\",AppQt.Data!AG94,(AppQt.Data!AG94*ozton*AppQt.Data!AG$7)/1000000),\"-\")","v":1.6},{"$f":"IFERROR(IF($B$2=\"トン\",AppQt.Data!AH94,(AppQt.Data!AH94*ozton*AppQt.Data!AH$7)/1000000),\"-\")","v":1.2},{"$f":"IFERROR(IF($B$2=\"トン\",AppQt.Data!AI94,(AppQt.Data!AI94*ozton*AppQt.Data!AI$7)/1000000),\"-\")","v":1.512},{"$f":"IFERROR(IF($B$2=\"トン\",AppQt.Data!AJ94,(AppQt.Data!AJ94*ozton*AppQt.Data!AJ$7)/1000000),\"-\")","v":1.5909500000000001},{"$f":"IFERROR(IF($B$2=\"トン\",AppQt.Data!AK94,(AppQt.Data!AK94*ozton*AppQt.Data!AK$7)/1000000),\"-\")","v":1.1638675000000001},{"$f":"IFERROR(IF($B$2=\"トン\",AppQt.Data!AL94,(AppQt.Data!AL94*ozton*AppQt.Data!AL$7)/1000000),\"-\")","v":1.1969769000000001},{"$f":"IFERROR(IF($B$2=\"トン\",AppQt.Data!AM94,(AppQt.Data!AM94*ozton*AppQt.Data!AM$7)/1000000),\"-\")","v":1.0582792100000002},{"$f":"IFERROR(IF($B$2=\"トン\",AppQt.Data!AN94,(AppQt.Data!AN94*ozton*AppQt.Data!AN$7)/1000000),\"-\")","v":1.5768327755000002},{"$f":"IFERROR(IF($B$2=\"トン\",AppQt.Data!AO94,(AppQt.Data!AO94*ozton*AppQt.Data!AO$7)/1000000),\"-\")","v":1.3503078591750002},{"$f":"IFERROR(IF($B$2=\"トン\",AppQt.Data!AP94,(AppQt.Data!AP94*ozton*AppQt.Data!AP$7)/1000000),\"-\")","v":1.1055039838193752},{"$f":"IFERROR(IF($B$2=\"トン\",AppQt.Data!AQ94,(AppQt.Data!AQ94*ozton*AppQt.Data!AQ$7)/1000000),\"-\")","v":1.0130911850329221},{"$f":"IFERROR(IF($B$2=\"トン\",AppQt.Data!AR94,(AppQt.Data!AR94*ozton*AppQt.Data!AR$7)/1000000),\"-\")","v":1.3456730997944448},{"$f":"IFERROR(IF($B$2=\"トン\",AppQt.Data!AS94,(AppQt.Data!AS94*ozton*AppQt.Data!AS$7)/1000000),\"-\")","v":1.3971201735420002},{"$f":"IFERROR(IF($B$2=\"トン\",AppQt.Data!AT94,(AppQt.Data!AT94*ozton*AppQt.Data!AT$7)/1000000),\"-\")","v":1.0693537353627602},{"$f":"IFERROR(IF($B$2=\"トン\",AppQt.Data!AU94,(AppQt.Data!AU94*ozton*AppQt.Data!AU$7)/1000000),\"-\")","v":1.23},{"$f":"IFERROR(IF($B$2=\"トン\",AppQt.Data!AV94,(AppQt.Data!AV94*ozton*AppQt.Data!AV$7)/1000000),\"-\")","v":1.17},{"$f":"IFERROR(IF($B$2=\"トン\",AppQt.Data!AW94,(AppQt.Data!AW94*ozton*AppQt.Data!AW$7)/1000000),\"-\")","v":1.21},{"$f":"IFERROR(IF($B$2=\"トン\",AppQt.Data!AX94,(AppQt.Data!AX94*ozton*AppQt.Data!AX$7)/1000000),\"-\")","v":1},{"$f":"IFERROR(IF($B$2=\"トン\",AppQt.Data!AY94,(AppQt.Data!AY94*ozton*AppQt.Data!AY$7)/1000000),\"-\")","v":1.08},{"$f":"IFERROR(IF($B$2=\"トン\",AppQt.Data!AZ94,(AppQt.Data!AZ94*ozton*AppQt.Data!AZ$7)/1000000),\"-\")","v":1.1499999999999999},{"$f":"IFERROR(IF($B$2=\"トン\",AppQt.Data!BA94,(AppQt.Data!BA94*ozton*AppQt.Data!BA$7)/1000000),\"-\")","v":1.05},{"$f":"IFERROR(IF($B$2=\"トン\",AppQt.Data!BB94,(AppQt.Data!BB94*ozton*AppQt.Data!BB$7)/1000000),\"-\")","v":0.44},{"$f":"IFERROR(IF($B$2=\"トン\",AppQt.Data!BC94,(AppQt.Data!BC94*ozton*AppQt.Data!BC$7)/1000000),\"-\")","v":1.2},{"$f":"IFERROR(IF($B$2=\"トン\",AppQt.Data!BD94,(AppQt.Data!BD94*ozton*AppQt.Data!BD$7)/1000000),\"-\")","v":1.05},{"$f":"IFERROR(IF($B$2=\"トン\",AppQt.Data!BE94,(AppQt.Data!BE94*ozton*AppQt.Data!BE$7)/1000000),\"-\")","v":1.3149999999999999},{"$f":"IFERROR(IF($B$2=\"トン\",AppQt.Data!BF94,(AppQt.Data!BF94*ozton*AppQt.Data!BF$7)/1000000),\"-\")","v":1.0226999999999999},{"$f":"IFERROR(IF($B$2=\"トン\",AppQt.Data!BG94,(AppQt.Data!BG94*ozton*AppQt.Data!BG$7)/1000000),\"-\")","v":0.92500000000000004},{"$f":"IFERROR(IF($B$2=\"トン\",AppQt.Data!BH94,(AppQt.Data!BH94*ozton*AppQt.Data!BH$7)/1000000),\"-\")","v":1.21},{"$f":"IFERROR(IF($B$2=\"トン\",AppQt.Data!BI94,(AppQt.Data!BI94*ozton*AppQt.Data!BI$7)/1000000),\"-\")","v":1.53182},{"$f":"IFERROR(IF($B$2=\"トン\",AppQt.Data!BJ94,(AppQt.Data!BJ94*ozton*AppQt.Data!BJ$7)/1000000),\"-\")","v":1.46},{"$f":"IFERROR(IF($B$2=\"トン\",AppQt.Data!BK94,(AppQt.Data!BK94*ozton*AppQt.Data!BK$7)/1000000),\"-\")","v":1.43},{"$f":"IFERROR(IF($B$2=\"トン\",AppQt.Data!BL94,(AppQt.Data!BL94*ozton*AppQt.Data!BL$7)/1000000),\"-\")","v":1.5},"▲",23.966942148760339]
[null,"韓国",{"$f":"IFERROR(IF($B$2=\"トン\",AppAn.Data!L85,(AppAn.Data!L85*ozton*AppAn.Data!L$6)/1000000),\"-\")","v":1.3247812500000005},{"$f":"IFERROR(IF($B$2=\"トン\",AppAn.Data!M85,(AppAn.Data!M85*ozton*AppAn.Data!M$6)/1000000),\"-\")","v":7.9273622881355932},{"$f":"IFERROR(IF($B$2=\"トン\",AppAn.Data!N85,(AppAn.Data!N85*ozton*AppAn.Data!N$6)/1000000),\"-\")","v":11.354708333333333},{"$f":"IFERROR(IF($B$2=\"トン\",AppAn.Data!O85,(AppAn.Data!O85*ozton*AppAn.Data!O$6)/1000000),\"-\")","v":17.900906249999998},{"$f":"IFERROR(IF($B$2=\"トン\",AppAn.Data!P85,(AppAn.Data!P85*ozton*AppAn.Data!P$6)/1000000),\"-\")","v":16.736499999999999},{"$f":"IFERROR(IF($B$2=\"トン\",AppAn.Data!Q85,(AppAn.Data!Q85*ozton*AppAn.Data!Q$6)/1000000),\"-\")","v":19.935500000000001},{"$f":"IFERROR(IF($B$2=\"トン\",AppAn.Data!R85,(AppAn.Data!R85*ozton*AppAn.Data!R$6)/1000000),\"-\")","v":15.079499999999999},{"$f":"IFERROR(IF($B$2=\"トン\",AppAn.Data!S85,(AppAn.Data!S85*ozton*AppAn.Data!S$6)/1000000),\"-\")","v":18.530250000000002},{"$f":"IFERROR(IF($B$2=\"トン\",AppAn.Data!T85,(AppAn.Data!T85*ozton*AppAn.Data!T$6)/1000000),\"-\")","v":19.277999999999999},{"$f":"IFERROR(IF($B$2=\"トン\",AppAn.Data!U85,(AppAn.Data!U85*ozton*AppAn.Data!U$6)/1000000),\"-\")","v":19.481000000000002},{"$f":"IFERROR(IF($B$2=\"トン\",AppAn.Data!V85,(AppAn.Data!V85*ozton*AppAn.Data!V$6)/1000000),\"-\")","v":19.012999999999998},{"$f":"IFERROR(IF($B$2=\"トン\",AppAn.Data!W85,(AppAn.Data!W85*ozton*AppAn.Data!W$6)/1000000),\"-\")","v":20.939999999999998},{"$f":"IFERROR(IF($B$2=\"トン\",AppAn.Data!X85,(AppAn.Data!X85*ozton*AppAn.Data!X$6)/1000000),\"-\")","v":16.969000000000001},"▼",-18.963705826169996,null,{"$f":"IFERROR(IF($B$2=\"トン\",AppQt.Data!M95,(AppQt.Data!M95*ozton*AppQt.Data!M$7)/1000000),\"-\")","v":2.74115625},{"$f":"IFERROR(IF($B$2=\"トン\",AppQt.Data!N95,(AppQt.Data!N95*ozton*AppQt.Data!N$7)/1000000),\"-\")","v":-5.2765624999999998},{"$f":"IFERROR(IF($B$2=\"トン\",AppQt.Data!O95,(AppQt.Data!O95*ozton*AppQt.Data!O$7)/1000000),\"-\")","v":7.5814375000000007},{"$f":"IFERROR(IF($B$2=\"トン\",AppQt.Data!P95,(AppQt.Data!P95*ozton*AppQt.Data!P$7)/1000000),\"-\")","v":-3.7212499999999999},{"$f":"IFERROR(IF($B$2=\"トン\",AppQt.Data!Q95,(AppQt.Data!Q95*ozton*AppQt.Data!Q$7)/1000000),\"-\")","v":2.3452330508474577},{"$f":"IFERROR(IF($B$2=\"トン\",AppQt.Data!R95,(AppQt.Data!R95*ozton*AppQt.Data!R$7)/1000000),\"-\")","v":2.352851694915254},{"$f":"IFERROR(IF($B$2=\"トン\",AppQt.Data!S95,(AppQt.Data!S95*ozton*AppQt.Data!S$7)/1000000),\"-\")","v":0.86499788135593214},{"$f":"IFERROR(IF($B$2=\"トン\",AppQt.Data!T95,(AppQt.Data!T95*ozton*AppQt.Data!T$7)/1000000),\"-\")","v":2.3642796610169494},{"$f":"IFERROR(IF($B$2=\"トン\",AppQt.Data!U95,(AppQt.Data!U95*ozton*AppQt.Data!U$7)/1000000),\"-\")","v":3.4399687499999994},{"$f":"IFERROR(IF($B$2=\"トン\",AppQt.Data!V95,(AppQt.Data!V95*ozton*AppQt.Data!V$7)/1000000),\"-\")","v":3.3086111111111114},{"$f":"IFERROR(IF($B$2=\"トン\",AppQt.Data!W95,(AppQt.Data!W95*ozton*AppQt.Data!W$7)/1000000),\"-\")","v":2.224670138888889},{"$f":"IFERROR(IF($B$2=\"トン\",AppQt.Data!X95,(AppQt.Data!X95*ozton*AppQt.Data!X$7)/1000000),\"-\")","v":2.3814583333333332},{"$f":"IFERROR(IF($B$2=\"トン\",AppQt.Data!Y95,(AppQt.Data!Y95*ozton*AppQt.Data!Y$7)/1000000),\"-\")","v":3.8358749999999997},{"$f":"IFERROR(IF($B$2=\"トン\",AppQt.Data!Z95,(AppQt.Data!Z95*ozton*AppQt.Data!Z$7)/1000000),\"-\")","v":5.1586249999999998},{"$f":"IFERROR(IF($B$2=\"トン\",AppQt.Data!AA95,(AppQt.Data!AA95*ozton*AppQt.Data!AA$7)/1000000),\"-\")","v":4.3589062500000004},{"$f":"IFERROR(IF($B$2=\"トン\",AppQt.Data!AB95,(AppQt.Data!AB95*ozton*AppQt.Data!AB$7)/1000000),\"-\")","v":4.5475000000000003},{"$f":"IFERROR(IF($B$2=\"トン\",AppQt.Data!AC95,(AppQt.Data!AC95*ozton*AppQt.Data!AC$7)/1000000),\"-\")","v":4.3710000000000004},{"$f":"IFERROR(IF($B$2=\"トン\",AppQt.Data!AD95,(AppQt.Data!AD95*ozton*AppQt.Data!AD$7)/1000000),\"-\")","v":4.2134999999999998},{"$f":"IFERROR(IF($B$2=\"トン\",AppQt.Data!AE95,(AppQt.Data!AE95*ozton*AppQt.Data!AE$7)/1000000),\"-\")","v":4.0984999999999996},{"$f":"IFERROR(IF($B$2=\"トン\",AppQt.Data!AF95,(AppQt.Data!AF95*ozton*AppQt.Data!AF$7)/1000000),\"-\")","v":4.0534999999999997},{"$f":"IFERROR(IF($B$2=\"トン\",AppQt.Data!AG95,(AppQt.Data!AG95*ozton*AppQt.Data!AG$7)/1000000),\"-\")","v":4.6115000000000004},{"$f":"IFERROR(IF($B$2=\"トン\",AppQt.Data!AH95,(AppQt.Data!AH95*ozton*AppQt.Data!AH$7)/1000000),\"-\")","v":4.2030000000000003},{"$f":"IFERROR(IF($B$2=\"トン\",AppQt.Data!AI95,(AppQt.Data!AI95*ozton*AppQt.Data!AI$7)/1000000),\"-\")","v":5.4184999999999999},{"$f":"IFERROR(IF($B$2=\"トン\",AppQt.Data!AJ95,(AppQt.Data!AJ95*ozton*AppQt.Data!AJ$7)/1000000),\"-\")","v":5.7024999999999997},{"$f":"IFERROR(IF($B$2=\"トン\",AppQt.Data!AK95,(AppQt.Data!AK95*ozton*AppQt.Data!AK$7)/1000000),\"-\")","v":3.5024999999999999},{"$f":"IFERROR(IF($B$2=\"トン\",AppQt.Data!AL95,(AppQt.Data!AL95*ozton*AppQt.Data!AL$7)/1000000),\"-\")","v":3.2734999999999999},{"$f":"IFERROR(IF($B$2=\"トン\",AppQt.Data!AM95,(AppQt.Data!AM95*ozton*AppQt.Data!AM$7)/1000000),\"-\")","v":3.4017499999999998},{"$f":"IFERROR(IF($B$2=\"トン\",AppQt.Data!AN95,(AppQt.Data!AN95*ozton*AppQt.Data!AN$7)/1000000),\"-\")","v":4.9017499999999998},{"$f":"IFERROR(IF($B$2=\"トン\",AppQt.Data!AO95,(AppQt.Data!AO95*ozton*AppQt.Data!AO$7)/1000000),\"-\")","v":4.5685000000000002},{"$f":"IFERROR(IF($B$2=\"トン\",AppQt.Data!AP95,(AppQt.Data!AP95*ozton*AppQt.Data!AP$7)/1000000),\"-\")","v":4.1615000000000002},{"$f":"IFERROR(IF($B$2=\"トン\",AppQt.Data!AQ95,(AppQt.Data!AQ95*ozton*AppQt.Data!AQ$7)/1000000),\"-\")","v":4.4625000000000004},{"$f":"IFERROR(IF($B$2=\"トン\",AppQt.Data!AR95,(AppQt.Data!AR95*ozton*AppQt.Data!AR$7)/1000000),\"-\")","v":5.3377499999999998},{"$f":"IFERROR(IF($B$2=\"トン\",AppQt.Data!AS95,(AppQt.Data!AS95*ozton*AppQt.Data!AS$7)/1000000),\"-\")","v":5.0529999999999999},{"$f":"IFERROR(IF($B$2=\"トン\",AppQt.Data!AT95,(AppQt.Data!AT95*ozton*AppQt.Data!AT$7)/1000000),\"-\")","v":4.0339999999999998},{"$f":"IFERROR(IF($B$2=\"トン\",AppQt.Data!AU95,(AppQt.Data!AU95*ozton*AppQt.Data!AU$7)/1000000),\"-\")","v":4.9820000000000002},{"$f":"IFERROR(IF($B$2=\"トン\",AppQt.Data!AV95,(AppQt.Data!AV95*ozton*AppQt.Data!AV$7)/1000000),\"-\")","v":5.2089999999999996},{"$f":"IFERROR(IF($B$2=\"トン\",AppQt.Data!AW95,(AppQt.Data!AW95*ozton*AppQt.Data!AW$7)/1000000),\"-\")","v":4.3899999999999997},{"$f":"IFERROR(IF($B$2=\"トン\",AppQt.Data!AX95,(AppQt.Data!AX95*ozton*AppQt.Data!AX$7)/1000000),\"-\")","v":5.4850000000000003},{"$f":"IFERROR(IF($B$2=\"トン\",AppQt.Data!AY95,(AppQt.Data!AY95*ozton*AppQt.Data!AY$7)/1000000),\"-\")","v":4.9130000000000003},{"$f":"IFERROR(IF($B$2=\"トン\",AppQt.Data!AZ95,(AppQt.Data!AZ95*ozton*AppQt.Data!AZ$7)/1000000),\"-\")","v":4.6929999999999996},{"$f":"IFERROR(IF($B$2=\"トン\",AppQt.Data!BA95,(AppQt.Data!BA95*ozton*AppQt.Data!BA$7)/1000000),\"-\")","v":3.9630000000000001},{"$f":"IFERROR(IF($B$2=\"トン\",AppQt.Data!BB95,(AppQt.Data!BB95*ozton*AppQt.Data!BB$7)/1000000),\"-\")","v":4.05},{"$f":"IFERROR(IF($B$2=\"トン\",AppQt.Data!BC95,(AppQt.Data!BC95*ozton*AppQt.Data!BC$7)/1000000),\"-\")","v":5.71},{"$f":"IFERROR(IF($B$2=\"トン\",AppQt.Data!BD95,(AppQt.Data!BD95*ozton*AppQt.Data!BD$7)/1000000),\"-\")","v":5.29},{"$f":"IFERROR(IF($B$2=\"トン\",AppQt.Data!BE95,(AppQt.Data!BE95*ozton*AppQt.Data!BE$7)/1000000),\"-\")","v":5.7750000000000004},{"$f":"IFERROR(IF($B$2=\"トン\",AppQt.Data!BF95,(AppQt.Data!BF95*ozton*AppQt.Data!BF$7)/1000000),\"-\")","v":5.05},{"$f":"IFERROR(IF($B$2=\"トン\",AppQt.Data!BG95,(AppQt.Data!BG95*ozton*AppQt.Data!BG$7)/1000000),\"-\")","v":4.625},{"$f":"IFERROR(IF($B$2=\"トン\",AppQt.Data!BH95,(AppQt.Data!BH95*ozton*AppQt.Data!BH$7)/1000000),\"-\")","v":5.49},{"$f":"IFERROR(IF($B$2=\"トン\",AppQt.Data!BI95,(AppQt.Data!BI95*ozton*AppQt.Data!BI$7)/1000000),\"-\")","v":4.7140000000000004},{"$f":"IFERROR(IF($B$2=\"トン\",AppQt.Data!BJ95,(AppQt.Data!BJ95*ozton*AppQt.Data!BJ$7)/1000000),\"-\")","v":4.375},{"$f":"IFERROR(IF($B$2=\"トン\",AppQt.Data!BK95,(AppQt.Data!BK95*ozton*AppQt.Data!BK$7)/1000000),\"-\")","v":3.7250000000000001},{"$f":"IFERROR(IF($B$2=\"トン\",AppQt.Data!BL95,(AppQt.Data!BL95*ozton*AppQt.Data!BL$7)/1000000),\"-\")","v":4.1550000000000002},"▼",-24.316939890710376]
[null,"タイ",{"$f":"IFERROR(IF($B$2=\"トン\",AppAn.Data!L86,(AppAn.Data!L86*ozton*AppAn.Data!L$6)/1000000),\"-\")","v":64.235040711435857},{"$f":"IFERROR(IF($B$2=\"トン\",AppAn.Data!M86,(AppAn.Data!M86*ozton*AppAn.Data!M$6)/1000000),\"-\")","v":106.63831534413968},{"$f":"IFERROR(IF($B$2=\"トン\",AppAn.Data!N86,(AppAn.Data!N86*ozton*AppAn.Data!N$6)/1000000),\"-\")","v":100.86743170128344},{"$f":"IFERROR(IF($B$2=\"トン\",AppAn.Data!O86,(AppAn.Data!O86*ozton*AppAn.Data!O$6)/1000000),\"-\")","v":138.93156250000001},{"$f":"IFERROR(IF($B$2=\"トン\",AppAn.Data!P86,(AppAn.Data!P86*ozton*AppAn.Data!P$6)/1000000),\"-\")","v":96.350000000000009},{"$f":"IFERROR(IF($B$2=\"トン\",AppAn.Data!Q86,(AppAn.Data!Q86*ozton*AppAn.Data!Q$6)/1000000),\"-\")","v":77.978749999999991},{"$f":"IFERROR(IF($B$2=\"トン\",AppAn.Data!R86,(AppAn.Data!R86*ozton*AppAn.Data!R$6)/1000000),\"-\")","v":69.680350000000004},{"$f":"IFERROR(IF($B$2=\"トン\",AppAn.Data!S86,(AppAn.Data!S86*ozton*AppAn.Data!S$6)/1000000),\"-\")","v":63.975685783203119},{"$f":"IFERROR(IF($B$2=\"トン\",AppAn.Data!T86,(AppAn.Data!T86*ozton*AppAn.Data!T$6)/1000000),\"-\")","v":68.461178130644527},{"$f":"IFERROR(IF($B$2=\"トン\",AppAn.Data!U86,(AppAn.Data!U86*ozton*AppAn.Data!U$6)/1000000),\"-\")","v":35.404930764109366},{"$f":"IFERROR(IF($B$2=\"トン\",AppAn.Data!V86,(AppAn.Data!V86*ozton*AppAn.Data!V$6)/1000000),\"-\")","v":-87.341947400525001},{"$f":"IFERROR(IF($B$2=\"トン\",AppAn.Data!W86,(AppAn.Data!W86*ozton*AppAn.Data!W$6)/1000000),\"-\")","v":28.654743311031996},{"$f":"IFERROR(IF($B$2=\"トン\",AppAn.Data!X86,(AppAn.Data!X86*ozton*AppAn.Data!X$6)/1000000),\"-\")","v":28.521344026922421},"▼",-0.46553997242828604,null,{"$f":"IFERROR(IF($B$2=\"トン\",AppQt.Data!M96,(AppQt.Data!M96*ozton*AppQt.Data!M$7)/1000000),\"-\")","v":15.655638002485711},{"$f":"IFERROR(IF($B$2=\"トン\",AppQt.Data!N96,(AppQt.Data!N96*ozton*AppQt.Data!N$7)/1000000),\"-\")","v":19.827769379047197},{"$f":"IFERROR(IF($B$2=\"トン\",AppQt.Data!O96,(AppQt.Data!O96*ozton*AppQt.Data!O$7)/1000000),\"-\")","v":20.479577706179445},{"$f":"IFERROR(IF($B$2=\"トン\",AppQt.Data!P96,(AppQt.Data!P96*ozton*AppQt.Data!P$7)/1000000),\"-\")","v":8.2720556237235012},{"$f":"IFERROR(IF($B$2=\"トン\",AppQt.Data!Q96,(AppQt.Data!Q96*ozton*AppQt.Data!Q$7)/1000000),\"-\")","v":30.07011737466993},{"$f":"IFERROR(IF($B$2=\"トン\",AppQt.Data!R96,(AppQt.Data!R96*ozton*AppQt.Data!R$7)/1000000),\"-\")","v":17.991090482431627},{"$f":"IFERROR(IF($B$2=\"トン\",AppQt.Data!S96,(AppQt.Data!S96*ozton*AppQt.Data!S$7)/1000000),\"-\")","v":34.543821825067937},{"$f":"IFERROR(IF($B$2=\"トン\",AppQt.Data!T96,(AppQt.Data!T96*ozton*AppQt.Data!T$7)/1000000),\"-\")","v":24.033285661970197},{"$f":"IFERROR(IF($B$2=\"トン\",AppQt.Data!U96,(AppQt.Data!U96*ozton*AppQt.Data!U$7)/1000000),\"-\")","v":31.027643455471733},{"$f":"IFERROR(IF($B$2=\"トン\",AppQt.Data!V96,(AppQt.Data!V96*ozton*AppQt.Data!V$7)/1000000),\"-\")","v":15.962108503967869},{"$f":"IFERROR(IF($B$2=\"トン\",AppQt.Data!W96,(AppQt.Data!W96*ozton*AppQt.Data!W$7)/1000000),\"-\")","v":19.204653240423237},{"$f":"IFERROR(IF($B$2=\"トン\",AppQt.Data!X96,(AppQt.Data!X96*ozton*AppQt.Data!X$7)/1000000),\"-\")","v":34.673026501420594},{"$f":"IFERROR(IF($B$2=\"トン\",AppQt.Data!Y96,(AppQt.Data!Y96*ozton*AppQt.Data!Y$7)/1000000),\"-\")","v":55.53875},{"$f":"IFERROR(IF($B$2=\"トン\",AppQt.Data!Z96,(AppQt.Data!Z96*ozton*AppQt.Data!Z$7)/1000000),\"-\")","v":35.849375000000002},{"$f":"IFERROR(IF($B$2=\"トン\",AppQt.Data!AA96,(AppQt.Data!AA96*ozton*AppQt.Data!AA$7)/1000000),\"-\")","v":24.943437500000002},{"$f":"IFERROR(IF($B$2=\"トン\",AppQt.Data!AB96,(AppQt.Data!AB96*ozton*AppQt.Data!AB$7)/1000000),\"-\")","v":22.6},{"$f":"IFERROR(IF($B$2=\"トン\",AppQt.Data!AC96,(AppQt.Data!AC96*ozton*AppQt.Data!AC$7)/1000000),\"-\")","v":24.5},{"$f":"IFERROR(IF($B$2=\"トン\",AppQt.Data!AD96,(AppQt.Data!AD96*ozton*AppQt.Data!AD$7)/1000000),\"-\")","v":17.95},{"$f":"IFERROR(IF($B$2=\"トン\",AppQt.Data!AE96,(AppQt.Data!AE96*ozton*AppQt.Data!AE$7)/1000000),\"-\")","v":25.6},{"$f":"IFERROR(IF($B$2=\"トン\",AppQt.Data!AF96,(AppQt.Data!AF96*ozton*AppQt.Data!AF$7)/1000000),\"-\")","v":28.3},{"$f":"IFERROR(IF($B$2=\"トン\",AppQt.Data!AG96,(AppQt.Data!AG96*ozton*AppQt.Data!AG$7)/1000000),\"-\")","v":19.5},{"$f":"IFERROR(IF($B$2=\"トン\",AppQt.Data!AH96,(AppQt.Data!AH96*ozton*AppQt.Data!AH$7)/1000000),\"-\")","v":16.43},{"$f":"IFERROR(IF($B$2=\"トン\",AppQt.Data!AI96,(AppQt.Data!AI96*ozton*AppQt.Data!AI$7)/1000000),\"-\")","v":20.524999999999999},{"$f":"IFERROR(IF($B$2=\"トン\",AppQt.Data!AJ96,(AppQt.Data!AJ96*ozton*AppQt.Data!AJ$7)/1000000),\"-\")","v":21.52375},{"$f":"IFERROR(IF($B$2=\"トン\",AppQt.Data!AK96,(AppQt.Data!AK96*ozton*AppQt.Data!AK$7)/1000000),\"-\")","v":22.42},{"$f":"IFERROR(IF($B$2=\"トン\",AppQt.Data!AL96,(AppQt.Data!AL96*ozton*AppQt.Data!AL$7)/1000000),\"-\")","v":15.683999999999997},{"$f":"IFERROR(IF($B$2=\"トン\",AppQt.Data!AM96,(AppQt.Data!AM96*ozton*AppQt.Data!AM$7)/1000000),\"-\")","v":14.050599999999999},{"$f":"IFERROR(IF($B$2=\"トン\",AppQt.Data!AN96,(AppQt.Data!AN96*ozton*AppQt.Data!AN$7)/1000000),\"-\")","v":17.525749999999999},{"$f":"IFERROR(IF($B$2=\"トン\",AppQt.Data!AO96,(AppQt.Data!AO96*ozton*AppQt.Data!AO$7)/1000000),\"-\")","v":20.229612499999998},{"$f":"IFERROR(IF($B$2=\"トン\",AppQt.Data!AP96,(AppQt.Data!AP96*ozton*AppQt.Data!AP$7)/1000000),\"-\")","v":15.184709374999999},{"$f":"IFERROR(IF($B$2=\"トン\",AppQt.Data!AQ96,(AppQt.Data!AQ96*ozton*AppQt.Data!AQ$7)/1000000),\"-\")","v":13.349120703124997},{"$f":"IFERROR(IF($B$2=\"トン\",AppQt.Data!AR96,(AppQt.Data!AR96*ozton*AppQt.Data!AR$7)/1000000),\"-\")","v":15.212243205078122},{"$f":"IFERROR(IF($B$2=\"トン\",AppQt.Data!AS96,(AppQt.Data!AS96*ozton*AppQt.Data!AS$7)/1000000),\"-\")","v":21.1106950625},{"$f":"IFERROR(IF($B$2=\"トン\",AppQt.Data!AT96,(AppQt.Data!AT96*ozton*AppQt.Data!AT$7)/1000000),\"-\")","v":15.131700444999998},{"$f":"IFERROR(IF($B$2=\"トン\",AppQt.Data!AU96,(AppQt.Data!AU96*ozton*AppQt.Data!AU$7)/1000000),\"-\")","v":16.245927257812497},{"$f":"IFERROR(IF($B$2=\"トン\",AppQt.Data!AV96,(AppQt.Data!AV96*ozton*AppQt.Data!AV$7)/1000000),\"-\")","v":15.972855365332029},{"$f":"IFERROR(IF($B$2=\"トン\",AppQt.Data!AW96,(AppQt.Data!AW96*ozton*AppQt.Data!AW$7)/1000000),\"-\")","v":21.321802013124998},{"$f":"IFERROR(IF($B$2=\"トン\",AppQt.Data!AX96,(AppQt.Data!AX96*ozton*AppQt.Data!AX$7)/1000000),\"-\")","v":12.859445378249999},{"$f":"IFERROR(IF($B$2=\"トン\",AppQt.Data!AY96,(AppQt.Data!AY96*ozton*AppQt.Data!AY$7)/1000000),\"-\")","v":-9.7308509195312531},{"$f":"IFERROR(IF($B$2=\"トン\",AppQt.Data!AZ96,(AppQt.Data!AZ96*ozton*AppQt.Data!AZ$7)/1000000),\"-\")","v":10.954534292265624},{"$f":"IFERROR(IF($B$2=\"トン\",AppQt.Data!BA96,(AppQt.Data!BA96*ozton*AppQt.Data!BA$7)/1000000),\"-\")","v":5.6622812078749991},{"$f":"IFERROR(IF($B$2=\"トン\",AppQt.Data!BB96,(AppQt.Data!BB96*ozton*AppQt.Data!BB$7)/1000000),\"-\")","v":-40.570277310874999},{"$f":"IFERROR(IF($B$2=\"トン\",AppQt.Data!BC96,(AppQt.Data!BC96*ozton*AppQt.Data!BC$7)/1000000),\"-\")","v":-45.157076297525002},{"$f":"IFERROR(IF($B$2=\"トン\",AppQt.Data!BD96,(AppQt.Data!BD96*ozton*AppQt.Data!BD$7)/1000000),\"-\")","v":-7.2768750000000004},{"$f":"IFERROR(IF($B$2=\"トン\",AppQt.Data!BE96,(AppQt.Data!BE96*ozton*AppQt.Data!BE$7)/1000000),\"-\")","v":6.2252773286625001},{"$f":"IFERROR(IF($B$2=\"トン\",AppQt.Data!BF96,(AppQt.Data!BF96*ozton*AppQt.Data!BF$7)/1000000),\"-\")","v":5.7324909823694998},{"$f":"IFERROR(IF($B$2=\"トン\",AppQt.Data!BG96,(AppQt.Data!BG96*ozton*AppQt.Data!BG$7)/1000000),\"-\")","v":6.7359999999999998},{"$f":"IFERROR(IF($B$2=\"トン\",AppQt.Data!BH96,(AppQt.Data!BH96*ozton*AppQt.Data!BH$7)/1000000),\"-\")","v":9.9609749999999977},{"$f":"IFERROR(IF($B$2=\"トン\",AppQt.Data!BI96,(AppQt.Data!BI96*ozton*AppQt.Data!BI$7)/1000000),\"-\")","v":1.6185013971975},{"$f":"IFERROR(IF($B$2=\"トン\",AppQt.Data!BJ96,(AppQt.Data!BJ96*ozton*AppQt.Data!BJ$7)/1000000),\"-\")","v":6.5923646297249245},{"$f":"IFERROR(IF($B$2=\"トン\",AppQt.Data!BK96,(AppQt.Data!BK96*ozton*AppQt.Data!BK$7)/1000000),\"-\")","v":9.5526250000000008},{"$f":"IFERROR(IF($B$2=\"トン\",AppQt.Data!BL96,(AppQt.Data!BL96*ozton*AppQt.Data!BL$7)/1000000),\"-\")","v":10.757852999999999},"▲",8.0000000000000071]
[null,"ベトナム",{"$f":"IFERROR(IF($B$2=\"トン\",AppAn.Data!L87,(AppAn.Data!L87*ozton*AppAn.Data!L$6)/1000000),\"-\")","v":68.161049440298498},{"$f":"IFERROR(IF($B$2=\"トン\",AppAn.Data!M87,(AppAn.Data!M87*ozton*AppAn.Data!M$6)/1000000),\"-\")","v":90.588226082004553},{"$f":"IFERROR(IF($B$2=\"トン\",AppAn.Data!N87,(AppAn.Data!N87*ozton*AppAn.Data!N$6)/1000000),\"-\")","v":73.780355155786367},{"$f":"IFERROR(IF($B$2=\"トン\",AppAn.Data!O87,(AppAn.Data!O87*ozton*AppAn.Data!O$6)/1000000),\"-\")","v":87.875},{"$f":"IFERROR(IF($B$2=\"トン\",AppAn.Data!P87,(AppAn.Data!P87*ozton*AppAn.Data!P$6)/1000000),\"-\")","v":54.15},{"$f":"IFERROR(IF($B$2=\"トン\",AppAn.Data!Q87,(AppAn.Data!Q87*ozton*AppAn.Data!Q$6)/1000000),\"-\")","v":47.781638000000001},{"$f":"IFERROR(IF($B$2=\"トン\",AppAn.Data!R87,(AppAn.Data!R87*ozton*AppAn.Data!R$6)/1000000),\"-\")","v":42.916541500000008},{"$f":"IFERROR(IF($B$2=\"トン\",AppAn.Data!S87,(AppAn.Data!S87*ozton*AppAn.Data!S$6)/1000000),\"-\")","v":37.375910546015007},{"$f":"IFERROR(IF($B$2=\"トン\",AppAn.Data!T87,(AppAn.Data!T87*ozton*AppAn.Data!T$6)/1000000),\"-\")","v":41.277027186100007},{"$f":"IFERROR(IF($B$2=\"トン\",AppAn.Data!U87,(AppAn.Data!U87*ozton*AppAn.Data!U$6)/1000000),\"-\")","v":39.079894526201258},{"$f":"IFERROR(IF($B$2=\"トン\",AppAn.Data!V87,(AppAn.Data!V87*ozton*AppAn.Data!V$6)/1000000),\"-\")","v":29.063735432290905},{"$f":"IFERROR(IF($B$2=\"トン\",AppAn.Data!W87,(AppAn.Data!W87*ozton*AppAn.Data!W$6)/1000000),\"-\")","v":31.051878249528457},{"$f":"IFERROR(IF($B$2=\"トン\",AppAn.Data!X87,(AppAn.Data!X87*ozton*AppAn.Data!X$6)/1000000),\"-\")","v":41.032720749666908},"▲",32.142475955669504,null,{"$f":"IFERROR(IF($B$2=\"トン\",AppQt.Data!M97,(AppQt.Data!M97*ozton*AppQt.Data!M$7)/1000000),\"-\")","v":14.190097947761194},{"$f":"IFERROR(IF($B$2=\"トン\",AppQt.Data!N97,(AppQt.Data!N97*ozton*AppQt.Data!N$7)/1000000),\"-\")","v":12.659748134328359},{"$f":"IFERROR(IF($B$2=\"トン\",AppQt.Data!O97,(AppQt.Data!O97*ozton*AppQt.Data!O$7)/1000000),\"-\")","v":19.364225746268655},{"$f":"IFERROR(IF($B$2=\"トン\",AppQt.Data!P97,(AppQt.Data!P97*ozton*AppQt.Data!P$7)/1000000),\"-\")","v":21.946977611940294},{"$f":"IFERROR(IF($B$2=\"トン\",AppQt.Data!Q97,(AppQt.Data!Q97*ozton*AppQt.Data!Q$7)/1000000),\"-\")","v":14.531043564920273},{"$f":"IFERROR(IF($B$2=\"トン\",AppQt.Data!R97,(AppQt.Data!R97*ozton*AppQt.Data!R$7)/1000000),\"-\")","v":14.391657175398633},{"$f":"IFERROR(IF($B$2=\"トン\",AppQt.Data!S97,(AppQt.Data!S97*ozton*AppQt.Data!S$7)/1000000),\"-\")","v":34.90316771070615},{"$f":"IFERROR(IF($B$2=\"トン\",AppQt.Data!T97,(AppQt.Data!T97*ozton*AppQt.Data!T$7)/1000000),\"-\")","v":26.762357630979501},{"$f":"IFERROR(IF($B$2=\"トン\",AppQt.Data!U97,(AppQt.Data!U97*ozton*AppQt.Data!U$7)/1000000),\"-\")","v":19.356532826409499},{"$f":"IFERROR(IF($B$2=\"トン\",AppQt.Data!V97,(AppQt.Data!V97*ozton*AppQt.Data!V$7)/1000000),\"-\")","v":18.209875741839767},{"$f":"IFERROR(IF($B$2=\"トン\",AppQt.Data!W97,(AppQt.Data!W97*ozton*AppQt.Data!W$7)/1000000),\"-\")","v":17.591246290801188},{"$f":"IFERROR(IF($B$2=\"トン\",AppQt.Data!X97,(AppQt.Data!X97*ozton*AppQt.Data!X$7)/1000000),\"-\")","v":18.622700296735907},{"$f":"IFERROR(IF($B$2=\"トン\",AppQt.Data!Y97,(AppQt.Data!Y97*ozton*AppQt.Data!Y$7)/1000000),\"-\")","v":19.424999999999997},{"$f":"IFERROR(IF($B$2=\"トン\",AppQt.Data!Z97,(AppQt.Data!Z97*ozton*AppQt.Data!Z$7)/1000000),\"-\")","v":26.731249999999999},{"$f":"IFERROR(IF($B$2=\"トン\",AppQt.Data!AA97,(AppQt.Data!AA97*ozton*AppQt.Data!AA$7)/1000000),\"-\")","v":22.018750000000001},{"$f":"IFERROR(IF($B$2=\"トン\",AppQt.Data!AB97,(AppQt.Data!AB97*ozton*AppQt.Data!AB$7)/1000000),\"-\")","v":19.7},{"$f":"IFERROR(IF($B$2=\"トン\",AppQt.Data!AC97,(AppQt.Data!AC97*ozton*AppQt.Data!AC$7)/1000000),\"-\")","v":16},{"$f":"IFERROR(IF($B$2=\"トン\",AppQt.Data!AD97,(AppQt.Data!AD97*ozton*AppQt.Data!AD$7)/1000000),\"-\")","v":12.25},{"$f":"IFERROR(IF($B$2=\"トン\",AppQt.Data!AE97,(AppQt.Data!AE97*ozton*AppQt.Data!AE$7)/1000000),\"-\")","v":13.15},{"$f":"IFERROR(IF($B$2=\"トン\",AppQt.Data!AF97,(AppQt.Data!AF97*ozton*AppQt.Data!AF$7)/1000000),\"-\")","v":12.75},{"$f":"IFERROR(IF($B$2=\"トン\",AppQt.Data!AG97,(AppQt.Data!AG97*ozton*AppQt.Data!AG$7)/1000000),\"-\")","v":14.44},{"$f":"IFERROR(IF($B$2=\"トン\",AppQt.Data!AH97,(AppQt.Data!AH97*ozton*AppQt.Data!AH$7)/1000000),\"-\")","v":10.805},{"$f":"IFERROR(IF($B$2=\"トン\",AppQt.Data!AI97,(AppQt.Data!AI97*ozton*AppQt.Data!AI$7)/1000000),\"-\")","v":11.455400000000001},{"$f":"IFERROR(IF($B$2=\"トン\",AppQt.Data!AJ97,(AppQt.Data!AJ97*ozton*AppQt.Data!AJ$7)/1000000),\"-\")","v":11.081238000000001},{"$f":"IFERROR(IF($B$2=\"トン\",AppQt.Data!AK97,(AppQt.Data!AK97*ozton*AppQt.Data!AK$7)/1000000),\"-\")","v":11.472},{"$f":"IFERROR(IF($B$2=\"トン\",AppQt.Data!AL97,(AppQt.Data!AL97*ozton*AppQt.Data!AL$7)/1000000),\"-\")","v":8.8508000000000013},{"$f":"IFERROR(IF($B$2=\"トン\",AppQt.Data!AM97,(AppQt.Data!AM97*ozton*AppQt.Data!AM$7)/1000000),\"-\")","v":9.1343400000000017},{"$f":"IFERROR(IF($B$2=\"トン\",AppQt.Data!AN97,(AppQt.Data!AN97*ozton*AppQt.Data!AN$7)/1000000),\"-\")","v":13.459401500000004},{"$f":"IFERROR(IF($B$2=\"トン\",AppQt.Data!AO97,(AppQt.Data!AO97*ozton*AppQt.Data!AO$7)/1000000),\"-\")","v":12.113461350000003},{"$f":"IFERROR(IF($B$2=\"トン\",AppQt.Data!AP97,(AppQt.Data!AP97*ozton*AppQt.Data!AP$7)/1000000),\"-\")","v":8.8657767855000014},{"$f":"IFERROR(IF($B$2=\"トン\",AppQt.Data!AQ97,(AppQt.Data!AQ97*ozton*AppQt.Data!AQ$7)/1000000),\"-\")","v":8.1966724105150028},{"$f":"IFERROR(IF($B$2=\"トン\",AppQt.Data!AR97,(AppQt.Data!AR97*ozton*AppQt.Data!AR$7)/1000000),\"-\")","v":8.1999999999999993},{"$f":"IFERROR(IF($B$2=\"トン\",AppQt.Data!AS97,(AppQt.Data!AS97*ozton*AppQt.Data!AS$7)/1000000),\"-\")","v":12.694907494800004},{"$f":"IFERROR(IF($B$2=\"トン\",AppQt.Data!AT97,(AppQt.Data!AT97*ozton*AppQt.Data!AT$7)/1000000),\"-\")","v":9.4486633131250013},{"$f":"IFERROR(IF($B$2=\"トン\",AppQt.Data!AU97,(AppQt.Data!AU97*ozton*AppQt.Data!AU$7)/1000000),\"-\")","v":10.211956378175001},{"$f":"IFERROR(IF($B$2=\"トン\",AppQt.Data!AV97,(AppQt.Data!AV97*ozton*AppQt.Data!AV$7)/1000000),\"-\")","v":8.9215},{"$f":"IFERROR(IF($B$2=\"トン\",AppQt.Data!AW97,(AppQt.Data!AW97*ozton*AppQt.Data!AW$7)/1000000),\"-\")","v":13.329628638375002},{"$f":"IFERROR(IF($B$2=\"トン\",AppQt.Data!AX97,(AppQt.Data!AX97*ozton*AppQt.Data!AX$7)/1000000),\"-\")","v":8.9762301474687511},{"$f":"IFERROR(IF($B$2=\"トン\",AppQt.Data!AY97,(AppQt.Data!AY97*ozton*AppQt.Data!AY$7)/1000000),\"-\")","v":9.1907607403575025},{"$f":"IFERROR(IF($B$2=\"トン\",AppQt.Data!AZ97,(AppQt.Data!AZ97*ozton*AppQt.Data!AZ$7)/1000000),\"-\")","v":7.5832750000000004},{"$f":"IFERROR(IF($B$2=\"トン\",AppQt.Data!BA97,(AppQt.Data!BA97*ozton*AppQt.Data!BA$7)/1000000),\"-\")","v":12.250868347305003},{"$f":"IFERROR(IF($B$2=\"トン\",AppQt.Data!BB97,(AppQt.Data!BB97*ozton*AppQt.Data!BB$7)/1000000),\"-\")","v":5.2160500000000001},{"$f":"IFERROR(IF($B$2=\"トン\",AppQt.Data!BC97,(AppQt.Data!BC97*ozton*AppQt.Data!BC$7)/1000000),\"-\")","v":4.7718695849859012},{"$f":"IFERROR(IF($B$2=\"トン\",AppQt.Data!BD97,(AppQt.Data!BD97*ozton*AppQt.Data!BD$7)/1000000),\"-\")","v":6.8249475000000004},{"$f":"IFERROR(IF($B$2=\"トン\",AppQt.Data!BE97,(AppQt.Data!BE97*ozton*AppQt.Data!BE$7)/1000000),\"-\")","v":13.475955182035504},{"$f":"IFERROR(IF($B$2=\"トン\",AppQt.Data!BF97,(AppQt.Data!BF97*ozton*AppQt.Data!BF$7)/1000000),\"-\")","v":9.1157850000000007},{"$f":"IFERROR(IF($B$2=\"トン\",AppQt.Data!BG97,(AppQt.Data!BG97*ozton*AppQt.Data!BG$7)/1000000),\"-\")","v":2.3859347924929506},{"$f":"IFERROR(IF($B$2=\"トン\",AppQt.Data!BH97,(AppQt.Data!BH97*ozton*AppQt.Data!BH$7)/1000000),\"-\")","v":6.0742032750000003},{"$f":"IFERROR(IF($B$2=\"トン\",AppQt.Data!BI97,(AppQt.Data!BI97*ozton*AppQt.Data!BI$7)/1000000),\"-\")","v":14.014993389316926},{"$f":"IFERROR(IF($B$2=\"トン\",AppQt.Data!BJ97,(AppQt.Data!BJ97*ozton*AppQt.Data!BJ$7)/1000000),\"-\")","v":9.5715742499999994},{"$f":"IFERROR(IF($B$2=\"トン\",AppQt.Data!BK97,(AppQt.Data!BK97*ozton*AppQt.Data!BK$7)/1000000),\"-\")","v":8.4563322633499745},{"$f":"IFERROR(IF($B$2=\"トン\",AppQt.Data!BL97,(AppQt.Data!BL97*ozton*AppQt.Data!BL$7)/1000000),\"-\")","v":8.9898208470000007},"▲",48]
[null,"オーストラリア",{"$f":"IFERROR(IF($B$2=\"トン\",AppAn.Data!L88,(AppAn.Data!L88*ozton*AppAn.Data!L$6)/1000000),\"-\")","v":"-"},{"$f":"IFERROR(IF($B$2=\"トン\",AppAn.Data!M88,(AppAn.Data!M88*ozton*AppAn.Data!M$6)/1000000),\"-\")","v":"-"},{"$f":"IFERROR(IF($B$2=\"トン\",AppAn.Data!N88,(AppAn.Data!N88*ozton*AppAn.Data!N$6)/1000000),\"-\")","v":"-"},{"$f":"IFERROR(IF($B$2=\"トン\",AppAn.Data!O88,(AppAn.Data!O88*ozton*AppAn.Data!O$6)/1000000),\"-\")","v":"-"},{"$f":"IFERROR(IF($B$2=\"トン\",AppAn.Data!P88,(AppAn.Data!P88*ozton*AppAn.Data!P$6)/1000000),\"-\")","v":"-"},{"$f":"IFERROR(IF($B$2=\"トン\",AppAn.Data!Q88,(AppAn.Data!Q88*ozton*AppAn.Data!Q$6)/1000000),\"-\")","v":"-"},{"$f":"IFERROR(IF($B$2=\"トン\",AppAn.Data!R88,(AppAn.Data!R88*ozton*AppAn.Data!R$6)/1000000),\"-\")","v":"-"},{"$f":"IFERROR(IF($B$2=\"トン\",AppAn.Data!S88,(AppAn.Data!S88*ozton*AppAn.Data!S$6)/1000000),\"-\")","v":"-"},{"$f":"IFERROR(IF($B$2=\"トン\",AppAn.Data!T88,(AppAn.Data!T88*ozton*AppAn.Data!T$6)/1000000),\"-\")","v":"-"},{"$f":"IFERROR(IF($B$2=\"トン\",AppAn.Data!U88,(AppAn.Data!U88*ozton*AppAn.Data!U$6)/1000000),\"-\")","v":"-"},{"$f":"IFERROR(IF($B$2=\"トン\",AppAn.Data!V88,(AppAn.Data!V88*ozton*AppAn.Data!V$6)/1000000),\"-\")","v":"-"},{"$f":"IFERROR(IF($B$2=\"トン\",AppAn.Data!W88,(AppAn.Data!W88*ozton*AppAn.Data!W$6)/1000000),\"-\")","v":20.280524666278058},{"$f":"IFERROR(IF($B$2=\"トン\",AppAn.Data!X88,(AppAn.Data!X88*ozton*AppAn.Data!X$6)/1000000),\"-\")","v":19.922736270212837},{"$f":"IF(Q20<0,$A$2,IF(Q20>0,$A$1,\"-\"))","v":"▼"},-1.7641969424003201,null,"-","-","-","-","-","-","-","-","-","-","-","-","-","-","-","-","-","-","-","-","-","-","-","-","-","-","-","-","-","-","-","-","-","-","-","-","-","-","-","-","-","-","-","-",{"$f":"IFERROR(IF($B$2=\"トン\",AppQt.Data!BE98,(AppQt.Data!BE98*ozton*AppQt.Data!BE$7)/1000000),\"-\")","v":5.2000596253696703},{"$f":"IFERROR(IF($B$2=\"トン\",AppQt.Data!BF98,(AppQt.Data!BF98*ozton*AppQt.Data!BF$7)/1000000),\"-\")","v":5.17717150166889},{"$f":"IFERROR(IF($B$2=\"トン\",AppQt.Data!BG98,(AppQt.Data!BG98*ozton*AppQt.Data!BG$7)/1000000),\"-\")","v":4.7334000370819043},{"$f":"IFERROR(IF($B$2=\"トン\",AppQt.Data!BH98,(AppQt.Data!BH98*ozton*AppQt.Data!BH$7)/1000000),\"-\")","v":5.1698935021575947},{"$f":"IFERROR(IF($B$2=\"トン\",AppQt.Data!BI98,(AppQt.Data!BI98*ozton*AppQt.Data!BI$7)/1000000),\"-\")","v":6.2595646945508197},{"$f":"IFERROR(IF($B$2=\"トン\",AppQt.Data!BJ98,(AppQt.Data!BJ98*ozton*AppQt.Data!BJ$7)/1000000),\"-\")","v":4.8607057886973069},{"$f":"IFERROR(IF($B$2=\"トン\",AppQt.Data!BK98,(AppQt.Data!BK98*ozton*AppQt.Data!BK$7)/1000000),\"-\")","v":4.7095386948193738},{"$f":"IFERROR(IF($B$2=\"トン\",AppQt.Data!BL98,(AppQt.Data!BL98*ozton*AppQt.Data!BL$7)/1000000),\"-\")","v":4.0929270921453345},{"$f":"IF(BT20<0,$A$2,IF(BT20>0,$A$1,\"-\"))","v":"▼"},-20.83150087255764]
[null,"中東",{"$f":"IFERROR(IF($B$2=\"トン\",AppAn.Data!L89,(AppAn.Data!L89*ozton*AppAn.Data!L$6)/1000000),\"-\")","v":72.932813774016992},{"$f":"IFERROR(IF($B$2=\"トン\",AppAn.Data!M89,(AppAn.Data!M89*ozton*AppAn.Data!M$6)/1000000),\"-\")","v":88.439836074259517},{"$f":"IFERROR(IF($B$2=\"トン\",AppAn.Data!N89,(AppAn.Data!N89*ozton*AppAn.Data!N$6)/1000000),\"-\")","v":90.575696552796259},{"$f":"IFERROR(IF($B$2=\"トン\",AppAn.Data!O89,(AppAn.Data!O89*ozton*AppAn.Data!O$6)/1000000),\"-\")","v":111.24522215758337},{"$f":"IFERROR(IF($B$2=\"トン\",AppAn.Data!P89,(AppAn.Data!P89*ozton*AppAn.Data!P$6)/1000000),\"-\")","v":74.853748393220812},{"$f":"IFERROR(IF($B$2=\"トン\",AppAn.Data!Q89,(AppAn.Data!Q89*ozton*AppAn.Data!Q$6)/1000000),\"-\")","v":64.880795379752286},{"$f":"IFERROR(IF($B$2=\"トン\",AppAn.Data!R89,(AppAn.Data!R89*ozton*AppAn.Data!R$6)/1000000),\"-\")","v":30.023763274674458},{"$f":"IFERROR(IF($B$2=\"トン\",AppAn.Data!S89,(AppAn.Data!S89*ozton*AppAn.Data!S$6)/1000000),\"-\")","v":42.901749656338957},{"$f":"IFERROR(IF($B$2=\"トン\",AppAn.Data!T89,(AppAn.Data!T89*ozton*AppAn.Data!T$6)/1000000),\"-\")","v":86.374891240005184},{"$f":"IFERROR(IF($B$2=\"トン\",AppAn.Data!U89,(AppAn.Data!U89*ozton*AppAn.Data!U$6)/1000000),\"-\")","v":60.770075530684181},{"$f":"IFERROR(IF($B$2=\"トン\",AppAn.Data!V89,(AppAn.Data!V89*ozton*AppAn.Data!V$6)/1000000),\"-\")","v":57.185644200590517},{"$f":"IFERROR(IF($B$2=\"トン\",AppAn.Data!W89,(AppAn.Data!W89*ozton*AppAn.Data!W$6)/1000000),\"-\")","v":54.752162193788884},{"$f":"IFERROR(IF($B$2=\"トン\",AppAn.Data!X89,(AppAn.Data!X89*ozton*AppAn.Data!X$6)/1000000),\"-\")","v":77.798249286316619},"▲",42.091647469480378,null,{"$f":"IFERROR(IF($B$2=\"トン\",AppQt.Data!M99,(AppQt.Data!M99*ozton*AppQt.Data!M$7)/1000000),\"-\")","v":18.746205913966943},{"$f":"IFERROR(IF($B$2=\"トン\",AppQt.Data!N99,(AppQt.Data!N99*ozton*AppQt.Data!N$7)/1000000),\"-\")","v":19.335023059304156},{"$f":"IFERROR(IF($B$2=\"トン\",AppQt.Data!O99,(AppQt.Data!O99*ozton*AppQt.Data!O$7)/1000000),\"-\")","v":20.772871661812161},{"$f":"IFERROR(IF($B$2=\"トン\",AppQt.Data!P99,(AppQt.Data!P99*ozton*AppQt.Data!P$7)/1000000),\"-\")","v":14.078713138933722},{"$f":"IFERROR(IF($B$2=\"トン\",AppQt.Data!Q99,(AppQt.Data!Q99*ozton*AppQt.Data!Q$7)/1000000),\"-\")","v":18.532488922109344},{"$f":"IFERROR(IF($B$2=\"トン\",AppQt.Data!R99,(AppQt.Data!R99*ozton*AppQt.Data!R$7)/1000000),\"-\")","v":19.607159711055939},{"$f":"IFERROR(IF($B$2=\"トン\",AppQt.Data!S99,(AppQt.Data!S99*ozton*AppQt.Data!S$7)/1000000),\"-\")","v":26.452397121313716},{"$f":"IFERROR(IF($B$2=\"トン\",AppQt.Data!T99,(AppQt.Data!T99*ozton*AppQt.Data!T$7)/1000000),\"-\")","v":23.847790319780536},{"$f":"IFERROR(IF($B$2=\"トン\",AppQt.Data!U99,(AppQt.Data!U99*ozton*AppQt.Data!U$7)/1000000),\"-\")","v":20.264170252009546},{"$f":"IFERROR(IF($B$2=\"トン\",AppQt.Data!V99,(AppQt.Data!V99*ozton*AppQt.Data!V$7)/1000000),\"-\")","v":20.997598114666786},{"$f":"IFERROR(IF($B$2=\"トン\",AppQt.Data!W99,(AppQt.Data!W99*ozton*AppQt.Data!W$7)/1000000),\"-\")","v":22.941329328539222},{"$f":"IFERROR(IF($B$2=\"トン\",AppQt.Data!X99,(AppQt.Data!X99*ozton*AppQt.Data!X$7)/1000000),\"-\")","v":26.372598857580719},{"$f":"IFERROR(IF($B$2=\"トン\",AppQt.Data!Y99,(AppQt.Data!Y99*ozton*AppQt.Data!Y$7)/1000000),\"-\")","v":23.081722390880561},{"$f":"IFERROR(IF($B$2=\"トン\",AppQt.Data!Z99,(AppQt.Data!Z99*ozton*AppQt.Data!Z$7)/1000000),\"-\")","v":37.270871550625152},{"$f":"IFERROR(IF($B$2=\"トン\",AppQt.Data!AA99,(AppQt.Data!AA99*ozton*AppQt.Data!AA$7)/1000000),\"-\")","v":24.44132493341446},{"$f":"IFERROR(IF($B$2=\"トン\",AppQt.Data!AB99,(AppQt.Data!AB99*ozton*AppQt.Data!AB$7)/1000000),\"-\")","v":26.451303282663183},{"$f":"IFERROR(IF($B$2=\"トン\",AppQt.Data!AC99,(AppQt.Data!AC99*ozton*AppQt.Data!AC$7)/1000000),\"-\")","v":31.276901631833763},{"$f":"IFERROR(IF($B$2=\"トン\",AppQt.Data!AD99,(AppQt.Data!AD99*ozton*AppQt.Data!AD$7)/1000000),\"-\")","v":18.368022354163443},{"$f":"IFERROR(IF($B$2=\"トン\",AppQt.Data!AE99,(AppQt.Data!AE99*ozton*AppQt.Data!AE$7)/1000000),\"-\")","v":13.310486132258024},{"$f":"IFERROR(IF($B$2=\"トン\",AppQt.Data!AF99,(AppQt.Data!AF99*ozton*AppQt.Data!AF$7)/1000000),\"-\")","v":11.898338274965582},{"$f":"IFERROR(IF($B$2=\"トン\",AppQt.Data!AG99,(AppQt.Data!AG99*ozton*AppQt.Data!AG$7)/1000000),\"-\")","v":24.664406347705839},{"$f":"IFERROR(IF($B$2=\"トン\",AppQt.Data!AH99,(AppQt.Data!AH99*ozton*AppQt.Data!AH$7)/1000000),\"-\")","v":15.417056198436825},{"$f":"IFERROR(IF($B$2=\"トン\",AppQt.Data!AI99,(AppQt.Data!AI99*ozton*AppQt.Data!AI$7)/1000000),\"-\")","v":13.596893556031471},{"$f":"IFERROR(IF($B$2=\"トン\",AppQt.Data!AJ99,(AppQt.Data!AJ99*ozton*AppQt.Data!AJ$7)/1000000),\"-\")","v":11.202439277578144},{"$f":"IFERROR(IF($B$2=\"トン\",AppQt.Data!AK99,(AppQt.Data!AK99*ozton*AppQt.Data!AK$7)/1000000),\"-\")","v":8.7320007341523098},{"$f":"IFERROR(IF($B$2=\"トン\",AppQt.Data!AL99,(AppQt.Data!AL99*ozton*AppQt.Data!AL$7)/1000000),\"-\")","v":7.2649657150331342},{"$f":"IFERROR(IF($B$2=\"トン\",AppQt.Data!AM99,(AppQt.Data!AM99*ozton*AppQt.Data!AM$7)/1000000),\"-\")","v":6.5455587481966964},{"$f":"IFERROR(IF($B$2=\"トン\",AppQt.Data!AN99,(AppQt.Data!AN99*ozton*AppQt.Data!AN$7)/1000000),\"-\")","v":7.481238077292315},{"$f":"IFERROR(IF($B$2=\"トン\",AppQt.Data!AO99,(AppQt.Data!AO99*ozton*AppQt.Data!AO$7)/1000000),\"-\")","v":9.6230263588175653},{"$f":"IFERROR(IF($B$2=\"トン\",AppQt.Data!AP99,(AppQt.Data!AP99*ozton*AppQt.Data!AP$7)/1000000),\"-\")","v":10.927595133164345},{"$f":"IFERROR(IF($B$2=\"トン\",AppQt.Data!AQ99,(AppQt.Data!AQ99*ozton*AppQt.Data!AQ$7)/1000000),\"-\")","v":11.324616556738885},{"$f":"IFERROR(IF($B$2=\"トン\",AppQt.Data!AR99,(AppQt.Data!AR99*ozton*AppQt.Data!AR$7)/1000000),\"-\")","v":11.026511607618161},{"$f":"IFERROR(IF($B$2=\"トン\",AppQt.Data!AS99,(AppQt.Data!AS99*ozton*AppQt.Data!AS$7)/1000000),\"-\")","v":15.571939611283478},{"$f":"IFERROR(IF($B$2=\"トン\",AppQt.Data!AT99,(AppQt.Data!AT99*ozton*AppQt.Data!AT$7)/1000000),\"-\")","v":21.494019960952137},{"$f":"IFERROR(IF($B$2=\"トン\",AppQt.Data!AU99,(AppQt.Data!AU99*ozton*AppQt.Data!AU$7)/1000000),\"-\")","v":27.499769621499667},{"$f":"IFERROR(IF($B$2=\"トン\",AppQt.Data!AV99,(AppQt.Data!AV99*ozton*AppQt.Data!AV$7)/1000000),\"-\")","v":21.809162046269911},{"$f":"IFERROR(IF($B$2=\"トン\",AppQt.Data!AW99,(AppQt.Data!AW99*ozton*AppQt.Data!AW$7)/1000000),\"-\")","v":17.214354546696089},{"$f":"IFERROR(IF($B$2=\"トン\",AppQt.Data!AX99,(AppQt.Data!AX99*ozton*AppQt.Data!AX$7)/1000000),\"-\")","v":15.813769836356167},{"$f":"IFERROR(IF($B$2=\"トン\",AppQt.Data!AY99,(AppQt.Data!AY99*ozton*AppQt.Data!AY$7)/1000000),\"-\")","v":14.420729806587957},{"$f":"IFERROR(IF($B$2=\"トン\",AppQt.Data!AZ99,(AppQt.Data!AZ99*ozton*AppQt.Data!AZ$7)/1000000),\"-\")","v":13.321221341043964},{"$f":"IFERROR(IF($B$2=\"トン\",AppQt.Data!BA99,(AppQt.Data!BA99*ozton*AppQt.Data!BA$7)/1000000),\"-\")","v":15.245142304648825},{"$f":"IFERROR(IF($B$2=\"トン\",AppQt.Data!BB99,(AppQt.Data!BB99*ozton*AppQt.Data!BB$7)/1000000),\"-\")","v":10.537072658567366},{"$f":"IFERROR(IF($B$2=\"トン\",AppQt.Data!BC99,(AppQt.Data!BC99*ozton*AppQt.Data!BC$7)/1000000),\"-\")","v":17.578073673447715},{"$f":"IFERROR(IF($B$2=\"トン\",AppQt.Data!BD99,(AppQt.Data!BD99*ozton*AppQt.Data!BD$7)/1000000),\"-\")","v":13.825355563926605},{"$f":"IFERROR(IF($B$2=\"トン\",AppQt.Data!BE99,(AppQt.Data!BE99*ozton*AppQt.Data!BE$7)/1000000),\"-\")","v":14.455958151099447},{"$f":"IFERROR(IF($B$2=\"トン\",AppQt.Data!BF99,(AppQt.Data!BF99*ozton*AppQt.Data!BF$7)/1000000),\"-\")","v":9.1970862174987804},{"$f":"IFERROR(IF($B$2=\"トン\",AppQt.Data!BG99,(AppQt.Data!BG99*ozton*AppQt.Data!BG$7)/1000000),\"-\")","v":15.615223062307551},{"$f":"IFERROR(IF($B$2=\"トン\",AppQt.Data!BH99,(AppQt.Data!BH99*ozton*AppQt.Data!BH$7)/1000000),\"-\")","v":15.483894762883118},{"$f":"IFERROR(IF($B$2=\"トン\",AppQt.Data!BI99,(AppQt.Data!BI99*ozton*AppQt.Data!BI$7)/1000000),\"-\")","v":17.055963012489755},{"$f":"IFERROR(IF($B$2=\"トン\",AppQt.Data!BJ99,(AppQt.Data!BJ99*ozton*AppQt.Data!BJ$7)/1000000),\"-\")","v":15.778530442484385},{"$f":"IFERROR(IF($B$2=\"トン\",AppQt.Data!BK99,(AppQt.Data!BK99*ozton*AppQt.Data!BK$7)/1000000),\"-\")","v":24.942453738154974},{"$f":"IFERROR(IF($B$2=\"トン\",AppQt.Data!BL99,(AppQt.Data!BL99*ozton*AppQt.Data!BL$7)/1000000),\"-\")","v":20.021302093187504},"▲",29.304043974653805]
[null,"サウジアラビア",{"$f":"IFERROR(IF($B$2=\"トン\",AppAn.Data!L90,(AppAn.Data!L90*ozton*AppAn.Data!L$6)/1000000),\"-\")","v":14.547917059284497},{"$f":"IFERROR(IF($B$2=\"トン\",AppAn.Data!M90,(AppAn.Data!M90*ozton*AppAn.Data!M$6)/1000000),\"-\")","v":17.710149834551551},{"$f":"IFERROR(IF($B$2=\"トン\",AppAn.Data!N90,(AppAn.Data!N90*ozton*AppAn.Data!N$6)/1000000),\"-\")","v":16.925732354253057},{"$f":"IFERROR(IF($B$2=\"トン\",AppAn.Data!O90,(AppAn.Data!O90*ozton*AppAn.Data!O$6)/1000000),\"-\")","v":18.302751006386671},{"$f":"IFERROR(IF($B$2=\"トン\",AppAn.Data!P90,(AppAn.Data!P90*ozton*AppAn.Data!P$6)/1000000),\"-\")","v":15.648527445364891},{"$f":"IFERROR(IF($B$2=\"トン\",AppAn.Data!Q90,(AppAn.Data!Q90*ozton*AppAn.Data!Q$6)/1000000),\"-\")","v":14.91791554797755},{"$f":"IFERROR(IF($B$2=\"トン\",AppAn.Data!R90,(AppAn.Data!R90*ozton*AppAn.Data!R$6)/1000000),\"-\")","v":10.81098037249024},{"$f":"IFERROR(IF($B$2=\"トン\",AppAn.Data!S90,(AppAn.Data!S90*ozton*AppAn.Data!S$6)/1000000),\"-\")","v":9.9287653340516453},{"$f":"IFERROR(IF($B$2=\"トン\",AppAn.Data!T90,(AppAn.Data!T90*ozton*AppAn.Data!T$6)/1000000),\"-\")","v":10.176705673367696},{"$f":"IFERROR(IF($B$2=\"トン\",AppAn.Data!U90,(AppAn.Data!U90*ozton*AppAn.Data!U$6)/1000000),\"-\")","v":8.8431446375803198},{"$f":"IFERROR(IF($B$2=\"トン\",AppAn.Data!V90,(AppAn.Data!V90*ozton*AppAn.Data!V$6)/1000000),\"-\")","v":8.3962600154977967},{"$f":"IFERROR(IF($B$2=\"トン\",AppAn.Data!W90,(AppAn.Data!W90*ozton*AppAn.Data!W$6)/1000000),\"-\")","v":10.895660208525385},{"$f":"IFERROR(IF($B$2=\"トン\",AppAn.Data!X90,(AppAn.Data!X90*ozton*AppAn.Data!X$6)/1000000),\"-\")","v":12.204642138356112},"▲",12.013791773778927,null,{"$f":"IFERROR(IF($B$2=\"トン\",AppQt.Data!M100,(AppQt.Data!M100*ozton*AppQt.Data!M$7)/1000000),\"-\")","v":3.5044018295930641},{"$f":"IFERROR(IF($B$2=\"トン\",AppQt.Data!N100,(AppQt.Data!N100*ozton*AppQt.Data!N$7)/1000000),\"-\")","v":2.3057852617508843},{"$f":"IFERROR(IF($B$2=\"トン\",AppQt.Data!O100,(AppQt.Data!O100*ozton*AppQt.Data!O$7)/1000000),\"-\")","v":4.8181103846114635},{"$f":"IFERROR(IF($B$2=\"トン\",AppQt.Data!P100,(AppQt.Data!P100*ozton*AppQt.Data!P$7)/1000000),\"-\")","v":3.9196195833290859},{"$f":"IFERROR(IF($B$2=\"トン\",AppQt.Data!Q100,(AppQt.Data!Q100*ozton*AppQt.Data!Q$7)/1000000),\"-\")","v":3.7496776791273052},{"$f":"IFERROR(IF($B$2=\"トン\",AppQt.Data!R100,(AppQt.Data!R100*ozton*AppQt.Data!R$7)/1000000),\"-\")","v":3.9628355508961586},{"$f":"IFERROR(IF($B$2=\"トン\",AppQt.Data!S100,(AppQt.Data!S100*ozton*AppQt.Data!S$7)/1000000),\"-\")","v":4.8902254064149968},{"$f":"IFERROR(IF($B$2=\"トン\",AppQt.Data!T100,(AppQt.Data!T100*ozton*AppQt.Data!T$7)/1000000),\"-\")","v":5.1074111981130912},{"$f":"IFERROR(IF($B$2=\"トン\",AppQt.Data!U100,(AppQt.Data!U100*ozton*AppQt.Data!U$7)/1000000),\"-\")","v":3.9240582406693019},{"$f":"IFERROR(IF($B$2=\"トン\",AppQt.Data!V100,(AppQt.Data!V100*ozton*AppQt.Data!V$7)/1000000),\"-\")","v":4.041469923570256},{"$f":"IFERROR(IF($B$2=\"トン\",AppQt.Data!W100,(AppQt.Data!W100*ozton*AppQt.Data!W$7)/1000000),\"-\")","v":4.0556169159272812},{"$f":"IFERROR(IF($B$2=\"トン\",AppQt.Data!X100,(AppQt.Data!X100*ozton*AppQt.Data!X$7)/1000000),\"-\")","v":4.9045872740862171},{"$f":"IFERROR(IF($B$2=\"トン\",AppQt.Data!Y100,(AppQt.Data!Y100*ozton*AppQt.Data!Y$7)/1000000),\"-\")","v":3.8733273170970706},{"$f":"IFERROR(IF($B$2=\"トン\",AppQt.Data!Z100,(AppQt.Data!Z100*ozton*AppQt.Data!Z$7)/1000000),\"-\")","v":6.1158678735683045},{"$f":"IFERROR(IF($B$2=\"トン\",AppQt.Data!AA100,(AppQt.Data!AA100*ozton*AppQt.Data!AA$7)/1000000),\"-\")","v":4.4392104701092778},{"$f":"IFERROR(IF($B$2=\"トン\",AppQt.Data!AB100,(AppQt.Data!AB100*ozton*AppQt.Data!AB$7)/1000000),\"-\")","v":3.8743453456120154},{"$f":"IFERROR(IF($B$2=\"トン\",AppQt.Data!AC100,(AppQt.Data!AC100*ozton*AppQt.Data!AC$7)/1000000),\"-\")","v":4.95868662425565},{"$f":"IFERROR(IF($B$2=\"トン\",AppQt.Data!AD100,(AppQt.Data!AD100*ozton*AppQt.Data!AD$7)/1000000),\"-\")","v":3.6630171532750184},{"$f":"IFERROR(IF($B$2=\"トン\",AppQt.Data!AE100,(AppQt.Data!AE100*ozton*AppQt.Data!AE$7)/1000000),\"-\")","v":3.1859123753680061},{"$f":"IFERROR(IF($B$2=\"トン\",AppQt.Data!AF100,(AppQt.Data!AF100*ozton*AppQt.Data!AF$7)/1000000),\"-\")","v":3.8409112924662168},{"$f":"IFERROR(IF($B$2=\"トン\",AppQt.Data!AG100,(AppQt.Data!AG100*ozton*AppQt.Data!AG$7)/1000000),\"-\")","v":4.7485172763820378},{"$f":"IFERROR(IF($B$2=\"トン\",AppQt.Data!AH100,(AppQt.Data!AH100*ozton*AppQt.Data!AH$7)/1000000),\"-\")","v":3.2302651423491309},{"$f":"IFERROR(IF($B$2=\"トン\",AppQt.Data!AI100,(AppQt.Data!AI100*ozton*AppQt.Data!AI$7)/1000000),\"-\")","v":3.251220839343159},{"$f":"IFERROR(IF($B$2=\"トン\",AppQt.Data!AJ100,(AppQt.Data!AJ100*ozton*AppQt.Data!AJ$7)/1000000),\"-\")","v":3.6879122899032222},{"$f":"IFERROR(IF($B$2=\"トン\",AppQt.Data!AK100,(AppQt.Data!AK100*ozton*AppQt.Data!AK$7)/1000000),\"-\")","v":3.4166601981407982},{"$f":"IFERROR(IF($B$2=\"トン\",AppQt.Data!AL100,(AppQt.Data!AL100*ozton*AppQt.Data!AL$7)/1000000),\"-\")","v":2.6294227195732702},{"$f":"IFERROR(IF($B$2=\"トン\",AppQt.Data!AM100,(AppQt.Data!AM100*ozton*AppQt.Data!AM$7)/1000000),\"-\")","v":2.3161473169172218},{"$f":"IFERROR(IF($B$2=\"トン\",AppQt.Data!AN100,(AppQt.Data!AN100*ozton*AppQt.Data!AN$7)/1000000),\"-\")","v":2.4487501378589491},{"$f":"IFERROR(IF($B$2=\"トン\",AppQt.Data!AO100,(AppQt.Data!AO100*ozton*AppQt.Data!AO$7)/1000000),\"-\")","v":2.904161168419678},{"$f":"IFERROR(IF($B$2=\"トン\",AppQt.Data!AP100,(AppQt.Data!AP100*ozton*AppQt.Data!AP$7)/1000000),\"-\")","v":2.4979515835946069},{"$f":"IFERROR(IF($B$2=\"トン\",AppQt.Data!AQ100,(AppQt.Data!AQ100*ozton*AppQt.Data!AQ$7)/1000000),\"-\")","v":2.2003399510713604},{"$f":"IFERROR(IF($B$2=\"トン\",AppQt.Data!AR100,(AppQt.Data!AR100*ozton*AppQt.Data!AR$7)/1000000),\"-\")","v":2.3263126309660014},{"$f":"IFERROR(IF($B$2=\"トン\",AppQt.Data!AS100,(AppQt.Data!AS100*ozton*AppQt.Data!AS$7)/1000000),\"-\")","v":2.4685369931567265},{"$f":"IFERROR(IF($B$2=\"トン\",AppQt.Data!AT100,(AppQt.Data!AT100*ozton*AppQt.Data!AT$7)/1000000),\"-\")","v":2.7477467419540678},{"$f":"IFERROR(IF($B$2=\"トン\",AppQt.Data!AU100,(AppQt.Data!AU100*ozton*AppQt.Data!AU$7)/1000000),\"-\")","v":2.7504249388392008},{"$f":"IFERROR(IF($B$2=\"トン\",AppQt.Data!AV100,(AppQt.Data!AV100*ozton*AppQt.Data!AV$7)/1000000),\"-\")","v":2.2099969994177009},{"$f":"IFERROR(IF($B$2=\"トン\",AppQt.Data!AW100,(AppQt.Data!AW100*ozton*AppQt.Data!AW$7)/1000000),\"-\")","v":2.3451101434988901},{"$f":"IFERROR(IF($B$2=\"トン\",AppQt.Data!AX100,(AppQt.Data!AX100*ozton*AppQt.Data!AX$7)/1000000),\"-\")","v":2.1981973935632544},{"$f":"IFERROR(IF($B$2=\"トン\",AppQt.Data!AY100,(AppQt.Data!AY100*ozton*AppQt.Data!AY$7)/1000000),\"-\")","v":2.2003399510713604},{"$f":"IFERROR(IF($B$2=\"トン\",AppQt.Data!AZ100,(AppQt.Data!AZ100*ozton*AppQt.Data!AZ$7)/1000000),\"-\")","v":2.0994971494468162},{"$f":"IFERROR(IF($B$2=\"トン\",AppQt.Data!BA100,(AppQt.Data!BA100*ozton*AppQt.Data!BA$7)/1000000),\"-\")","v":2.4623656506738345},{"$f":"IFERROR(IF($B$2=\"トン\",AppQt.Data!BB100,(AppQt.Data!BB100*ozton*AppQt.Data!BB$7)/1000000),\"-\")","v":1.0990986967816272},{"$f":"IFERROR(IF($B$2=\"トン\",AppQt.Data!BC100,(AppQt.Data!BC100*ozton*AppQt.Data!BC$7)/1000000),\"-\")","v":2.4203739461784965},{"$f":"IFERROR(IF($B$2=\"トン\",AppQt.Data!BD100,(AppQt.Data!BD100*ozton*AppQt.Data!BD$7)/1000000),\"-\")","v":2.4144217218638384},{"$f":"IFERROR(IF($B$2=\"トン\",AppQt.Data!BE100,(AppQt.Data!BE100*ozton*AppQt.Data!BE$7)/1000000),\"-\")","v":3.2010753458759851},{"$f":"IFERROR(IF($B$2=\"トン\",AppQt.Data!BF100,(AppQt.Data!BF100*ozton*AppQt.Data!BF$7)/1000000),\"-\")","v":2.4008065094069893},{"$f":"IFERROR(IF($B$2=\"トン\",AppQt.Data!BG100,(AppQt.Data!BG100*ozton*AppQt.Data!BG$7)/1000000),\"-\")","v":2.5208468348773385},{"$f":"IFERROR(IF($B$2=\"トン\",AppQt.Data!BH100,(AppQt.Data!BH100*ozton*AppQt.Data!BH$7)/1000000),\"-\")","v":2.7729315183650725},{"$f":"IFERROR(IF($B$2=\"トン\",AppQt.Data!BI100,(AppQt.Data!BI100*ozton*AppQt.Data!BI$7)/1000000),\"-\")","v":2.6342849424468189},{"$f":"IFERROR(IF($B$2=\"トン\",AppQt.Data!BJ100,(AppQt.Data!BJ100*ozton*AppQt.Data!BJ$7)/1000000),\"-\")","v":2.7659991895691598},{"$f":"IFERROR(IF($B$2=\"トン\",AppQt.Data!BK100,(AppQt.Data!BK100*ozton*AppQt.Data!BK$7)/1000000),\"-\")","v":3.3191990274829917},{"$f":"IFERROR(IF($B$2=\"トン\",AppQt.Data!BL100,(AppQt.Data!BL100*ozton*AppQt.Data!BL$7)/1000000),\"-\")","v":3.4851589788571413},"▲",25.685000000000002]
[null,"UAE",{"$f":"IFERROR(IF($B$2=\"トン\",AppAn.Data!L91,(AppAn.Data!L91*ozton*AppAn.Data!L$6)/1000000),\"-\")","v":9.9682091752037927},{"$f":"IFERROR(IF($B$2=\"トン\",AppAn.Data!M91,(AppAn.Data!M91*ozton*AppAn.Data!M$6)/1000000),\"-\")","v":11.877328028291444},{"$f":"IFERROR(IF($B$2=\"トン\",AppAn.Data!N91,(AppAn.Data!N91*ozton*AppAn.Data!N$6)/1000000),\"-\")","v":10.665195315916309},{"$f":"IFERROR(IF($B$2=\"トン\",AppAn.Data!O91,(AppAn.Data!O91*ozton*AppAn.Data!O$6)/1000000),\"-\")","v":14.115592217406784},{"$f":"IFERROR(IF($B$2=\"トン\",AppAn.Data!P91,(AppAn.Data!P91*ozton*AppAn.Data!P$6)/1000000),\"-\")","v":9.942240021652438},{"$f":"IFERROR(IF($B$2=\"トン\",AppAn.Data!Q91,(AppAn.Data!Q91*ozton*AppAn.Data!Q$6)/1000000),\"-\")","v":8.748764879258724},{"$f":"IFERROR(IF($B$2=\"トン\",AppAn.Data!R91,(AppAn.Data!R91*ozton*AppAn.Data!R$6)/1000000),\"-\")","v":6.043707790245664},{"$f":"IFERROR(IF($B$2=\"トン\",AppAn.Data!S91,(AppAn.Data!S91*ozton*AppAn.Data!S$6)/1000000),\"-\")","v":5.5403057836242988},{"$f":"IFERROR(IF($B$2=\"トン\",AppAn.Data!T91,(AppAn.Data!T91*ozton*AppAn.Data!T$6)/1000000),\"-\")","v":5.769608730598037},{"$f":"IFERROR(IF($B$2=\"トン\",AppAn.Data!U91,(AppAn.Data!U91*ozton*AppAn.Data!U$6)/1000000),\"-\")","v":5.047993963376296},{"$f":"IFERROR(IF($B$2=\"トン\",AppAn.Data!V91,(AppAn.Data!V91*ozton*AppAn.Data!V$6)/1000000),\"-\")","v":5.2373109598885792},{"$f":"IFERROR(IF($B$2=\"トン\",AppAn.Data!W91,(AppAn.Data!W91*ozton*AppAn.Data!W$6)/1000000),\"-\")","v":7.7468532723972636},{"$f":"IFERROR(IF($B$2=\"トン\",AppAn.Data!X91,(AppAn.Data!X91*ozton*AppAn.Data!X$6)/1000000),\"-\")","v":8.400964402463428},"▲",8.4435719519410757,null,{"$f":"IFERROR(IF($B$2=\"トン\",AppQt.Data!M101,(AppQt.Data!M101*ozton*AppQt.Data!M$7)/1000000),\"-\")","v":2.7140232904774844},{"$f":"IFERROR(IF($B$2=\"トン\",AppQt.Data!N101,(AppQt.Data!N101*ozton*AppQt.Data!N$7)/1000000),\"-\")","v":2.7379147417743255},{"$f":"IFERROR(IF($B$2=\"トン\",AppQt.Data!O101,(AppQt.Data!O101*ozton*AppQt.Data!O$7)/1000000),\"-\")","v":2.8312129167582696},{"$f":"IFERROR(IF($B$2=\"トン\",AppQt.Data!P101,(AppQt.Data!P101*ozton*AppQt.Data!P$7)/1000000),\"-\")","v":1.6850582261937115},{"$f":"IFERROR(IF($B$2=\"トン\",AppQt.Data!Q101,(AppQt.Data!Q101*ozton*AppQt.Data!Q$7)/1000000),\"-\")","v":3.0285589615920259},{"$f":"IFERROR(IF($B$2=\"トン\",AppQt.Data!R101,(AppQt.Data!R101*ozton*AppQt.Data!R$7)/1000000),\"-\")","v":2.6745209210676841},{"$f":"IFERROR(IF($B$2=\"トン\",AppQt.Data!S101,(AppQt.Data!S101*ozton*AppQt.Data!S$7)/1000000),\"-\")","v":3.1044395222638346},{"$f":"IFERROR(IF($B$2=\"トン\",AppQt.Data!T101,(AppQt.Data!T101*ozton*AppQt.Data!T$7)/1000000),\"-\")","v":3.0698086233678996},{"$f":"IFERROR(IF($B$2=\"トン\",AppQt.Data!U101,(AppQt.Data!U101*ozton*AppQt.Data!U$7)/1000000),\"-\")","v":2.9433113517335068},{"$f":"IFERROR(IF($B$2=\"トン\",AppQt.Data!V101,(AppQt.Data!V101*ozton*AppQt.Data!V$7)/1000000),\"-\")","v":2.4927131570520178},{"$f":"IFERROR(IF($B$2=\"トン\",AppQt.Data!W101,(AppQt.Data!W101*ozton*AppQt.Data!W$7)/1000000),\"-\")","v":2.2985349147038749},{"$f":"IFERROR(IF($B$2=\"トン\",AppQt.Data!X101,(AppQt.Data!X101*ozton*AppQt.Data!X$7)/1000000),\"-\")","v":2.9306358924269098},{"$f":"IFERROR(IF($B$2=\"トン\",AppQt.Data!Y101,(AppQt.Data!Y101*ozton*AppQt.Data!Y$7)/1000000),\"-\")","v":3.6690095528317404},{"$f":"IFERROR(IF($B$2=\"トン\",AppQt.Data!Z101,(AppQt.Data!Z101*ozton*AppQt.Data!Z$7)/1000000),\"-\")","v":4.7064784745608552},{"$f":"IFERROR(IF($B$2=\"トン\",AppQt.Data!AA101,(AppQt.Data!AA101*ozton*AppQt.Data!AA$7)/1000000),\"-\")","v":3.4655313602267444},{"$f":"IFERROR(IF($B$2=\"トン\",AppQt.Data!AB101,(AppQt.Data!AB101*ozton*AppQt.Data!AB$7)/1000000),\"-\")","v":2.2745728297874432},{"$f":"IFERROR(IF($B$2=\"トン\",AppQt.Data!AC101,(AppQt.Data!AC101*ozton*AppQt.Data!AC$7)/1000000),\"-\")","v":3.2200879646647675},{"$f":"IFERROR(IF($B$2=\"トン\",AppQt.Data!AD101,(AppQt.Data!AD101*ozton*AppQt.Data!AD$7)/1000000),\"-\")","v":2.6965468319202675},{"$f":"IFERROR(IF($B$2=\"トン\",AppQt.Data!AE101,(AppQt.Data!AE101*ozton*AppQt.Data!AE$7)/1000000),\"-\")","v":2.0705129019114992},{"$f":"IFERROR(IF($B$2=\"トン\",AppQt.Data!AF101,(AppQt.Data!AF101*ozton*AppQt.Data!AF$7)/1000000),\"-\")","v":1.9550923231559043},{"$f":"IFERROR(IF($B$2=\"トン\",AppQt.Data!AG101,(AppQt.Data!AG101*ozton*AppQt.Data!AG$7)/1000000),\"-\")","v":2.8980791681982909},{"$f":"IFERROR(IF($B$2=\"トン\",AppQt.Data!AH101,(AppQt.Data!AH101*ozton*AppQt.Data!AH$7)/1000000),\"-\")","v":2.2920648071322272},{"$f":"IFERROR(IF($B$2=\"トン\",AppQt.Data!AI101,(AppQt.Data!AI101*ozton*AppQt.Data!AI$7)/1000000),\"-\")","v":1.7599359666247743},{"$f":"IFERROR(IF($B$2=\"トン\",AppQt.Data!AJ101,(AppQt.Data!AJ101*ozton*AppQt.Data!AJ$7)/1000000),\"-\")","v":1.7986849373034322},{"$f":"IFERROR(IF($B$2=\"トン\",AppQt.Data!AK101,(AppQt.Data!AK101*ozton*AppQt.Data!AK$7)/1000000),\"-\")","v":2.173559376148718},{"$f":"IFERROR(IF($B$2=\"トン\",AppQt.Data!AL101,(AppQt.Data!AL101*ozton*AppQt.Data!AL$7)/1000000),\"-\")","v":1.3752388842793364},{"$f":"IFERROR(IF($B$2=\"トン\",AppQt.Data!AM101,(AppQt.Data!AM101*ozton*AppQt.Data!AM$7)/1000000),\"-\")","v":1.0559615799748645},{"$f":"IFERROR(IF($B$2=\"トン\",AppQt.Data!AN101,(AppQt.Data!AN101*ozton*AppQt.Data!AN$7)/1000000),\"-\")","v":1.4389479498427458},{"$f":"IFERROR(IF($B$2=\"トン\",AppQt.Data!AO101,(AppQt.Data!AO101*ozton*AppQt.Data!AO$7)/1000000),\"-\")","v":1.9562034385338465},{"$f":"IFERROR(IF($B$2=\"トン\",AppQt.Data!AP101,(AppQt.Data!AP101*ozton*AppQt.Data!AP$7)/1000000),\"-\")","v":1.3064769400653695},{"$f":"IFERROR(IF($B$2=\"トン\",AppQt.Data!AQ101,(AppQt.Data!AQ101*ozton*AppQt.Data!AQ$7)/1000000),\"-\")","v":0.98257225016661154},{"$f":"IFERROR(IF($B$2=\"トン\",AppQt.Data!AR101,(AppQt.Data!AR101*ozton*AppQt.Data!AR$7)/1000000),\"-\")","v":1.2950531548584714},{"$f":"IFERROR(IF($B$2=\"トン\",AppQt.Data!AS101,(AppQt.Data!AS101*ozton*AppQt.Data!AS$7)/1000000),\"-\")","v":1.7214590259097848},{"$f":"IFERROR(IF($B$2=\"トン\",AppQt.Data!AT101,(AppQt.Data!AT101*ozton*AppQt.Data!AT$7)/1000000),\"-\")","v":1.4893837116745212},{"$f":"IFERROR(IF($B$2=\"トン\",AppQt.Data!AU101,(AppQt.Data!AU101*ozton*AppQt.Data!AU$7)/1000000),\"-\")","v":1.4197667433157048},{"$f":"IFERROR(IF($B$2=\"トン\",AppQt.Data!AV101,(AppQt.Data!AV101*ozton*AppQt.Data!AV$7)/1000000),\"-\")","v":1.1389992496980255},{"$f":"IFERROR(IF($B$2=\"トン\",AppQt.Data!AW101,(AppQt.Data!AW101*ozton*AppQt.Data!AW$7)/1000000),\"-\")","v":1.6353860746142956},{"$f":"IFERROR(IF($B$2=\"トン\",AppQt.Data!AX101,(AppQt.Data!AX101*ozton*AppQt.Data!AX$7)/1000000),\"-\")","v":1.3367218812278827},{"$f":"IFERROR(IF($B$2=\"トン\",AppQt.Data!AY101,(AppQt.Data!AY101*ozton*AppQt.Data!AY$7)/1000000),\"-\")","v":0.99383672032099335},{"$f":"IFERROR(IF($B$2=\"トン\",AppQt.Data!AZ101,(AppQt.Data!AZ101*ozton*AppQt.Data!AZ$7)/1000000),\"-\")","v":1.0820492872131242},{"$f":"IFERROR(IF($B$2=\"トン\",AppQt.Data!BA101,(AppQt.Data!BA101*ozton*AppQt.Data!BA$7)/1000000),\"-\")","v":1.7989246820757252},{"$f":"IFERROR(IF($B$2=\"トン\",AppQt.Data!BB101,(AppQt.Data!BB101*ozton*AppQt.Data!BB$7)/1000000),\"-\")","v":0.84594016055689458},{"$f":"IFERROR(IF($B$2=\"トン\",AppQt.Data!BC101,(AppQt.Data!BC101*ozton*AppQt.Data!BC$7)/1000000),\"-\")","v":1.3913714084493907},{"$f":"IFERROR(IF($B$2=\"トン\",AppQt.Data!BD101,(AppQt.Data!BD101*ozton*AppQt.Data!BD$7)/1000000),\"-\")","v":1.2010747088065681},{"$f":"IFERROR(IF($B$2=\"トン\",AppQt.Data!BE101,(AppQt.Data!BE101*ozton*AppQt.Data!BE$7)/1000000),\"-\")","v":2.3386020866984429},{"$f":"IFERROR(IF($B$2=\"トン\",AppQt.Data!BF101,(AppQt.Data!BF101*ozton*AppQt.Data!BF$7)/1000000),\"-\")","v":1.4499332937530347},{"$f":"IFERROR(IF($B$2=\"トン\",AppQt.Data!BG101,(AppQt.Data!BG101*ozton*AppQt.Data!BG$7)/1000000),\"-\")","v":1.8849132818789454},{"$f":"IFERROR(IF($B$2=\"トン\",AppQt.Data!BH101,(AppQt.Data!BH101*ozton*AppQt.Data!BH$7)/1000000),\"-\")","v":2.0734046100668402},{"$f":"IFERROR(IF($B$2=\"トン\",AppQt.Data!BI101,(AppQt.Data!BI101*ozton*AppQt.Data!BI$7)/1000000),\"-\")","v":1.9697343795634978},{"$f":"IFERROR(IF($B$2=\"トン\",AppQt.Data!BJ101,(AppQt.Data!BJ101*ozton*AppQt.Data!BJ$7)/1000000),\"-\")","v":2.2061025051111178},{"$f":"IFERROR(IF($B$2=\"トン\",AppQt.Data!BK101,(AppQt.Data!BK101*ozton*AppQt.Data!BK$7)/1000000),\"-\")","v":2.1178584049066727},{"$f":"IFERROR(IF($B$2=\"トン\",AppQt.Data!BL101,(AppQt.Data!BL101*ozton*AppQt.Data!BL$7)/1000000),\"-\")","v":2.1072691128821393},"▲",1.6332799999999592]
[null,"クウェート",{"$f":"IFERROR(IF($B$2=\"トン\",AppAn.Data!L92,(AppAn.Data!L92*ozton*AppAn.Data!L$6)/1000000),\"-\")","v":1.3546831794204088},{"$f":"IFERROR(IF($B$2=\"トン\",AppAn.Data!M92,(AppAn.Data!M92*ozton*AppAn.Data!M$6)/1000000),\"-\")","v":1.2899394082185687},{"$f":"IFERROR(IF($B$2=\"トン\",AppAn.Data!N92,(AppAn.Data!N92*ozton*AppAn.Data!N$6)/1000000),\"-\")","v":1.6272394960545835},{"$f":"IFERROR(IF($B$2=\"トン\",AppAn.Data!O92,(AppAn.Data!O92*ozton*AppAn.Data!O$6)/1000000),\"-\")","v":3.8180236437500006},{"$f":"IFERROR(IF($B$2=\"トン\",AppAn.Data!P92,(AppAn.Data!P92*ozton*AppAn.Data!P$6)/1000000),\"-\")","v":3.5764359600000004},{"$f":"IFERROR(IF($B$2=\"トン\",AppAn.Data!Q92,(AppAn.Data!Q92*ozton*AppAn.Data!Q$6)/1000000),\"-\")","v":2.9946920960000005},{"$f":"IFERROR(IF($B$2=\"トン\",AppAn.Data!R92,(AppAn.Data!R92*ozton*AppAn.Data!R$6)/1000000),\"-\")","v":2.4617119084000008},{"$f":"IFERROR(IF($B$2=\"トン\",AppAn.Data!S92,(AppAn.Data!S92*ozton*AppAn.Data!S$6)/1000000),\"-\")","v":2.6222649882040008},{"$f":"IFERROR(IF($B$2=\"トン\",AppAn.Data!T92,(AppAn.Data!T92*ozton*AppAn.Data!T$6)/1000000),\"-\")","v":2.956364029708201},{"$f":"IFERROR(IF($B$2=\"トン\",AppAn.Data!U92,(AppAn.Data!U92*ozton*AppAn.Data!U$6)/1000000),\"-\")","v":2.5599123445317007},{"$f":"IFERROR(IF($B$2=\"トン\",AppAn.Data!V92,(AppAn.Data!V92*ozton*AppAn.Data!V$6)/1000000),\"-\")","v":2.7222822429515126},{"$f":"IFERROR(IF($B$2=\"トン\",AppAn.Data!W92,(AppAn.Data!W92*ozton*AppAn.Data!W$6)/1000000),\"-\")","v":3.6061419010367888},{"$f":"IFERROR(IF($B$2=\"トン\",AppAn.Data!X92,(AppAn.Data!X92*ozton*AppAn.Data!X$6)/1000000),\"-\")","v":4.1794103702994656},"▲",15.897002530539872,null,{"$f":"IFERROR(IF($B$2=\"トン\",AppQt.Data!M102,(AppQt.Data!M102*ozton*AppQt.Data!M$7)/1000000),\"-\")","v":0.37996750558158038},{"$f":"IFERROR(IF($B$2=\"トン\",AppQt.Data!N102,(AppQt.Data!N102*ozton*AppQt.Data!N$7)/1000000),\"-\")","v":0.26995125837237061},{"$f":"IFERROR(IF($B$2=\"トン\",AppQt.Data!O102,(AppQt.Data!O102*ozton*AppQt.Data!O$7)/1000000),\"-\")","v":0.42487814593092649},{"$f":"IFERROR(IF($B$2=\"トン\",AppQt.Data!P102,(AppQt.Data!P102*ozton*AppQt.Data!P$7)/1000000),\"-\")","v":0.27988626953553142},{"$f":"IFERROR(IF($B$2=\"トン\",AppQt.Data!Q102,(AppQt.Data!Q102*ozton*AppQt.Data!Q$7)/1000000),\"-\")","v":0.38332071004553514},{"$f":"IFERROR(IF($B$2=\"トン\",AppQt.Data!R102,(AppQt.Data!R102*ozton*AppQt.Data!R$7)/1000000),\"-\")","v":0.25198939643824958},{"$f":"IFERROR(IF($B$2=\"トン\",AppQt.Data!S102,(AppQt.Data!S102*ozton*AppQt.Data!S$7)/1000000),\"-\")","v":0.40397879287649902},{"$f":"IFERROR(IF($B$2=\"トン\",AppQt.Data!T102,(AppQt.Data!T102*ozton*AppQt.Data!T$7)/1000000),\"-\")","v":0.25065050885828499},{"$f":"IFERROR(IF($B$2=\"トン\",AppQt.Data!U102,(AppQt.Data!U102*ozton*AppQt.Data!U$7)/1000000),\"-\")","v":0.49404867706250005},{"$f":"IFERROR(IF($B$2=\"トン\",AppQt.Data!V102,(AppQt.Data!V102*ozton*AppQt.Data!V$7)/1000000),\"-\")","v":0.31576794813333336},{"$f":"IFERROR(IF($B$2=\"トン\",AppQt.Data!W102,(AppQt.Data!W102*ozton*AppQt.Data!W$7)/1000000),\"-\")","v":0.44345354476874999},{"$f":"IFERROR(IF($B$2=\"トン\",AppQt.Data!X102,(AppQt.Data!X102*ozton*AppQt.Data!X$7)/1000000),\"-\")","v":0.37396932609},{"$f":"IFERROR(IF($B$2=\"トン\",AppQt.Data!Y102,(AppQt.Data!Y102*ozton*AppQt.Data!Y$7)/1000000),\"-\")","v":0.65432286250000016},{"$f":"IFERROR(IF($B$2=\"トン\",AppQt.Data!Z102,(AppQt.Data!Z102*ozton*AppQt.Data!Z$7)/1000000),\"-\")","v":1.281220475},{"$f":"IFERROR(IF($B$2=\"トン\",AppQt.Data!AA102,(AppQt.Data!AA102*ozton*AppQt.Data!AA$7)/1000000),\"-\")","v":0.96835390625000017},{"$f":"IFERROR(IF($B$2=\"トン\",AppQt.Data!AB102,(AppQt.Data!AB102*ozton*AppQt.Data!AB$7)/1000000),\"-\")","v":0.91412640000000012},{"$f":"IFERROR(IF($B$2=\"トン\",AppQt.Data!AC102,(AppQt.Data!AC102*ozton*AppQt.Data!AC$7)/1000000),\"-\")","v":0.90256052000000009},{"$f":"IFERROR(IF($B$2=\"トン\",AppQt.Data!AD102,(AppQt.Data!AD102*ozton*AppQt.Data!AD$7)/1000000),\"-\")","v":1.03425872},{"$f":"IFERROR(IF($B$2=\"トン\",AppQt.Data!AE102,(AppQt.Data!AE102*ozton*AppQt.Data!AE$7)/1000000),\"-\")","v":0.78366200000000019},{"$f":"IFERROR(IF($B$2=\"トン\",AppQt.Data!AF102,(AppQt.Data!AF102*ozton*AppQt.Data!AF$7)/1000000),\"-\")","v":0.85595472000000006},{"$f":"IFERROR(IF($B$2=\"トン\",AppQt.Data!AG102,(AppQt.Data!AG102*ozton*AppQt.Data!AG$7)/1000000),\"-\")","v":0.81611810400000018},{"$f":"IFERROR(IF($B$2=\"トン\",AppQt.Data!AH102,(AppQt.Data!AH102*ozton*AppQt.Data!AH$7)/1000000),\"-\")","v":0.82740697600000013},{"$f":"IFERROR(IF($B$2=\"トン\",AppQt.Data!AI102,(AppQt.Data!AI102*ozton*AppQt.Data!AI$7)/1000000),\"-\")","v":0.62692960000000009},{"$f":"IFERROR(IF($B$2=\"トン\",AppQt.Data!AJ102,(AppQt.Data!AJ102*ozton*AppQt.Data!AJ$7)/1000000),\"-\")","v":0.72423741600000002},{"$f":"IFERROR(IF($B$2=\"トン\",AppQt.Data!AK102,(AppQt.Data!AK102*ozton*AppQt.Data!AK$7)/1000000),\"-\")","v":0.68264084400000014},{"$f":"IFERROR(IF($B$2=\"トン\",AppQt.Data!AL102,(AppQt.Data!AL102*ozton*AppQt.Data!AL$7)/1000000),\"-\")","v":0.66192558080000019},{"$f":"IFERROR(IF($B$2=\"トン\",AppQt.Data!AM102,(AppQt.Data!AM102*ozton*AppQt.Data!AM$7)/1000000),\"-\")","v":0.50154368000000016},{"$f":"IFERROR(IF($B$2=\"トン\",AppQt.Data!AN102,(AppQt.Data!AN102*ozton*AppQt.Data!AN$7)/1000000),\"-\")","v":0.61560180360000005},{"$f":"IFERROR(IF($B$2=\"トン\",AppQt.Data!AO102,(AppQt.Data!AO102*ozton*AppQt.Data!AO$7)/1000000),\"-\")","v":0.71503386818400017},{"$f":"IFERROR(IF($B$2=\"トン\",AppQt.Data!AP102,(AppQt.Data!AP102*ozton*AppQt.Data!AP$7)/1000000),\"-\")","v":0.72510938624000021},{"$f":"IFERROR(IF($B$2=\"トン\",AppQt.Data!AQ102,(AppQt.Data!AQ102*ozton*AppQt.Data!AQ$7)/1000000),\"-\")","v":0.53573984000000019},{"$f":"IFERROR(IF($B$2=\"トン\",AppQt.Data!AR102,(AppQt.Data!AR102*ozton*AppQt.Data!AR$7)/1000000),\"-\")","v":0.64638189378000011},{"$f":"IFERROR(IF($B$2=\"トン\",AppQt.Data!AS102,(AppQt.Data!AS102*ozton*AppQt.Data!AS$7)/1000000),\"-\")","v":0.78358092437520022},{"$f":"IFERROR(IF($B$2=\"トン\",AppQt.Data!AT102,(AppQt.Data!AT102*ozton*AppQt.Data!AT$7)/1000000),\"-\")","v":0.79762032486400036},{"$f":"IFERROR(IF($B$2=\"トン\",AppQt.Data!AU102,(AppQt.Data!AU102*ozton*AppQt.Data!AU$7)/1000000),\"-\")","v":0.69646179200000025},{"$f":"IFERROR(IF($B$2=\"トン\",AppQt.Data!AV102,(AppQt.Data!AV102*ozton*AppQt.Data!AV$7)/1000000),\"-\")","v":0.67870098846900007},{"$f":"IFERROR(IF($B$2=\"トン\",AppQt.Data!AW102,(AppQt.Data!AW102*ozton*AppQt.Data!AW$7)/1000000),\"-\")","v":0.78358092437520022},{"$f":"IFERROR(IF($B$2=\"トン\",AppQt.Data!AX102,(AppQt.Data!AX102*ozton*AppQt.Data!AX$7)/1000000),\"-\")","v":0.67797727613440029},{"$f":"IFERROR(IF($B$2=\"トン\",AppQt.Data!AY102,(AppQt.Data!AY102*ozton*AppQt.Data!AY$7)/1000000),\"-\")","v":0.48752325440000016},{"$f":"IFERROR(IF($B$2=\"トン\",AppQt.Data!AZ102,(AppQt.Data!AZ102*ozton*AppQt.Data!AZ$7)/1000000),\"-\")","v":0.61083088962210019},{"$f":"IFERROR(IF($B$2=\"トン\",AppQt.Data!BA102,(AppQt.Data!BA102*ozton*AppQt.Data!BA$7)/1000000),\"-\")","v":0.82275997059396022},{"$f":"IFERROR(IF($B$2=\"トン\",AppQt.Data!BB102,(AppQt.Data!BB102*ozton*AppQt.Data!BB$7)/1000000),\"-\")","v":0.50848295710080016},{"$f":"IFERROR(IF($B$2=\"トン\",AppQt.Data!BC102,(AppQt.Data!BC102*ozton*AppQt.Data!BC$7)/1000000),\"-\")","v":0.70690871888000018},{"$f":"IFERROR(IF($B$2=\"トン\",AppQt.Data!BD102,(AppQt.Data!BD102*ozton*AppQt.Data!BD$7)/1000000),\"-\")","v":0.68413059637675222},{"$f":"IFERROR(IF($B$2=\"トン\",AppQt.Data!BE102,(AppQt.Data!BE102*ozton*AppQt.Data!BE$7)/1000000),\"-\")","v":1.0695879617721484},{"$f":"IFERROR(IF($B$2=\"トン\",AppQt.Data!BF102,(AppQt.Data!BF102*ozton*AppQt.Data!BF$7)/1000000),\"-\")","v":0.76272443565120018},{"$f":"IFERROR(IF($B$2=\"トン\",AppQt.Data!BG102,(AppQt.Data!BG102*ozton*AppQt.Data!BG$7)/1000000),\"-\")","v":0.84829046265600017},{"$f":"IFERROR(IF($B$2=\"トン\",AppQt.Data!BH102,(AppQt.Data!BH102*ozton*AppQt.Data!BH$7)/1000000),\"-\")","v":0.92553904095744022},{"$f":"IFERROR(IF($B$2=\"トン\",AppQt.Data!BI102,(AppQt.Data!BI102*ozton*AppQt.Data!BI$7)/1000000),\"-\")","v":1.0105124770890244},{"$f":"IFERROR(IF($B$2=\"トン\",AppQt.Data!BJ102,(AppQt.Data!BJ102*ozton*AppQt.Data!BJ$7)/1000000),\"-\")","v":1.0610381009434757},{"$f":"IFERROR(IF($B$2=\"トン\",AppQt.Data!BK102,(AppQt.Data!BK102*ozton*AppQt.Data!BK$7)/1000000),\"-\")","v":1.1671419110378232},{"$f":"IFERROR(IF($B$2=\"トン\",AppQt.Data!BL102,(AppQt.Data!BL102*ozton*AppQt.Data!BL$7)/1000000),\"-\")","v":0.94071788122914246},"▲",1.6400000000000192]
[null,"エジプト",{"$f":"IFERROR(IF($B$2=\"トン\",AppAn.Data!L93,(AppAn.Data!L93*ozton*AppAn.Data!L$6)/1000000),\"-\")","v":2.3475046042148797},{"$f":"IFERROR(IF($B$2=\"トン\",AppAn.Data!M93,(AppAn.Data!M93*ozton*AppAn.Data!M$6)/1000000),\"-\")","v":2.3374828014036817},{"$f":"IFERROR(IF($B$2=\"トン\",AppAn.Data!N93,(AppAn.Data!N93*ozton*AppAn.Data!N$6)/1000000),\"-\")","v":2.1262588135822029},{"$f":"IFERROR(IF($B$2=\"トン\",AppAn.Data!O93,(AppAn.Data!O93*ozton*AppAn.Data!O$6)/1000000),\"-\")","v":7.1191585397033581},{"$f":"IFERROR(IF($B$2=\"トン\",AppAn.Data!P93,(AppAn.Data!P93*ozton*AppAn.Data!P$6)/1000000),\"-\")","v":6.0221600775114599},{"$f":"IFERROR(IF($B$2=\"トン\",AppAn.Data!Q93,(AppAn.Data!Q93*ozton*AppAn.Data!Q$6)/1000000),\"-\")","v":4.916108073316976},{"$f":"IFERROR(IF($B$2=\"トン\",AppAn.Data!R93,(AppAn.Data!R93*ozton*AppAn.Data!R$6)/1000000),\"-\")","v":2.6974356951009928},{"$f":"IFERROR(IF($B$2=\"トン\",AppAn.Data!S93,(AppAn.Data!S93*ozton*AppAn.Data!S$6)/1000000),\"-\")","v":2.4742524875252387},{"$f":"IFERROR(IF($B$2=\"トン\",AppAn.Data!T93,(AppAn.Data!T93*ozton*AppAn.Data!T$6)/1000000),\"-\")","v":2.6135931350848232},{"$f":"IFERROR(IF($B$2=\"トン\",AppAn.Data!U93,(AppAn.Data!U93*ozton*AppAn.Data!U$6)/1000000),\"-\")","v":2.4619012330269054},{"$f":"IFERROR(IF($B$2=\"トン\",AppAn.Data!V93,(AppAn.Data!V93*ozton*AppAn.Data!V$6)/1000000),\"-\")","v":2.1638375358354809},{"$f":"IFERROR(IF($B$2=\"トン\",AppAn.Data!W93,(AppAn.Data!W93*ozton*AppAn.Data!W$6)/1000000),\"-\")","v":2.4193673965778499},{"$f":"IFERROR(IF($B$2=\"トン\",AppAn.Data!X93,(AppAn.Data!X93*ozton*AppAn.Data!X$6)/1000000),\"-\")","v":4.4316507032456407},"▲",83.173944954128416,null,{"$f":"IFERROR(IF($B$2=\"トン\",AppQt.Data!M103,(AppQt.Data!M103*ozton*AppQt.Data!M$7)/1000000),\"-\")","v":0.57690011027049848},{"$f":"IFERROR(IF($B$2=\"トン\",AppQt.Data!N103,(AppQt.Data!N103*ozton*AppQt.Data!N$7)/1000000),\"-\")","v":0.59358643504241049},{"$f":"IFERROR(IF($B$2=\"トン\",AppQt.Data!O103,(AppQt.Data!O103*ozton*AppQt.Data!O$7)/1000000),\"-\")","v":0.49198304380301305},{"$f":"IFERROR(IF($B$2=\"トン\",AppQt.Data!P103,(AppQt.Data!P103*ozton*AppQt.Data!P$7)/1000000),\"-\")","v":0.68503501509895759},{"$f":"IFERROR(IF($B$2=\"トン\",AppQt.Data!Q103,(AppQt.Data!Q103*ozton*AppQt.Data!Q$7)/1000000),\"-\")","v":0.435006167895364},{"$f":"IFERROR(IF($B$2=\"トン\",AppQt.Data!R103,(AppQt.Data!R103*ozton*AppQt.Data!R$7)/1000000),\"-\")","v":0.48293495283779664},{"$f":"IFERROR(IF($B$2=\"トン\",AppQt.Data!S103,(AppQt.Data!S103*ozton*AppQt.Data!S$7)/1000000),\"-\")","v":0.65123214885879466},{"$f":"IFERROR(IF($B$2=\"トン\",AppQt.Data!T103,(AppQt.Data!T103*ozton*AppQt.Data!T$7)/1000000),\"-\")","v":0.76830953181172612},{"$f":"IFERROR(IF($B$2=\"トン\",AppQt.Data!U103,(AppQt.Data!U103*ozton*AppQt.Data!U$7)/1000000),\"-\")","v":0.47258887050162085},{"$f":"IFERROR(IF($B$2=\"トン\",AppQt.Data!V103,(AppQt.Data!V103*ozton*AppQt.Data!V$7)/1000000),\"-\")","v":0.50489987088356092},{"$f":"IFERROR(IF($B$2=\"トン\",AppQt.Data!W103,(AppQt.Data!W103*ozton*AppQt.Data!W$7)/1000000),\"-\")","v":0.58906575315100573},{"$f":"IFERROR(IF($B$2=\"トン\",AppQt.Data!X103,(AppQt.Data!X103*ozton*AppQt.Data!X$7)/1000000),\"-\")","v":0.55970431904601536},{"$f":"IFERROR(IF($B$2=\"トン\",AppQt.Data!Y103,(AppQt.Data!Y103*ozton*AppQt.Data!Y$7)/1000000),\"-\")","v":0.77302459042730887},{"$f":"IFERROR(IF($B$2=\"トン\",AppQt.Data!Z103,(AppQt.Data!Z103*ozton*AppQt.Data!Z$7)/1000000),\"-\")","v":2.5434857687892443},{"$f":"IFERROR(IF($B$2=\"トン\",AppQt.Data!AA103,(AppQt.Data!AA103*ozton*AppQt.Data!AA$7)/1000000),\"-\")","v":2.1249798234789252},{"$f":"IFERROR(IF($B$2=\"トン\",AppQt.Data!AB103,(AppQt.Data!AB103*ozton*AppQt.Data!AB$7)/1000000),\"-\")","v":1.6776683570078794},{"$f":"IFERROR(IF($B$2=\"トン\",AppQt.Data!AC103,(AppQt.Data!AC103*ozton*AppQt.Data!AC$7)/1000000),\"-\")","v":1.6749067767669237},{"$f":"IFERROR(IF($B$2=\"トン\",AppQt.Data!AD103,(AppQt.Data!AD103*ozton*AppQt.Data!AD$7)/1000000),\"-\")","v":1.5716806197433126},{"$f":"IFERROR(IF($B$2=\"トン\",AppQt.Data!AE103,(AppQt.Data!AE103*ozton*AppQt.Data!AE$7)/1000000),\"-\")","v":1.4260527028221739},{"$f":"IFERROR(IF($B$2=\"トン\",AppQt.Data!AF103,(AppQt.Data!AF103*ozton*AppQt.Data!AF$7)/1000000),\"-\")","v":1.3495199781790499},{"$f":"IFERROR(IF($B$2=\"トン\",AppQt.Data!AG103,(AppQt.Data!AG103*ozton*AppQt.Data!AG$7)/1000000),\"-\")","v":1.1154659254483859},{"$f":"IFERROR(IF($B$2=\"トン\",AppQt.Data!AH103,(AppQt.Data!AH103*ozton*AppQt.Data!AH$7)/1000000),\"-\")","v":1.1574458752988295},{"$f":"IFERROR(IF($B$2=\"トン\",AppQt.Data!AI103,(AppQt.Data!AI103*ozton*AppQt.Data!AI$7)/1000000),\"-\")","v":1.4191405247691922},{"$f":"IFERROR(IF($B$2=\"トン\",AppQt.Data!AJ103,(AppQt.Data!AJ103*ozton*AppQt.Data!AJ$7)/1000000),\"-\")","v":1.2240557478005687},{"$f":"IFERROR(IF($B$2=\"トン\",AppQt.Data!AK103,(AppQt.Data!AK103*ozton*AppQt.Data!AK$7)/1000000),\"-\")","v":0.61350625899661226},{"$f":"IFERROR(IF($B$2=\"トン\",AppQt.Data!AL103,(AppQt.Data!AL103*ozton*AppQt.Data!AL$7)/1000000),\"-\")","v":0.57872293764941474},{"$f":"IFERROR(IF($B$2=\"トン\",AppQt.Data!AM103,(AppQt.Data!AM103*ozton*AppQt.Data!AM$7)/1000000),\"-\")","v":0.70957026238459608},{"$f":"IFERROR(IF($B$2=\"トン\",AppQt.Data!AN103,(AppQt.Data!AN103*ozton*AppQt.Data!AN$7)/1000000),\"-\")","v":0.79563623607036971},{"$f":"IFERROR(IF($B$2=\"トン\",AppQt.Data!AO103,(AppQt.Data!AO103*ozton*AppQt.Data!AO$7)/1000000),\"-\")","v":0.55215563309695104},{"$f":"IFERROR(IF($B$2=\"トン\",AppQt.Data!AP103,(AppQt.Data!AP103*ozton*AppQt.Data!AP$7)/1000000),\"-\")","v":0.50522512456793911},{"$f":"IFERROR(IF($B$2=\"トン\",AppQt.Data!AQ103,(AppQt.Data!AQ103*ozton*AppQt.Data!AQ$7)/1000000),\"-\")","v":0.67693003031490462},{"$f":"IFERROR(IF($B$2=\"トン\",AppQt.Data!AR103,(AppQt.Data!AR103*ozton*AppQt.Data!AR$7)/1000000),\"-\")","v":0.73994169954544375},{"$f":"IFERROR(IF($B$2=\"トン\",AppQt.Data!AS103,(AppQt.Data!AS103*ozton*AppQt.Data!AS$7)/1000000),\"-\")","v":0.52454785144210347},{"$f":"IFERROR(IF($B$2=\"トン\",AppQt.Data!AT103,(AppQt.Data!AT103*ozton*AppQt.Data!AT$7)/1000000),\"-\")","v":0.53048638079633603},{"$f":"IFERROR(IF($B$2=\"トン\",AppQt.Data!AU103,(AppQt.Data!AU103*ozton*AppQt.Data!AU$7)/1000000),\"-\")","v":0.74462303334639501},{"$f":"IFERROR(IF($B$2=\"トン\",AppQt.Data!AV103,(AppQt.Data!AV103*ozton*AppQt.Data!AV$7)/1000000),\"-\")","v":0.81393586949998831},{"$f":"IFERROR(IF($B$2=\"トン\",AppQt.Data!AW103,(AppQt.Data!AW103*ozton*AppQt.Data!AW$7)/1000000),\"-\")","v":0.55077524401420863},{"$f":"IFERROR(IF($B$2=\"トン\",AppQt.Data!AX103,(AppQt.Data!AX103*ozton*AppQt.Data!AX$7)/1000000),\"-\")","v":0.49335233414059254},{"$f":"IFERROR(IF($B$2=\"トン\",AppQt.Data!AY103,(AppQt.Data!AY103*ozton*AppQt.Data!AY$7)/1000000),\"-\")","v":0.59569842667711614},{"$f":"IFERROR(IF($B$2=\"トン\",AppQt.Data!AZ103,(AppQt.Data!AZ103*ozton*AppQt.Data!AZ$7)/1000000),\"-\")","v":0.82207522819498813},{"$f":"IFERROR(IF($B$2=\"トン\",AppQt.Data!BA103,(AppQt.Data!BA103*ozton*AppQt.Data!BA$7)/1000000),\"-\")","v":0.59189416430039143},{"$f":"IFERROR(IF($B$2=\"トン\",AppQt.Data!BB103,(AppQt.Data!BB103*ozton*AppQt.Data!BB$7)/1000000),\"-\")","v":0.29594708215019572},{"$f":"IFERROR(IF($B$2=\"トン\",AppQt.Data!BC103,(AppQt.Data!BC103*ozton*AppQt.Data!BC$7)/1000000),\"-\")","v":0.53612858400940444},{"$f":"IFERROR(IF($B$2=\"トン\",AppQt.Data!BD103,(AppQt.Data!BD103*ozton*AppQt.Data!BD$7)/1000000),\"-\")","v":0.7398677053754894},{"$f":"IFERROR(IF($B$2=\"トン\",AppQt.Data!BE103,(AppQt.Data!BE103*ozton*AppQt.Data!BE$7)/1000000),\"-\")","v":0.71027299716046977},{"$f":"IFERROR(IF($B$2=\"トン\",AppQt.Data!BF103,(AppQt.Data!BF103*ozton*AppQt.Data!BF$7)/1000000),\"-\")","v":0.4971910980123288},{"$f":"IFERROR(IF($B$2=\"トン\",AppQt.Data!BG103,(AppQt.Data!BG103*ozton*AppQt.Data!BG$7)/1000000),\"-\")","v":0.62148887251541096},{"$f":"IFERROR(IF($B$2=\"トン\",AppQt.Data!BH103,(AppQt.Data!BH103*ozton*AppQt.Data!BH$7)/1000000),\"-\")","v":0.59041442888964046},{"$f":"IFERROR(IF($B$2=\"トン\",AppQt.Data!BI103,(AppQt.Data!BI103*ozton*AppQt.Data!BI$7)/1000000),\"-\")","v":0.7970594790010147},{"$f":"IFERROR(IF($B$2=\"トン\",AppQt.Data!BJ103,(AppQt.Data!BJ103*ozton*AppQt.Data!BJ$7)/1000000),\"-\")","v":0.75720650505096387},{"$f":"IFERROR(IF($B$2=\"トン\",AppQt.Data!BK103,(AppQt.Data!BK103*ozton*AppQt.Data!BK$7)/1000000),\"-\")","v":1.5144130101019277},{"$f":"IFERROR(IF($B$2=\"トン\",AppQt.Data!BL103,(AppQt.Data!BL103*ozton*AppQt.Data!BL$7)/1000000),\"-\")","v":1.362971709091735},"▲",130.85]
[null,"イラン",{"$f":"IFERROR(IF($B$2=\"トン\",AppAn.Data!L94,(AppAn.Data!L94*ozton*AppAn.Data!L$6)/1000000),\"-\")","v":43.45604486063106},{"$f":"IFERROR(IF($B$2=\"トン\",AppAn.Data!M94,(AppAn.Data!M94*ozton*AppAn.Data!M$6)/1000000),\"-\")","v":53.187706783504296},{"$f":"IFERROR(IF($B$2=\"トン\",AppAn.Data!N94,(AppAn.Data!N94*ozton*AppAn.Data!N$6)/1000000),\"-\")","v":56.97601579773405},{"$f":"IFERROR(IF($B$2=\"トン\",AppAn.Data!O94,(AppAn.Data!O94*ozton*AppAn.Data!O$6)/1000000),\"-\")","v":64.032248505737684},{"$f":"IFERROR(IF($B$2=\"トン\",AppAn.Data!P94,(AppAn.Data!P94*ozton*AppAn.Data!P$6)/1000000),\"-\")","v":36.061044824048643},{"$f":"IFERROR(IF($B$2=\"トン\",AppAn.Data!Q94,(AppAn.Data!Q94*ozton*AppAn.Data!Q$6)/1000000),\"-\")","v":30.094998435489234},{"$f":"IFERROR(IF($B$2=\"トン\",AppAn.Data!R94,(AppAn.Data!R94*ozton*AppAn.Data!R$6)/1000000),\"-\")","v":4.6273415779298519},{"$f":"IFERROR(IF($B$2=\"トン\",AppAn.Data!S94,(AppAn.Data!S94*ozton*AppAn.Data!S$6)/1000000),\"-\")","v":19.157432640822886},{"$f":"IFERROR(IF($B$2=\"トン\",AppAn.Data!T94,(AppAn.Data!T94*ozton*AppAn.Data!T$6)/1000000),\"-\")","v":61.777940688690734},{"$f":"IFERROR(IF($B$2=\"トン\",AppAn.Data!U94,(AppAn.Data!U94*ozton*AppAn.Data!U$6)/1000000),\"-\")","v":39.089004444931177},{"$f":"IFERROR(IF($B$2=\"トン\",AppAn.Data!V94,(AppAn.Data!V94*ozton*AppAn.Data!V$6)/1000000),\"-\")","v":36.251408849090808},{"$f":"IFERROR(IF($B$2=\"トン\",AppAn.Data!W94,(AppAn.Data!W94*ozton*AppAn.Data!W$6)/1000000),\"-\")","v":25.450039442237909},{"$f":"IFERROR(IF($B$2=\"トン\",AppAn.Data!X94,(AppAn.Data!X94*ozton*AppAn.Data!X$6)/1000000),\"-\")","v":41.797103098786366},"▲",64.231977689662088,null,{"$f":"IFERROR(IF($B$2=\"トン\",AppQt.Data!M104,(AppQt.Data!M104*ozton*AppQt.Data!M$7)/1000000),\"-\")","v":11.228309007295833},{"$f":"IFERROR(IF($B$2=\"トン\",AppQt.Data!N104,(AppQt.Data!N104*ozton*AppQt.Data!N$7)/1000000),\"-\")","v":13.166222856352752},{"$f":"IFERROR(IF($B$2=\"トン\",AppQt.Data!O104,(AppQt.Data!O104*ozton*AppQt.Data!O$7)/1000000),\"-\")","v":11.788718406793187},{"$f":"IFERROR(IF($B$2=\"トン\",AppQt.Data!P104,(AppQt.Data!P104*ozton*AppQt.Data!P$7)/1000000),\"-\")","v":7.2727945901892825},{"$f":"IFERROR(IF($B$2=\"トン\",AppQt.Data!Q104,(AppQt.Data!Q104*ozton*AppQt.Data!Q$7)/1000000),\"-\")","v":10.480220967686698},{"$f":"IFERROR(IF($B$2=\"トン\",AppQt.Data!R104,(AppQt.Data!R104*ozton*AppQt.Data!R$7)/1000000),\"-\")","v":11.845416980570921},{"$f":"IFERROR(IF($B$2=\"トン\",AppQt.Data!S104,(AppQt.Data!S104*ozton*AppQt.Data!S$7)/1000000),\"-\")","v":16.755525686975361},{"$f":"IFERROR(IF($B$2=\"トン\",AppQt.Data!T104,(AppQt.Data!T104*ozton*AppQt.Data!T$7)/1000000),\"-\")","v":14.106543148271317},{"$f":"IFERROR(IF($B$2=\"トン\",AppQt.Data!U104,(AppQt.Data!U104*ozton*AppQt.Data!U$7)/1000000),\"-\")","v":11.834170289253329},{"$f":"IFERROR(IF($B$2=\"トン\",AppQt.Data!V104,(AppQt.Data!V104*ozton*AppQt.Data!V$7)/1000000),\"-\")","v":13.18013011773227},{"$f":"IFERROR(IF($B$2=\"トン\",AppQt.Data!W104,(AppQt.Data!W104*ozton*AppQt.Data!W$7)/1000000),\"-\")","v":14.968871275248143},{"$f":"IFERROR(IF($B$2=\"トン\",AppQt.Data!X104,(AppQt.Data!X104*ozton*AppQt.Data!X$7)/1000000),\"-\")","v":16.992844115500308},{"$f":"IFERROR(IF($B$2=\"トン\",AppQt.Data!Y104,(AppQt.Data!Y104*ozton*AppQt.Data!Y$7)/1000000),\"-\")","v":13.178506585315366},{"$f":"IFERROR(IF($B$2=\"トン\",AppQt.Data!Z104,(AppQt.Data!Z104*ozton*AppQt.Data!Z$7)/1000000),\"-\")","v":21.567281386174685},{"$f":"IFERROR(IF($B$2=\"トン\",AppQt.Data!AA104,(AppQt.Data!AA104*ozton*AppQt.Data!AA$7)/1000000),\"-\")","v":12.421022497196956},{"$f":"IFERROR(IF($B$2=\"トン\",AppQt.Data!AB104,(AppQt.Data!AB104*ozton*AppQt.Data!AB$7)/1000000),\"-\")","v":16.865438037050673},{"$f":"IFERROR(IF($B$2=\"トン\",AppQt.Data!AC104,(AppQt.Data!AC104*ozton*AppQt.Data!AC$7)/1000000),\"-\")","v":19.521668832657088},{"$f":"IFERROR(IF($B$2=\"トン\",AppQt.Data!AD104,(AppQt.Data!AD104*ozton*AppQt.Data!AD$7)/1000000),\"-\")","v":8.5202441630752244},{"$f":"IFERROR(IF($B$2=\"トン\",AppQt.Data!AE104,(AppQt.Data!AE104*ozton*AppQt.Data!AE$7)/1000000),\"-\")","v":5.0351258133138534},{"$f":"IFERROR(IF($B$2=\"トン\",AppQt.Data!AF104,(AppQt.Data!AF104*ozton*AppQt.Data!AF$7)/1000000),\"-\")","v":2.9840060150024765},{"$f":"IFERROR(IF($B$2=\"トン\",AppQt.Data!AG104,(AppQt.Data!AG104*ozton*AppQt.Data!AG$7)/1000000),\"-\")","v":14.151727557558742},{"$f":"IFERROR(IF($B$2=\"トン\",AppQt.Data!AH104,(AppQt.Data!AH104*ozton*AppQt.Data!AH$7)/1000000),\"-\")","v":7.0196698768669572},{"$f":"IFERROR(IF($B$2=\"トン\",AppQt.Data!AI104,(AppQt.Data!AI104*ozton*AppQt.Data!AI$7)/1000000),\"-\")","v":5.7903946853109316},{"$f":"IFERROR(IF($B$2=\"トン\",AppQt.Data!AJ104,(AppQt.Data!AJ104*ozton*AppQt.Data!AJ$7)/1000000),\"-\")","v":3.1332063157526009},{"$f":"IFERROR(IF($B$2=\"トン\",AppQt.Data!AK104,(AppQt.Data!AK104*ozton*AppQt.Data!AK$7)/1000000),\"-\")","v":1.0243155184518709},{"$f":"IFERROR(IF($B$2=\"トン\",AppQt.Data!AL104,(AppQt.Data!AL104*ozton*AppQt.Data!AL$7)/1000000),\"-\")","v":1.1365179800641738},{"$f":"IFERROR(IF($B$2=\"トン\",AppQt.Data!AM104,(AppQt.Data!AM104*ozton*AppQt.Data!AM$7)/1000000),\"-\")","v":1.2132255531127667},{"$f":"IFERROR(IF($B$2=\"トン\",AppQt.Data!AN104,(AppQt.Data!AN104*ozton*AppQt.Data!AN$7)/1000000),\"-\")","v":1.2532825263010405},{"$f":"IFERROR(IF($B$2=\"トン\",AppQt.Data!AO104,(AppQt.Data!AO104*ozton*AppQt.Data!AO$7)/1000000),\"-\")","v":2.6632203479748648},{"$f":"IFERROR(IF($B$2=\"トン\",AppQt.Data!AP104,(AppQt.Data!AP104*ozton*AppQt.Data!AP$7)/1000000),\"-\")","v":5.0151153471114265},{"$f":"IFERROR(IF($B$2=\"トン\",AppQt.Data!AQ104,(AppQt.Data!AQ104*ozton*AppQt.Data!AQ$7)/1000000),\"-\")","v":6.2205623773538896},{"$f":"IFERROR(IF($B$2=\"トン\",AppQt.Data!AR104,(AppQt.Data!AR104*ozton*AppQt.Data!AR$7)/1000000),\"-\")","v":5.2585345683827054},{"$f":"IFERROR(IF($B$2=\"トン\",AppQt.Data!AS104,(AppQt.Data!AS104*ozton*AppQt.Data!AS$7)/1000000),\"-\")","v":9.3127966179781723},{"$f":"IFERROR(IF($B$2=\"トン\",AppQt.Data!AT104,(AppQt.Data!AT104*ozton*AppQt.Data!AT$7)/1000000),\"-\")","v":15.162092277689142},{"$f":"IFERROR(IF($B$2=\"トン\",AppQt.Data!AU104,(AppQt.Data!AU104*ozton*AppQt.Data!AU$7)/1000000),\"-\")","v":21.131590496221584},{"$f":"IFERROR(IF($B$2=\"トン\",AppQt.Data!AV104,(AppQt.Data!AV104*ozton*AppQt.Data!AV$7)/1000000),\"-\")","v":16.171461296801841},{"$f":"IFERROR(IF($B$2=\"トン\",AppQt.Data!AW104,(AppQt.Data!AW104*ozton*AppQt.Data!AW$7)/1000000),\"-\")","v":11.178436448877081},{"$f":"IFERROR(IF($B$2=\"トン\",AppQt.Data!AX104,(AppQt.Data!AX104*ozton*AppQt.Data!AX$7)/1000000),\"-\")","v":10.420883049920228},{"$f":"IFERROR(IF($B$2=\"トン\",AppQt.Data!AY104,(AppQt.Data!AY104*ozton*AppQt.Data!AY$7)/1000000),\"-\")","v":9.52895429773295},{"$f":"IFERROR(IF($B$2=\"トン\",AppQt.Data!AZ104,(AppQt.Data!AZ104*ozton*AppQt.Data!AZ$7)/1000000),\"-\")","v":7.9607306484009204},{"$f":"IFERROR(IF($B$2=\"トン\",AppQt.Data!BA104,(AppQt.Data!BA104*ozton*AppQt.Data!BA$7)/1000000),\"-\")","v":8.8667792549239302},{"$f":"IFERROR(IF($B$2=\"トン\",AppQt.Data!BB104,(AppQt.Data!BB104*ozton*AppQt.Data!BB$7)/1000000),\"-\")","v":7.4371734039391439},{"$f":"IFERROR(IF($B$2=\"トン\",AppQt.Data!BC104,(AppQt.Data!BC104*ozton*AppQt.Data!BC$7)/1000000),\"-\")","v":11.85265759930185},{"$f":"IFERROR(IF($B$2=\"トン\",AppQt.Data!BD104,(AppQt.Data!BD104*ozton*AppQt.Data!BD$7)/1000000),\"-\")","v":8.0947985909258833},{"$f":"IFERROR(IF($B$2=\"トン\",AppQt.Data!BE104,(AppQt.Data!BE104*ozton*AppQt.Data!BE$7)/1000000),\"-\")","v":6.2067454784467504},{"$f":"IFERROR(IF($B$2=\"トン\",AppQt.Data!BF104,(AppQt.Data!BF104*ozton*AppQt.Data!BF$7)/1000000),\"-\")","v":3.1033727392233752},{"$f":"IFERROR(IF($B$2=\"トン\",AppQt.Data!BG104,(AppQt.Data!BG104*ozton*AppQt.Data!BG$7)/1000000),\"-\")","v":8.3501041442615112},{"$f":"IFERROR(IF($B$2=\"トン\",AppQt.Data!BH104,(AppQt.Data!BH104*ozton*AppQt.Data!BH$7)/1000000),\"-\")","v":7.789817080306273},{"$f":"IFERROR(IF($B$2=\"トン\",AppQt.Data!BI104,(AppQt.Data!BI104*ozton*AppQt.Data!BI$7)/1000000),\"-\")","v":9.3477804963675286},{"$f":"IFERROR(IF($B$2=\"トン\",AppQt.Data!BJ104,(AppQt.Data!BJ104*ozton*AppQt.Data!BJ$7)/1000000),\"-\")","v":7.3748460460042802},{"$f":"IFERROR(IF($B$2=\"トン\",AppQt.Data!BK104,(AppQt.Data!BK104*ozton*AppQt.Data!BK$7)/1000000),\"-\")","v":14.74969209200856},{"$f":"IFERROR(IF($B$2=\"トン\",AppQt.Data!BL104,(AppQt.Data!BL104*ozton*AppQt.Data!BL$7)/1000000),\"-\")","v":10.324784464405992},"▲",32.542065596231581]
[null,"その他中東",{"$f":"IFERROR(IF($B$2=\"トン\",AppAn.Data!L95,(AppAn.Data!L95*ozton*AppAn.Data!L$6)/1000000),\"-\")","v":1.2584548952623549},{"$f":"IFERROR(IF($B$2=\"トン\",AppAn.Data!M95,(AppAn.Data!M95*ozton*AppAn.Data!M$6)/1000000),\"-\")","v":2.0372292182899825},{"$f":"IFERROR(IF($B$2=\"トン\",AppAn.Data!N95,(AppAn.Data!N95*ozton*AppAn.Data!N$6)/1000000),\"-\")","v":2.2552547752560668},{"$f":"IFERROR(IF($B$2=\"トン\",AppAn.Data!O95,(AppAn.Data!O95*ozton*AppAn.Data!O$6)/1000000),\"-\")","v":3.857448244598868},{"$f":"IFERROR(IF($B$2=\"トン\",AppAn.Data!P95,(AppAn.Data!P95*ozton*AppAn.Data!P$6)/1000000),\"-\")","v":3.6033400646433744},{"$f":"IFERROR(IF($B$2=\"トン\",AppAn.Data!Q95,(AppAn.Data!Q95*ozton*AppAn.Data!Q$6)/1000000),\"-\")","v":3.2083163477097933},{"$f":"IFERROR(IF($B$2=\"トン\",AppAn.Data!R95,(AppAn.Data!R95*ozton*AppAn.Data!R$6)/1000000),\"-\")","v":3.3825859305077062},{"$f":"IFERROR(IF($B$2=\"トン\",AppAn.Data!S95,(AppAn.Data!S95*ozton*AppAn.Data!S$6)/1000000),\"-\")","v":3.1787284221108854},{"$f":"IFERROR(IF($B$2=\"トン\",AppAn.Data!T95,(AppAn.Data!T95*ozton*AppAn.Data!T$6)/1000000),\"-\")","v":3.0806789825556939},{"$f":"IFERROR(IF($B$2=\"トン\",AppAn.Data!U95,(AppAn.Data!U95*ozton*AppAn.Data!U$6)/1000000),\"-\")","v":2.7681189072377688},{"$f":"IFERROR(IF($B$2=\"トン\",AppAn.Data!V95,(AppAn.Data!V95*ozton*AppAn.Data!V$6)/1000000),\"-\")","v":2.4145445973263335},{"$f":"IFERROR(IF($B$2=\"トン\",AppAn.Data!W95,(AppAn.Data!W95*ozton*AppAn.Data!W$6)/1000000),\"-\")","v":4.6340999730136998},{"$f":"IFERROR(IF($B$2=\"トン\",AppAn.Data!X95,(AppAn.Data!X95*ozton*AppAn.Data!X$6)/1000000),\"-\")","v":6.7844785731656057},"▲",46.403370938789813,null,{"$f":"IFERROR(IF($B$2=\"トン\",AppQt.Data!M105,(AppQt.Data!M105*ozton*AppQt.Data!M$7)/1000000),\"-\")","v":0.34260417074848865},{"$f":"IFERROR(IF($B$2=\"トン\",AppQt.Data!N105,(AppQt.Data!N105*ozton*AppQt.Data!N$7)/1000000),\"-\")","v":0.26156250601141051},{"$f":"IFERROR(IF($B$2=\"トン\",AppQt.Data!O105,(AppQt.Data!O105*ozton*AppQt.Data!O$7)/1000000),\"-\")","v":0.41796876391530208},{"$f":"IFERROR(IF($B$2=\"トン\",AppQt.Data!P105,(AppQt.Data!P105*ozton*AppQt.Data!P$7)/1000000),\"-\")","v":0.23631945458715353},{"$f":"IFERROR(IF($B$2=\"トン\",AppQt.Data!Q105,(AppQt.Data!Q105*ozton*AppQt.Data!Q$7)/1000000),\"-\")","v":0.45570443576241648},{"$f":"IFERROR(IF($B$2=\"トン\",AppQt.Data!R105,(AppQt.Data!R105*ozton*AppQt.Data!R$7)/1000000),\"-\")","v":0.38946190924512303},{"$f":"IFERROR(IF($B$2=\"トン\",AppQt.Data!S105,(AppQt.Data!S105*ozton*AppQt.Data!S$7)/1000000),\"-\")","v":0.64699556392422974},{"$f":"IFERROR(IF($B$2=\"トン\",AppQt.Data!T105,(AppQt.Data!T105*ozton*AppQt.Data!T$7)/1000000),\"-\")","v":0.54506730935821346},{"$f":"IFERROR(IF($B$2=\"トン\",AppQt.Data!U105,(AppQt.Data!U105*ozton*AppQt.Data!U$7)/1000000),\"-\")","v":0.59599282278928567},{"$f":"IFERROR(IF($B$2=\"トン\",AppQt.Data!V105,(AppQt.Data!V105*ozton*AppQt.Data!V$7)/1000000),\"-\")","v":0.46261709729534173},{"$f":"IFERROR(IF($B$2=\"トン\",AppQt.Data!W105,(AppQt.Data!W105*ozton*AppQt.Data!W$7)/1000000),\"-\")","v":0.58578692474017047},{"$f":"IFERROR(IF($B$2=\"トン\",AppQt.Data!X105,(AppQt.Data!X105*ozton*AppQt.Data!X$7)/1000000),\"-\")","v":0.61085793043126912},{"$f":"IFERROR(IF($B$2=\"トン\",AppQt.Data!Y105,(AppQt.Data!Y105*ozton*AppQt.Data!Y$7)/1000000),\"-\")","v":0.93353148270907305},{"$f":"IFERROR(IF($B$2=\"トン\",AppQt.Data!Z105,(AppQt.Data!Z105*ozton*AppQt.Data!Z$7)/1000000),\"-\")","v":1.0565375725320667},{"$f":"IFERROR(IF($B$2=\"トン\",AppQt.Data!AA105,(AppQt.Data!AA105*ozton*AppQt.Data!AA$7)/1000000),\"-\")","v":1.0222268761525557},{"$f":"IFERROR(IF($B$2=\"トン\",AppQt.Data!AB105,(AppQt.Data!AB105*ozton*AppQt.Data!AB$7)/1000000),\"-\")","v":0.84515231320517237},{"$f":"IFERROR(IF($B$2=\"トン\",AppQt.Data!AC105,(AppQt.Data!AC105*ozton*AppQt.Data!AC$7)/1000000),\"-\")","v":0.99899091348932934},{"$f":"IFERROR(IF($B$2=\"トン\",AppQt.Data!AD105,(AppQt.Data!AD105*ozton*AppQt.Data!AD$7)/1000000),\"-\")","v":0.88227486614961914},{"$f":"IFERROR(IF($B$2=\"トン\",AppQt.Data!AE105,(AppQt.Data!AE105*ozton*AppQt.Data!AE$7)/1000000),\"-\")","v":0.80922033884249167},{"$f":"IFERROR(IF($B$2=\"トン\",AppQt.Data!AF105,(AppQt.Data!AF105*ozton*AppQt.Data!AF$7)/1000000),\"-\")","v":0.91285394616193416},{"$f":"IFERROR(IF($B$2=\"トン\",AppQt.Data!AG105,(AppQt.Data!AG105*ozton*AppQt.Data!AG$7)/1000000),\"-\")","v":0.93449831611838141},{"$f":"IFERROR(IF($B$2=\"トン\",AppQt.Data!AH105,(AppQt.Data!AH105*ozton*AppQt.Data!AH$7)/1000000),\"-\")","v":0.89020352078967768},{"$f":"IFERROR(IF($B$2=\"トン\",AppQt.Data!AI105,(AppQt.Data!AI105*ozton*AppQt.Data!AI$7)/1000000),\"-\")","v":0.74927193998341335},{"$f":"IFERROR(IF($B$2=\"トン\",AppQt.Data!AJ105,(AppQt.Data!AJ105*ozton*AppQt.Data!AJ$7)/1000000),\"-\")","v":0.63434257081832068},{"$f":"IFERROR(IF($B$2=\"トン\",AppQt.Data!AK105,(AppQt.Data!AK105*ozton*AppQt.Data!AK$7)/1000000),\"-\")","v":0.8213185384143098},{"$f":"IFERROR(IF($B$2=\"トン\",AppQt.Data!AL105,(AppQt.Data!AL105*ozton*AppQt.Data!AL$7)/1000000),\"-\")","v":0.88313761266693835},{"$f":"IFERROR(IF($B$2=\"トン\",AppQt.Data!AM105,(AppQt.Data!AM105*ozton*AppQt.Data!AM$7)/1000000),\"-\")","v":0.74911035580724805},{"$f":"IFERROR(IF($B$2=\"トン\",AppQt.Data!AN105,(AppQt.Data!AN105*ozton*AppQt.Data!AN$7)/1000000),\"-\")","v":0.92901942361921008},{"$f":"IFERROR(IF($B$2=\"トン\",AppQt.Data!AO105,(AppQt.Data!AO105*ozton*AppQt.Data!AO$7)/1000000),\"-\")","v":0.8322519026082259},{"$f":"IFERROR(IF($B$2=\"トン\",AppQt.Data!AP105,(AppQt.Data!AP105*ozton*AppQt.Data!AP$7)/1000000),\"-\")","v":0.87771675158500262},{"$f":"IFERROR(IF($B$2=\"トン\",AppQt.Data!AQ105,(AppQt.Data!AQ105*ozton*AppQt.Data!AQ$7)/1000000),\"-\")","v":0.70847210783211878},{"$f":"IFERROR(IF($B$2=\"トン\",AppQt.Data!AR105,(AppQt.Data!AR105*ozton*AppQt.Data!AR$7)/1000000),\"-\")","v":0.76028766008553794},{"$f":"IFERROR(IF($B$2=\"トン\",AppQt.Data!AS105,(AppQt.Data!AS105*ozton*AppQt.Data!AS$7)/1000000),\"-\")","v":0.76101819842148988},{"$f":"IFERROR(IF($B$2=\"トン\",AppQt.Data!AT105,(AppQt.Data!AT105*ozton*AppQt.Data!AT$7)/1000000),\"-\")","v":0.76669052397406867},{"$f":"IFERROR(IF($B$2=\"トン\",AppQt.Data!AU105,(AppQt.Data!AU105*ozton*AppQt.Data!AU$7)/1000000),\"-\")","v":0.75690261777677859},{"$f":"IFERROR(IF($B$2=\"トン\",AppQt.Data!AV105,(AppQt.Data!AV105*ozton*AppQt.Data!AV$7)/1000000),\"-\")","v":0.79606764238335659},{"$f":"IFERROR(IF($B$2=\"トン\",AppQt.Data!AW105,(AppQt.Data!AW105*ozton*AppQt.Data!AW$7)/1000000),\"-\")","v":0.7210657113164114},{"$f":"IFERROR(IF($B$2=\"トン\",AppQt.Data!AX105,(AppQt.Data!AX105*ozton*AppQt.Data!AX$7)/1000000),\"-\")","v":0.68663790136980762},{"$f":"IFERROR(IF($B$2=\"トン\",AppQt.Data!AY105,(AppQt.Data!AY105*ozton*AppQt.Data!AY$7)/1000000),\"-\")","v":0.61437715638553658},{"$f":"IFERROR(IF($B$2=\"トン\",AppQt.Data!AZ105,(AppQt.Data!AZ105*ozton*AppQt.Data!AZ$7)/1000000),\"-\")","v":0.74603813816601339},{"$f":"IFERROR(IF($B$2=\"トン\",AppQt.Data!BA105,(AppQt.Data!BA105*ozton*AppQt.Data!BA$7)/1000000),\"-\")","v":0.70241858208098196},{"$f":"IFERROR(IF($B$2=\"トン\",AppQt.Data!BB105,(AppQt.Data!BB105*ozton*AppQt.Data!BB$7)/1000000),\"-\")","v":0.35043035803870493},{"$f":"IFERROR(IF($B$2=\"トン\",AppQt.Data!BC105,(AppQt.Data!BC105*ozton*AppQt.Data!BC$7)/1000000),\"-\")","v":0.67063341662857368},{"$f":"IFERROR(IF($B$2=\"トン\",AppQt.Data!BD105,(AppQt.Data!BD105*ozton*AppQt.Data!BD$7)/1000000),\"-\")","v":0.69106224057807264},{"$f":"IFERROR(IF($B$2=\"トン\",AppQt.Data!BE105,(AppQt.Data!BE105*ozton*AppQt.Data!BE$7)/1000000),\"-\")","v":0.92967428114565176},{"$f":"IFERROR(IF($B$2=\"トン\",AppQt.Data!BF105,(AppQt.Data!BF105*ozton*AppQt.Data!BF$7)/1000000),\"-\")","v":0.98305814145185344},{"$f":"IFERROR(IF($B$2=\"トン\",AppQt.Data!BG105,(AppQt.Data!BG105*ozton*AppQt.Data!BG$7)/1000000),\"-\")","v":1.3895794661183434},{"$f":"IFERROR(IF($B$2=\"トン\",AppQt.Data!BH105,(AppQt.Data!BH105*ozton*AppQt.Data!BH$7)/1000000),\"-\")","v":1.3317880842978516},{"$f":"IFERROR(IF($B$2=\"トン\",AppQt.Data!BI105,(AppQt.Data!BI105*ozton*AppQt.Data!BI$7)/1000000),\"-\")","v":1.2965912380218736},{"$f":"IFERROR(IF($B$2=\"トン\",AppQt.Data!BJ105,(AppQt.Data!BJ105*ozton*AppQt.Data!BJ$7)/1000000),\"-\")","v":1.6133380958053851},{"$f":"IFERROR(IF($B$2=\"トン\",AppQt.Data!BK105,(AppQt.Data!BK105*ozton*AppQt.Data!BK$7)/1000000),\"-\")","v":2.0741492926169927},{"$f":"IFERROR(IF($B$2=\"トン\",AppQt.Data!BL105,(AppQt.Data!BL105*ozton*AppQt.Data!BL$7)/1000000),\"-\")","v":1.8003999467213541},"▲",35.186668806288736]
[null,"トルコ",{"$f":"IFERROR(IF($B$2=\"トン\",AppAn.Data!L96,(AppAn.Data!L96*ozton*AppAn.Data!L$6)/1000000),\"-\")","v":40.870958768849874},{"$f":"IFERROR(IF($B$2=\"トン\",AppAn.Data!M96,(AppAn.Data!M96*ozton*AppAn.Data!M$6)/1000000),\"-\")","v":71.947898955630308},{"$f":"IFERROR(IF($B$2=\"トン\",AppAn.Data!N96,(AppAn.Data!N96*ozton*AppAn.Data!N$6)/1000000),\"-\")","v":48.086440175863693},{"$f":"IFERROR(IF($B$2=\"トン\",AppAn.Data!O96,(AppAn.Data!O96*ozton*AppAn.Data!O$6)/1000000),\"-\")","v":104.22054657245833},{"$f":"IFERROR(IF($B$2=\"トン\",AppAn.Data!P96,(AppAn.Data!P96*ozton*AppAn.Data!P$6)/1000000),\"-\")","v":48.6099216},{"$f":"IFERROR(IF($B$2=\"トン\",AppAn.Data!Q96,(AppAn.Data!Q96*ozton*AppAn.Data!Q$6)/1000000),\"-\")","v":23.113925204799997},{"$f":"IFERROR(IF($B$2=\"トン\",AppAn.Data!R96,(AppAn.Data!R96*ozton*AppAn.Data!R$6)/1000000),\"-\")","v":29.351964862020001},{"$f":"IFERROR(IF($B$2=\"トン\",AppAn.Data!S96,(AppAn.Data!S96*ozton*AppAn.Data!S$6)/1000000),\"-\")","v":52.369094169811987},{"$f":"IFERROR(IF($B$2=\"トン\",AppAn.Data!T96,(AppAn.Data!T96*ozton*AppAn.Data!T$6)/1000000),\"-\")","v":37.767665693860003},{"$f":"IFERROR(IF($B$2=\"トン\",AppAn.Data!U96,(AppAn.Data!U96*ozton*AppAn.Data!U$6)/1000000),\"-\")","v":52.866632294990005},{"$f":"IFERROR(IF($B$2=\"トン\",AppAn.Data!V96,(AppAn.Data!V96*ozton*AppAn.Data!V$6)/1000000),\"-\")","v":121.094670076596},{"$f":"IFERROR(IF($B$2=\"トン\",AppAn.Data!W96,(AppAn.Data!W96*ozton*AppAn.Data!W$6)/1000000),\"-\")","v":61.436624040669848},{"$f":"IFERROR(IF($B$2=\"トン\",AppAn.Data!X96,(AppAn.Data!X96*ozton*AppAn.Data!X$6)/1000000),\"-\")","v":84.849682985700113},"▲",38.109286294004832,null,{"$f":"IFERROR(IF($B$2=\"トン\",AppQt.Data!M106,(AppQt.Data!M106*ozton*AppQt.Data!M$7)/1000000),\"-\")","v":9.1339147602383726},{"$f":"IFERROR(IF($B$2=\"トン\",AppQt.Data!N106,(AppQt.Data!N106*ozton*AppQt.Data!N$7)/1000000),\"-\")","v":7.2053095308186448},{"$f":"IFERROR(IF($B$2=\"トン\",AppQt.Data!O106,(AppQt.Data!O106*ozton*AppQt.Data!O$7)/1000000),\"-\")","v":16.412473782449126},{"$f":"IFERROR(IF($B$2=\"トン\",AppQt.Data!P106,(AppQt.Data!P106*ozton*AppQt.Data!P$7)/1000000),\"-\")","v":8.1192606953437245},{"$f":"IFERROR(IF($B$2=\"トン\",AppQt.Data!Q106,(AppQt.Data!Q106*ozton*AppQt.Data!Q$7)/1000000),\"-\")","v":17.112485956623811},{"$f":"IFERROR(IF($B$2=\"トン\",AppQt.Data!R106,(AppQt.Data!R106*ozton*AppQt.Data!R$7)/1000000),\"-\")","v":14.545798321085597},{"$f":"IFERROR(IF($B$2=\"トン\",AppQt.Data!S106,(AppQt.Data!S106*ozton*AppQt.Data!S$7)/1000000),\"-\")","v":23.228412675301414},{"$f":"IFERROR(IF($B$2=\"トン\",AppQt.Data!T106,(AppQt.Data!T106*ozton*AppQt.Data!T$7)/1000000),\"-\")","v":17.061202002619495},{"$f":"IFERROR(IF($B$2=\"トン\",AppQt.Data!U106,(AppQt.Data!U106*ozton*AppQt.Data!U$7)/1000000),\"-\")","v":15.196718822887167},{"$f":"IFERROR(IF($B$2=\"トン\",AppQt.Data!V106,(AppQt.Data!V106*ozton*AppQt.Data!V$7)/1000000),\"-\")","v":18.332381671312806},{"$f":"IFERROR(IF($B$2=\"トン\",AppQt.Data!W106,(AppQt.Data!W106*ozton*AppQt.Data!W$7)/1000000),\"-\")","v":7.837610832791551},{"$f":"IFERROR(IF($B$2=\"トン\",AppQt.Data!X106,(AppQt.Data!X106*ozton*AppQt.Data!X$7)/1000000),\"-\")","v":6.7197288488721707},{"$f":"IFERROR(IF($B$2=\"トン\",AppQt.Data!Y106,(AppQt.Data!Y106*ozton*AppQt.Data!Y$7)/1000000),\"-\")","v":31.435899411249999},{"$f":"IFERROR(IF($B$2=\"トン\",AppQt.Data!Z106,(AppQt.Data!Z106*ozton*AppQt.Data!Z$7)/1000000),\"-\")","v":37.529650730625001},{"$f":"IFERROR(IF($B$2=\"トン\",AppQt.Data!AA106,(AppQt.Data!AA106*ozton*AppQt.Data!AA$7)/1000000),\"-\")","v":8.2209785105833326},{"$f":"IFERROR(IF($B$2=\"トン\",AppQt.Data!AB106,(AppQt.Data!AB106*ozton*AppQt.Data!AB$7)/1000000),\"-\")","v":27.03401792},{"$f":"IFERROR(IF($B$2=\"トン\",AppQt.Data!AC106,(AppQt.Data!AC106*ozton*AppQt.Data!AC$7)/1000000),\"-\")","v":12.569352},{"$f":"IFERROR(IF($B$2=\"トン\",AppQt.Data!AD106,(AppQt.Data!AD106*ozton*AppQt.Data!AD$7)/1000000),\"-\")","v":15.511910400000001},{"$f":"IFERROR(IF($B$2=\"トン\",AppQt.Data!AE106,(AppQt.Data!AE106*ozton*AppQt.Data!AE$7)/1000000),\"-\")","v":5.4509327999999995},{"$f":"IFERROR(IF($B$2=\"トン\",AppQt.Data!AF106,(AppQt.Data!AF106*ozton*AppQt.Data!AF$7)/1000000),\"-\")","v":15.077726400000001},{"$f":"IFERROR(IF($B$2=\"トン\",AppQt.Data!AG106,(AppQt.Data!AG106*ozton*AppQt.Data!AG$7)/1000000),\"-\")","v":5.2266959999999996},{"$f":"IFERROR(IF($B$2=\"トン\",AppQt.Data!AH106,(AppQt.Data!AH106*ozton*AppQt.Data!AH$7)/1000000),\"-\")","v":4.5001247999999991},{"$f":"IFERROR(IF($B$2=\"トン\",AppQt.Data!AI106,(AppQt.Data!AI106*ozton*AppQt.Data!AI$7)/1000000),\"-\")","v":9.1768942459999998},{"$f":"IFERROR(IF($B$2=\"トン\",AppQt.Data!AJ106,(AppQt.Data!AJ106*ozton*AppQt.Data!AJ$7)/1000000),\"-\")","v":4.2102101588000007},{"$f":"IFERROR(IF($B$2=\"トン\",AppQt.Data!AK106,(AppQt.Data!AK106*ozton*AppQt.Data!AK$7)/1000000),\"-\")","v":5.0499743733600013},{"$f":"IFERROR(IF($B$2=\"トン\",AppQt.Data!AL106,(AppQt.Data!AL106*ozton*AppQt.Data!AL$7)/1000000),\"-\")","v":4.4807118837599997},{"$f":"IFERROR(IF($B$2=\"トン\",AppQt.Data!AM106,(AppQt.Data!AM106*ozton*AppQt.Data!AM$7)/1000000),\"-\")","v":5.3289731249999992},{"$f":"IFERROR(IF($B$2=\"トン\",AppQt.Data!AN106,(AppQt.Data!AN106*ozton*AppQt.Data!AN$7)/1000000),\"-\")","v":14.492305479900001},{"$f":"IFERROR(IF($B$2=\"トン\",AppQt.Data!AO106,(AppQt.Data!AO106*ozton*AppQt.Data!AO$7)/1000000),\"-\")","v":8.9375708768600006},{"$f":"IFERROR(IF($B$2=\"トン\",AppQt.Data!AP106,(AppQt.Data!AP106*ozton*AppQt.Data!AP$7)/1000000),\"-\")","v":23.334226600439997},{"$f":"IFERROR(IF($B$2=\"トン\",AppQt.Data!AQ106,(AppQt.Data!AQ106*ozton*AppQt.Data!AQ$7)/1000000),\"-\")","v":15.039700098119997},{"$f":"IFERROR(IF($B$2=\"トン\",AppQt.Data!AR106,(AppQt.Data!AR106*ozton*AppQt.Data!AR$7)/1000000),\"-\")","v":5.0575965943919989},{"$f":"IFERROR(IF($B$2=\"トン\",AppQt.Data!AS106,(AppQt.Data!AS106*ozton*AppQt.Data!AS$7)/1000000),\"-\")","v":13.130520273920002},{"$f":"IFERROR(IF($B$2=\"トン\",AppQt.Data!AT106,(AppQt.Data!AT106*ozton*AppQt.Data!AT$7)/1000000),\"-\")","v":11.6215520982},{"$f":"IFERROR(IF($B$2=\"トン\",AppQt.Data!AU106,(AppQt.Data!AU106*ozton*AppQt.Data!AU$7)/1000000),\"-\")","v":4.63447139186},{"$f":"IFERROR(IF($B$2=\"トン\",AppQt.Data!AV106,(AppQt.Data!AV106*ozton*AppQt.Data!AV$7)/1000000),\"-\")","v":8.3811219298800008},{"$f":"IFERROR(IF($B$2=\"トン\",AppQt.Data!AW106,(AppQt.Data!AW106*ozton*AppQt.Data!AW$7)/1000000),\"-\")","v":16.586831957400001},{"$f":"IFERROR(IF($B$2=\"トン\",AppQt.Data!AX106,(AppQt.Data!AX106*ozton*AppQt.Data!AX$7)/1000000),\"-\")","v":9.5847063311999996},{"$f":"IFERROR(IF($B$2=\"トン\",AppQt.Data!AY106,(AppQt.Data!AY106*ozton*AppQt.Data!AY$7)/1000000),\"-\")","v":6.7045361782400006},{"$f":"IFERROR(IF($B$2=\"トン\",AppQt.Data!AZ106,(AppQt.Data!AZ106*ozton*AppQt.Data!AZ$7)/1000000),\"-\")","v":19.990557828150003},{"$f":"IFERROR(IF($B$2=\"トン\",AppQt.Data!BA106,(AppQt.Data!BA106*ozton*AppQt.Data!BA$7)/1000000),\"-\")","v":23.295812205819999},{"$f":"IFERROR(IF($B$2=\"トン\",AppQt.Data!BB106,(AppQt.Data!BB106*ozton*AppQt.Data!BB$7)/1000000),\"-\")","v":19.909878008711996},{"$f":"IFERROR(IF($B$2=\"トン\",AppQt.Data!BC106,(AppQt.Data!BC106*ozton*AppQt.Data!BC$7)/1000000),\"-\")","v":49.021992012563999},{"$f":"IFERROR(IF($B$2=\"トン\",AppQt.Data!BD106,(AppQt.Data!BD106*ozton*AppQt.Data!BD$7)/1000000),\"-\")","v":28.866987849500003},{"$f":"IFERROR(IF($B$2=\"トン\",AppQt.Data!BE106,(AppQt.Data!BE106*ozton*AppQt.Data!BE$7)/1000000),\"-\")","v":44.255781163616007},{"$f":"IFERROR(IF($B$2=\"トン\",AppQt.Data!BF106,(AppQt.Data!BF106*ozton*AppQt.Data!BF$7)/1000000),\"-\")","v":4.1180765506027992},{"$f":"IFERROR(IF($B$2=\"トン\",AppQt.Data!BG106,(AppQt.Data!BG106*ozton*AppQt.Data!BG$7)/1000000),\"-\")","v":9.2489624619056006},{"$f":"IFERROR(IF($B$2=\"トン\",AppQt.Data!BH106,(AppQt.Data!BH106*ozton*AppQt.Data!BH$7)/1000000),\"-\")","v":3.8138038645454402},{"$f":"IFERROR(IF($B$2=\"トン\",AppQt.Data!BI106,(AppQt.Data!BI106*ozton*AppQt.Data!BI$7)/1000000),\"-\")","v":10.141283541012481},{"$f":"IFERROR(IF($B$2=\"トン\",AppQt.Data!BJ106,(AppQt.Data!BJ106*ozton*AppQt.Data!BJ$7)/1000000),\"-\")","v":9.5348174026618562},{"$f":"IFERROR(IF($B$2=\"トン\",AppQt.Data!BK106,(AppQt.Data!BK106*ozton*AppQt.Data!BK$7)/1000000),\"-\")","v":35.94697383850928},{"$f":"IFERROR(IF($B$2=\"トン\",AppQt.Data!BL106,(AppQt.Data!BL106*ozton*AppQt.Data!BL$7)/1000000),\"-\")","v":29.226608203516495},"▲",">300"]
[null,"ロシア",{"$f":"IFERROR(IF($B$2=\"トン\",AppAn.Data!L97,(AppAn.Data!L97*ozton*AppAn.Data!L$6)/1000000),\"-\")","v":0},{"$f":"IFERROR(IF($B$2=\"トン\",AppAn.Data!M97,(AppAn.Data!M97*ozton*AppAn.Data!M$6)/1000000),\"-\")","v":0},{"$f":"IFERROR(IF($B$2=\"トン\",AppAn.Data!N97,(AppAn.Data!N97*ozton*AppAn.Data!N$6)/1000000),\"-\")","v":0},{"$f":"IFERROR(IF($B$2=\"トン\",AppAn.Data!O97,(AppAn.Data!O97*ozton*AppAn.Data!O$6)/1000000),\"-\")","v":0},{"$f":"IFERROR(IF($B$2=\"トン\",AppAn.Data!P97,(AppAn.Data!P97*ozton*AppAn.Data!P$6)/1000000),\"-\")","v":7.9054000000000002},{"$f":"IFERROR(IF($B$2=\"トン\",AppAn.Data!Q97,(AppAn.Data!Q97*ozton*AppAn.Data!Q$6)/1000000),\"-\")","v":4.8000000000000007},{"$f":"IFERROR(IF($B$2=\"トン\",AppAn.Data!R97,(AppAn.Data!R97*ozton*AppAn.Data!R$6)/1000000),\"-\")","v":3.6850000000000005},{"$f":"IFERROR(IF($B$2=\"トン\",AppAn.Data!S97,(AppAn.Data!S97*ozton*AppAn.Data!S$6)/1000000),\"-\")","v":2.4637500000000001},{"$f":"IFERROR(IF($B$2=\"トン\",AppAn.Data!T97,(AppAn.Data!T97*ozton*AppAn.Data!T$6)/1000000),\"-\")","v":2.6348250000000002},{"$f":"IFERROR(IF($B$2=\"トン\",AppAn.Data!U97,(AppAn.Data!U97*ozton*AppAn.Data!U$6)/1000000),\"-\")","v":3.6550425},{"$f":"IFERROR(IF($B$2=\"トン\",AppAn.Data!V97,(AppAn.Data!V97*ozton*AppAn.Data!V$6)/1000000),\"-\")","v":4.99},{"$f":"IFERROR(IF($B$2=\"トン\",AppAn.Data!W97,(AppAn.Data!W97*ozton*AppAn.Data!W$6)/1000000),\"-\")","v":5.2725},{"$f":"IFERROR(IF($B$2=\"トン\",AppAn.Data!X97,(AppAn.Data!X97*ozton*AppAn.Data!X$6)/1000000),\"-\")","v":25},"▲",374.15836889521097,null,{"$f":"IFERROR(IF($B$2=\"トン\",AppQt.Data!M107,(AppQt.Data!M107*ozton*AppQt.Data!M$7)/1000000),\"-\")","v":0},{"$f":"IFERROR(IF($B$2=\"トン\",AppQt.Data!N107,(AppQt.Data!N107*ozton*AppQt.Data!N$7)/1000000),\"-\")","v":0},{"$f":"IFERROR(IF($B$2=\"トン\",AppQt.Data!O107,(AppQt.Data!O107*ozton*AppQt.Data!O$7)/1000000),\"-\")","v":0},{"$f":"IFERROR(IF($B$2=\"トン\",AppQt.Data!P107,(AppQt.Data!P107*ozton*AppQt.Data!P$7)/1000000),\"-\")","v":0},{"$f":"IFERROR(IF($B$2=\"トン\",AppQt.Data!Q107,(AppQt.Data!Q107*ozton*AppQt.Data!Q$7)/1000000),\"-\")","v":0},{"$f":"IFERROR(IF($B$2=\"トン\",AppQt.Data!R107,(AppQt.Data!R107*ozton*AppQt.Data!R$7)/1000000),\"-\")","v":0},{"$f":"IFERROR(IF($B$2=\"トン\",AppQt.Data!S107,(AppQt.Data!S107*ozton*AppQt.Data!S$7)/1000000),\"-\")","v":0},{"$f":"IFERROR(IF($B$2=\"トン\",AppQt.Data!T107,(AppQt.Data!T107*ozton*AppQt.Data!T$7)/1000000),\"-\")","v":0},{"$f":"IFERROR(IF($B$2=\"トン\",AppQt.Data!U107,(AppQt.Data!U107*ozton*AppQt.Data!U$7)/1000000),\"-\")","v":0},{"$f":"IFERROR(IF($B$2=\"トン\",AppQt.Data!V107,(AppQt.Data!V107*ozton*AppQt.Data!V$7)/1000000),\"-\")","v":0},{"$f":"IFERROR(IF($B$2=\"トン\",AppQt.Data!W107,(AppQt.Data!W107*ozton*AppQt.Data!W$7)/1000000),\"-\")","v":0},{"$f":"IFERROR(IF($B$2=\"トン\",AppQt.Data!X107,(AppQt.Data!X107*ozton*AppQt.Data!X$7)/1000000),\"-\")","v":0},{"$f":"IFERROR(IF($B$2=\"トン\",AppQt.Data!Y107,(AppQt.Data!Y107*ozton*AppQt.Data!Y$7)/1000000),\"-\")","v":0},{"$f":"IFERROR(IF($B$2=\"トン\",AppQt.Data!Z107,(AppQt.Data!Z107*ozton*AppQt.Data!Z$7)/1000000),\"-\")","v":0},{"$f":"IFERROR(IF($B$2=\"トン\",AppQt.Data!AA107,(AppQt.Data!AA107*ozton*AppQt.Data!AA$7)/1000000),\"-\")","v":0},{"$f":"IFERROR(IF($B$2=\"トン\",AppQt.Data!AB107,(AppQt.Data!AB107*ozton*AppQt.Data!AB$7)/1000000),\"-\")","v":0},{"$f":"IFERROR(IF($B$2=\"トン\",AppQt.Data!AC107,(AppQt.Data!AC107*ozton*AppQt.Data!AC$7)/1000000),\"-\")","v":2.1881500000000003},{"$f":"IFERROR(IF($B$2=\"トン\",AppQt.Data!AD107,(AppQt.Data!AD107*ozton*AppQt.Data!AD$7)/1000000),\"-\")","v":2.18025},{"$f":"IFERROR(IF($B$2=\"トン\",AppQt.Data!AE107,(AppQt.Data!AE107*ozton*AppQt.Data!AE$7)/1000000),\"-\")","v":2.0802499999999999},{"$f":"IFERROR(IF($B$2=\"トン\",AppQt.Data!AF107,(AppQt.Data!AF107*ozton*AppQt.Data!AF$7)/1000000),\"-\")","v":1.45675},{"$f":"IFERROR(IF($B$2=\"トン\",AppQt.Data!AG107,(AppQt.Data!AG107*ozton*AppQt.Data!AG$7)/1000000),\"-\")","v":1.25},{"$f":"IFERROR(IF($B$2=\"トン\",AppQt.Data!AH107,(AppQt.Data!AH107*ozton*AppQt.Data!AH$7)/1000000),\"-\")","v":1.25},{"$f":"IFERROR(IF($B$2=\"トン\",AppQt.Data!AI107,(AppQt.Data!AI107*ozton*AppQt.Data!AI$7)/1000000),\"-\")","v":1.2000000000000002},{"$f":"IFERROR(IF($B$2=\"トン\",AppQt.Data!AJ107,(AppQt.Data!AJ107*ozton*AppQt.Data!AJ$7)/1000000),\"-\")","v":1.1000000000000001},{"$f":"IFERROR(IF($B$2=\"トン\",AppQt.Data!AK107,(AppQt.Data!AK107*ozton*AppQt.Data!AK$7)/1000000),\"-\")","v":0.98},{"$f":"IFERROR(IF($B$2=\"トン\",AppQt.Data!AL107,(AppQt.Data!AL107*ozton*AppQt.Data!AL$7)/1000000),\"-\")","v":0.98},{"$f":"IFERROR(IF($B$2=\"トン\",AppQt.Data!AM107,(AppQt.Data!AM107*ozton*AppQt.Data!AM$7)/1000000),\"-\")","v":0.90000000000000013},{"$f":"IFERROR(IF($B$2=\"トン\",AppQt.Data!AN107,(AppQt.Data!AN107*ozton*AppQt.Data!AN$7)/1000000),\"-\")","v":0.82499999999999996},{"$f":"IFERROR(IF($B$2=\"トン\",AppQt.Data!AO107,(AppQt.Data!AO107*ozton*AppQt.Data!AO$7)/1000000),\"-\")","v":0.66},{"$f":"IFERROR(IF($B$2=\"トン\",AppQt.Data!AP107,(AppQt.Data!AP107*ozton*AppQt.Data!AP$7)/1000000),\"-\")","v":0.66},{"$f":"IFERROR(IF($B$2=\"トン\",AppQt.Data!AQ107,(AppQt.Data!AQ107*ozton*AppQt.Data!AQ$7)/1000000),\"-\")","v":0.60000000000000009},{"$f":"IFERROR(IF($B$2=\"トン\",AppQt.Data!AR107,(AppQt.Data!AR107*ozton*AppQt.Data!AR$7)/1000000),\"-\")","v":0.54374999999999996},{"$f":"IFERROR(IF($B$2=\"トン\",AppQt.Data!AS107,(AppQt.Data!AS107*ozton*AppQt.Data!AS$7)/1000000),\"-\")","v":0.81194999999999995},{"$f":"IFERROR(IF($B$2=\"トン\",AppQt.Data!AT107,(AppQt.Data!AT107*ozton*AppQt.Data!AT$7)/1000000),\"-\")","v":0.64874999999999994},{"$f":"IFERROR(IF($B$2=\"トン\",AppQt.Data!AU107,(AppQt.Data!AU107*ozton*AppQt.Data!AU$7)/1000000),\"-\")","v":0.60675000000000001},{"$f":"IFERROR(IF($B$2=\"トン\",AppQt.Data!AV107,(AppQt.Data!AV107*ozton*AppQt.Data!AV$7)/1000000),\"-\")","v":0.56737499999999996},{"$f":"IFERROR(IF($B$2=\"トン\",AppQt.Data!AW107,(AppQt.Data!AW107*ozton*AppQt.Data!AW$7)/1000000),\"-\")","v":1.0516799999999999},{"$f":"IFERROR(IF($B$2=\"トン\",AppQt.Data!AX107,(AppQt.Data!AX107*ozton*AppQt.Data!AX$7)/1000000),\"-\")","v":0.90480000000000005},{"$f":"IFERROR(IF($B$2=\"トン\",AppQt.Data!AY107,(AppQt.Data!AY107*ozton*AppQt.Data!AY$7)/1000000),\"-\")","v":0.86699999999999999},{"$f":"IFERROR(IF($B$2=\"トン\",AppQt.Data!AZ107,(AppQt.Data!AZ107*ozton*AppQt.Data!AZ$7)/1000000),\"-\")","v":0.83156249999999998},{"$f":"IFERROR(IF($B$2=\"トン\",AppQt.Data!BA107,(AppQt.Data!BA107*ozton*AppQt.Data!BA$7)/1000000),\"-\")","v":1.2225000000000001},{"$f":"IFERROR(IF($B$2=\"トン\",AppQt.Data!BB107,(AppQt.Data!BB107*ozton*AppQt.Data!BB$7)/1000000),\"-\")","v":1.2225000000000001},{"$f":"IFERROR(IF($B$2=\"トン\",AppQt.Data!BC107,(AppQt.Data!BC107*ozton*AppQt.Data!BC$7)/1000000),\"-\")","v":1.2725},{"$f":"IFERROR(IF($B$2=\"トン\",AppQt.Data!BD107,(AppQt.Data!BD107*ozton*AppQt.Data!BD$7)/1000000),\"-\")","v":1.2725},{"$f":"IFERROR(IF($B$2=\"トン\",AppQt.Data!BE107,(AppQt.Data!BE107*ozton*AppQt.Data!BE$7)/1000000),\"-\")","v":1.2725},{"$f":"IFERROR(IF($B$2=\"トン\",AppQt.Data!BF107,(AppQt.Data!BF107*ozton*AppQt.Data!BF$7)/1000000),\"-\")","v":1.4000000000000001},{"$f":"IFERROR(IF($B$2=\"トン\",AppQt.Data!BG107,(AppQt.Data!BG107*ozton*AppQt.Data!BG$7)/1000000),\"-\")","v":1.3},{"$f":"IFERROR(IF($B$2=\"トン\",AppQt.Data!BH107,(AppQt.Data!BH107*ozton*AppQt.Data!BH$7)/1000000),\"-\")","v":1.3},{"$f":"IFERROR(IF($B$2=\"トン\",AppQt.Data!BI107,(AppQt.Data!BI107*ozton*AppQt.Data!BI$7)/1000000),\"-\")","v":5.5},{"$f":"IFERROR(IF($B$2=\"トン\",AppQt.Data!BJ107,(AppQt.Data!BJ107*ozton*AppQt.Data!BJ$7)/1000000),\"-\")","v":7.5},{"$f":"IFERROR(IF($B$2=\"トン\",AppQt.Data!BK107,(AppQt.Data!BK107*ozton*AppQt.Data!BK$7)/1000000),\"-\")","v":6.5},{"$f":"IFERROR(IF($B$2=\"トン\",AppQt.Data!BL107,(AppQt.Data!BL107*ozton*AppQt.Data!BL$7)/1000000),\"-\")","v":5.5},"▲",">300"]
[null,"南北アメリカ",{"$f":"IFERROR(IF($B$2=\"トン\",AppAn.Data!L98,(AppAn.Data!L98*ozton*AppAn.Data!L$6)/1000000),\"-\")","v":113.24624942106178},{"$f":"IFERROR(IF($B$2=\"トン\",AppAn.Data!M98,(AppAn.Data!M98*ozton*AppAn.Data!M$6)/1000000),\"-\")","v":92.41861719485334},{"$f":"IFERROR(IF($B$2=\"トン\",AppAn.Data!N98,(AppAn.Data!N98*ozton*AppAn.Data!N$6)/1000000),\"-\")","v":61.621200711229193},{"$f":"IFERROR(IF($B$2=\"トン\",AppAn.Data!O98,(AppAn.Data!O98*ozton*AppAn.Data!O$6)/1000000),\"-\")","v":85.620197644429041},{"$f":"IFERROR(IF($B$2=\"トン\",AppAn.Data!P98,(AppAn.Data!P98*ozton*AppAn.Data!P$6)/1000000),\"-\")","v":56.098837342411073},{"$f":"IFERROR(IF($B$2=\"トン\",AppAn.Data!Q98,(AppAn.Data!Q98*ozton*AppAn.Data!Q$6)/1000000),\"-\")","v":78.217535999813734},{"$f":"IFERROR(IF($B$2=\"トン\",AppAn.Data!R98,(AppAn.Data!R98*ozton*AppAn.Data!R$6)/1000000),\"-\")","v":99.017121769119669},{"$f":"IFERROR(IF($B$2=\"トン\",AppAn.Data!S98,(AppAn.Data!S98*ozton*AppAn.Data!S$6)/1000000),\"-\")","v":41.843647430531853},{"$f":"IFERROR(IF($B$2=\"トン\",AppAn.Data!T98,(AppAn.Data!T98*ozton*AppAn.Data!T$6)/1000000),\"-\")","v":31.229388411754876},{"$f":"IFERROR(IF($B$2=\"トン\",AppAn.Data!U98,(AppAn.Data!U98*ozton*AppAn.Data!U$6)/1000000),\"-\")","v":24.962329304812286},{"$f":"IFERROR(IF($B$2=\"トン\",AppAn.Data!V98,(AppAn.Data!V98*ozton*AppAn.Data!V$6)/1000000),\"-\")","v":79.132791951134791},{"$f":"IFERROR(IF($B$2=\"トン\",AppAn.Data!W98,(AppAn.Data!W98*ozton*AppAn.Data!W$6)/1000000),\"-\")","v":129.69631996798168},{"$f":"IFERROR(IF($B$2=\"トン\",AppAn.Data!X98,(AppAn.Data!X98*ozton*AppAn.Data!X$6)/1000000),\"-\")","v":128.00153053492699},"▼",-1.3067367165645827,null,{"$f":"IFERROR(IF($B$2=\"トン\",AppQt.Data!M108,(AppQt.Data!M108*ozton*AppQt.Data!M$7)/1000000),\"-\")","v":18.532406751693294},{"$f":"IFERROR(IF($B$2=\"トン\",AppQt.Data!N108,(AppQt.Data!N108*ozton*AppQt.Data!N$7)/1000000),\"-\")","v":35.58805916865704},{"$f":"IFERROR(IF($B$2=\"トン\",AppQt.Data!O108,(AppQt.Data!O108*ozton*AppQt.Data!O$7)/1000000),\"-\")","v":26.156164632568277},{"$f":"IFERROR(IF($B$2=\"トン\",AppQt.Data!P108,(AppQt.Data!P108*ozton*AppQt.Data!P$7)/1000000),\"-\")","v":32.969618868143179},{"$f":"IFERROR(IF($B$2=\"トン\",AppQt.Data!Q108,(AppQt.Data!Q108*ozton*AppQt.Data!Q$7)/1000000),\"-\")","v":23.306748278736595},{"$f":"IFERROR(IF($B$2=\"トン\",AppQt.Data!R108,(AppQt.Data!R108*ozton*AppQt.Data!R$7)/1000000),\"-\")","v":22.278091258650885},{"$f":"IFERROR(IF($B$2=\"トン\",AppQt.Data!S108,(AppQt.Data!S108*ozton*AppQt.Data!S$7)/1000000),\"-\")","v":24.507787552733284},{"$f":"IFERROR(IF($B$2=\"トン\",AppQt.Data!T108,(AppQt.Data!T108*ozton*AppQt.Data!T$7)/1000000),\"-\")","v":22.325990104732583},{"$f":"IFERROR(IF($B$2=\"トン\",AppQt.Data!U108,(AppQt.Data!U108*ozton*AppQt.Data!U$7)/1000000),\"-\")","v":16.148273696955869},{"$f":"IFERROR(IF($B$2=\"トン\",AppQt.Data!V108,(AppQt.Data!V108*ozton*AppQt.Data!V$7)/1000000),\"-\")","v":13.82799477984663},{"$f":"IFERROR(IF($B$2=\"トン\",AppQt.Data!W108,(AppQt.Data!W108*ozton*AppQt.Data!W$7)/1000000),\"-\")","v":12.276767543647034},{"$f":"IFERROR(IF($B$2=\"トン\",AppQt.Data!X108,(AppQt.Data!X108*ozton*AppQt.Data!X$7)/1000000),\"-\")","v":19.368164690779672},{"$f":"IFERROR(IF($B$2=\"トン\",AppQt.Data!Y108,(AppQt.Data!Y108*ozton*AppQt.Data!Y$7)/1000000),\"-\")","v":25.043708448130257},{"$f":"IFERROR(IF($B$2=\"トン\",AppQt.Data!Z108,(AppQt.Data!Z108*ozton*AppQt.Data!Z$7)/1000000),\"-\")","v":29.722657377991219},{"$f":"IFERROR(IF($B$2=\"トン\",AppQt.Data!AA108,(AppQt.Data!AA108*ozton*AppQt.Data!AA$7)/1000000),\"-\")","v":12.943425813841898},{"$f":"IFERROR(IF($B$2=\"トン\",AppQt.Data!AB108,(AppQt.Data!AB108*ozton*AppQt.Data!AB$7)/1000000),\"-\")","v":17.910406004465671},{"$f":"IFERROR(IF($B$2=\"トン\",AppQt.Data!AC108,(AppQt.Data!AC108*ozton*AppQt.Data!AC$7)/1000000),\"-\")","v":13.75252273074627},{"$f":"IFERROR(IF($B$2=\"トン\",AppQt.Data!AD108,(AppQt.Data!AD108*ozton*AppQt.Data!AD$7)/1000000),\"-\")","v":13.315173295822623},{"$f":"IFERROR(IF($B$2=\"トン\",AppQt.Data!AE108,(AppQt.Data!AE108*ozton*AppQt.Data!AE$7)/1000000),\"-\")","v":12.115282232854387},{"$f":"IFERROR(IF($B$2=\"トン\",AppQt.Data!AF108,(AppQt.Data!AF108*ozton*AppQt.Data!AF$7)/1000000),\"-\")","v":16.91585908298779},{"$f":"IFERROR(IF($B$2=\"トン\",AppQt.Data!AG108,(AppQt.Data!AG108*ozton*AppQt.Data!AG$7)/1000000),\"-\")","v":13.462840294403474},{"$f":"IFERROR(IF($B$2=\"トン\",AppQt.Data!AH108,(AppQt.Data!AH108*ozton*AppQt.Data!AH$7)/1000000),\"-\")","v":13.717608164507332},{"$f":"IFERROR(IF($B$2=\"トン\",AppQt.Data!AI108,(AppQt.Data!AI108*ozton*AppQt.Data!AI$7)/1000000),\"-\")","v":32.765675323518622},{"$f":"IFERROR(IF($B$2=\"トン\",AppQt.Data!AJ108,(AppQt.Data!AJ108*ozton*AppQt.Data!AJ$7)/1000000),\"-\")","v":18.271412217384313},{"$f":"IFERROR(IF($B$2=\"トン\",AppQt.Data!AK108,(AppQt.Data!AK108*ozton*AppQt.Data!AK$7)/1000000),\"-\")","v":22.99703507013389},{"$f":"IFERROR(IF($B$2=\"トン\",AppQt.Data!AL108,(AppQt.Data!AL108*ozton*AppQt.Data!AL$7)/1000000),\"-\")","v":29.004675734190538},{"$f":"IFERROR(IF($B$2=\"トン\",AppQt.Data!AM108,(AppQt.Data!AM108*ozton*AppQt.Data!AM$7)/1000000),\"-\")","v":18.700693362873967},{"$f":"IFERROR(IF($B$2=\"トン\",AppQt.Data!AN108,(AppQt.Data!AN108*ozton*AppQt.Data!AN$7)/1000000),\"-\")","v":28.314717601921259},{"$f":"IFERROR(IF($B$2=\"トン\",AppQt.Data!AO108,(AppQt.Data!AO108*ozton*AppQt.Data!AO$7)/1000000),\"-\")","v":17.95418767526353},{"$f":"IFERROR(IF($B$2=\"トン\",AppQt.Data!AP108,(AppQt.Data!AP108*ozton*AppQt.Data!AP$7)/1000000),\"-\")","v":5.8759917491872988},{"$f":"IFERROR(IF($B$2=\"トン\",AppQt.Data!AQ108,(AppQt.Data!AQ108*ozton*AppQt.Data!AQ$7)/1000000),\"-\")","v":7.6232042892564955},{"$f":"IFERROR(IF($B$2=\"トン\",AppQt.Data!AR108,(AppQt.Data!AR108*ozton*AppQt.Data!AR$7)/1000000),\"-\")","v":10.390263716824526},{"$f":"IFERROR(IF($B$2=\"トン\",AppQt.Data!AS108,(AppQt.Data!AS108*ozton*AppQt.Data!AS$7)/1000000),\"-\")","v":7.2517775831160023},{"$f":"IFERROR(IF($B$2=\"トン\",AppQt.Data!AT108,(AppQt.Data!AT108*ozton*AppQt.Data!AT$7)/1000000),\"-\")","v":6.1028277390730281},{"$f":"IFERROR(IF($B$2=\"トン\",AppQt.Data!AU108,(AppQt.Data!AU108*ozton*AppQt.Data!AU$7)/1000000),\"-\")","v":8.9718600433804081},{"$f":"IFERROR(IF($B$2=\"トン\",AppQt.Data!AV108,(AppQt.Data!AV108*ozton*AppQt.Data!AV$7)/1000000),\"-\")","v":8.9029230461854389},{"$f":"IFERROR(IF($B$2=\"トン\",AppQt.Data!AW108,(AppQt.Data!AW108*ozton*AppQt.Data!AW$7)/1000000),\"-\")","v":8.8550092782816456},{"$f":"IFERROR(IF($B$2=\"トン\",AppQt.Data!AX108,(AppQt.Data!AX108*ozton*AppQt.Data!AX$7)/1000000),\"-\")","v":4.2833135902069408},{"$f":"IFERROR(IF($B$2=\"トン\",AppQt.Data!AY108,(AppQt.Data!AY108*ozton*AppQt.Data!AY$7)/1000000),\"-\")","v":5.8262418996029792},{"$f":"IFERROR(IF($B$2=\"トン\",AppQt.Data!AZ108,(AppQt.Data!AZ108*ozton*AppQt.Data!AZ$7)/1000000),\"-\")","v":5.9977645367207213},{"$f":"IFERROR(IF($B$2=\"トン\",AppQt.Data!BA108,(AppQt.Data!BA108*ozton*AppQt.Data!BA$7)/1000000),\"-\")","v":17.058163965102707},{"$f":"IFERROR(IF($B$2=\"トン\",AppQt.Data!BB108,(AppQt.Data!BB108*ozton*AppQt.Data!BB$7)/1000000),\"-\")","v":16.873412537977526},{"$f":"IFERROR(IF($B$2=\"トン\",AppQt.Data!BC108,(AppQt.Data!BC108*ozton*AppQt.Data!BC$7)/1000000),\"-\")","v":24.808869470253974},{"$f":"IFERROR(IF($B$2=\"トン\",AppQt.Data!BD108,(AppQt.Data!BD108*ozton*AppQt.Data!BD$7)/1000000),\"-\")","v":20.392345977800577},{"$f":"IFERROR(IF($B$2=\"トン\",AppQt.Data!BE108,(AppQt.Data!BE108*ozton*AppQt.Data!BE$7)/1000000),\"-\")","v":35.161619103580321},{"$f":"IFERROR(IF($B$2=\"トン\",AppQt.Data!BF108,(AppQt.Data!BF108*ozton*AppQt.Data!BF$7)/1000000),\"-\")","v":33.97681302469806},{"$f":"IFERROR(IF($B$2=\"トン\",AppQt.Data!BG108,(AppQt.Data!BG108*ozton*AppQt.Data!BG$7)/1000000),\"-\")","v":27.260629931081613},{"$f":"IFERROR(IF($B$2=\"トン\",AppQt.Data!BH108,(AppQt.Data!BH108*ozton*AppQt.Data!BH$7)/1000000),\"-\")","v":33.297257908621724},{"$f":"IFERROR(IF($B$2=\"トン\",AppQt.Data!BI108,(AppQt.Data!BI108*ozton*AppQt.Data!BI$7)/1000000),\"-\")","v":34.95696185494522},{"$f":"IFERROR(IF($B$2=\"トン\",AppQt.Data!BJ108,(AppQt.Data!BJ108*ozton*AppQt.Data!BJ$7)/1000000),\"-\")","v":32.925369329884994},{"$f":"IFERROR(IF($B$2=\"トン\",AppQt.Data!BK108,(AppQt.Data!BK108*ozton*AppQt.Data!BK$7)/1000000),\"-\")","v":28.414569398344828},{"$f":"IFERROR(IF($B$2=\"トン\",AppQt.Data!BL108,(AppQt.Data!BL108*ozton*AppQt.Data!BL$7)/1000000),\"-\")","v":31.704629951751969},"▼",-4.7830603986683595]
[null,"米国",{"$f":"IFERROR(IF($B$2=\"トン\",AppAn.Data!L99,(AppAn.Data!L99*ozton*AppAn.Data!L$6)/1000000),\"-\")","v":104.35015793448123},{"$f":"IFERROR(IF($B$2=\"トン\",AppAn.Data!M99,(AppAn.Data!M99*ozton*AppAn.Data!M$6)/1000000),\"-\")","v":82.613907985532762},{"$f":"IFERROR(IF($B$2=\"トン\",AppAn.Data!N99,(AppAn.Data!N99*ozton*AppAn.Data!N$6)/1000000),\"-\")","v":53.132514108832922},{"$f":"IFERROR(IF($B$2=\"トン\",AppAn.Data!O99,(AppAn.Data!O99*ozton*AppAn.Data!O$6)/1000000),\"-\")","v":75.273019471993393},{"$f":"IFERROR(IF($B$2=\"トン\",AppAn.Data!P99,(AppAn.Data!P99*ozton*AppAn.Data!P$6)/1000000),\"-\")","v":48.188569966922437},{"$f":"IFERROR(IF($B$2=\"トン\",AppAn.Data!Q99,(AppAn.Data!Q99*ozton*AppAn.Data!Q$6)/1000000),\"-\")","v":71.05362192267674},{"$f":"IFERROR(IF($B$2=\"トン\",AppAn.Data!R99,(AppAn.Data!R99*ozton*AppAn.Data!R$6)/1000000),\"-\")","v":91.320775039550512},{"$f":"IFERROR(IF($B$2=\"トン\",AppAn.Data!S99,(AppAn.Data!S99*ozton*AppAn.Data!S$6)/1000000),\"-\")","v":35.207625673240784},{"$f":"IFERROR(IF($B$2=\"トン\",AppAn.Data!T99,(AppAn.Data!T99*ozton*AppAn.Data!T$6)/1000000),\"-\")","v":26.066251821827663},{"$f":"IFERROR(IF($B$2=\"トン\",AppAn.Data!U99,(AppAn.Data!U99*ozton*AppAn.Data!U$6)/1000000),\"-\")","v":19.699777509670096},{"$f":"IFERROR(IF($B$2=\"トン\",AppAn.Data!V99,(AppAn.Data!V99*ozton*AppAn.Data!V$6)/1000000),\"-\")","v":69.120638013442871},{"$f":"IFERROR(IF($B$2=\"トン\",AppAn.Data!W99,(AppAn.Data!W99*ozton*AppAn.Data!W$6)/1000000),\"-\")","v":115.84463550282653},{"$f":"IFERROR(IF($B$2=\"トン\",AppAn.Data!X99,(AppAn.Data!X99*ozton*AppAn.Data!X$6)/1000000),\"-\")","v":112.86315723296347},"▼",-2.5736869531522766,null,{"$f":"IFERROR(IF($B$2=\"トン\",AppQt.Data!M109,(AppQt.Data!M109*ozton*AppQt.Data!M$7)/1000000),\"-\")","v":16.466782541451991},{"$f":"IFERROR(IF($B$2=\"トン\",AppQt.Data!N109,(AppQt.Data!N109*ozton*AppQt.Data!N$7)/1000000),\"-\")","v":32.785963182930352},{"$f":"IFERROR(IF($B$2=\"トン\",AppQt.Data!O109,(AppQt.Data!O109*ozton*AppQt.Data!O$7)/1000000),\"-\")","v":24.090031107791667},{"$f":"IFERROR(IF($B$2=\"トン\",AppQt.Data!P109,(AppQt.Data!P109*ozton*AppQt.Data!P$7)/1000000),\"-\")","v":31.007381102307225},{"$f":"IFERROR(IF($B$2=\"トン\",AppQt.Data!Q109,(AppQt.Data!Q109*ozton*AppQt.Data!Q$7)/1000000),\"-\")","v":20.805980531183685},{"$f":"IFERROR(IF($B$2=\"トン\",AppQt.Data!R109,(AppQt.Data!R109*ozton*AppQt.Data!R$7)/1000000),\"-\")","v":20.408634446715475},{"$f":"IFERROR(IF($B$2=\"トン\",AppQt.Data!S109,(AppQt.Data!S109*ozton*AppQt.Data!S$7)/1000000),\"-\")","v":21.688869420857387},{"$f":"IFERROR(IF($B$2=\"トン\",AppQt.Data!T109,(AppQt.Data!T109*ozton*AppQt.Data!T$7)/1000000),\"-\")","v":19.710423586776209},{"$f":"IFERROR(IF($B$2=\"トン\",AppQt.Data!U109,(AppQt.Data!U109*ozton*AppQt.Data!U$7)/1000000),\"-\")","v":14.050851662550063},{"$f":"IFERROR(IF($B$2=\"トン\",AppQt.Data!V109,(AppQt.Data!V109*ozton*AppQt.Data!V$7)/1000000),\"-\")","v":12.397989855667053},{"$f":"IFERROR(IF($B$2=\"トン\",AppQt.Data!W109,(AppQt.Data!W109*ozton*AppQt.Data!W$7)/1000000),\"-\")","v":10.29236922137896},{"$f":"IFERROR(IF($B$2=\"トン\",AppQt.Data!X109,(AppQt.Data!X109*ozton*AppQt.Data!X$7)/1000000),\"-\")","v":16.391303369236844},{"$f":"IFERROR(IF($B$2=\"トン\",AppQt.Data!Y109,(AppQt.Data!Y109*ozton*AppQt.Data!Y$7)/1000000),\"-\")","v":23.255979262957556},{"$f":"IFERROR(IF($B$2=\"トン\",AppQt.Data!Z109,(AppQt.Data!Z109*ozton*AppQt.Data!Z$7)/1000000),\"-\")","v":26.802150482536202},{"$f":"IFERROR(IF($B$2=\"トン\",AppQt.Data!AA109,(AppQt.Data!AA109*ozton*AppQt.Data!AA$7)/1000000),\"-\")","v":10.036618986742644},{"$f":"IFERROR(IF($B$2=\"トン\",AppQt.Data!AB109,(AppQt.Data!AB109*ozton*AppQt.Data!AB$7)/1000000),\"-\")","v":15.178270739756995},{"$f":"IFERROR(IF($B$2=\"トン\",AppQt.Data!AC109,(AppQt.Data!AC109*ozton*AppQt.Data!AC$7)/1000000),\"-\")","v":11.388299584097627},{"$f":"IFERROR(IF($B$2=\"トン\",AppQt.Data!AD109,(AppQt.Data!AD109*ozton*AppQt.Data!AD$7)/1000000),\"-\")","v":11.682910096770122},{"$f":"IFERROR(IF($B$2=\"トン\",AppQt.Data!AE109,(AppQt.Data!AE109*ozton*AppQt.Data!AE$7)/1000000),\"-\")","v":10.591564351358791},{"$f":"IFERROR(IF($B$2=\"トン\",AppQt.Data!AF109,(AppQt.Data!AF109*ozton*AppQt.Data!AF$7)/1000000),\"-\")","v":14.525795934695898},{"$f":"IFERROR(IF($B$2=\"トン\",AppQt.Data!AG109,(AppQt.Data!AG109*ozton*AppQt.Data!AG$7)/1000000),\"-\")","v":11.699114296410864},{"$f":"IFERROR(IF($B$2=\"トン\",AppQt.Data!AH109,(AppQt.Data!AH109*ozton*AppQt.Data!AH$7)/1000000),\"-\")","v":12.309618727917243},{"$f":"IFERROR(IF($B$2=\"トン\",AppQt.Data!AI109,(AppQt.Data!AI109*ozton*AppQt.Data!AI$7)/1000000),\"-\")","v":30.585410279323938},{"$f":"IFERROR(IF($B$2=\"トン\",AppQt.Data!AJ109,(AppQt.Data!AJ109*ozton*AppQt.Data!AJ$7)/1000000),\"-\")","v":16.459478619024694},{"$f":"IFERROR(IF($B$2=\"トン\",AppQt.Data!AK109,(AppQt.Data!AK109*ozton*AppQt.Data!AK$7)/1000000),\"-\")","v":20.944392371333645},{"$f":"IFERROR(IF($B$2=\"トン\",AppQt.Data!AL109,(AppQt.Data!AL109*ozton*AppQt.Data!AL$7)/1000000),\"-\")","v":27.078255150327891},{"$f":"IFERROR(IF($B$2=\"トン\",AppQt.Data!AM109,(AppQt.Data!AM109*ozton*AppQt.Data!AM$7)/1000000),\"-\")","v":17.086040671559232},{"$f":"IFERROR(IF($B$2=\"トン\",AppQt.Data!AN109,(AppQt.Data!AN109*ozton*AppQt.Data!AN$7)/1000000),\"-\")","v":26.21208684632974},{"$f":"IFERROR(IF($B$2=\"トン\",AppQt.Data!AO109,(AppQt.Data!AO109*ozton*AppQt.Data!AO$7)/1000000),\"-\")","v":15.506605175523317},{"$f":"IFERROR(IF($B$2=\"トン\",AppQt.Data!AP109,(AppQt.Data!AP109*ozton*AppQt.Data!AP$7)/1000000),\"-\")","v":4.8440764891905346},{"$f":"IFERROR(IF($B$2=\"トン\",AppQt.Data!AQ109,(AppQt.Data!AQ109*ozton*AppQt.Data!AQ$7)/1000000),\"-\")","v":6.0418775977649499},{"$f":"IFERROR(IF($B$2=\"トン\",AppQt.Data!AR109,(AppQt.Data!AR109*ozton*AppQt.Data!AR$7)/1000000),\"-\")","v":8.8150664107619772},{"$f":"IFERROR(IF($B$2=\"トン\",AppQt.Data!AS109,(AppQt.Data!AS109*ozton*AppQt.Data!AS$7)/1000000),\"-\")","v":5.5403999078487498},{"$f":"IFERROR(IF($B$2=\"トン\",AppQt.Data!AT109,(AppQt.Data!AT109*ozton*AppQt.Data!AT$7)/1000000),\"-\")","v":5.1840545196641425},{"$f":"IFERROR(IF($B$2=\"トン\",AppQt.Data!AU109,(AppQt.Data!AU109*ozton*AppQt.Data!AU$7)/1000000),\"-\")","v":7.6352744114981306},{"$f":"IFERROR(IF($B$2=\"トン\",AppQt.Data!AV109,(AppQt.Data!AV109*ozton*AppQt.Data!AV$7)/1000000),\"-\")","v":7.7065229828166402},{"$f":"IFERROR(IF($B$2=\"トン\",AppQt.Data!AW109,(AppQt.Data!AW109*ozton*AppQt.Data!AW$7)/1000000),\"-\")","v":7.30899704647035},{"$f":"IFERROR(IF($B$2=\"トン\",AppQt.Data!AX109,(AppQt.Data!AX109*ozton*AppQt.Data!AX$7)/1000000),\"-\")","v":3.3395058604670163},{"$f":"IFERROR(IF($B$2=\"トン\",AppQt.Data!AY109,(AppQt.Data!AY109*ozton*AppQt.Data!AY$7)/1000000),\"-\")","v":4.5650437025557355},{"$f":"IFERROR(IF($B$2=\"トン\",AppQt.Data!AZ109,(AppQt.Data!AZ109*ozton*AppQt.Data!AZ$7)/1000000),\"-\")","v":4.4862309001769924},{"$f":"IFERROR(IF($B$2=\"トン\",AppQt.Data!BA109,(AppQt.Data!BA109*ozton*AppQt.Data!BA$7)/1000000),\"-\")","v":14.894125408746863},{"$f":"IFERROR(IF($B$2=\"トン\",AppQt.Data!BB109,(AppQt.Data!BB109*ozton*AppQt.Data!BB$7)/1000000),\"-\")","v":14.210778579081401},{"$f":"IFERROR(IF($B$2=\"トン\",AppQt.Data!BC109,(AppQt.Data!BC109*ozton*AppQt.Data!BC$7)/1000000),\"-\")","v":21.891223688445162},{"$f":"IFERROR(IF($B$2=\"トン\",AppQt.Data!BD109,(AppQt.Data!BD109*ozton*AppQt.Data!BD$7)/1000000),\"-\")","v":18.124510337169443},{"$f":"IFERROR(IF($B$2=\"トン\",AppQt.Data!BE109,(AppQt.Data!BE109*ozton*AppQt.Data!BE$7)/1000000),\"-\")","v":31.680982040484928},{"$f":"IFERROR(IF($B$2=\"トン\",AppQt.Data!BF109,(AppQt.Data!BF109*ozton*AppQt.Data!BF$7)/1000000),\"-\")","v":29.743085492963203},{"$f":"IFERROR(IF($B$2=\"トン\",AppQt.Data!BG109,(AppQt.Data!BG109*ozton*AppQt.Data!BG$7)/1000000),\"-\")","v":24.539495594607331},{"$f":"IFERROR(IF($B$2=\"トン\",AppQt.Data!BH109,(AppQt.Data!BH109*ozton*AppQt.Data!BH$7)/1000000),\"-\")","v":29.88107237477108},{"$f":"IFERROR(IF($B$2=\"トン\",AppQt.Data!BI109,(AppQt.Data!BI109*ozton*AppQt.Data!BI$7)/1000000),\"-\")","v":30.986341350062325},{"$f":"IFERROR(IF($B$2=\"トン\",AppQt.Data!BJ109,(AppQt.Data!BJ109*ozton*AppQt.Data!BJ$7)/1000000),\"-\")","v":28.744499312795504},{"$f":"IFERROR(IF($B$2=\"トン\",AppQt.Data!BK109,(AppQt.Data!BK109*ozton*AppQt.Data!BK$7)/1000000),\"-\")","v":25.134170669139074},{"$f":"IFERROR(IF($B$2=\"トン\",AppQt.Data!BL109,(AppQt.Data!BL109*ozton*AppQt.Data!BL$7)/1000000),\"-\")","v":27.998145900966573},"▼",-6.3014019382861335]
[null,"カナダ",{"$f":"IFERROR(IF($B$2=\"トン\",AppAn.Data!L100,(AppAn.Data!L100*ozton*AppAn.Data!L$6)/1000000),\"-\")","v":3.6976489168542308},{"$f":"IFERROR(IF($B$2=\"トン\",AppAn.Data!M100,(AppAn.Data!M100*ozton*AppAn.Data!M$6)/1000000),\"-\")","v":5.9480273845080127},{"$f":"IFERROR(IF($B$2=\"トン\",AppAn.Data!N100,(AppAn.Data!N100*ozton*AppAn.Data!N$6)/1000000),\"-\")","v":4.3955080492447003},{"$f":"IFERROR(IF($B$2=\"トン\",AppAn.Data!O100,(AppAn.Data!O100*ozton*AppAn.Data!O$6)/1000000),\"-\")","v":6.4483837892543656},{"$f":"IFERROR(IF($B$2=\"トン\",AppAn.Data!P100,(AppAn.Data!P100*ozton*AppAn.Data!P$6)/1000000),\"-\")","v":4.403688823854357},{"$f":"IFERROR(IF($B$2=\"トン\",AppAn.Data!Q100,(AppAn.Data!Q100*ozton*AppAn.Data!Q$6)/1000000),\"-\")","v":3.3687885500305317},{"$f":"IFERROR(IF($B$2=\"トン\",AppAn.Data!R100,(AppAn.Data!R100*ozton*AppAn.Data!R$6)/1000000),\"-\")","v":4.1446467380230079},{"$f":"IFERROR(IF($B$2=\"トン\",AppAn.Data!S100,(AppAn.Data!S100*ozton*AppAn.Data!S$6)/1000000),\"-\")","v":2.8964706197152563},{"$f":"IFERROR(IF($B$2=\"トン\",AppAn.Data!T100,(AppAn.Data!T100*ozton*AppAn.Data!T$6)/1000000),\"-\")","v":2.1911259402648056},{"$f":"IFERROR(IF($B$2=\"トン\",AppAn.Data!U100,(AppAn.Data!U100*ozton*AppAn.Data!U$6)/1000000),\"-\")","v":2.9571382031500746},{"$f":"IFERROR(IF($B$2=\"トン\",AppAn.Data!V100,(AppAn.Data!V100*ozton*AppAn.Data!V$6)/1000000),\"-\")","v":7.7139372749885409},{"$f":"IFERROR(IF($B$2=\"トン\",AppAn.Data!W100,(AppAn.Data!W100*ozton*AppAn.Data!W$6)/1000000),\"-\")","v":10.816125666634155},{"$f":"IFERROR(IF($B$2=\"トン\",AppAn.Data!X100,(AppAn.Data!X100*ozton*AppAn.Data!X$6)/1000000),\"-\")","v":12.105094975021863},"▲",11.917107364644908,null,{"$f":"IFERROR(IF($B$2=\"トン\",AppQt.Data!M110,(AppQt.Data!M110*ozton*AppQt.Data!M$7)/1000000),\"-\")","v":0.96779173331227752},{"$f":"IFERROR(IF($B$2=\"トン\",AppQt.Data!N110,(AppQt.Data!N110*ozton*AppQt.Data!N$7)/1000000),\"-\")","v":1.2531912327622181},{"$f":"IFERROR(IF($B$2=\"トン\",AppQt.Data!O110,(AppQt.Data!O110*ozton*AppQt.Data!O$7)/1000000),\"-\")","v":0.64936996576596662},{"$f":"IFERROR(IF($B$2=\"トン\",AppQt.Data!P110,(AppQt.Data!P110*ozton*AppQt.Data!P$7)/1000000),\"-\")","v":0.82729598501376889},{"$f":"IFERROR(IF($B$2=\"トン\",AppQt.Data!Q110,(AppQt.Data!Q110*ozton*AppQt.Data!Q$7)/1000000),\"-\")","v":1.7867573526851634},{"$f":"IFERROR(IF($B$2=\"トン\",AppQt.Data!R110,(AppQt.Data!R110*ozton*AppQt.Data!R$7)/1000000),\"-\")","v":0.68247807853038589},{"$f":"IFERROR(IF($B$2=\"トン\",AppQt.Data!S110,(AppQt.Data!S110*ozton*AppQt.Data!S$7)/1000000),\"-\")","v":1.9074956577610158},{"$f":"IFERROR(IF($B$2=\"トン\",AppQt.Data!T110,(AppQt.Data!T110*ozton*AppQt.Data!T$7)/1000000),\"-\")","v":1.5712962955314476},{"$f":"IFERROR(IF($B$2=\"トン\",AppQt.Data!U110,(AppQt.Data!U110*ozton*AppQt.Data!U$7)/1000000),\"-\")","v":1.0950067874177272},{"$f":"IFERROR(IF($B$2=\"トン\",AppQt.Data!V110,(AppQt.Data!V110*ozton*AppQt.Data!V$7)/1000000),\"-\")","v":0.70953013467325032},{"$f":"IFERROR(IF($B$2=\"トン\",AppQt.Data!W110,(AppQt.Data!W110*ozton*AppQt.Data!W$7)/1000000),\"-\")","v":1.0138166344376189},{"$f":"IFERROR(IF($B$2=\"トン\",AppQt.Data!X110,(AppQt.Data!X110*ozton*AppQt.Data!X$7)/1000000),\"-\")","v":1.5771544927161041},{"$f":"IFERROR(IF($B$2=\"トン\",AppQt.Data!Y110,(AppQt.Data!Y110*ozton*AppQt.Data!Y$7)/1000000),\"-\")","v":0.95817398407214593},{"$f":"IFERROR(IF($B$2=\"トン\",AppQt.Data!Z110,(AppQt.Data!Z110*ozton*AppQt.Data!Z$7)/1000000),\"-\")","v":1.9848233909187234},{"$f":"IFERROR(IF($B$2=\"トン\",AppQt.Data!AA110,(AppQt.Data!AA110*ozton*AppQt.Data!AA$7)/1000000),\"-\")","v":1.8390811495548178},{"$f":"IFERROR(IF($B$2=\"トン\",AppQt.Data!AB110,(AppQt.Data!AB110*ozton*AppQt.Data!AB$7)/1000000),\"-\")","v":1.6663052647086785},{"$f":"IFERROR(IF($B$2=\"トン\",AppQt.Data!AC110,(AppQt.Data!AC110*ozton*AppQt.Data!AC$7)/1000000),\"-\")","v":1.2628709805751752},{"$f":"IFERROR(IF($B$2=\"トン\",AppQt.Data!AD110,(AppQt.Data!AD110*ozton*AppQt.Data!AD$7)/1000000),\"-\")","v":1.0008803206879633},{"$f":"IFERROR(IF($B$2=\"トン\",AppQt.Data!AE110,(AppQt.Data!AE110*ozton*AppQt.Data!AE$7)/1000000),\"-\")","v":0.75202151834639852},{"$f":"IFERROR(IF($B$2=\"トン\",AppQt.Data!AF110,(AppQt.Data!AF110*ozton*AppQt.Data!AF$7)/1000000),\"-\")","v":1.3879160042448202},{"$f":"IFERROR(IF($B$2=\"トン\",AppQt.Data!AG110,(AppQt.Data!AG110*ozton*AppQt.Data!AG$7)/1000000),\"-\")","v":0.87736403848901778},{"$f":"IFERROR(IF($B$2=\"トン\",AppQt.Data!AH110,(AppQt.Data!AH110*ozton*AppQt.Data!AH$7)/1000000),\"-\")","v":0.63721257235569473},{"$f":"IFERROR(IF($B$2=\"トン\",AppQt.Data!AI110,(AppQt.Data!AI110*ozton*AppQt.Data!AI$7)/1000000),\"-\")","v":1.0216009590962394},{"$f":"IFERROR(IF($B$2=\"トン\",AppQt.Data!AJ110,(AppQt.Data!AJ110*ozton*AppQt.Data!AJ$7)/1000000),\"-\")","v":0.83261098008958001},{"$f":"IFERROR(IF($B$2=\"トン\",AppQt.Data!AK110,(AppQt.Data!AK110*ozton*AppQt.Data!AK$7)/1000000),\"-\")","v":1.1072963381582757},{"$f":"IFERROR(IF($B$2=\"トン\",AppQt.Data!AL110,(AppQt.Data!AL110*ozton*AppQt.Data!AL$7)/1000000),\"-\")","v":1.285948063567786},{"$f":"IFERROR(IF($B$2=\"トン\",AppQt.Data!AM110,(AppQt.Data!AM110*ozton*AppQt.Data!AM$7)/1000000),\"-\")","v":0.63958713601007999},{"$f":"IFERROR(IF($B$2=\"トン\",AppQt.Data!AN110,(AppQt.Data!AN110*ozton*AppQt.Data!AN$7)/1000000),\"-\")","v":1.1118152002868662},{"$f":"IFERROR(IF($B$2=\"トン\",AppQt.Data!AO110,(AppQt.Data!AO110*ozton*AppQt.Data!AO$7)/1000000),\"-\")","v":1.3225105710288187},{"$f":"IFERROR(IF($B$2=\"トン\",AppQt.Data!AP110,(AppQt.Data!AP110*ozton*AppQt.Data!AP$7)/1000000),\"-\")","v":0.30716801729824783},{"$f":"IFERROR(IF($B$2=\"トン\",AppQt.Data!AQ110,(AppQt.Data!AQ110*ozton*AppQt.Data!AQ$7)/1000000),\"-\")","v":0.57989172597880834},{"$f":"IFERROR(IF($B$2=\"トン\",AppQt.Data!AR110,(AppQt.Data!AR110*ozton*AppQt.Data!AR$7)/1000000),\"-\")","v":0.68690030540938141},{"$f":"IFERROR(IF($B$2=\"トン\",AppQt.Data!AS110,(AppQt.Data!AS110*ozton*AppQt.Data!AS$7)/1000000),\"-\")","v":0.62415330217896292},{"$f":"IFERROR(IF($B$2=\"トン\",AppQt.Data!AT110,(AppQt.Data!AT110*ozton*AppQt.Data!AT$7)/1000000),\"-\")","v":0.42827528234409074},{"$f":"IFERROR(IF($B$2=\"トン\",AppQt.Data!AU110,(AppQt.Data!AU110*ozton*AppQt.Data!AU$7)/1000000),\"-\")","v":0.62807392338377532},{"$f":"IFERROR(IF($B$2=\"トン\",AppQt.Data!AV110,(AppQt.Data!AV110*ozton*AppQt.Data!AV$7)/1000000),\"-\")","v":0.51062343235797658},{"$f":"IFERROR(IF($B$2=\"トン\",AppQt.Data!AW110,(AppQt.Data!AW110*ozton*AppQt.Data!AW$7)/1000000),\"-\")","v":0.94161244689779822},{"$f":"IFERROR(IF($B$2=\"トン\",AppQt.Data!AX110,(AppQt.Data!AX110*ozton*AppQt.Data!AX$7)/1000000),\"-\")","v":0.49906668307939422},{"$f":"IFERROR(IF($B$2=\"トン\",AppQt.Data!AY110,(AppQt.Data!AY110*ozton*AppQt.Data!AY$7)/1000000),\"-\")","v":0.66935547434135945},{"$f":"IFERROR(IF($B$2=\"トン\",AppQt.Data!AZ110,(AppQt.Data!AZ110*ozton*AppQt.Data!AZ$7)/1000000),\"-\")","v":0.84710359883152275},{"$f":"IFERROR(IF($B$2=\"トン\",AppQt.Data!BA110,(AppQt.Data!BA110*ozton*AppQt.Data!BA$7)/1000000),\"-\")","v":1.7000121950461562},{"$f":"IFERROR(IF($B$2=\"トン\",AppQt.Data!BB110,(AppQt.Data!BB110*ozton*AppQt.Data!BB$7)/1000000),\"-\")","v":2.0768401852067333},{"$f":"IFERROR(IF($B$2=\"トン\",AppQt.Data!BC110,(AppQt.Data!BC110*ozton*AppQt.Data!BC$7)/1000000),\"-\")","v":2.2768698414108188},{"$f":"IFERROR(IF($B$2=\"トン\",AppQt.Data!BD110,(AppQt.Data!BD110*ozton*AppQt.Data!BD$7)/1000000),\"-\")","v":1.6602150533248325},{"$f":"IFERROR(IF($B$2=\"トン\",AppQt.Data!BE110,(AppQt.Data!BE110*ozton*AppQt.Data!BE$7)/1000000),\"-\")","v":2.7372152488554038},{"$f":"IFERROR(IF($B$2=\"トン\",AppQt.Data!BF110,(AppQt.Data!BF110*ozton*AppQt.Data!BF$7)/1000000),\"-\")","v":3.4872620501066054},{"$f":"IFERROR(IF($B$2=\"トン\",AppQt.Data!BG110,(AppQt.Data!BG110*ozton*AppQt.Data!BG$7)/1000000),\"-\")","v":1.9357594877834212},{"$f":"IFERROR(IF($B$2=\"トン\",AppQt.Data!BH110,(AppQt.Data!BH110*ozton*AppQt.Data!BH$7)/1000000),\"-\")","v":2.6558888798887246},{"$f":"IFERROR(IF($B$2=\"トン\",AppQt.Data!BI110,(AppQt.Data!BI110*ozton*AppQt.Data!BI$7)/1000000),\"-\")","v":3.2001149513021128},{"$f":"IFERROR(IF($B$2=\"トン\",AppQt.Data!BJ110,(AppQt.Data!BJ110*ozton*AppQt.Data!BJ$7)/1000000),\"-\")","v":3.4264771297900349},{"$f":"IFERROR(IF($B$2=\"トン\",AppQt.Data!BK110,(AppQt.Data!BK110*ozton*AppQt.Data!BK$7)/1000000),\"-\")","v":2.5266682875024369},{"$f":"IFERROR(IF($B$2=\"トン\",AppQt.Data!BL110,(AppQt.Data!BL110*ozton*AppQt.Data!BL$7)/1000000),\"-\")","v":2.9518346064272789},"▲",11.143001078831038]
[null,"メキシコ",{"$f":"IFERROR(IF($B$2=\"トン\",AppAn.Data!L101,(AppAn.Data!L101*ozton*AppAn.Data!L$6)/1000000),\"-\")","v":4.7022852363929859},{"$f":"IFERROR(IF($B$2=\"トン\",AppAn.Data!M101,(AppAn.Data!M101*ozton*AppAn.Data!M$6)/1000000),\"-\")","v":2.9430893248125738},{"$f":"IFERROR(IF($B$2=\"トン\",AppAn.Data!N101,(AppAn.Data!N101*ozton*AppAn.Data!N$6)/1000000),\"-\")","v":3.0949473031515797},{"$f":"IFERROR(IF($B$2=\"トン\",AppAn.Data!O101,(AppAn.Data!O101*ozton*AppAn.Data!O$6)/1000000),\"-\")","v":2.5135073519312785},{"$f":"IFERROR(IF($B$2=\"トン\",AppAn.Data!P101,(AppAn.Data!P101*ozton*AppAn.Data!P$6)/1000000),\"-\")","v":2.2071185516342746},{"$f":"IFERROR(IF($B$2=\"トン\",AppAn.Data!Q101,(AppAn.Data!Q101*ozton*AppAn.Data!Q$6)/1000000),\"-\")","v":2.3776255271064661},{"$f":"IFERROR(IF($B$2=\"トン\",AppAn.Data!R101,(AppAn.Data!R101*ozton*AppAn.Data!R$6)/1000000),\"-\")","v":2.2759499915461419},{"$f":"IFERROR(IF($B$2=\"トン\",AppAn.Data!S101,(AppAn.Data!S101*ozton*AppAn.Data!S$6)/1000000),\"-\")","v":2.7090011375758145},{"$f":"IFERROR(IF($B$2=\"トン\",AppAn.Data!T101,(AppAn.Data!T101*ozton*AppAn.Data!T$6)/1000000),\"-\")","v":2.044515649662408},{"$f":"IFERROR(IF($B$2=\"トン\",AppAn.Data!U101,(AppAn.Data!U101*ozton*AppAn.Data!U$6)/1000000),\"-\")","v":1.4242933419921195},{"$f":"IFERROR(IF($B$2=\"トン\",AppAn.Data!V101,(AppAn.Data!V101*ozton*AppAn.Data!V$6)/1000000),\"-\")","v":0.86794378770338021},{"$f":"IFERROR(IF($B$2=\"トン\",AppAn.Data!W101,(AppAn.Data!W101*ozton*AppAn.Data!W$6)/1000000),\"-\")","v":1.3955587985210138},{"$f":"IFERROR(IF($B$2=\"トン\",AppAn.Data!X101,(AppAn.Data!X101*ozton*AppAn.Data!X$6)/1000000),\"-\")","v":1.4549052019416622},"▲",4.2525190256077039,null,{"$f":"IFERROR(IF($B$2=\"トン\",AppQt.Data!M111,(AppQt.Data!M111*ozton*AppQt.Data!M$7)/1000000),\"-\")","v":1.0362938102623565},{"$f":"IFERROR(IF($B$2=\"トン\",AppQt.Data!N111,(AppQt.Data!N111*ozton*AppQt.Data!N$7)/1000000),\"-\")","v":1.4758274196311387},{"$f":"IFERROR(IF($B$2=\"トン\",AppQt.Data!O111,(AppQt.Data!O111*ozton*AppQt.Data!O$7)/1000000),\"-\")","v":1.2475315590106413},{"$f":"IFERROR(IF($B$2=\"トン\",AppQt.Data!P111,(AppQt.Data!P111*ozton*AppQt.Data!P$7)/1000000),\"-\")","v":0.94263244748884989},{"$f":"IFERROR(IF($B$2=\"トン\",AppQt.Data!Q111,(AppQt.Data!Q111*ozton*AppQt.Data!Q$7)/1000000),\"-\")","v":0.62721733931218804},{"$f":"IFERROR(IF($B$2=\"トン\",AppQt.Data!R111,(AppQt.Data!R111*ozton*AppQt.Data!R$7)/1000000),\"-\")","v":0.9986754000716892},{"$f":"IFERROR(IF($B$2=\"トン\",AppQt.Data!S111,(AppQt.Data!S111*ozton*AppQt.Data!S$7)/1000000),\"-\")","v":0.70840191855932677},{"$f":"IFERROR(IF($B$2=\"トン\",AppQt.Data!T111,(AppQt.Data!T111*ozton*AppQt.Data!T$7)/1000000),\"-\")","v":0.60879466686937},{"$f":"IFERROR(IF($B$2=\"トン\",AppQt.Data!U111,(AppQt.Data!U111*ozton*AppQt.Data!U$7)/1000000),\"-\")","v":0.82088649698807781},{"$f":"IFERROR(IF($B$2=\"トン\",AppQt.Data!V111,(AppQt.Data!V111*ozton*AppQt.Data!V$7)/1000000),\"-\")","v":0.62518103950632709},{"$f":"IFERROR(IF($B$2=\"トン\",AppQt.Data!W111,(AppQt.Data!W111*ozton*AppQt.Data!W$7)/1000000),\"-\")","v":0.77093543783045493},{"$f":"IFERROR(IF($B$2=\"トン\",AppQt.Data!X111,(AppQt.Data!X111*ozton*AppQt.Data!X$7)/1000000),\"-\")","v":0.87794432882672013},{"$f":"IFERROR(IF($B$2=\"トン\",AppQt.Data!Y111,(AppQt.Data!Y111*ozton*AppQt.Data!Y$7)/1000000),\"-\")","v":0.55663543547555161},{"$f":"IFERROR(IF($B$2=\"トン\",AppQt.Data!Z111,(AppQt.Data!Z111*ozton*AppQt.Data!Z$7)/1000000),\"-\")","v":0.54522366078629048},{"$f":"IFERROR(IF($B$2=\"トン\",AppQt.Data!AA111,(AppQt.Data!AA111*ozton*AppQt.Data!AA$7)/1000000),\"-\")","v":0.66950825566943639},{"$f":"IFERROR(IF($B$2=\"トン\",AppQt.Data!AB111,(AppQt.Data!AB111*ozton*AppQt.Data!AB$7)/1000000),\"-\")","v":0.74213999999999991},{"$f":"IFERROR(IF($B$2=\"トン\",AppQt.Data!AC111,(AppQt.Data!AC111*ozton*AppQt.Data!AC$7)/1000000),\"-\")","v":0.6869621660734665},{"$f":"IFERROR(IF($B$2=\"トン\",AppQt.Data!AD111,(AppQt.Data!AD111*ozton*AppQt.Data!AD$7)/1000000),\"-\")","v":0.36969287836453696},{"$f":"IFERROR(IF($B$2=\"トン\",AppQt.Data!AE111,(AppQt.Data!AE111*ozton*AppQt.Data!AE$7)/1000000),\"-\")","v":0.46000636314919841},{"$f":"IFERROR(IF($B$2=\"トン\",AppQt.Data!AF111,(AppQt.Data!AF111*ozton*AppQt.Data!AF$7)/1000000),\"-\")","v":0.69045714404707303},{"$f":"IFERROR(IF($B$2=\"トン\",AppQt.Data!AG111,(AppQt.Data!AG111*ozton*AppQt.Data!AG$7)/1000000),\"-\")","v":0.53636195950359244},{"$f":"IFERROR(IF($B$2=\"トン\",AppQt.Data!AH111,(AppQt.Data!AH111*ozton*AppQt.Data!AH$7)/1000000),\"-\")","v":0.42077686423439403},{"$f":"IFERROR(IF($B$2=\"トン\",AppQt.Data!AI111,(AppQt.Data!AI111*ozton*AppQt.Data!AI$7)/1000000),\"-\")","v":0.80866408509844168},{"$f":"IFERROR(IF($B$2=\"トン\",AppQt.Data!AJ111,(AppQt.Data!AJ111*ozton*AppQt.Data!AJ$7)/1000000),\"-\")","v":0.61182261827003814},{"$f":"IFERROR(IF($B$2=\"トン\",AppQt.Data!AK111,(AppQt.Data!AK111*ozton*AppQt.Data!AK$7)/1000000),\"-\")","v":0.63034636064197069},{"$f":"IFERROR(IF($B$2=\"トン\",AppQt.Data!AL111,(AppQt.Data!AL111*ozton*AppQt.Data!AL$7)/1000000),\"-\")","v":0.32547252029485862},{"$f":"IFERROR(IF($B$2=\"トン\",AppQt.Data!AM111,(AppQt.Data!AM111*ozton*AppQt.Data!AM$7)/1000000),\"-\")","v":0.66006555530465616},{"$f":"IFERROR(IF($B$2=\"トン\",AppQt.Data!AN111,(AppQt.Data!AN111*ozton*AppQt.Data!AN$7)/1000000),\"-\")","v":0.66006555530465616},{"$f":"IFERROR(IF($B$2=\"トン\",AppQt.Data!AO111,(AppQt.Data!AO111*ozton*AppQt.Data!AO$7)/1000000),\"-\")","v":0.84157192871139308},{"$f":"IFERROR(IF($B$2=\"トン\",AppQt.Data!AP111,(AppQt.Data!AP111*ozton*AppQt.Data!AP$7)/1000000),\"-\")","v":0.49374724269851639},{"$f":"IFERROR(IF($B$2=\"トン\",AppQt.Data!AQ111,(AppQt.Data!AQ111*ozton*AppQt.Data!AQ$7)/1000000),\"-\")","v":0.77043496551273705},{"$f":"IFERROR(IF($B$2=\"トン\",AppQt.Data!AR111,(AppQt.Data!AR111*ozton*AppQt.Data!AR$7)/1000000),\"-\")","v":0.60324700065316772},{"$f":"IFERROR(IF($B$2=\"トン\",AppQt.Data!AS111,(AppQt.Data!AS111*ozton*AppQt.Data!AS$7)/1000000),\"-\")","v":0.83207437308828924},{"$f":"IFERROR(IF($B$2=\"トン\",AppQt.Data!AT111,(AppQt.Data!AT111*ozton*AppQt.Data!AT$7)/1000000),\"-\")","v":0.2825979370647948},{"$f":"IFERROR(IF($B$2=\"トン\",AppQt.Data!AU111,(AppQt.Data!AU111*ozton*AppQt.Data!AU$7)/1000000),\"-\")","v":0.50061170849850123},{"$f":"IFERROR(IF($B$2=\"トン\",AppQt.Data!AV111,(AppQt.Data!AV111*ozton*AppQt.Data!AV$7)/1000000),\"-\")","v":0.42923163101082307},{"$f":"IFERROR(IF($B$2=\"トン\",AppQt.Data!AW111,(AppQt.Data!AW111*ozton*AppQt.Data!AW$7)/1000000),\"-\")","v":0.36200728491349748},{"$f":"IFERROR(IF($B$2=\"トン\",AppQt.Data!AX111,(AppQt.Data!AX111*ozton*AppQt.Data!AX$7)/1000000),\"-\")","v":0.24723604666053095},{"$f":"IFERROR(IF($B$2=\"トン\",AppQt.Data!AY111,(AppQt.Data!AY111*ozton*AppQt.Data!AY$7)/1000000),\"-\")","v":0.39433772270588485},{"$f":"IFERROR(IF($B$2=\"トン\",AppQt.Data!AZ111,(AppQt.Data!AZ111*ozton*AppQt.Data!AZ$7)/1000000),\"-\")","v":0.42071228771220626},{"$f":"IFERROR(IF($B$2=\"トン\",AppQt.Data!BA111,(AppQt.Data!BA111*ozton*AppQt.Data!BA$7)/1000000),\"-\")","v":0.23375348630968901},{"$f":"IFERROR(IF($B$2=\"トン\",AppQt.Data!BB111,(AppQt.Data!BB111*ozton*AppQt.Data!BB$7)/1000000),\"-\")","v":0.18579377368939287},{"$f":"IFERROR(IF($B$2=\"トン\",AppQt.Data!BC111,(AppQt.Data!BC111*ozton*AppQt.Data!BC$7)/1000000),\"-\")","v":0.24077594039799632},{"$f":"IFERROR(IF($B$2=\"トン\",AppQt.Data!BD111,(AppQt.Data!BD111*ozton*AppQt.Data!BD$7)/1000000),\"-\")","v":0.20762058730630192},{"$f":"IFERROR(IF($B$2=\"トン\",AppQt.Data!BE111,(AppQt.Data!BE111*ozton*AppQt.Data!BE$7)/1000000),\"-\")","v":0.34342181423998569},{"$f":"IFERROR(IF($B$2=\"トン\",AppQt.Data!BF111,(AppQt.Data!BF111*ozton*AppQt.Data!BF$7)/1000000),\"-\")","v":0.34646548162824731},{"$f":"IFERROR(IF($B$2=\"トン\",AppQt.Data!BG111,(AppQt.Data!BG111*ozton*AppQt.Data!BG$7)/1000000),\"-\")","v":0.36537484869085818},{"$f":"IFERROR(IF($B$2=\"トン\",AppQt.Data!BH111,(AppQt.Data!BH111*ozton*AppQt.Data!BH$7)/1000000),\"-\")","v":0.34029665396192277},{"$f":"IFERROR(IF($B$2=\"トン\",AppQt.Data!BI111,(AppQt.Data!BI111*ozton*AppQt.Data!BI$7)/1000000),\"-\")","v":0.3505055535807805},{"$f":"IFERROR(IF($B$2=\"トン\",AppQt.Data!BJ111,(AppQt.Data!BJ111*ozton*AppQt.Data!BJ$7)/1000000),\"-\")","v":0.35539288729945173},{"$f":"IFERROR(IF($B$2=\"トン\",AppQt.Data!BK111,(AppQt.Data!BK111*ozton*AppQt.Data!BK$7)/1000000),\"-\")","v":0.37468044170331483},{"$f":"IFERROR(IF($B$2=\"トン\",AppQt.Data!BL111,(AppQt.Data!BL111*ozton*AppQt.Data!BL$7)/1000000),\"-\")","v":0.37432631935811511},"▲",10.000000000000009]
[null,"ブラジル",{"$f":"IFERROR(IF($B$2=\"トン\",AppAn.Data!L102,(AppAn.Data!L102*ozton*AppAn.Data!L$6)/1000000),\"-\")","v":0.49615733333333334},{"$f":"IFERROR(IF($B$2=\"トン\",AppAn.Data!M102,(AppAn.Data!M102*ozton*AppAn.Data!M$6)/1000000),\"-\")","v":0.91359250000000003},{"$f":"IFERROR(IF($B$2=\"トン\",AppAn.Data!N102,(AppAn.Data!N102*ozton*AppAn.Data!N$6)/1000000),\"-\")","v":0.9982312499999999},{"$f":"IFERROR(IF($B$2=\"トン\",AppAn.Data!O102,(AppAn.Data!O102*ozton*AppAn.Data!O$6)/1000000),\"-\")","v":1.3852870312500001},{"$f":"IFERROR(IF($B$2=\"トン\",AppAn.Data!P102,(AppAn.Data!P102*ozton*AppAn.Data!P$6)/1000000),\"-\")","v":1.2994600000000001},{"$f":"IFERROR(IF($B$2=\"トン\",AppAn.Data!Q102,(AppAn.Data!Q102*ozton*AppAn.Data!Q$6)/1000000),\"-\")","v":1.4175},{"$f":"IFERROR(IF($B$2=\"トン\",AppAn.Data!R102,(AppAn.Data!R102*ozton*AppAn.Data!R$6)/1000000),\"-\")","v":1.2757500000000002},{"$f":"IFERROR(IF($B$2=\"トン\",AppAn.Data!S102,(AppAn.Data!S102*ozton*AppAn.Data!S$6)/1000000),\"-\")","v":1.0305500000000001},{"$f":"IFERROR(IF($B$2=\"トン\",AppAn.Data!T102,(AppAn.Data!T102*ozton*AppAn.Data!T$6)/1000000),\"-\")","v":0.92749500000000018},{"$f":"IFERROR(IF($B$2=\"トン\",AppAn.Data!U102,(AppAn.Data!U102*ozton*AppAn.Data!U$6)/1000000),\"-\")","v":0.88112025000000016},{"$f":"IFERROR(IF($B$2=\"トン\",AppAn.Data!V102,(AppAn.Data!V102*ozton*AppAn.Data!V$6)/1000000),\"-\")","v":1.430272875},{"$f":"IFERROR(IF($B$2=\"トン\",AppAn.Data!W102,(AppAn.Data!W102*ozton*AppAn.Data!W$6)/1000000),\"-\")","v":1.6400000000000001},{"$f":"IFERROR(IF($B$2=\"トン\",AppAn.Data!X102,(AppAn.Data!X102*ozton*AppAn.Data!X$6)/1000000),\"-\")","v":1.5783731249999997},"▼",-3.7577362804878334,null,{"$f":"IFERROR(IF($B$2=\"トン\",AppQt.Data!M112,(AppQt.Data!M112*ozton*AppQt.Data!M$7)/1000000),\"-\")","v":6.1538666666666665E-2},{"$f":"IFERROR(IF($B$2=\"トン\",AppQt.Data!N112,(AppQt.Data!N112*ozton*AppQt.Data!N$7)/1000000),\"-\")","v":7.3077333333333341E-2},{"$f":"IFERROR(IF($B$2=\"トン\",AppQt.Data!O112,(AppQt.Data!O112*ozton*AppQt.Data!O$7)/1000000),\"-\")","v":0.16923199999999999},{"$f":"IFERROR(IF($B$2=\"トン\",AppQt.Data!P112,(AppQt.Data!P112*ozton*AppQt.Data!P$7)/1000000),\"-\")","v":0.19230933333333333},{"$f":"IFERROR(IF($B$2=\"トン\",AppQt.Data!Q112,(AppQt.Data!Q112*ozton*AppQt.Data!Q$7)/1000000),\"-\")","v":8.6793055555555554E-2},{"$f":"IFERROR(IF($B$2=\"トン\",AppQt.Data!R112,(AppQt.Data!R112*ozton*AppQt.Data!R$7)/1000000),\"-\")","v":0.18830333333333335},{"$f":"IFERROR(IF($B$2=\"トン\",AppQt.Data!S112,(AppQt.Data!S112*ozton*AppQt.Data!S$7)/1000000),\"-\")","v":0.20302055555555557},{"$f":"IFERROR(IF($B$2=\"トン\",AppQt.Data!T112,(AppQt.Data!T112*ozton*AppQt.Data!T$7)/1000000),\"-\")","v":0.43547555555555562},{"$f":"IFERROR(IF($B$2=\"トン\",AppQt.Data!U112,(AppQt.Data!U112*ozton*AppQt.Data!U$7)/1000000),\"-\")","v":0.18152875000000002},{"$f":"IFERROR(IF($B$2=\"トン\",AppQt.Data!V112,(AppQt.Data!V112*ozton*AppQt.Data!V$7)/1000000),\"-\")","v":9.5293749999999997E-2},{"$f":"IFERROR(IF($B$2=\"トン\",AppQt.Data!W112,(AppQt.Data!W112*ozton*AppQt.Data!W$7)/1000000),\"-\")","v":0.19964625},{"$f":"IFERROR(IF($B$2=\"トン\",AppQt.Data!X112,(AppQt.Data!X112*ozton*AppQt.Data!X$7)/1000000),\"-\")","v":0.52176249999999991},{"$f":"IFERROR(IF($B$2=\"トン\",AppQt.Data!Y112,(AppQt.Data!Y112*ozton*AppQt.Data!Y$7)/1000000),\"-\")","v":0.27291976562499998},{"$f":"IFERROR(IF($B$2=\"トン\",AppQt.Data!Z112,(AppQt.Data!Z112*ozton*AppQt.Data!Z$7)/1000000),\"-\")","v":0.39045984374999998},{"$f":"IFERROR(IF($B$2=\"トン\",AppQt.Data!AA112,(AppQt.Data!AA112*ozton*AppQt.Data!AA$7)/1000000),\"-\")","v":0.39821742187500003},{"$f":"IFERROR(IF($B$2=\"トン\",AppQt.Data!AB112,(AppQt.Data!AB112*ozton*AppQt.Data!AB$7)/1000000),\"-\")","v":0.32369000000000003},{"$f":"IFERROR(IF($B$2=\"トン\",AppQt.Data!AC112,(AppQt.Data!AC112*ozton*AppQt.Data!AC$7)/1000000),\"-\")","v":0.41438999999999998},{"$f":"IFERROR(IF($B$2=\"トン\",AppQt.Data!AD112,(AppQt.Data!AD112*ozton*AppQt.Data!AD$7)/1000000),\"-\")","v":0.26169000000000003},{"$f":"IFERROR(IF($B$2=\"トン\",AppQt.Data!AE112,(AppQt.Data!AE112*ozton*AppQt.Data!AE$7)/1000000),\"-\")","v":0.31169000000000002},{"$f":"IFERROR(IF($B$2=\"トン\",AppQt.Data!AF112,(AppQt.Data!AF112*ozton*AppQt.Data!AF$7)/1000000),\"-\")","v":0.31169000000000002},{"$f":"IFERROR(IF($B$2=\"トン\",AppQt.Data!AG112,(AppQt.Data!AG112*ozton*AppQt.Data!AG$7)/1000000),\"-\")","v":0.35},{"$f":"IFERROR(IF($B$2=\"トン\",AppQt.Data!AH112,(AppQt.Data!AH112*ozton*AppQt.Data!AH$7)/1000000),\"-\")","v":0.35},{"$f":"IFERROR(IF($B$2=\"トン\",AppQt.Data!AI112,(AppQt.Data!AI112*ozton*AppQt.Data!AI$7)/1000000),\"-\")","v":0.35},{"$f":"IFERROR(IF($B$2=\"トン\",AppQt.Data!AJ112,(AppQt.Data!AJ112*ozton*AppQt.Data!AJ$7)/1000000),\"-\")","v":0.36750000000000005},{"$f":"IFERROR(IF($B$2=\"トン\",AppQt.Data!AK112,(AppQt.Data!AK112*ozton*AppQt.Data!AK$7)/1000000),\"-\")","v":0.315},{"$f":"IFERROR(IF($B$2=\"トン\",AppQt.Data!AL112,(AppQt.Data!AL112*ozton*AppQt.Data!AL$7)/1000000),\"-\")","v":0.315},{"$f":"IFERROR(IF($B$2=\"トン\",AppQt.Data!AM112,(AppQt.Data!AM112*ozton*AppQt.Data!AM$7)/1000000),\"-\")","v":0.315},{"$f":"IFERROR(IF($B$2=\"トン\",AppQt.Data!AN112,(AppQt.Data!AN112*ozton*AppQt.Data!AN$7)/1000000),\"-\")","v":0.33075000000000004},{"$f":"IFERROR(IF($B$2=\"トン\",AppQt.Data!AO112,(AppQt.Data!AO112*ozton*AppQt.Data!AO$7)/1000000),\"-\")","v":0.28350000000000003},{"$f":"IFERROR(IF($B$2=\"トン\",AppQt.Data!AP112,(AppQt.Data!AP112*ozton*AppQt.Data!AP$7)/1000000),\"-\")","v":0.23100000000000001},{"$f":"IFERROR(IF($B$2=\"トン\",AppQt.Data!AQ112,(AppQt.Data!AQ112*ozton*AppQt.Data!AQ$7)/1000000),\"-\")","v":0.23100000000000001},{"$f":"IFERROR(IF($B$2=\"トン\",AppQt.Data!AR112,(AppQt.Data!AR112*ozton*AppQt.Data!AR$7)/1000000),\"-\")","v":0.28505000000000003},{"$f":"IFERROR(IF($B$2=\"トン\",AppQt.Data!AS112,(AppQt.Data!AS112*ozton*AppQt.Data!AS$7)/1000000),\"-\")","v":0.25515000000000004},{"$f":"IFERROR(IF($B$2=\"トン\",AppQt.Data!AT112,(AppQt.Data!AT112*ozton*AppQt.Data!AT$7)/1000000),\"-\")","v":0.20790000000000003},{"$f":"IFERROR(IF($B$2=\"トン\",AppQt.Data!AU112,(AppQt.Data!AU112*ozton*AppQt.Data!AU$7)/1000000),\"-\")","v":0.20790000000000003},{"$f":"IFERROR(IF($B$2=\"トン\",AppQt.Data!AV112,(AppQt.Data!AV112*ozton*AppQt.Data!AV$7)/1000000),\"-\")","v":0.25654500000000002},{"$f":"IFERROR(IF($B$2=\"トン\",AppQt.Data!AW112,(AppQt.Data!AW112*ozton*AppQt.Data!AW$7)/1000000),\"-\")","v":0.24239250000000004},{"$f":"IFERROR(IF($B$2=\"トン\",AppQt.Data!AX112,(AppQt.Data!AX112*ozton*AppQt.Data!AX$7)/1000000),\"-\")","v":0.19750500000000001},{"$f":"IFERROR(IF($B$2=\"トン\",AppQt.Data!AY112,(AppQt.Data!AY112*ozton*AppQt.Data!AY$7)/1000000),\"-\")","v":0.19750500000000001},{"$f":"IFERROR(IF($B$2=\"トン\",AppQt.Data!AZ112,(AppQt.Data!AZ112*ozton*AppQt.Data!AZ$7)/1000000),\"-\")","v":0.24371775000000001},{"$f":"IFERROR(IF($B$2=\"トン\",AppQt.Data!BA112,(AppQt.Data!BA112*ozton*AppQt.Data!BA$7)/1000000),\"-\")","v":0.23027287500000004},{"$f":"IFERROR(IF($B$2=\"トン\",AppQt.Data!BB112,(AppQt.Data!BB112*ozton*AppQt.Data!BB$7)/1000000),\"-\")","v":0.4},{"$f":"IFERROR(IF($B$2=\"トン\",AppQt.Data!BC112,(AppQt.Data!BC112*ozton*AppQt.Data!BC$7)/1000000),\"-\")","v":0.4},{"$f":"IFERROR(IF($B$2=\"トン\",AppQt.Data!BD112,(AppQt.Data!BD112*ozton*AppQt.Data!BD$7)/1000000),\"-\")","v":0.4},{"$f":"IFERROR(IF($B$2=\"トン\",AppQt.Data!BE112,(AppQt.Data!BE112*ozton*AppQt.Data!BE$7)/1000000),\"-\")","v":0.4},{"$f":"IFERROR(IF($B$2=\"トン\",AppQt.Data!BF112,(AppQt.Data!BF112*ozton*AppQt.Data!BF$7)/1000000),\"-\")","v":0.4},{"$f":"IFERROR(IF($B$2=\"トン\",AppQt.Data!BG112,(AppQt.Data!BG112*ozton*AppQt.Data!BG$7)/1000000),\"-\")","v":0.42000000000000004},{"$f":"IFERROR(IF($B$2=\"トン\",AppQt.Data!BH112,(AppQt.Data!BH112*ozton*AppQt.Data!BH$7)/1000000),\"-\")","v":0.42000000000000004},{"$f":"IFERROR(IF($B$2=\"トン\",AppQt.Data!BI112,(AppQt.Data!BI112*ozton*AppQt.Data!BI$7)/1000000),\"-\")","v":0.42000000000000004},{"$f":"IFERROR(IF($B$2=\"トン\",AppQt.Data!BJ112,(AppQt.Data!BJ112*ozton*AppQt.Data!BJ$7)/1000000),\"-\")","v":0.39899999999999997},{"$f":"IFERROR(IF($B$2=\"トン\",AppQt.Data!BK112,(AppQt.Data!BK112*ozton*AppQt.Data!BK$7)/1000000),\"-\")","v":0.37905},{"$f":"IFERROR(IF($B$2=\"トン\",AppQt.Data!BL112,(AppQt.Data!BL112*ozton*AppQt.Data!BL$7)/1000000),\"-\")","v":0.38032312499999998},"▼",-9.4468750000000092]
[null,"ヨーロッパ（CISを除く）",{"$f":"IFERROR(IF($B$2=\"トン\",AppAn.Data!L103,(AppAn.Data!L103*ozton*AppAn.Data!L$6)/1000000),\"-\")","v":288.25728466442797},{"$f":"IFERROR(IF($B$2=\"トン\",AppAn.Data!M103,(AppAn.Data!M103*ozton*AppAn.Data!M$6)/1000000),\"-\")","v":333.82231830888878},{"$f":"IFERROR(IF($B$2=\"トン\",AppAn.Data!N103,(AppAn.Data!N103*ozton*AppAn.Data!N$6)/1000000),\"-\")","v":239.90788623075213},{"$f":"IFERROR(IF($B$2=\"トン\",AppAn.Data!O103,(AppAn.Data!O103*ozton*AppAn.Data!O$6)/1000000),\"-\")","v":261.41629046339591},{"$f":"IFERROR(IF($B$2=\"トン\",AppAn.Data!P103,(AppAn.Data!P103*ozton*AppAn.Data!P$6)/1000000),\"-\")","v":196.40378704478098},{"$f":"IFERROR(IF($B$2=\"トン\",AppAn.Data!Q103,(AppAn.Data!Q103*ozton*AppAn.Data!Q$6)/1000000),\"-\")","v":220.18463748735047},{"$f":"IFERROR(IF($B$2=\"トン\",AppAn.Data!R103,(AppAn.Data!R103*ozton*AppAn.Data!R$6)/1000000),\"-\")","v":201.92091049075404},{"$f":"IFERROR(IF($B$2=\"トン\",AppAn.Data!S103,(AppAn.Data!S103*ozton*AppAn.Data!S$6)/1000000),\"-\")","v":192.50095800444663},{"$f":"IFERROR(IF($B$2=\"トン\",AppAn.Data!T103,(AppAn.Data!T103*ozton*AppAn.Data!T$6)/1000000),\"-\")","v":171.79427975310765},{"$f":"IFERROR(IF($B$2=\"トン\",AppAn.Data!U103,(AppAn.Data!U103*ozton*AppAn.Data!U$6)/1000000),\"-\")","v":152.97272870315439},{"$f":"IFERROR(IF($B$2=\"トン\",AppAn.Data!V103,(AppAn.Data!V103*ozton*AppAn.Data!V$6)/1000000),\"-\")","v":256.4132535961491},{"$f":"IFERROR(IF($B$2=\"トン\",AppAn.Data!W103,(AppAn.Data!W103*ozton*AppAn.Data!W$6)/1000000),\"-\")","v":276.21534963734916},{"$f":"IFERROR(IF($B$2=\"トン\",AppAn.Data!X103,(AppAn.Data!X103*ozton*AppAn.Data!X$6)/1000000),\"-\")","v":314.22313115511849},"▲",13.760198905553512,null,{"$f":"IFERROR(IF($B$2=\"トン\",AppQt.Data!M113,(AppQt.Data!M113*ozton*AppQt.Data!M$7)/1000000),\"-\")","v":47.384994754561887},{"$f":"IFERROR(IF($B$2=\"トン\",AppQt.Data!N113,(AppQt.Data!N113*ozton*AppQt.Data!N$7)/1000000),\"-\")","v":111.99201107507096},{"$f":"IFERROR(IF($B$2=\"トン\",AppQt.Data!O113,(AppQt.Data!O113*ozton*AppQt.Data!O$7)/1000000),\"-\")","v":53.509704081194201},{"$f":"IFERROR(IF($B$2=\"トン\",AppQt.Data!P113,(AppQt.Data!P113*ozton*AppQt.Data!P$7)/1000000),\"-\")","v":75.370574753600948},{"$f":"IFERROR(IF($B$2=\"トン\",AppQt.Data!Q113,(AppQt.Data!Q113*ozton*AppQt.Data!Q$7)/1000000),\"-\")","v":77.481326234319354},{"$f":"IFERROR(IF($B$2=\"トン\",AppQt.Data!R113,(AppQt.Data!R113*ozton*AppQt.Data!R$7)/1000000),\"-\")","v":57.743875947752393},{"$f":"IFERROR(IF($B$2=\"トン\",AppQt.Data!S113,(AppQt.Data!S113*ozton*AppQt.Data!S$7)/1000000),\"-\")","v":117.99662326174395},{"$f":"IFERROR(IF($B$2=\"トン\",AppQt.Data!T113,(AppQt.Data!T113*ozton*AppQt.Data!T$7)/1000000),\"-\")","v":80.600492865073079},{"$f":"IFERROR(IF($B$2=\"トン\",AppQt.Data!U113,(AppQt.Data!U113*ozton*AppQt.Data!U$7)/1000000),\"-\")","v":57.013221611620139},{"$f":"IFERROR(IF($B$2=\"トン\",AppQt.Data!V113,(AppQt.Data!V113*ozton*AppQt.Data!V$7)/1000000),\"-\")","v":66.267495391411899},{"$f":"IFERROR(IF($B$2=\"トン\",AppQt.Data!W113,(AppQt.Data!W113*ozton*AppQt.Data!W$7)/1000000),\"-\")","v":59.285167852341438},{"$f":"IFERROR(IF($B$2=\"トン\",AppQt.Data!X113,(AppQt.Data!X113*ozton*AppQt.Data!X$7)/1000000),\"-\")","v":57.342001375378629},{"$f":"IFERROR(IF($B$2=\"トン\",AppQt.Data!Y113,(AppQt.Data!Y113*ozton*AppQt.Data!Y$7)/1000000),\"-\")","v":45.931396636686536},{"$f":"IFERROR(IF($B$2=\"トン\",AppQt.Data!Z113,(AppQt.Data!Z113*ozton*AppQt.Data!Z$7)/1000000),\"-\")","v":80.41858456579925},{"$f":"IFERROR(IF($B$2=\"トン\",AppQt.Data!AA113,(AppQt.Data!AA113*ozton*AppQt.Data!AA$7)/1000000),\"-\")","v":58.576923628255486},{"$f":"IFERROR(IF($B$2=\"トン\",AppQt.Data!AB113,(AppQt.Data!AB113*ozton*AppQt.Data!AB$7)/1000000),\"-\")","v":76.48938563265466},{"$f":"IFERROR(IF($B$2=\"トン\",AppQt.Data!AC113,(AppQt.Data!AC113*ozton*AppQt.Data!AC$7)/1000000),\"-\")","v":51.864764628275339},{"$f":"IFERROR(IF($B$2=\"トン\",AppQt.Data!AD113,(AppQt.Data!AD113*ozton*AppQt.Data!AD$7)/1000000),\"-\")","v":38.954995717820815},{"$f":"IFERROR(IF($B$2=\"トン\",AppQt.Data!AE113,(AppQt.Data!AE113*ozton*AppQt.Data!AE$7)/1000000),\"-\")","v":44.843165811906928},{"$f":"IFERROR(IF($B$2=\"トン\",AppQt.Data!AF113,(AppQt.Data!AF113*ozton*AppQt.Data!AF$7)/1000000),\"-\")","v":60.740860886777917},{"$f":"IFERROR(IF($B$2=\"トン\",AppQt.Data!AG113,(AppQt.Data!AG113*ozton*AppQt.Data!AG$7)/1000000),\"-\")","v":58.110854329451136},{"$f":"IFERROR(IF($B$2=\"トン\",AppQt.Data!AH113,(AppQt.Data!AH113*ozton*AppQt.Data!AH$7)/1000000),\"-\")","v":45.687722120776812},{"$f":"IFERROR(IF($B$2=\"トン\",AppQt.Data!AI113,(AppQt.Data!AI113*ozton*AppQt.Data!AI$7)/1000000),\"-\")","v":58.596022478836069},{"$f":"IFERROR(IF($B$2=\"トン\",AppQt.Data!AJ113,(AppQt.Data!AJ113*ozton*AppQt.Data!AJ$7)/1000000),\"-\")","v":57.790038558286447},{"$f":"IFERROR(IF($B$2=\"トン\",AppQt.Data!AK113,(AppQt.Data!AK113*ozton*AppQt.Data!AK$7)/1000000),\"-\")","v":55.850819283991754},{"$f":"IFERROR(IF($B$2=\"トン\",AppQt.Data!AL113,(AppQt.Data!AL113*ozton*AppQt.Data!AL$7)/1000000),\"-\")","v":41.108032849310341},{"$f":"IFERROR(IF($B$2=\"トン\",AppQt.Data!AM113,(AppQt.Data!AM113*ozton*AppQt.Data!AM$7)/1000000),\"-\")","v":33.47222011010048},{"$f":"IFERROR(IF($B$2=\"トン\",AppQt.Data!AN113,(AppQt.Data!AN113*ozton*AppQt.Data!AN$7)/1000000),\"-\")","v":71.489838247351443},{"$f":"IFERROR(IF($B$2=\"トン\",AppQt.Data!AO113,(AppQt.Data!AO113*ozton*AppQt.Data!AO$7)/1000000),\"-\")","v":64.793168636866127},{"$f":"IFERROR(IF($B$2=\"トン\",AppQt.Data!AP113,(AppQt.Data!AP113*ozton*AppQt.Data!AP$7)/1000000),\"-\")","v":39.633538482110083},{"$f":"IFERROR(IF($B$2=\"トン\",AppQt.Data!AQ113,(AppQt.Data!AQ113*ozton*AppQt.Data!AQ$7)/1000000),\"-\")","v":46.574417389073581},{"$f":"IFERROR(IF($B$2=\"トン\",AppQt.Data!AR113,(AppQt.Data!AR113*ozton*AppQt.Data!AR$7)/1000000),\"-\")","v":41.499833496396832},{"$f":"IFERROR(IF($B$2=\"トン\",AppQt.Data!AS113,(AppQt.Data!AS113*ozton*AppQt.Data!AS$7)/1000000),\"-\")","v":40.247598724665636},{"$f":"IFERROR(IF($B$2=\"トン\",AppQt.Data!AT113,(AppQt.Data!AT113*ozton*AppQt.Data!AT$7)/1000000),\"-\")","v":33.510834838657715},{"$f":"IFERROR(IF($B$2=\"トン\",AppQt.Data!AU113,(AppQt.Data!AU113*ozton*AppQt.Data!AU$7)/1000000),\"-\")","v":51.874013653517551},{"$f":"IFERROR(IF($B$2=\"トン\",AppQt.Data!AV113,(AppQt.Data!AV113*ozton*AppQt.Data!AV$7)/1000000),\"-\")","v":46.161832536266729},{"$f":"IFERROR(IF($B$2=\"トン\",AppQt.Data!AW113,(AppQt.Data!AW113*ozton*AppQt.Data!AW$7)/1000000),\"-\")","v":43.540380251704661},{"$f":"IFERROR(IF($B$2=\"トン\",AppQt.Data!AX113,(AppQt.Data!AX113*ozton*AppQt.Data!AX$7)/1000000),\"-\")","v":30.323609137730529},{"$f":"IFERROR(IF($B$2=\"トン\",AppQt.Data!AY113,(AppQt.Data!AY113*ozton*AppQt.Data!AY$7)/1000000),\"-\")","v":32.547094584113886},{"$f":"IFERROR(IF($B$2=\"トン\",AppQt.Data!AZ113,(AppQt.Data!AZ113*ozton*AppQt.Data!AZ$7)/1000000),\"-\")","v":46.561644729605341},{"$f":"IFERROR(IF($B$2=\"トン\",AppQt.Data!BA113,(AppQt.Data!BA113*ozton*AppQt.Data!BA$7)/1000000),\"-\")","v":74.884410833421327},{"$f":"IFERROR(IF($B$2=\"トン\",AppQt.Data!BB113,(AppQt.Data!BB113*ozton*AppQt.Data!BB$7)/1000000),\"-\")","v":71.852786601292451},{"$f":"IFERROR(IF($B$2=\"トン\",AppQt.Data!BC113,(AppQt.Data!BC113*ozton*AppQt.Data!BC$7)/1000000),\"-\")","v":49.10406945806853},{"$f":"IFERROR(IF($B$2=\"トン\",AppQt.Data!BD113,(AppQt.Data!BD113*ozton*AppQt.Data!BD$7)/1000000),\"-\")","v":60.571986703366768},{"$f":"IFERROR(IF($B$2=\"トン\",AppQt.Data!BE113,(AppQt.Data!BE113*ozton*AppQt.Data!BE$7)/1000000),\"-\")","v":76.398356551740335},{"$f":"IFERROR(IF($B$2=\"トン\",AppQt.Data!BF113,(AppQt.Data!BF113*ozton*AppQt.Data!BF$7)/1000000),\"-\")","v":74.191026397644521},{"$f":"IFERROR(IF($B$2=\"トン\",AppQt.Data!BG113,(AppQt.Data!BG113*ozton*AppQt.Data!BG$7)/1000000),\"-\")","v":58.783040635441722},{"$f":"IFERROR(IF($B$2=\"トン\",AppQt.Data!BH113,(AppQt.Data!BH113*ozton*AppQt.Data!BH$7)/1000000),\"-\")","v":66.842926052522571},{"$f":"IFERROR(IF($B$2=\"トン\",AppQt.Data!BI113,(AppQt.Data!BI113*ozton*AppQt.Data!BI$7)/1000000),\"-\")","v":81.545160427151018},{"$f":"IFERROR(IF($B$2=\"トン\",AppQt.Data!BJ113,(AppQt.Data!BJ113*ozton*AppQt.Data!BJ$7)/1000000),\"-\")","v":79.102734940533907},{"$f":"IFERROR(IF($B$2=\"トン\",AppQt.Data!BK113,(AppQt.Data!BK113*ozton*AppQt.Data!BK$7)/1000000),\"-\")","v":72.665241991388129},{"$f":"IFERROR(IF($B$2=\"トン\",AppQt.Data!BL113,(AppQt.Data!BL113*ozton*AppQt.Data!BL$7)/1000000),\"-\")","v":80.909993796045427},"▲",21.044961036669019]
[null,"フランス",{"$f":"IFERROR(IF($B$2=\"トン\",AppAn.Data!L104,(AppAn.Data!L104*ozton*AppAn.Data!L$6)/1000000),\"-\")","v":1.30126953125},{"$f":"IFERROR(IF($B$2=\"トン\",AppAn.Data!M104,(AppAn.Data!M104*ozton*AppAn.Data!M$6)/1000000),\"-\")","v":6.4563057206537895},{"$f":"IFERROR(IF($B$2=\"トン\",AppAn.Data!N104,(AppAn.Data!N104*ozton*AppAn.Data!N$6)/1000000),\"-\")","v":2.6593607081911257},{"$f":"IFERROR(IF($B$2=\"トン\",AppAn.Data!O104,(AppAn.Data!O104*ozton*AppAn.Data!O$6)/1000000),\"-\")","v":1.925062499999999},{"$f":"IFERROR(IF($B$2=\"トン\",AppAn.Data!P104,(AppAn.Data!P104*ozton*AppAn.Data!P$6)/1000000),\"-\")","v":0.97499999999999976},{"$f":"IFERROR(IF($B$2=\"トン\",AppAn.Data!Q104,(AppAn.Data!Q104*ozton*AppAn.Data!Q$6)/1000000),\"-\")","v":-0.52},{"$f":"IFERROR(IF($B$2=\"トン\",AppAn.Data!R104,(AppAn.Data!R104*ozton*AppAn.Data!R$6)/1000000),\"-\")","v":-4.2150000000000007},{"$f":"IFERROR(IF($B$2=\"トン\",AppAn.Data!S104,(AppAn.Data!S104*ozton*AppAn.Data!S$6)/1000000),\"-\")","v":-0.11000000000000076},{"$f":"IFERROR(IF($B$2=\"トン\",AppAn.Data!T104,(AppAn.Data!T104*ozton*AppAn.Data!T$6)/1000000),\"-\")","v":-1.1900000000000008},{"$f":"IFERROR(IF($B$2=\"トン\",AppAn.Data!U104,(AppAn.Data!U104*ozton*AppAn.Data!U$6)/1000000),\"-\")","v":0.29999999999999966},{"$f":"IFERROR(IF($B$2=\"トン\",AppAn.Data!V104,(AppAn.Data!V104*ozton*AppAn.Data!V$6)/1000000),\"-\")","v":3.5416499999999997},{"$f":"IFERROR(IF($B$2=\"トン\",AppAn.Data!W104,(AppAn.Data!W104*ozton*AppAn.Data!W$6)/1000000),\"-\")","v":4.6500000000000004},{"$f":"IFERROR(IF($B$2=\"トン\",AppAn.Data!X104,(AppAn.Data!X104*ozton*AppAn.Data!X$6)/1000000),\"-\")","v":5.629999999999999},"▲",21.075268817204275,null,{"$f":"IFERROR(IF($B$2=\"トン\",AppQt.Data!M114,(AppQt.Data!M114*ozton*AppQt.Data!M$7)/1000000),\"-\")","v":0.13076171875000001},{"$f":"IFERROR(IF($B$2=\"トン\",AppQt.Data!N114,(AppQt.Data!N114*ozton*AppQt.Data!N$7)/1000000),\"-\")","v":0.40468750000000003},{"$f":"IFERROR(IF($B$2=\"トン\",AppQt.Data!O114,(AppQt.Data!O114*ozton*AppQt.Data!O$7)/1000000),\"-\")","v":0.30527343750000002},{"$f":"IFERROR(IF($B$2=\"トン\",AppQt.Data!P114,(AppQt.Data!P114*ozton*AppQt.Data!P$7)/1000000),\"-\")","v":0.46054687499999991},{"$f":"IFERROR(IF($B$2=\"トン\",AppQt.Data!Q114,(AppQt.Data!Q114*ozton*AppQt.Data!Q$7)/1000000),\"-\")","v":0.679522659732541},{"$f":"IFERROR(IF($B$2=\"トン\",AppQt.Data!R114,(AppQt.Data!R114*ozton*AppQt.Data!R$7)/1000000),\"-\")","v":0.51139487369985148},{"$f":"IFERROR(IF($B$2=\"トン\",AppQt.Data!S114,(AppQt.Data!S114*ozton*AppQt.Data!S$7)/1000000),\"-\")","v":3.7402767459138189},{"$f":"IFERROR(IF($B$2=\"トン\",AppQt.Data!T114,(AppQt.Data!T114*ozton*AppQt.Data!T$7)/1000000),\"-\")","v":1.5251114413075779},{"$f":"IFERROR(IF($B$2=\"トン\",AppQt.Data!U114,(AppQt.Data!U114*ozton*AppQt.Data!U$7)/1000000),\"-\")","v":0.76451002559726966},{"$f":"IFERROR(IF($B$2=\"トン\",AppQt.Data!V114,(AppQt.Data!V114*ozton*AppQt.Data!V$7)/1000000),\"-\")","v":0.54739761092150163},{"$f":"IFERROR(IF($B$2=\"トン\",AppQt.Data!W114,(AppQt.Data!W114*ozton*AppQt.Data!W$7)/1000000),\"-\")","v":0.54213737201365175},{"$f":"IFERROR(IF($B$2=\"トン\",AppQt.Data!X114,(AppQt.Data!X114*ozton*AppQt.Data!X$7)/1000000),\"-\")","v":0.80531569965870298},{"$f":"IFERROR(IF($B$2=\"トン\",AppQt.Data!Y114,(AppQt.Data!Y114*ozton*AppQt.Data!Y$7)/1000000),\"-\")","v":0.6047499999999999},{"$f":"IFERROR(IF($B$2=\"トン\",AppQt.Data!Z114,(AppQt.Data!Z114*ozton*AppQt.Data!Z$7)/1000000),\"-\")","v":0.61499999999999966},{"$f":"IFERROR(IF($B$2=\"トン\",AppQt.Data!AA114,(AppQt.Data!AA114*ozton*AppQt.Data!AA$7)/1000000),\"-\")","v":0.40781249999999963},{"$f":"IFERROR(IF($B$2=\"トン\",AppQt.Data!AB114,(AppQt.Data!AB114*ozton*AppQt.Data!AB$7)/1000000),\"-\")","v":0.29749999999999988},{"$f":"IFERROR(IF($B$2=\"トン\",AppQt.Data!AC114,(AppQt.Data!AC114*ozton*AppQt.Data!AC$7)/1000000),\"-\")","v":5.4999999999999938E-2},{"$f":"IFERROR(IF($B$2=\"トン\",AppQt.Data!AD114,(AppQt.Data!AD114*ozton*AppQt.Data!AD$7)/1000000),\"-\")","v":0.14999999999999974},{"$f":"IFERROR(IF($B$2=\"トン\",AppQt.Data!AE114,(AppQt.Data!AE114*ozton*AppQt.Data!AE$7)/1000000),\"-\")","v":0.14999999999999974},{"$f":"IFERROR(IF($B$2=\"トン\",AppQt.Data!AF114,(AppQt.Data!AF114*ozton*AppQt.Data!AF$7)/1000000),\"-\")","v":0.62000000000000033},{"$f":"IFERROR(IF($B$2=\"トン\",AppQt.Data!AG114,(AppQt.Data!AG114*ozton*AppQt.Data!AG$7)/1000000),\"-\")","v":0.79999999999999993},{"$f":"IFERROR(IF($B$2=\"トン\",AppQt.Data!AH114,(AppQt.Data!AH114*ozton*AppQt.Data!AH$7)/1000000),\"-\")","v":-0.30999999999999994},{"$f":"IFERROR(IF($B$2=\"トン\",AppQt.Data!AI114,(AppQt.Data!AI114*ozton*AppQt.Data!AI$7)/1000000),\"-\")","v":-1.07},{"$f":"IFERROR(IF($B$2=\"トン\",AppQt.Data!AJ114,(AppQt.Data!AJ114*ozton*AppQt.Data!AJ$7)/1000000),\"-\")","v":6.0000000000000109E-2},{"$f":"IFERROR(IF($B$2=\"トン\",AppQt.Data!AK114,(AppQt.Data!AK114*ozton*AppQt.Data!AK$7)/1000000),\"-\")","v":-0.12000000000000022},{"$f":"IFERROR(IF($B$2=\"トン\",AppQt.Data!AL114,(AppQt.Data!AL114*ozton*AppQt.Data!AL$7)/1000000),\"-\")","v":-3.2500000000000009},{"$f":"IFERROR(IF($B$2=\"トン\",AppQt.Data!AM114,(AppQt.Data!AM114*ozton*AppQt.Data!AM$7)/1000000),\"-\")","v":-0.8},{"$f":"IFERROR(IF($B$2=\"トン\",AppQt.Data!AN114,(AppQt.Data!AN114*ozton*AppQt.Data!AN$7)/1000000),\"-\")","v":-4.4999999999999873E-2},{"$f":"IFERROR(IF($B$2=\"トン\",AppQt.Data!AO114,(AppQt.Data!AO114*ozton*AppQt.Data!AO$7)/1000000),\"-\")","v":1.1199999999999992},{"$f":"IFERROR(IF($B$2=\"トン\",AppQt.Data!AP114,(AppQt.Data!AP114*ozton*AppQt.Data!AP$7)/1000000),\"-\")","v":0.81999999999999984},{"$f":"IFERROR(IF($B$2=\"トン\",AppQt.Data!AQ114,(AppQt.Data!AQ114*ozton*AppQt.Data!AQ$7)/1000000),\"-\")","v":-0.15000000000000019},{"$f":"IFERROR(IF($B$2=\"トン\",AppQt.Data!AR114,(AppQt.Data!AR114*ozton*AppQt.Data!AR$7)/1000000),\"-\")","v":-1.8999999999999997},{"$f":"IFERROR(IF($B$2=\"トン\",AppQt.Data!AS114,(AppQt.Data!AS114*ozton*AppQt.Data!AS$7)/1000000),\"-\")","v":-0.29000000000000026},{"$f":"IFERROR(IF($B$2=\"トン\",AppQt.Data!AT114,(AppQt.Data!AT114*ozton*AppQt.Data!AT$7)/1000000),\"-\")","v":-0.7000000000000004},{"$f":"IFERROR(IF($B$2=\"トン\",AppQt.Data!AU114,(AppQt.Data!AU114*ozton*AppQt.Data!AU$7)/1000000),\"-\")","v":-0.35000000000000026},{"$f":"IFERROR(IF($B$2=\"トン\",AppQt.Data!AV114,(AppQt.Data!AV114*ozton*AppQt.Data!AV$7)/1000000),\"-\")","v":0.15000000000000024},{"$f":"IFERROR(IF($B$2=\"トン\",AppQt.Data!AW114,(AppQt.Data!AW114*ozton*AppQt.Data!AW$7)/1000000),\"-\")","v":0.40000000000000024},{"$f":"IFERROR(IF($B$2=\"トン\",AppQt.Data!AX114,(AppQt.Data!AX114*ozton*AppQt.Data!AX$7)/1000000),\"-\")","v":-0.54999999999999993},{"$f":"IFERROR(IF($B$2=\"トン\",AppQt.Data!AY114,(AppQt.Data!AY114*ozton*AppQt.Data!AY$7)/1000000),\"-\")","v":0.55000000000000004},{"$f":"IFERROR(IF($B$2=\"トン\",AppQt.Data!AZ114,(AppQt.Data!AZ114*ozton*AppQt.Data!AZ$7)/1000000),\"-\")","v":-0.1000000000000007},{"$f":"IFERROR(IF($B$2=\"トン\",AppQt.Data!BA114,(AppQt.Data!BA114*ozton*AppQt.Data!BA$7)/1000000),\"-\")","v":0.95000000000000018},{"$f":"IFERROR(IF($B$2=\"トン\",AppQt.Data!BB114,(AppQt.Data!BB114*ozton*AppQt.Data!BB$7)/1000000),\"-\")","v":1.2116499999999997},{"$f":"IFERROR(IF($B$2=\"トン\",AppQt.Data!BC114,(AppQt.Data!BC114*ozton*AppQt.Data!BC$7)/1000000),\"-\")","v":1.2800000000000002},{"$f":"IFERROR(IF($B$2=\"トン\",AppQt.Data!BD114,(AppQt.Data!BD114*ozton*AppQt.Data!BD$7)/1000000),\"-\")","v":9.9999999999999811E-2},{"$f":"IFERROR(IF($B$2=\"トン\",AppQt.Data!BE114,(AppQt.Data!BE114*ozton*AppQt.Data!BE$7)/1000000),\"-\")","v":1.4500000000000002},{"$f":"IFERROR(IF($B$2=\"トン\",AppQt.Data!BF114,(AppQt.Data!BF114*ozton*AppQt.Data!BF$7)/1000000),\"-\")","v":0.74999999999999989},{"$f":"IFERROR(IF($B$2=\"トン\",AppQt.Data!BG114,(AppQt.Data!BG114*ozton*AppQt.Data!BG$7)/1000000),\"-\")","v":1.3},{"$f":"IFERROR(IF($B$2=\"トン\",AppQt.Data!BH114,(AppQt.Data!BH114*ozton*AppQt.Data!BH$7)/1000000),\"-\")","v":1.1500000000000004},{"$f":"IFERROR(IF($B$2=\"トン\",AppQt.Data!BI114,(AppQt.Data!BI114*ozton*AppQt.Data!BI$7)/1000000),\"-\")","v":1.4299999999999997},{"$f":"IFERROR(IF($B$2=\"トン\",AppQt.Data!BJ114,(AppQt.Data!BJ114*ozton*AppQt.Data!BJ$7)/1000000),\"-\")","v":1.31},{"$f":"IFERROR(IF($B$2=\"トン\",AppQt.Data!BK114,(AppQt.Data!BK114*ozton*AppQt.Data!BK$7)/1000000),\"-\")","v":1.3699999999999999},{"$f":"IFERROR(IF($B$2=\"トン\",AppQt.Data!BL114,(AppQt.Data!BL114*ozton*AppQt.Data!BL$7)/1000000),\"-\")","v":1.5199999999999996},"▲",32.173913043478187]
[null,"ドイツ",{"$f":"IFERROR(IF($B$2=\"トン\",AppAn.Data!L105,(AppAn.Data!L105*ozton*AppAn.Data!L$6)/1000000),\"-\")","v":122.92480077875777},{"$f":"IFERROR(IF($B$2=\"トン\",AppAn.Data!M105,(AppAn.Data!M105*ozton*AppAn.Data!M$6)/1000000),\"-\")","v":142.39127052408281},{"$f":"IFERROR(IF($B$2=\"トン\",AppAn.Data!N105,(AppAn.Data!N105*ozton*AppAn.Data!N$6)/1000000),\"-\")","v":108.18624335002451},{"$f":"IFERROR(IF($B$2=\"トン\",AppAn.Data!O105,(AppAn.Data!O105*ozton*AppAn.Data!O$6)/1000000),\"-\")","v":133.28837626138332},{"$f":"IFERROR(IF($B$2=\"トン\",AppAn.Data!P105,(AppAn.Data!P105*ozton*AppAn.Data!P$6)/1000000),\"-\")","v":101.25619305052984},{"$f":"IFERROR(IF($B$2=\"トン\",AppAn.Data!Q105,(AppAn.Data!Q105*ozton*AppAn.Data!Q$6)/1000000),\"-\")","v":115.95096673221553},{"$f":"IFERROR(IF($B$2=\"トン\",AppAn.Data!R105,(AppAn.Data!R105*ozton*AppAn.Data!R$6)/1000000),\"-\")","v":110.78967333474239},{"$f":"IFERROR(IF($B$2=\"トン\",AppAn.Data!S105,(AppAn.Data!S105*ozton*AppAn.Data!S$6)/1000000),\"-\")","v":106.54577356402456},{"$f":"IFERROR(IF($B$2=\"トン\",AppAn.Data!T105,(AppAn.Data!T105*ozton*AppAn.Data!T$6)/1000000),\"-\")","v":96.257954586318647},{"$f":"IFERROR(IF($B$2=\"トン\",AppAn.Data!U105,(AppAn.Data!U105*ozton*AppAn.Data!U$6)/1000000),\"-\")","v":85.6},{"$f":"IFERROR(IF($B$2=\"トン\",AppAn.Data!V105,(AppAn.Data!V105*ozton*AppAn.Data!V$6)/1000000),\"-\")","v":157},{"$f":"IFERROR(IF($B$2=\"トン\",AppAn.Data!W105,(AppAn.Data!W105*ozton*AppAn.Data!W$6)/1000000),\"-\")","v":162.57858524769333},{"$f":"IFERROR(IF($B$2=\"トン\",AppAn.Data!X105,(AppAn.Data!X105*ozton*AppAn.Data!X$6)/1000000),\"-\")","v":185.31367074657194},"▲",13.984059133151527,null,{"$f":"IFERROR(IF($B$2=\"トン\",AppQt.Data!M115,(AppQt.Data!M115*ozton*AppQt.Data!M$7)/1000000),\"-\")","v":18.37492022674245},{"$f":"IFERROR(IF($B$2=\"トン\",AppQt.Data!N115,(AppQt.Data!N115*ozton*AppQt.Data!N$7)/1000000),\"-\")","v":48.399574542626397},{"$f":"IFERROR(IF($B$2=\"トン\",AppQt.Data!O115,(AppQt.Data!O115*ozton*AppQt.Data!O$7)/1000000),\"-\")","v":23.22509313943436},{"$f":"IFERROR(IF($B$2=\"トン\",AppQt.Data!P115,(AppQt.Data!P115*ozton*AppQt.Data!P$7)/1000000),\"-\")","v":32.925212869954571},{"$f":"IFERROR(IF($B$2=\"トン\",AppQt.Data!Q115,(AppQt.Data!Q115*ozton*AppQt.Data!Q$7)/1000000),\"-\")","v":34.690014837962956},{"$f":"IFERROR(IF($B$2=\"トン\",AppQt.Data!R115,(AppQt.Data!R115*ozton*AppQt.Data!R$7)/1000000),\"-\")","v":20.451130683333329},{"$f":"IFERROR(IF($B$2=\"トン\",AppQt.Data!S115,(AppQt.Data!S115*ozton*AppQt.Data!S$7)/1000000),\"-\")","v":52.643287687534709},{"$f":"IFERROR(IF($B$2=\"トン\",AppQt.Data!T115,(AppQt.Data!T115*ozton*AppQt.Data!T$7)/1000000),\"-\")","v":34.606837315251809},{"$f":"IFERROR(IF($B$2=\"トン\",AppQt.Data!U115,(AppQt.Data!U115*ozton*AppQt.Data!U$7)/1000000),\"-\")","v":20.869973524143148},{"$f":"IFERROR(IF($B$2=\"トン\",AppQt.Data!V115,(AppQt.Data!V115*ozton*AppQt.Data!V$7)/1000000),\"-\")","v":32.938537133416368},{"$f":"IFERROR(IF($B$2=\"トン\",AppQt.Data!W115,(AppQt.Data!W115*ozton*AppQt.Data!W$7)/1000000),\"-\")","v":28.324207232084241},{"$f":"IFERROR(IF($B$2=\"トン\",AppQt.Data!X115,(AppQt.Data!X115*ozton*AppQt.Data!X$7)/1000000),\"-\")","v":26.053525460380747},{"$f":"IFERROR(IF($B$2=\"トン\",AppQt.Data!Y115,(AppQt.Data!Y115*ozton*AppQt.Data!Y$7)/1000000),\"-\")","v":21.300336336078548},{"$f":"IFERROR(IF($B$2=\"トン\",AppQt.Data!Z115,(AppQt.Data!Z115*ozton*AppQt.Data!Z$7)/1000000),\"-\")","v":40.410832768764237},{"$f":"IFERROR(IF($B$2=\"トン\",AppQt.Data!AA115,(AppQt.Data!AA115*ozton*AppQt.Data!AA$7)/1000000),\"-\")","v":31.047577918533488},{"$f":"IFERROR(IF($B$2=\"トン\",AppQt.Data!AB115,(AppQt.Data!AB115*ozton*AppQt.Data!AB$7)/1000000),\"-\")","v":40.52962923800704},{"$f":"IFERROR(IF($B$2=\"トン\",AppQt.Data!AC115,(AppQt.Data!AC115*ozton*AppQt.Data!AC$7)/1000000),\"-\")","v":26.802976006491203},{"$f":"IFERROR(IF($B$2=\"トン\",AppQt.Data!AD115,(AppQt.Data!AD115*ozton*AppQt.Data!AD$7)/1000000),\"-\")","v":19.470751924402599},{"$f":"IFERROR(IF($B$2=\"トン\",AppQt.Data!AE115,(AppQt.Data!AE115*ozton*AppQt.Data!AE$7)/1000000),\"-\")","v":23.881135983300673},{"$f":"IFERROR(IF($B$2=\"トン\",AppQt.Data!AF115,(AppQt.Data!AF115*ozton*AppQt.Data!AF$7)/1000000),\"-\")","v":31.101329136335384},{"$f":"IFERROR(IF($B$2=\"トン\",AppQt.Data!AG115,(AppQt.Data!AG115*ozton*AppQt.Data!AG$7)/1000000),\"-\")","v":30.927302951394314},{"$f":"IFERROR(IF($B$2=\"トン\",AppQt.Data!AH115,(AppQt.Data!AH115*ozton*AppQt.Data!AH$7)/1000000),\"-\")","v":23.120469256079954},{"$f":"IFERROR(IF($B$2=\"トン\",AppQt.Data!AI115,(AppQt.Data!AI115*ozton*AppQt.Data!AI$7)/1000000),\"-\")","v":30.212408164076354},{"$f":"IFERROR(IF($B$2=\"トン\",AppQt.Data!AJ115,(AppQt.Data!AJ115*ozton*AppQt.Data!AJ$7)/1000000),\"-\")","v":31.690786360664923},{"$f":"IFERROR(IF($B$2=\"トン\",AppQt.Data!AK115,(AppQt.Data!AK115*ozton*AppQt.Data!AK$7)/1000000),\"-\")","v":30.266080761960659},{"$f":"IFERROR(IF($B$2=\"トン\",AppQt.Data!AL115,(AppQt.Data!AL115*ozton*AppQt.Data!AL$7)/1000000),\"-\")","v":21.930485192088035},{"$f":"IFERROR(IF($B$2=\"トン\",AppQt.Data!AM115,(AppQt.Data!AM115*ozton*AppQt.Data!AM$7)/1000000),\"-\")","v":17.315149220467966},{"$f":"IFERROR(IF($B$2=\"トン\",AppQt.Data!AN115,(AppQt.Data!AN115*ozton*AppQt.Data!AN$7)/1000000),\"-\")","v":41.277958160225715},{"$f":"IFERROR(IF($B$2=\"トン\",AppQt.Data!AO115,(AppQt.Data!AO115*ozton*AppQt.Data!AO$7)/1000000),\"-\")","v":36.234692518307483},{"$f":"IFERROR(IF($B$2=\"トン\",AppQt.Data!AP115,(AppQt.Data!AP115*ozton*AppQt.Data!AP$7)/1000000),\"-\")","v":20.453651508815774},{"$f":"IFERROR(IF($B$2=\"トン\",AppQt.Data!AQ115,(AppQt.Data!AQ115*ozton*AppQt.Data!AQ$7)/1000000),\"-\")","v":25.757429536901295},{"$f":"IFERROR(IF($B$2=\"トン\",AppQt.Data!AR115,(AppQt.Data!AR115*ozton*AppQt.Data!AR$7)/1000000),\"-\")","v":24.1},{"$f":"IFERROR(IF($B$2=\"トン\",AppQt.Data!AS115,(AppQt.Data!AS115*ozton*AppQt.Data!AS$7)/1000000),\"-\")","v":23.455379199999999},{"$f":"IFERROR(IF($B$2=\"トン\",AppQt.Data!AT115,(AppQt.Data!AT115*ozton*AppQt.Data!AT$7)/1000000),\"-\")","v":18.840000000000003},{"$f":"IFERROR(IF($B$2=\"トン\",AppQt.Data!AU115,(AppQt.Data!AU115*ozton*AppQt.Data!AU$7)/1000000),\"-\")","v":28.872575386318644},{"$f":"IFERROR(IF($B$2=\"トン\",AppQt.Data!AV115,(AppQt.Data!AV115*ozton*AppQt.Data!AV$7)/1000000),\"-\")","v":25.09},{"$f":"IFERROR(IF($B$2=\"トン\",AppQt.Data!AW115,(AppQt.Data!AW115*ozton*AppQt.Data!AW$7)/1000000),\"-\")","v":22.799999999999997},{"$f":"IFERROR(IF($B$2=\"トン\",AppQt.Data!AX115,(AppQt.Data!AX115*ozton*AppQt.Data!AX$7)/1000000),\"-\")","v":16.399999999999999},{"$f":"IFERROR(IF($B$2=\"トン\",AppQt.Data!AY115,(AppQt.Data!AY115*ozton*AppQt.Data!AY$7)/1000000),\"-\")","v":17.8},{"$f":"IFERROR(IF($B$2=\"トン\",AppQt.Data!AZ115,(AppQt.Data!AZ115*ozton*AppQt.Data!AZ$7)/1000000),\"-\")","v":28.6},{"$f":"IFERROR(IF($B$2=\"トン\",AppQt.Data!BA115,(AppQt.Data!BA115*ozton*AppQt.Data!BA$7)/1000000),\"-\")","v":46},{"$f":"IFERROR(IF($B$2=\"トン\",AppQt.Data!BB115,(AppQt.Data!BB115*ozton*AppQt.Data!BB$7)/1000000),\"-\")","v":44},{"$f":"IFERROR(IF($B$2=\"トン\",AppQt.Data!BC115,(AppQt.Data!BC115*ozton*AppQt.Data!BC$7)/1000000),\"-\")","v":29.5},{"$f":"IFERROR(IF($B$2=\"トン\",AppQt.Data!BD115,(AppQt.Data!BD115*ozton*AppQt.Data!BD$7)/1000000),\"-\")","v":37.5},{"$f":"IFERROR(IF($B$2=\"トン\",AppQt.Data!BE115,(AppQt.Data!BE115*ozton*AppQt.Data!BE$7)/1000000),\"-\")","v":44.023976113928697},{"$f":"IFERROR(IF($B$2=\"トン\",AppQt.Data!BF115,(AppQt.Data!BF115*ozton*AppQt.Data!BF$7)/1000000),\"-\")","v":44.7222338352802},{"$f":"IFERROR(IF($B$2=\"トン\",AppQt.Data!BG115,(AppQt.Data!BG115*ozton*AppQt.Data!BG$7)/1000000),\"-\")","v":33.72493587544335},{"$f":"IFERROR(IF($B$2=\"トン\",AppQt.Data!BH115,(AppQt.Data!BH115*ozton*AppQt.Data!BH$7)/1000000),\"-\")","v":40.107439423041079},{"$f":"IFERROR(IF($B$2=\"トン\",AppQt.Data!BI115,(AppQt.Data!BI115*ozton*AppQt.Data!BI$7)/1000000),\"-\")","v":47.457910421106703},{"$f":"IFERROR(IF($B$2=\"トン\",AppQt.Data!BJ115,(AppQt.Data!BJ115*ozton*AppQt.Data!BJ$7)/1000000),\"-\")","v":48.8731589367463},{"$f":"IFERROR(IF($B$2=\"トン\",AppQt.Data!BK115,(AppQt.Data!BK115*ozton*AppQt.Data!BK$7)/1000000),\"-\")","v":41.996969889334601},{"$f":"IFERROR(IF($B$2=\"トン\",AppQt.Data!BL115,(AppQt.Data!BL115*ozton*AppQt.Data!BL$7)/1000000),\"-\")","v":46.985631499384347},"▲",17.14941710387987]
[null,"イタリア","-","-","-","-","-","-","-","-","-","-","-","-","-","-","-",null,"-","-","-","-","-","-","-","-","-","-","-","-","-","-","-","-","-","-","-","-","-","-","-","-","-","-","-","-","-","-","-","-","-","-","-","-","-","-","-","-","-","-","-","-","-","-","-","-","-","-","-","-","-","-"]
[null,"スペイン","-","-","-","-","-","-","-","-","-","-","-","-","-","-","-",null,"-","-","-","-","-","-","-","-","-","-","-","-","-","-","-","-","-","-","-","-","-","-","-","-","-","-","-","-","-","-","-","-","-","-","-","-","-","-","-","-","-","-","-","-","-","-","-","-","-","-","-","-","-","-"]
[null,"英国",{"$f":"IFERROR(IF($B$2=\"トン\",AppAn.Data!L108,(AppAn.Data!L108*ozton*AppAn.Data!L$6)/1000000),\"-\")","v":14.822887776049278},{"$f":"IFERROR(IF($B$2=\"トン\",AppAn.Data!M108,(AppAn.Data!M108*ozton*AppAn.Data!M$6)/1000000),\"-\")","v":17.354423688176141},{"$f":"IFERROR(IF($B$2=\"トン\",AppAn.Data!N108,(AppAn.Data!N108*ozton*AppAn.Data!N$6)/1000000),\"-\")","v":14.968650823370318},{"$f":"IFERROR(IF($B$2=\"トン\",AppAn.Data!O108,(AppAn.Data!O108*ozton*AppAn.Data!O$6)/1000000),\"-\")","v":11.46675612219153},{"$f":"IFERROR(IF($B$2=\"トン\",AppAn.Data!P108,(AppAn.Data!P108*ozton*AppAn.Data!P$6)/1000000),\"-\")","v":7.6435354083045262},{"$f":"IFERROR(IF($B$2=\"トン\",AppAn.Data!Q108,(AppAn.Data!Q108*ozton*AppAn.Data!Q$6)/1000000),\"-\")","v":8.4873653291211983},{"$f":"IFERROR(IF($B$2=\"トン\",AppAn.Data!R108,(AppAn.Data!R108*ozton*AppAn.Data!R$6)/1000000),\"-\")","v":11.924296113865523},{"$f":"IFERROR(IF($B$2=\"トン\",AppAn.Data!S108,(AppAn.Data!S108*ozton*AppAn.Data!S$6)/1000000),\"-\")","v":10.481779286355399},{"$f":"IFERROR(IF($B$2=\"トン\",AppAn.Data!T108,(AppAn.Data!T108*ozton*AppAn.Data!T$6)/1000000),\"-\")","v":12.091922765681973},{"$f":"IFERROR(IF($B$2=\"トン\",AppAn.Data!U108,(AppAn.Data!U108*ozton*AppAn.Data!U$6)/1000000),\"-\")","v":10.451175147552407},{"$f":"IFERROR(IF($B$2=\"トン\",AppAn.Data!V108,(AppAn.Data!V108*ozton*AppAn.Data!V$6)/1000000),\"-\")","v":13.897638569116815},{"$f":"IFERROR(IF($B$2=\"トン\",AppAn.Data!W108,(AppAn.Data!W108*ozton*AppAn.Data!W$6)/1000000),\"-\")","v":15.497695839343828},{"$f":"IFERROR(IF($B$2=\"トン\",AppAn.Data!X108,(AppAn.Data!X108*ozton*AppAn.Data!X$6)/1000000),\"-\")","v":16.291753420018548},"▲",{"$f":"IF(AND(O40>0,N40>0),(O40/N40-1)*100,\"-\")","v":5.123713801756602},null,{"$f":"IFERROR(IF($B$2=\"トン\",AppQt.Data!M118,(AppQt.Data!M118*ozton*AppQt.Data!M$7)/1000000),\"-\")","v":3.0726077449455245},{"$f":"IFERROR(IF($B$2=\"トン\",AppQt.Data!N118,(AppQt.Data!N118*ozton*AppQt.Data!N$7)/1000000),\"-\")","v":5.76622839813359},{"$f":"IFERROR(IF($B$2=\"トン\",AppQt.Data!O118,(AppQt.Data!O118*ozton*AppQt.Data!O$7)/1000000),\"-\")","v":2.1452154898910489},{"$f":"IFERROR(IF($B$2=\"トン\",AppQt.Data!P118,(AppQt.Data!P118*ozton*AppQt.Data!P$7)/1000000),\"-\")","v":3.8388361430791145},{"$f":"IFERROR(IF($B$2=\"トン\",AppQt.Data!Q118,(AppQt.Data!Q118*ozton*AppQt.Data!Q$7)/1000000),\"-\")","v":3.8896450749019049},{"$f":"IFERROR(IF($B$2=\"トン\",AppQt.Data!R118,(AppQt.Data!R118*ozton*AppQt.Data!R$7)/1000000),\"-\")","v":4.3510208511175712},{"$f":"IFERROR(IF($B$2=\"トン\",AppQt.Data!S118,(AppQt.Data!S118*ozton*AppQt.Data!S$7)/1000000),\"-\")","v":5.7682546572940003},{"$f":"IFERROR(IF($B$2=\"トン\",AppQt.Data!T118,(AppQt.Data!T118*ozton*AppQt.Data!T$7)/1000000),\"-\")","v":3.3455031048626669},{"$f":"IFERROR(IF($B$2=\"トン\",AppQt.Data!U118,(AppQt.Data!U118*ozton*AppQt.Data!U$7)/1000000),\"-\")","v":4.2173661164047704},{"$f":"IFERROR(IF($B$2=\"トン\",AppQt.Data!V118,(AppQt.Data!V118*ozton*AppQt.Data!V$7)/1000000),\"-\")","v":5.6940022202667677},{"$f":"IFERROR(IF($B$2=\"トン\",AppQt.Data!W118,(AppQt.Data!W118*ozton*AppQt.Data!W$7)/1000000),\"-\")","v":2.0379868018045908},{"$f":"IFERROR(IF($B$2=\"トン\",AppQt.Data!X118,(AppQt.Data!X118*ozton*AppQt.Data!X$7)/1000000),\"-\")","v":3.019295684894189},{"$f":"IFERROR(IF($B$2=\"トン\",AppQt.Data!Y118,(AppQt.Data!Y118*ozton*AppQt.Data!Y$7)/1000000),\"-\")","v":2.9877636576894369},{"$f":"IFERROR(IF($B$2=\"トン\",AppQt.Data!Z118,(AppQt.Data!Z118*ozton*AppQt.Data!Z$7)/1000000),\"-\")","v":3.3012311871914743},{"$f":"IFERROR(IF($B$2=\"トン\",AppQt.Data!AA118,(AppQt.Data!AA118*ozton*AppQt.Data!AA$7)/1000000),\"-\")","v":2.4585871656487615},{"$f":"IFERROR(IF($B$2=\"トン\",AppQt.Data!AB118,(AppQt.Data!AB118*ozton*AppQt.Data!AB$7)/1000000),\"-\")","v":2.7191741116618573},{"$f":"IFERROR(IF($B$2=\"トン\",AppQt.Data!AC118,(AppQt.Data!AC118*ozton*AppQt.Data!AC$7)/1000000),\"-\")","v":2.5405124145856846},{"$f":"IFERROR(IF($B$2=\"トン\",AppQt.Data!AD118,(AppQt.Data!AD118*ozton*AppQt.Data!AD$7)/1000000),\"-\")","v":1.6069962960821087},{"$f":"IFERROR(IF($B$2=\"トン\",AppQt.Data!AE118,(AppQt.Data!AE118*ozton*AppQt.Data!AE$7)/1000000),\"-\")","v":1.5038584726042283},{"$f":"IFERROR(IF($B$2=\"トン\",AppQt.Data!AF118,(AppQt.Data!AF118*ozton*AppQt.Data!AF$7)/1000000),\"-\")","v":1.9921682250325037},{"$f":"IFERROR(IF($B$2=\"トン\",AppQt.Data!AG118,(AppQt.Data!AG118*ozton*AppQt.Data!AG$7)/1000000),\"-\")","v":1.9134753351358413},{"$f":"IFERROR(IF($B$2=\"トン\",AppQt.Data!AH118,(AppQt.Data!AH118*ozton*AppQt.Data!AH$7)/1000000),\"-\")","v":1.9603998330710573},{"$f":"IFERROR(IF($B$2=\"トン\",AppQt.Data!AI118,(AppQt.Data!AI118*ozton*AppQt.Data!AI$7)/1000000),\"-\")","v":2.5963793586926367},{"$f":"IFERROR(IF($B$2=\"トン\",AppQt.Data!AJ118,(AppQt.Data!AJ118*ozton*AppQt.Data!AJ$7)/1000000),\"-\")","v":2.0171108022216626},{"$f":"IFERROR(IF($B$2=\"トン\",AppQt.Data!AK118,(AppQt.Data!AK118*ozton*AppQt.Data!AK$7)/1000000),\"-\")","v":3.0499519222959717},{"$f":"IFERROR(IF($B$2=\"トン\",AppQt.Data!AL118,(AppQt.Data!AL118*ozton*AppQt.Data!AL$7)/1000000),\"-\")","v":3.1610975538028145},{"$f":"IFERROR(IF($B$2=\"トン\",AppQt.Data!AM118,(AppQt.Data!AM118*ozton*AppQt.Data!AM$7)/1000000),\"-\")","v":2.5836322636625102},{"$f":"IFERROR(IF($B$2=\"トン\",AppQt.Data!AN118,(AppQt.Data!AN118*ozton*AppQt.Data!AN$7)/1000000),\"-\")","v":3.1296143741042264},{"$f":"IFERROR(IF($B$2=\"トン\",AppQt.Data!AO118,(AppQt.Data!AO118*ozton*AppQt.Data!AO$7)/1000000),\"-\")","v":3.3491317566436525},{"$f":"IFERROR(IF($B$2=\"トン\",AppQt.Data!AP118,(AppQt.Data!AP118*ozton*AppQt.Data!AP$7)/1000000),\"-\")","v":2.1843440735809736},{"$f":"IFERROR(IF($B$2=\"トン\",AppQt.Data!AQ118,(AppQt.Data!AQ118*ozton*AppQt.Data!AQ$7)/1000000),\"-\")","v":2.590157774683953},{"$f":"IFERROR(IF($B$2=\"トン\",AppQt.Data!AR118,(AppQt.Data!AR118*ozton*AppQt.Data!AR$7)/1000000),\"-\")","v":2.3581456814468198},{"$f":"IFERROR(IF($B$2=\"トン\",AppQt.Data!AS118,(AppQt.Data!AS118*ozton*AppQt.Data!AS$7)/1000000),\"-\")","v":2.2507616063206251},{"$f":"IFERROR(IF($B$2=\"トン\",AppQt.Data!AT118,(AppQt.Data!AT118*ozton*AppQt.Data!AT$7)/1000000),\"-\")","v":2.8509641974227109},{"$f":"IFERROR(IF($B$2=\"トン\",AppQt.Data!AU118,(AppQt.Data!AU118*ozton*AppQt.Data!AU$7)/1000000),\"-\")","v":3.7366180785111589},{"$f":"IFERROR(IF($B$2=\"トン\",AppQt.Data!AV118,(AppQt.Data!AV118*ozton*AppQt.Data!AV$7)/1000000),\"-\")","v":3.2535788834274784},{"$f":"IFERROR(IF($B$2=\"トン\",AppQt.Data!AW118,(AppQt.Data!AW118*ozton*AppQt.Data!AW$7)/1000000),\"-\")","v":3.7899445955321625},{"$f":"IFERROR(IF($B$2=\"トン\",AppQt.Data!AX118,(AppQt.Data!AX118*ozton*AppQt.Data!AX$7)/1000000),\"-\")","v":2.2854531409530257},{"$f":"IFERROR(IF($B$2=\"トン\",AppQt.Data!AY118,(AppQt.Data!AY118*ozton*AppQt.Data!AY$7)/1000000),\"-\")","v":2.3813324434513841},{"$f":"IFERROR(IF($B$2=\"トン\",AppQt.Data!AZ118,(AppQt.Data!AZ118*ozton*AppQt.Data!AZ$7)/1000000),\"-\")","v":1.9944449676158342},{"$f":"IFERROR(IF($B$2=\"トン\",AppQt.Data!BA118,(AppQt.Data!BA118*ozton*AppQt.Data!BA$7)/1000000),\"-\")","v":3.868203239237809},{"$f":"IFERROR(IF($B$2=\"トン\",AppQt.Data!BB118,(AppQt.Data!BB118*ozton*AppQt.Data!BB$7)/1000000),\"-\")","v":3.7904323112824523},{"$f":"IFERROR(IF($B$2=\"トン\",AppQt.Data!BC118,(AppQt.Data!BC118*ozton*AppQt.Data!BC$7)/1000000),\"-\")","v":3.1864806747810319},{"$f":"IFERROR(IF($B$2=\"トン\",AppQt.Data!BD118,(AppQt.Data!BD118*ozton*AppQt.Data!BD$7)/1000000),\"-\")","v":3.0525223438155216},{"$f":"IFERROR(IF($B$2=\"トン\",AppQt.Data!BE118,(AppQt.Data!BE118*ozton*AppQt.Data!BE$7)/1000000),\"-\")","v":3.9424249462871401},{"$f":"IFERROR(IF($B$2=\"トン\",AppQt.Data!BF118,(AppQt.Data!BF118*ozton*AppQt.Data!BF$7)/1000000),\"-\")","v":4.1411321399943208},{"$f":"IFERROR(IF($B$2=\"トン\",AppQt.Data!BG118,(AppQt.Data!BG118*ozton*AppQt.Data!BG$7)/1000000),\"-\")","v":4.0799809626658767},{"$f":"IFERROR(IF($B$2=\"トン\",AppQt.Data!BH118,(AppQt.Data!BH118*ozton*AppQt.Data!BH$7)/1000000),\"-\")","v":3.3341577903964907},{"$f":"IFERROR(IF($B$2=\"トン\",AppQt.Data!BI118,(AppQt.Data!BI118*ozton*AppQt.Data!BI$7)/1000000),\"-\")","v":4.3218592479223137},{"$f":"IFERROR(IF($B$2=\"トン\",AppQt.Data!BJ118,(AppQt.Data!BJ118*ozton*AppQt.Data!BJ$7)/1000000),\"-\")","v":3.8362012476016081},{"$f":"IFERROR(IF($B$2=\"トン\",AppQt.Data!BK118,(AppQt.Data!BK118*ozton*AppQt.Data!BK$7)/1000000),\"-\")","v":4.2406417919986801},{"$f":"IFERROR(IF($B$2=\"トン\",AppQt.Data!BL118,(AppQt.Data!BL118*ozton*AppQt.Data!BL$7)/1000000),\"-\")","v":3.8930511324959456},{"$f":"IF(BT40<0,$A$2,IF(BT40>0,$A$1,\"-\"))","v":"▲"},{"$f":"IF(AND(ISNUMBER(BR40),ISNUMBER(BN40),BR40>0,BN40>0,(BR40/BN40-1)*100<300),(BR40/BN40-1)*100,IF(AND(ISNUMBER(BR40),ISNUMBER(BN40),BR40>0,BN40>0,(BR40/BN40-1)*100>300),\">300\",\"-\"))","v":16.762654236378904}]
[null,"スイス",{"$f":"IFERROR(IF($B$2=\"トン\",AppAn.Data!L109,(AppAn.Data!L109*ozton*AppAn.Data!L$6)/1000000),\"-\")","v":86.88024417475728},{"$f":"IFERROR(IF($B$2=\"トン\",AppAn.Data!M109,(AppAn.Data!M109*ozton*AppAn.Data!M$6)/1000000),\"-\")","v":96.756150637949958},{"$f":"IFERROR(IF($B$2=\"トン\",AppAn.Data!N109,(AppAn.Data!N109*ozton*AppAn.Data!N$6)/1000000),\"-\")","v":62.192186448371622},{"$f":"IFERROR(IF($B$2=\"トン\",AppAn.Data!O109,(AppAn.Data!O109*ozton*AppAn.Data!O$6)/1000000),\"-\")","v":61.736001026527774},{"$f":"IFERROR(IF($B$2=\"トン\",AppAn.Data!P109,(AppAn.Data!P109*ozton*AppAn.Data!P$6)/1000000),\"-\")","v":47.727366666666668},{"$f":"IFERROR(IF($B$2=\"トン\",AppAn.Data!Q109,(AppAn.Data!Q109*ozton*AppAn.Data!Q$6)/1000000),\"-\")","v":50.347677777777776},{"$f":"IFERROR(IF($B$2=\"トン\",AppAn.Data!R109,(AppAn.Data!R109*ozton*AppAn.Data!R$6)/1000000),\"-\")","v":45.620800000000003},{"$f":"IFERROR(IF($B$2=\"トン\",AppAn.Data!S109,(AppAn.Data!S109*ozton*AppAn.Data!S$6)/1000000),\"-\")","v":42.48},{"$f":"IFERROR(IF($B$2=\"トン\",AppAn.Data!T109,(AppAn.Data!T109*ozton*AppAn.Data!T$6)/1000000),\"-\")","v":36.550000000000004},{"$f":"IFERROR(IF($B$2=\"トン\",AppAn.Data!U109,(AppAn.Data!U109*ozton*AppAn.Data!U$6)/1000000),\"-\")","v":29.82},{"$f":"IFERROR(IF($B$2=\"トン\",AppAn.Data!V109,(AppAn.Data!V109*ozton*AppAn.Data!V$6)/1000000),\"-\")","v":42.9},{"$f":"IFERROR(IF($B$2=\"トン\",AppAn.Data!W109,(AppAn.Data!W109*ozton*AppAn.Data!W$6)/1000000),\"-\")","v":43.8},{"$f":"IFERROR(IF($B$2=\"トン\",AppAn.Data!X109,(AppAn.Data!X109*ozton*AppAn.Data!X$6)/1000000),\"-\")","v":48.725000000000001},"▲",11.244292237442943,null,{"$f":"IFERROR(IF($B$2=\"トン\",AppQt.Data!M119,(AppQt.Data!M119*ozton*AppQt.Data!M$7)/1000000),\"-\")","v":13.661360841423948},{"$f":"IFERROR(IF($B$2=\"トン\",AppQt.Data!N119,(AppQt.Data!N119*ozton*AppQt.Data!N$7)/1000000),\"-\")","v":33.972940291262141},{"$f":"IFERROR(IF($B$2=\"トン\",AppQt.Data!O119,(AppQt.Data!O119*ozton*AppQt.Data!O$7)/1000000),\"-\")","v":15.580899029126215},{"$f":"IFERROR(IF($B$2=\"トン\",AppQt.Data!P119,(AppQt.Data!P119*ozton*AppQt.Data!P$7)/1000000),\"-\")","v":23.665044012944982},{"$f":"IFERROR(IF($B$2=\"トン\",AppQt.Data!Q119,(AppQt.Data!Q119*ozton*AppQt.Data!Q$7)/1000000),\"-\")","v":24.597273753684618},{"$f":"IFERROR(IF($B$2=\"トン\",AppQt.Data!R119,(AppQt.Data!R119*ozton*AppQt.Data!R$7)/1000000),\"-\")","v":17.407180432256816},{"$f":"IFERROR(IF($B$2=\"トン\",AppQt.Data!S119,(AppQt.Data!S119*ozton*AppQt.Data!S$7)/1000000),\"-\")","v":30.273841426942354},{"$f":"IFERROR(IF($B$2=\"トン\",AppQt.Data!T119,(AppQt.Data!T119*ozton*AppQt.Data!T$7)/1000000),\"-\")","v":24.477855025066162},{"$f":"IFERROR(IF($B$2=\"トン\",AppQt.Data!U119,(AppQt.Data!U119*ozton*AppQt.Data!U$7)/1000000),\"-\")","v":21.424346328748893},{"$f":"IFERROR(IF($B$2=\"トン\",AppQt.Data!V119,(AppQt.Data!V119*ozton*AppQt.Data!V$7)/1000000),\"-\")","v":13.501880627855009},{"$f":"IFERROR(IF($B$2=\"トン\",AppQt.Data!W119,(AppQt.Data!W119*ozton*AppQt.Data!W$7)/1000000),\"-\")","v":13.197918798678892},{"$f":"IFERROR(IF($B$2=\"トン\",AppQt.Data!X119,(AppQt.Data!X119*ozton*AppQt.Data!X$7)/1000000),\"-\")","v":14.068040693088832},{"$f":"IFERROR(IF($B$2=\"トン\",AppQt.Data!Y119,(AppQt.Data!Y119*ozton*AppQt.Data!Y$7)/1000000),\"-\")","v":11.635592022499999},{"$f":"IFERROR(IF($B$2=\"トン\",AppQt.Data!Z119,(AppQt.Data!Z119*ozton*AppQt.Data!Z$7)/1000000),\"-\")","v":19.521125793611109},{"$f":"IFERROR(IF($B$2=\"トン\",AppQt.Data!AA119,(AppQt.Data!AA119*ozton*AppQt.Data!AA$7)/1000000),\"-\")","v":12.450136177083332},{"$f":"IFERROR(IF($B$2=\"トン\",AppQt.Data!AB119,(AppQt.Data!AB119*ozton*AppQt.Data!AB$7)/1000000),\"-\")","v":18.129147033333332},{"$f":"IFERROR(IF($B$2=\"トン\",AppQt.Data!AC119,(AppQt.Data!AC119*ozton*AppQt.Data!AC$7)/1000000),\"-\")","v":12.488649999999998},{"$f":"IFERROR(IF($B$2=\"トン\",AppQt.Data!AD119,(AppQt.Data!AD119*ozton*AppQt.Data!AD$7)/1000000),\"-\")","v":9.7897777777777772},{"$f":"IFERROR(IF($B$2=\"トン\",AppQt.Data!AE119,(AppQt.Data!AE119*ozton*AppQt.Data!AE$7)/1000000),\"-\")","v":10.447605555555555},{"$f":"IFERROR(IF($B$2=\"トン\",AppQt.Data!AF119,(AppQt.Data!AF119*ozton*AppQt.Data!AF$7)/1000000),\"-\")","v":15.001333333333331},{"$f":"IFERROR(IF($B$2=\"トン\",AppQt.Data!AG119,(AppQt.Data!AG119*ozton*AppQt.Data!AG$7)/1000000),\"-\")","v":13.8409},{"$f":"IFERROR(IF($B$2=\"トン\",AppQt.Data!AH119,(AppQt.Data!AH119*ozton*AppQt.Data!AH$7)/1000000),\"-\")","v":10.986055555555556},{"$f":"IFERROR(IF($B$2=\"トン\",AppQt.Data!AI119,(AppQt.Data!AI119*ozton*AppQt.Data!AI$7)/1000000),\"-\")","v":13.620722222222222},{"$f":"IFERROR(IF($B$2=\"トン\",AppQt.Data!AJ119,(AppQt.Data!AJ119*ozton*AppQt.Data!AJ$7)/1000000),\"-\")","v":11.9},{"$f":"IFERROR(IF($B$2=\"トン\",AppQt.Data!AK119,(AppQt.Data!AK119*ozton*AppQt.Data!AK$7)/1000000),\"-\")","v":11.68},{"$f":"IFERROR(IF($B$2=\"トン\",AppQt.Data!AL119,(AppQt.Data!AL119*ozton*AppQt.Data!AL$7)/1000000),\"-\")","v":10.7},{"$f":"IFERROR(IF($B$2=\"トン\",AppQt.Data!AM119,(AppQt.Data!AM119*ozton*AppQt.Data!AM$7)/1000000),\"-\")","v":8.3000000000000007},{"$f":"IFERROR(IF($B$2=\"トン\",AppQt.Data!AN119,(AppQt.Data!AN119*ozton*AppQt.Data!AN$7)/1000000),\"-\")","v":14.940799999999999},{"$f":"IFERROR(IF($B$2=\"トン\",AppQt.Data!AO119,(AppQt.Data!AO119*ozton*AppQt.Data!AO$7)/1000000),\"-\")","v":13.4},{"$f":"IFERROR(IF($B$2=\"トン\",AppQt.Data!AP119,(AppQt.Data!AP119*ozton*AppQt.Data!AP$7)/1000000),\"-\")","v":9},{"$f":"IFERROR(IF($B$2=\"トン\",AppQt.Data!AQ119,(AppQt.Data!AQ119*ozton*AppQt.Data!AQ$7)/1000000),\"-\")","v":10.45},{"$f":"IFERROR(IF($B$2=\"トン\",AppQt.Data!AR119,(AppQt.Data!AR119*ozton*AppQt.Data!AR$7)/1000000),\"-\")","v":9.6300000000000008},{"$f":"IFERROR(IF($B$2=\"トン\",AppQt.Data!AS119,(AppQt.Data!AS119*ozton*AppQt.Data!AS$7)/1000000),\"-\")","v":8.23},{"$f":"IFERROR(IF($B$2=\"トン\",AppQt.Data!AT119,(AppQt.Data!AT119*ozton*AppQt.Data!AT$7)/1000000),\"-\")","v":7.05},{"$f":"IFERROR(IF($B$2=\"トン\",AppQt.Data!AU119,(AppQt.Data!AU119*ozton*AppQt.Data!AU$7)/1000000),\"-\")","v":11.14},{"$f":"IFERROR(IF($B$2=\"トン\",AppQt.Data!AV119,(AppQt.Data!AV119*ozton*AppQt.Data!AV$7)/1000000),\"-\")","v":10.130000000000001},{"$f":"IFERROR(IF($B$2=\"トン\",AppQt.Data!AW119,(AppQt.Data!AW119*ozton*AppQt.Data!AW$7)/1000000),\"-\")","v":8.91},{"$f":"IFERROR(IF($B$2=\"トン\",AppQt.Data!AX119,(AppQt.Data!AX119*ozton*AppQt.Data!AX$7)/1000000),\"-\")","v":6.74},{"$f":"IFERROR(IF($B$2=\"トン\",AppQt.Data!AY119,(AppQt.Data!AY119*ozton*AppQt.Data!AY$7)/1000000),\"-\")","v":6.4850000000000003},{"$f":"IFERROR(IF($B$2=\"トン\",AppQt.Data!AZ119,(AppQt.Data!AZ119*ozton*AppQt.Data!AZ$7)/1000000),\"-\")","v":7.6850000000000005},{"$f":"IFERROR(IF($B$2=\"トン\",AppQt.Data!BA119,(AppQt.Data!BA119*ozton*AppQt.Data!BA$7)/1000000),\"-\")","v":14},{"$f":"IFERROR(IF($B$2=\"トン\",AppQt.Data!BB119,(AppQt.Data!BB119*ozton*AppQt.Data!BB$7)/1000000),\"-\")","v":11.8},{"$f":"IFERROR(IF($B$2=\"トン\",AppQt.Data!BC119,(AppQt.Data!BC119*ozton*AppQt.Data!BC$7)/1000000),\"-\")","v":7.5},{"$f":"IFERROR(IF($B$2=\"トン\",AppQt.Data!BD119,(AppQt.Data!BD119*ozton*AppQt.Data!BD$7)/1000000),\"-\")","v":9.6},{"$f":"IFERROR(IF($B$2=\"トン\",AppQt.Data!BE119,(AppQt.Data!BE119*ozton*AppQt.Data!BE$7)/1000000),\"-\")","v":13},{"$f":"IFERROR(IF($B$2=\"トン\",AppQt.Data!BF119,(AppQt.Data!BF119*ozton*AppQt.Data!BF$7)/1000000),\"-\")","v":12},{"$f":"IFERROR(IF($B$2=\"トン\",AppQt.Data!BG119,(AppQt.Data!BG119*ozton*AppQt.Data!BG$7)/1000000),\"-\")","v":9.1},{"$f":"IFERROR(IF($B$2=\"トン\",AppQt.Data!BH119,(AppQt.Data!BH119*ozton*AppQt.Data!BH$7)/1000000),\"-\")","v":9.6999999999999993},{"$f":"IFERROR(IF($B$2=\"トン\",AppQt.Data!BI119,(AppQt.Data!BI119*ozton*AppQt.Data!BI$7)/1000000),\"-\")","v":13.5},{"$f":"IFERROR(IF($B$2=\"トン\",AppQt.Data!BJ119,(AppQt.Data!BJ119*ozton*AppQt.Data!BJ$7)/1000000),\"-\")","v":11.600000000000001},{"$f":"IFERROR(IF($B$2=\"トン\",AppQt.Data!BK119,(AppQt.Data!BK119*ozton*AppQt.Data!BK$7)/1000000),\"-\")","v":11},{"$f":"IFERROR(IF($B$2=\"トン\",AppQt.Data!BL119,(AppQt.Data!BL119*ozton*AppQt.Data!BL$7)/1000000),\"-\")","v":12.625},"▲",30.154639175257735]
[null,"オーストリア",{"$f":"IFERROR(IF($B$2=\"トン\",AppAn.Data!L110,(AppAn.Data!L110*ozton*AppAn.Data!L$6)/1000000),\"-\")","v":13.737271684931248},{"$f":"IFERROR(IF($B$2=\"トン\",AppAn.Data!M110,(AppAn.Data!M110*ozton*AppAn.Data!M$6)/1000000),\"-\")","v":15.099401812444784},{"$f":"IFERROR(IF($B$2=\"トン\",AppAn.Data!N110,(AppAn.Data!N110*ozton*AppAn.Data!N$6)/1000000),\"-\")","v":10.416386255550757},{"$f":"IFERROR(IF($B$2=\"トン\",AppAn.Data!O110,(AppAn.Data!O110*ozton*AppAn.Data!O$6)/1000000),\"-\")","v":12.986976769970804},{"$f":"IFERROR(IF($B$2=\"トン\",AppAn.Data!P110,(AppAn.Data!P110*ozton*AppAn.Data!P$6)/1000000),\"-\")","v":10.231152840524683},{"$f":"IFERROR(IF($B$2=\"トン\",AppAn.Data!Q110,(AppAn.Data!Q110*ozton*AppAn.Data!Q$6)/1000000),\"-\")","v":12.200331129905001},{"$f":"IFERROR(IF($B$2=\"トン\",AppAn.Data!R110,(AppAn.Data!R110*ozton*AppAn.Data!R$6)/1000000),\"-\")","v":10.837013815435},{"$f":"IFERROR(IF($B$2=\"トン\",AppAn.Data!S110,(AppAn.Data!S110*ozton*AppAn.Data!S$6)/1000000),\"-\")","v":9.6828970717000011},{"$f":"IFERROR(IF($B$2=\"トン\",AppAn.Data!T110,(AppAn.Data!T110*ozton*AppAn.Data!T$6)/1000000),\"-\")","v":8.1812401231949998},{"$f":"IFERROR(IF($B$2=\"トン\",AppAn.Data!U110,(AppAn.Data!U110*ozton*AppAn.Data!U$6)/1000000),\"-\")","v":6.2393288379899996},{"$f":"IFERROR(IF($B$2=\"トン\",AppAn.Data!V110,(AppAn.Data!V110*ozton*AppAn.Data!V$6)/1000000),\"-\")","v":11.567192839265003},{"$f":"IFERROR(IF($B$2=\"トン\",AppAn.Data!W110,(AppAn.Data!W110*ozton*AppAn.Data!W$6)/1000000),\"-\")","v":12.245203467255001},{"$f":"IFERROR(IF($B$2=\"トン\",AppAn.Data!X110,(AppAn.Data!X110*ozton*AppAn.Data!X$6)/1000000),\"-\")","v":14.219125138759999},"▲",16.119958127143242,null,{"$f":"IFERROR(IF($B$2=\"トン\",AppQt.Data!M120,(AppQt.Data!M120*ozton*AppQt.Data!M$7)/1000000),\"-\")","v":2.3814544718774999},{"$f":"IFERROR(IF($B$2=\"トン\",AppQt.Data!N120,(AppQt.Data!N120*ozton*AppQt.Data!N$7)/1000000),\"-\")","v":6.0057268987106243},{"$f":"IFERROR(IF($B$2=\"トン\",AppQt.Data!O120,(AppQt.Data!O120*ozton*AppQt.Data!O$7)/1000000),\"-\")","v":2.5397270336018751},{"$f":"IFERROR(IF($B$2=\"トン\",AppQt.Data!P120,(AppQt.Data!P120*ozton*AppQt.Data!P$7)/1000000),\"-\")","v":2.81036328074125},{"$f":"IFERROR(IF($B$2=\"トン\",AppQt.Data!Q120,(AppQt.Data!Q120*ozton*AppQt.Data!Q$7)/1000000),\"-\")","v":2.3333286008264325},{"$f":"IFERROR(IF($B$2=\"トン\",AppQt.Data!R120,(AppQt.Data!R120*ozton*AppQt.Data!R$7)/1000000),\"-\")","v":1.7399957407437898},{"$f":"IFERROR(IF($B$2=\"トン\",AppQt.Data!S120,(AppQt.Data!S120*ozton*AppQt.Data!S$7)/1000000),\"-\")","v":6.4394259482299763},{"$f":"IFERROR(IF($B$2=\"トン\",AppQt.Data!T120,(AppQt.Data!T120*ozton*AppQt.Data!T$7)/1000000),\"-\")","v":4.5866515226445852},{"$f":"IFERROR(IF($B$2=\"トン\",AppQt.Data!U120,(AppQt.Data!U120*ozton*AppQt.Data!U$7)/1000000),\"-\")","v":1.5005490260597749},{"$f":"IFERROR(IF($B$2=\"トン\",AppQt.Data!V120,(AppQt.Data!V120*ozton*AppQt.Data!V$7)/1000000),\"-\")","v":2.5010167149255089},{"$f":"IFERROR(IF($B$2=\"トン\",AppQt.Data!W120,(AppQt.Data!W120*ozton*AppQt.Data!W$7)/1000000),\"-\")","v":3.2576129694265172},{"$f":"IFERROR(IF($B$2=\"トン\",AppQt.Data!X120,(AppQt.Data!X120*ozton*AppQt.Data!X$7)/1000000),\"-\")","v":3.1572075451389554},{"$f":"IFERROR(IF($B$2=\"トン\",AppQt.Data!Y120,(AppQt.Data!Y120*ozton*AppQt.Data!Y$7)/1000000),\"-\")","v":1.9666199864846505},{"$f":"IFERROR(IF($B$2=\"トン\",AppQt.Data!Z120,(AppQt.Data!Z120*ozton*AppQt.Data!Z$7)/1000000),\"-\")","v":4.0714811478213333},{"$f":"IFERROR(IF($B$2=\"トン\",AppQt.Data!AA120,(AppQt.Data!AA120*ozton*AppQt.Data!AA$7)/1000000),\"-\")","v":2.9313896827738839},{"$f":"IFERROR(IF($B$2=\"トン\",AppQt.Data!AB120,(AppQt.Data!AB120*ozton*AppQt.Data!AB$7)/1000000),\"-\")","v":4.0174859528909348},{"$f":"IFERROR(IF($B$2=\"トン\",AppQt.Data!AC120,(AppQt.Data!AC120*ozton*AppQt.Data!AC$7)/1000000),\"-\")","v":2.8556504023252742},{"$f":"IFERROR(IF($B$2=\"トン\",AppQt.Data!AD120,(AppQt.Data!AD120*ozton*AppQt.Data!AD$7)/1000000),\"-\")","v":1.9366831031933327},{"$f":"IFERROR(IF($B$2=\"トン\",AppQt.Data!AE120,(AppQt.Data!AE120*ozton*AppQt.Data!AE$7)/1000000),\"-\")","v":2.3242501153182551},{"$f":"IFERROR(IF($B$2=\"トン\",AppQt.Data!AF120,(AppQt.Data!AF120*ozton*AppQt.Data!AF$7)/1000000),\"-\")","v":3.1145692196878221},{"$f":"IFERROR(IF($B$2=\"トン\",AppQt.Data!AG120,(AppQt.Data!AG120*ozton*AppQt.Data!AG$7)/1000000),\"-\")","v":2.9500669322249999},{"$f":"IFERROR(IF($B$2=\"トン\",AppQt.Data!AH120,(AppQt.Data!AH120*ozton*AppQt.Data!AH$7)/1000000),\"-\")","v":2.4713552112250001},{"$f":"IFERROR(IF($B$2=\"トン\",AppQt.Data!AI120,(AppQt.Data!AI120*ozton*AppQt.Data!AI$7)/1000000),\"-\")","v":3.5291816543149999},{"$f":"IFERROR(IF($B$2=\"トン\",AppQt.Data!AJ120,(AppQt.Data!AJ120*ozton*AppQt.Data!AJ$7)/1000000),\"-\")","v":3.2497273321400009},{"$f":"IFERROR(IF($B$2=\"トン\",AppQt.Data!AK120,(AppQt.Data!AK120*ozton*AppQt.Data!AK$7)/1000000),\"-\")","v":2.9198248286499999},{"$f":"IFERROR(IF($B$2=\"トン\",AppQt.Data!AL120,(AppQt.Data!AL120*ozton*AppQt.Data!AL$7)/1000000),\"-\")","v":2.3386774427000003},{"$f":"IFERROR(IF($B$2=\"トン\",AppQt.Data!AM120,(AppQt.Data!AM120*ozton*AppQt.Data!AM$7)/1000000),\"-\")","v":1.8930666683500004},{"$f":"IFERROR(IF($B$2=\"トン\",AppQt.Data!AN120,(AppQt.Data!AN120*ozton*AppQt.Data!AN$7)/1000000),\"-\")","v":3.6854448757350005},{"$f":"IFERROR(IF($B$2=\"トン\",AppQt.Data!AO120,(AppQt.Data!AO120*ozton*AppQt.Data!AO$7)/1000000),\"-\")","v":2.9797330191000002},{"$f":"IFERROR(IF($B$2=\"トン\",AppQt.Data!AP120,(AppQt.Data!AP120*ozton*AppQt.Data!AP$7)/1000000),\"-\")","v":2.0146741102750001},{"$f":"IFERROR(IF($B$2=\"トン\",AppQt.Data!AQ120,(AppQt.Data!AQ120*ozton*AppQt.Data!AQ$7)/1000000),\"-\")","v":2.585582648375},{"$f":"IFERROR(IF($B$2=\"トン\",AppQt.Data!AR120,(AppQt.Data!AR120*ozton*AppQt.Data!AR$7)/1000000),\"-\")","v":2.1029072939500009},{"$f":"IFERROR(IF($B$2=\"トン\",AppQt.Data!AS120,(AppQt.Data!AS120*ozton*AppQt.Data!AS$7)/1000000),\"-\")","v":1.7945149677000001},{"$f":"IFERROR(IF($B$2=\"トン\",AppQt.Data!AT120,(AppQt.Data!AT120*ozton*AppQt.Data!AT$7)/1000000),\"-\")","v":1.3884758821249998},{"$f":"IFERROR(IF($B$2=\"トン\",AppQt.Data!AU120,(AppQt.Data!AU120*ozton*AppQt.Data!AU$7)/1000000),\"-\")","v":2.7618739412150002},{"$f":"IFERROR(IF($B$2=\"トン\",AppQt.Data!AV120,(AppQt.Data!AV120*ozton*AppQt.Data!AV$7)/1000000),\"-\")","v":2.2363753321549997},{"$f":"IFERROR(IF($B$2=\"トン\",AppQt.Data!AW120,(AppQt.Data!AW120*ozton*AppQt.Data!AW$7)/1000000),\"-\")","v":1.7472593751274998},{"$f":"IFERROR(IF($B$2=\"トン\",AppQt.Data!AX120,(AppQt.Data!AX120*ozton*AppQt.Data!AX$7)/1000000),\"-\")","v":1.1708960164675002},{"$f":"IFERROR(IF($B$2=\"トン\",AppQt.Data!AY120,(AppQt.Data!AY120*ozton*AppQt.Data!AY$7)/1000000),\"-\")","v":1.0536976843499999},{"$f":"IFERROR(IF($B$2=\"トン\",AppQt.Data!AZ120,(AppQt.Data!AZ120*ozton*AppQt.Data!AZ$7)/1000000),\"-\")","v":2.2674757620450001},{"$f":"IFERROR(IF($B$2=\"トン\",AppQt.Data!BA120,(AppQt.Data!BA120*ozton*AppQt.Data!BA$7)/1000000),\"-\")","v":2.7858122384150006},{"$f":"IFERROR(IF($B$2=\"トン\",AppQt.Data!BB120,(AppQt.Data!BB120*ozton*AppQt.Data!BB$7)/1000000),\"-\")","v":3.2508528174000002},{"$f":"IFERROR(IF($B$2=\"トン\",AppQt.Data!BC120,(AppQt.Data!BC120*ozton*AppQt.Data!BC$7)/1000000),\"-\")","v":2.4058208290500014},{"$f":"IFERROR(IF($B$2=\"トン\",AppQt.Data!BD120,(AppQt.Data!BD120*ozton*AppQt.Data!BD$7)/1000000),\"-\")","v":3.1247069544000001},{"$f":"IFERROR(IF($B$2=\"トン\",AppQt.Data!BE120,(AppQt.Data!BE120*ozton*AppQt.Data!BE$7)/1000000),\"-\")","v":3.166558770505},{"$f":"IFERROR(IF($B$2=\"トン\",AppQt.Data!BF120,(AppQt.Data!BF120*ozton*AppQt.Data!BF$7)/1000000),\"-\")","v":2.934395785025},{"$f":"IFERROR(IF($B$2=\"トン\",AppQt.Data!BG120,(AppQt.Data!BG120*ozton*AppQt.Data!BG$7)/1000000),\"-\")","v":2.5423694281499998},{"$f":"IFERROR(IF($B$2=\"トン\",AppQt.Data!BH120,(AppQt.Data!BH120*ozton*AppQt.Data!BH$7)/1000000),\"-\")","v":3.6018794835750012},{"$f":"IFERROR(IF($B$2=\"トン\",AppQt.Data!BI120,(AppQt.Data!BI120*ozton*AppQt.Data!BI$7)/1000000),\"-\")","v":3.7127748489799997},{"$f":"IFERROR(IF($B$2=\"トン\",AppQt.Data!BJ120,(AppQt.Data!BJ120*ozton*AppQt.Data!BJ$7)/1000000),\"-\")","v":2.9922642580800005},{"$f":"IFERROR(IF($B$2=\"トン\",AppQt.Data!BK120,(AppQt.Data!BK120*ozton*AppQt.Data!BK$7)/1000000),\"-\")","v":3.2773180787842842},{"$f":"IFERROR(IF($B$2=\"トン\",AppQt.Data!BL120,(AppQt.Data!BL120*ozton*AppQt.Data!BL$7)/1000000),\"-\")","v":4.2367679529157156},"▲",17.62658834744142]
[null,"その他ヨーロッパ",{"$f":"IFERROR(IF($B$2=\"トン\",AppAn.Data!L111,(AppAn.Data!L111*ozton*AppAn.Data!L$6)/1000000),\"-\")","v":48.590810718682434},{"$f":"IFERROR(IF($B$2=\"トン\",AppAn.Data!M111,(AppAn.Data!M111*ozton*AppAn.Data!M$6)/1000000),\"-\")","v":55.764765925581301},{"$f":"IFERROR(IF($B$2=\"トン\",AppAn.Data!N111,(AppAn.Data!N111*ozton*AppAn.Data!N$6)/1000000),\"-\")","v":41.485058645243797},{"$f":"IFERROR(IF($B$2=\"トン\",AppAn.Data!O111,(AppAn.Data!O111*ozton*AppAn.Data!O$6)/1000000),\"-\")","v":40.013117783322507},{"$f":"IFERROR(IF($B$2=\"トン\",AppAn.Data!P111,(AppAn.Data!P111*ozton*AppAn.Data!P$6)/1000000),\"-\")","v":28.570539078755267},{"$f":"IFERROR(IF($B$2=\"トン\",AppAn.Data!Q111,(AppAn.Data!Q111*ozton*AppAn.Data!Q$6)/1000000),\"-\")","v":33.718296518330938},{"$f":"IFERROR(IF($B$2=\"トン\",AppAn.Data!R111,(AppAn.Data!R111*ozton*AppAn.Data!R$6)/1000000),\"-\")","v":26.964127226711117},{"$f":"IFERROR(IF($B$2=\"トン\",AppAn.Data!S111,(AppAn.Data!S111*ozton*AppAn.Data!S$6)/1000000),\"-\")","v":23.42050808236667},{"$f":"IFERROR(IF($B$2=\"トン\",AppAn.Data!T111,(AppAn.Data!T111*ozton*AppAn.Data!T$6)/1000000),\"-\")","v":19.903162277911999},{"$f":"IFERROR(IF($B$2=\"トン\",AppAn.Data!U111,(AppAn.Data!U111*ozton*AppAn.Data!U$6)/1000000),\"-\")","v":20.562224717612001},{"$f":"IFERROR(IF($B$2=\"トン\",AppAn.Data!V111,(AppAn.Data!V111*ozton*AppAn.Data!V$6)/1000000),\"-\")","v":27.50677218776725},{"$f":"IFERROR(IF($B$2=\"トン\",AppAn.Data!W111,(AppAn.Data!W111*ozton*AppAn.Data!W$6)/1000000),\"-\")","v":37.443865083056998},{"$f":"IFERROR(IF($B$2=\"トン\",AppAn.Data!X111,(AppAn.Data!X111*ozton*AppAn.Data!X$6)/1000000),\"-\")","v":44.043581849768003},"▲",17.625629063857829,null,{"$f":"IFERROR(IF($B$2=\"トン\",AppQt.Data!M121,(AppQt.Data!M121*ozton*AppQt.Data!M$7)/1000000),\"-\")","v":9.763889750822468},{"$f":"IFERROR(IF($B$2=\"トン\",AppQt.Data!N121,(AppQt.Data!N121*ozton*AppQt.Data!N$7)/1000000),\"-\")","v":17.442853444338219},{"$f":"IFERROR(IF($B$2=\"トン\",AppQt.Data!O121,(AppQt.Data!O121*ozton*AppQt.Data!O$7)/1000000),\"-\")","v":9.7134959516407058},{"$f":"IFERROR(IF($B$2=\"トン\",AppQt.Data!P121,(AppQt.Data!P121*ozton*AppQt.Data!P$7)/1000000),\"-\")","v":11.670571571881037},{"$f":"IFERROR(IF($B$2=\"トン\",AppQt.Data!Q121,(AppQt.Data!Q121*ozton*AppQt.Data!Q$7)/1000000),\"-\")","v":11.291541307210903},{"$f":"IFERROR(IF($B$2=\"トン\",AppQt.Data!R121,(AppQt.Data!R121*ozton*AppQt.Data!R$7)/1000000),\"-\")","v":13.28315336660104},{"$f":"IFERROR(IF($B$2=\"トン\",AppQt.Data!S121,(AppQt.Data!S121*ozton*AppQt.Data!S$7)/1000000),\"-\")","v":19.131536795829078},{"$f":"IFERROR(IF($B$2=\"トン\",AppQt.Data!T121,(AppQt.Data!T121*ozton*AppQt.Data!T$7)/1000000),\"-\")","v":12.058534455940279},{"$f":"IFERROR(IF($B$2=\"トン\",AppQt.Data!U121,(AppQt.Data!U121*ozton*AppQt.Data!U$7)/1000000),\"-\")","v":8.2364765906662871},{"$f":"IFERROR(IF($B$2=\"トン\",AppQt.Data!V121,(AppQt.Data!V121*ozton*AppQt.Data!V$7)/1000000),\"-\")","v":11.084661084026756},{"$f":"IFERROR(IF($B$2=\"トン\",AppQt.Data!W121,(AppQt.Data!W121*ozton*AppQt.Data!W$7)/1000000),\"-\")","v":11.925304678333546},{"$f":"IFERROR(IF($B$2=\"トン\",AppQt.Data!X121,(AppQt.Data!X121*ozton*AppQt.Data!X$7)/1000000),\"-\")","v":10.238616292217205},{"$f":"IFERROR(IF($B$2=\"トン\",AppQt.Data!Y121,(AppQt.Data!Y121*ozton*AppQt.Data!Y$7)/1000000),\"-\")","v":7.4363346339338987},{"$f":"IFERROR(IF($B$2=\"トン\",AppQt.Data!Z121,(AppQt.Data!Z121*ozton*AppQt.Data!Z$7)/1000000),\"-\")","v":12.498913668411095},{"$f":"IFERROR(IF($B$2=\"トン\",AppQt.Data!AA121,(AppQt.Data!AA121*ozton*AppQt.Data!AA$7)/1000000),\"-\")","v":9.2814201842160262},{"$f":"IFERROR(IF($B$2=\"トン\",AppQt.Data!AB121,(AppQt.Data!AB121*ozton*AppQt.Data!AB$7)/1000000),\"-\")","v":10.796449296761487},{"$f":"IFERROR(IF($B$2=\"トン\",AppQt.Data!AC121,(AppQt.Data!AC121*ozton*AppQt.Data!AC$7)/1000000),\"-\")","v":7.1219758048731778},{"$f":"IFERROR(IF($B$2=\"トン\",AppQt.Data!AD121,(AppQt.Data!AD121*ozton*AppQt.Data!AD$7)/1000000),\"-\")","v":6.0007866163649997},{"$f":"IFERROR(IF($B$2=\"トン\",AppQt.Data!AE121,(AppQt.Data!AE121*ozton*AppQt.Data!AE$7)/1000000),\"-\")","v":6.5363156851282138},{"$f":"IFERROR(IF($B$2=\"トン\",AppQt.Data!AF121,(AppQt.Data!AF121*ozton*AppQt.Data!AF$7)/1000000),\"-\")","v":8.9114609723888751},{"$f":"IFERROR(IF($B$2=\"トン\",AppQt.Data!AG121,(AppQt.Data!AG121*ozton*AppQt.Data!AG$7)/1000000),\"-\")","v":7.6791091106959826},{"$f":"IFERROR(IF($B$2=\"トン\",AppQt.Data!AH121,(AppQt.Data!AH121*ozton*AppQt.Data!AH$7)/1000000),\"-\")","v":7.4594422648452392},{"$f":"IFERROR(IF($B$2=\"トン\",AppQt.Data!AI121,(AppQt.Data!AI121*ozton*AppQt.Data!AI$7)/1000000),\"-\")","v":9.7073310795298582},{"$f":"IFERROR(IF($B$2=\"トン\",AppQt.Data!AJ121,(AppQt.Data!AJ121*ozton*AppQt.Data!AJ$7)/1000000),\"-\")","v":8.8724140632598587},{"$f":"IFERROR(IF($B$2=\"トン\",AppQt.Data!AK121,(AppQt.Data!AK121*ozton*AppQt.Data!AK$7)/1000000),\"-\")","v":8.0549617710851287},{"$f":"IFERROR(IF($B$2=\"トン\",AppQt.Data!AL121,(AppQt.Data!AL121*ozton*AppQt.Data!AL$7)/1000000),\"-\")","v":6.2277726607194879},{"$f":"IFERROR(IF($B$2=\"トン\",AppQt.Data!AM121,(AppQt.Data!AM121*ozton*AppQt.Data!AM$7)/1000000),\"-\")","v":4.1803719576200002},{"$f":"IFERROR(IF($B$2=\"トン\",AppQt.Data!AN121,(AppQt.Data!AN121*ozton*AppQt.Data!AN$7)/1000000),\"-\")","v":8.5010208372865002},{"$f":"IFERROR(IF($B$2=\"トン\",AppQt.Data!AO121,(AppQt.Data!AO121*ozton*AppQt.Data!AO$7)/1000000),\"-\")","v":7.7096113428150002},{"$f":"IFERROR(IF($B$2=\"トン\",AppQt.Data!AP121,(AppQt.Data!AP121*ozton*AppQt.Data!AP$7)/1000000),\"-\")","v":5.160868789438334},{"$f":"IFERROR(IF($B$2=\"トン\",AppQt.Data!AQ121,(AppQt.Data!AQ121*ozton*AppQt.Data!AQ$7)/1000000),\"-\")","v":5.3412474291133334},{"$f":"IFERROR(IF($B$2=\"トン\",AppQt.Data!AR121,(AppQt.Data!AR121*ozton*AppQt.Data!AR$7)/1000000),\"-\")","v":5.2087805210000004},{"$f":"IFERROR(IF($B$2=\"トン\",AppQt.Data!AS121,(AppQt.Data!AS121*ozton*AppQt.Data!AS$7)/1000000),\"-\")","v":4.8069429506450003},{"$f":"IFERROR(IF($B$2=\"トン\",AppQt.Data!AT121,(AppQt.Data!AT121*ozton*AppQt.Data!AT$7)/1000000),\"-\")","v":4.0813947591100002},{"$f":"IFERROR(IF($B$2=\"トン\",AppQt.Data!AU121,(AppQt.Data!AU121*ozton*AppQt.Data!AU$7)/1000000),\"-\")","v":5.7129462474727495},{"$f":"IFERROR(IF($B$2=\"トン\",AppQt.Data!AV121,(AppQt.Data!AV121*ozton*AppQt.Data!AV$7)/1000000),\"-\")","v":5.3018783206842492},{"$f":"IFERROR(IF($B$2=\"トン\",AppQt.Data!AW121,(AppQt.Data!AW121*ozton*AppQt.Data!AW$7)/1000000),\"-\")","v":5.8931762810450001},{"$f":"IFERROR(IF($B$2=\"トン\",AppQt.Data!AX121,(AppQt.Data!AX121*ozton*AppQt.Data!AX$7)/1000000),\"-\")","v":4.2772599803100002},{"$f":"IFERROR(IF($B$2=\"トン\",AppQt.Data!AY121,(AppQt.Data!AY121*ozton*AppQt.Data!AY$7)/1000000),\"-\")","v":4.2770644563125},{"$f":"IFERROR(IF($B$2=\"トン\",AppQt.Data!AZ121,(AppQt.Data!AZ121*ozton*AppQt.Data!AZ$7)/1000000),\"-\")","v":6.1147239999445002},{"$f":"IFERROR(IF($B$2=\"トン\",AppQt.Data!BA121,(AppQt.Data!BA121*ozton*AppQt.Data!BA$7)/1000000),\"-\")","v":7.2803953557685004},{"$f":"IFERROR(IF($B$2=\"トン\",AppQt.Data!BB121,(AppQt.Data!BB121*ozton*AppQt.Data!BB$7)/1000000),\"-\")","v":7.7998514726100003},{"$f":"IFERROR(IF($B$2=\"トン\",AppQt.Data!BC121,(AppQt.Data!BC121*ozton*AppQt.Data!BC$7)/1000000),\"-\")","v":5.2317679542374993},{"$f":"IFERROR(IF($B$2=\"トン\",AppQt.Data!BD121,(AppQt.Data!BD121*ozton*AppQt.Data!BD$7)/1000000),\"-\")","v":7.1947574051512504},{"$f":"IFERROR(IF($B$2=\"トン\",AppQt.Data!BE121,(AppQt.Data!BE121*ozton*AppQt.Data!BE$7)/1000000),\"-\")","v":10.8153967210195},{"$f":"IFERROR(IF($B$2=\"トン\",AppQt.Data!BF121,(AppQt.Data!BF121*ozton*AppQt.Data!BF$7)/1000000),\"-\")","v":9.6432646373450002},{"$f":"IFERROR(IF($B$2=\"トン\",AppQt.Data!BG121,(AppQt.Data!BG121*ozton*AppQt.Data!BG$7)/1000000),\"-\")","v":8.0357543691825004},{"$f":"IFERROR(IF($B$2=\"トン\",AppQt.Data!BH121,(AppQt.Data!BH121*ozton*AppQt.Data!BH$7)/1000000),\"-\")","v":8.9494493555099996},{"$f":"IFERROR(IF($B$2=\"トン\",AppQt.Data!BI121,(AppQt.Data!BI121*ozton*AppQt.Data!BI$7)/1000000),\"-\")","v":11.122615909142},{"$f":"IFERROR(IF($B$2=\"トン\",AppQt.Data!BJ121,(AppQt.Data!BJ121*ozton*AppQt.Data!BJ$7)/1000000),\"-\")","v":10.491110498106},{"$f":"IFERROR(IF($B$2=\"トン\",AppQt.Data!BK121,(AppQt.Data!BK121*ozton*AppQt.Data!BK$7)/1000000),\"-\")","v":10.780312231270569},{"$f":"IFERROR(IF($B$2=\"トン\",AppQt.Data!BL121,(AppQt.Data!BL121*ozton*AppQt.Data!BL$7)/1000000),\"-\")","v":11.649543211249428},"▲",30.170502658658371]
[null,"上記合計",{"$f":"IFERROR(IF($B$2=\"トン\",AppAn.Data!L112,(AppAn.Data!L112*ozton*AppAn.Data!L$6)/1000000),\"-\")","v":1164.1861817798076},{"$f":"IFERROR(IF($B$2=\"トン\",AppAn.Data!M112,(AppAn.Data!M112*ozton*AppAn.Data!M$6)/1000000),\"-\")","v":1417.8100309964891},{"$f":"IFERROR(IF($B$2=\"トン\",AppAn.Data!N112,(AppAn.Data!N112*ozton*AppAn.Data!N$6)/1000000),\"-\")","v":1250.8636182391506},{"$f":"IFERROR(IF($B$2=\"トン\",AppAn.Data!O112,(AppAn.Data!O112*ozton*AppAn.Data!O$6)/1000000),\"-\")","v":1655.391625902457},{"$f":"IFERROR(IF($B$2=\"トン\",AppAn.Data!P112,(AppAn.Data!P112*ozton*AppAn.Data!P$6)/1000000),\"-\")","v":1018.3072802107595},{"$f":"IFERROR(IF($B$2=\"トン\",AppAn.Data!Q112,(AppAn.Data!Q112*ozton*AppAn.Data!Q$6)/1000000),\"-\")","v":1031.5974644729422},{"$f":"IFERROR(IF($B$2=\"トン\",AppAn.Data!R112,(AppAn.Data!R112*ozton*AppAn.Data!R$6)/1000000),\"-\")","v":1009.8702027396989},{"$f":"IFERROR(IF($B$2=\"トン\",AppAn.Data!S112,(AppAn.Data!S112*ozton*AppAn.Data!S$6)/1000000),\"-\")","v":979.64311794894388},{"$f":"IFERROR(IF($B$2=\"トン\",AppAn.Data!T112,(AppAn.Data!T112*ozton*AppAn.Data!T$6)/1000000),\"-\")","v":996.96692247860608},{"$f":"IFERROR(IF($B$2=\"トン\",AppAn.Data!U112,(AppAn.Data!U112*ozton*AppAn.Data!U$6)/1000000),\"-\")","v":770.82554302498522},{"$f":"IFERROR(IF($B$2=\"トン\",AppAn.Data!V112,(AppAn.Data!V112*ozton*AppAn.Data!V$6)/1000000),\"-\")","v":845.01915339992365},{"$f":"IFERROR(IF($B$2=\"トン\",AppAn.Data!W112,(AppAn.Data!W112*ozton*AppAn.Data!W$6)/1000000),\"-\")","v":1155.9429816454719},{"$f":"IFERROR(IF($B$2=\"トン\",AppAn.Data!X112,(AppAn.Data!X112*ozton*AppAn.Data!X$6)/1000000),\"-\")","v":1179.0942060691004},"▲",2.0027998604803976,null,{"$f":"IFERROR(IF($B$2=\"トン\",AppQt.Data!M122,(AppQt.Data!M122*ozton*AppQt.Data!M$7)/1000000),\"-\")","v":246.50159242830921},{"$f":"IFERROR(IF($B$2=\"トン\",AppQt.Data!N122,(AppQt.Data!N122*ozton*AppQt.Data!N$7)/1000000),\"-\")","v":290.5998720414097},{"$f":"IFERROR(IF($B$2=\"トン\",AppQt.Data!O122,(AppQt.Data!O122*ozton*AppQt.Data!O$7)/1000000),\"-\")","v":306.07338398353113},{"$f":"IFERROR(IF($B$2=\"トン\",AppQt.Data!P122,(AppQt.Data!P122*ozton*AppQt.Data!P$7)/1000000),\"-\")","v":321.01133332655735},{"$f":"IFERROR(IF($B$2=\"トン\",AppQt.Data!Q122,(AppQt.Data!Q122*ozton*AppQt.Data!Q$7)/1000000),\"-\")","v":378.45063592723329},{"$f":"IFERROR(IF($B$2=\"トン\",AppQt.Data!R122,(AppQt.Data!R122*ozton*AppQt.Data!R$7)/1000000),\"-\")","v":318.41120009211426},{"$f":"IFERROR(IF($B$2=\"トン\",AppQt.Data!S122,(AppQt.Data!S122*ozton*AppQt.Data!S$7)/1000000),\"-\")","v":389.50044886507942},{"$f":"IFERROR(IF($B$2=\"トン\",AppQt.Data!T122,(AppQt.Data!T122*ozton*AppQt.Data!T$7)/1000000),\"-\")","v":331.44774611206219},{"$f":"IFERROR(IF($B$2=\"トン\",AppQt.Data!U122,(AppQt.Data!U122*ozton*AppQt.Data!U$7)/1000000),\"-\")","v":335.91930118727316},{"$f":"IFERROR(IF($B$2=\"トン\",AppQt.Data!V122,(AppQt.Data!V122*ozton*AppQt.Data!V$7)/1000000),\"-\")","v":280.18187759922859},{"$f":"IFERROR(IF($B$2=\"トン\",AppQt.Data!W122,(AppQt.Data!W122*ozton*AppQt.Data!W$7)/1000000),\"-\")","v":284.21513118334599},{"$f":"IFERROR(IF($B$2=\"トン\",AppQt.Data!X122,(AppQt.Data!X122*ozton*AppQt.Data!X$7)/1000000),\"-\")","v":350.54730826930296},{"$f":"IFERROR(IF($B$2=\"トン\",AppQt.Data!Y122,(AppQt.Data!Y122*ozton*AppQt.Data!Y$7)/1000000),\"-\")","v":425.68693379671942},{"$f":"IFERROR(IF($B$2=\"トン\",AppQt.Data!Z122,(AppQt.Data!Z122*ozton*AppQt.Data!Z$7)/1000000),\"-\")","v":579.84564961647811},{"$f":"IFERROR(IF($B$2=\"トン\",AppQt.Data!AA122,(AppQt.Data!AA122*ozton*AppQt.Data!AA$7)/1000000),\"-\")","v":309.05115605841462},{"$f":"IFERROR(IF($B$2=\"トン\",AppQt.Data!AB122,(AppQt.Data!AB122*ozton*AppQt.Data!AB$7)/1000000),\"-\")","v":340.80788643084514},{"$f":"IFERROR(IF($B$2=\"トン\",AppQt.Data!AC122,(AppQt.Data!AC122*ozton*AppQt.Data!AC$7)/1000000),\"-\")","v":283.49348292906842},{"$f":"IFERROR(IF($B$2=\"トン\",AppQt.Data!AD122,(AppQt.Data!AD122*ozton*AppQt.Data!AD$7)/1000000),\"-\")","v":235.13705881006109},{"$f":"IFERROR(IF($B$2=\"トン\",AppQt.Data!AE122,(AppQt.Data!AE122*ozton*AppQt.Data!AE$7)/1000000),\"-\")","v":229.87192045400153},{"$f":"IFERROR(IF($B$2=\"トン\",AppQt.Data!AF122,(AppQt.Data!AF122*ozton*AppQt.Data!AF$7)/1000000),\"-\")","v":269.80481801762875},{"$f":"IFERROR(IF($B$2=\"トン\",AppQt.Data!AG122,(AppQt.Data!AG122*ozton*AppQt.Data!AG$7)/1000000),\"-\")","v":257.07429500793893},{"$f":"IFERROR(IF($B$2=\"トン\",AppQt.Data!AH122,(AppQt.Data!AH122*ozton*AppQt.Data!AH$7)/1000000),\"-\")","v":206.87779046047061},{"$f":"IFERROR(IF($B$2=\"トン\",AppQt.Data!AI122,(AppQt.Data!AI122*ozton*AppQt.Data!AI$7)/1000000),\"-\")","v":287.38326828939796},{"$f":"IFERROR(IF($B$2=\"トン\",AppQt.Data!AJ122,(AppQt.Data!AJ122*ozton*AppQt.Data!AJ$7)/1000000),\"-\")","v":280.26211071513444},{"$f":"IFERROR(IF($B$2=\"トン\",AppQt.Data!AK122,(AppQt.Data!AK122*ozton*AppQt.Data!AK$7)/1000000),\"-\")","v":256.53859740707236},{"$f":"IFERROR(IF($B$2=\"トン\",AppQt.Data!AL122,(AppQt.Data!AL122*ozton*AppQt.Data!AL$7)/1000000),\"-\")","v":202.99663236324773},{"$f":"IFERROR(IF($B$2=\"トン\",AppQt.Data!AM122,(AppQt.Data!AM122*ozton*AppQt.Data!AM$7)/1000000),\"-\")","v":188.01879838146215},{"$f":"IFERROR(IF($B$2=\"トン\",AppQt.Data!AN122,(AppQt.Data!AN122*ozton*AppQt.Data!AN$7)/1000000),\"-\")","v":362.31617458791624},{"$f":"IFERROR(IF($B$2=\"トン\",AppQt.Data!AO122,(AppQt.Data!AO122*ozton*AppQt.Data!AO$7)/1000000),\"-\")","v":293.30450804437919},{"$f":"IFERROR(IF($B$2=\"トン\",AppQt.Data!AP122,(AppQt.Data!AP122*ozton*AppQt.Data!AP$7)/1000000),\"-\")","v":227.78067376982543},{"$f":"IFERROR(IF($B$2=\"トン\",AppQt.Data!AQ122,(AppQt.Data!AQ122*ozton*AppQt.Data!AQ$7)/1000000),\"-\")","v":215.7684664145647},{"$f":"IFERROR(IF($B$2=\"トン\",AppQt.Data!AR122,(AppQt.Data!AR122*ozton*AppQt.Data!AR$7)/1000000),\"-\")","v":242.78946972017462},{"$f":"IFERROR(IF($B$2=\"トン\",AppQt.Data!AS122,(AppQt.Data!AS122*ozton*AppQt.Data!AS$7)/1000000),\"-\")","v":240.72671570618198},{"$f":"IFERROR(IF($B$2=\"トン\",AppQt.Data!AT122,(AppQt.Data!AT122*ozton*AppQt.Data!AT$7)/1000000),\"-\")","v":227.09152926819596},{"$f":"IFERROR(IF($B$2=\"トン\",AppQt.Data!AU122,(AppQt.Data!AU122*ozton*AppQt.Data!AU$7)/1000000),\"-\")","v":268.70889126167026},{"$f":"IFERROR(IF($B$2=\"トン\",AppQt.Data!AV122,(AppQt.Data!AV122*ozton*AppQt.Data!AV$7)/1000000),\"-\")","v":260.43978624255828},{"$f":"IFERROR(IF($B$2=\"トン\",AppQt.Data!AW122,(AppQt.Data!AW122*ozton*AppQt.Data!AW$7)/1000000),\"-\")","v":238.65773574799363},{"$f":"IFERROR(IF($B$2=\"トン\",AppQt.Data!AX122,(AppQt.Data!AX122*ozton*AppQt.Data!AX$7)/1000000),\"-\")","v":192.81986288357109},{"$f":"IFERROR(IF($B$2=\"トン\",AppQt.Data!AY122,(AppQt.Data!AY122*ozton*AppQt.Data!AY$7)/1000000),\"-\")","v":128.0244830697159},{"$f":"IFERROR(IF($B$2=\"トン\",AppQt.Data!AZ122,(AppQt.Data!AZ122*ozton*AppQt.Data!AZ$7)/1000000),\"-\")","v":211.323461323705},{"$f":"IFERROR(IF($B$2=\"トン\",AppQt.Data!BA122,(AppQt.Data!BA122*ozton*AppQt.Data!BA$7)/1000000),\"-\")","v":224.21158315691605},{"$f":"IFERROR(IF($B$2=\"トン\",AppQt.Data!BB122,(AppQt.Data!BB122*ozton*AppQt.Data!BB$7)/1000000),\"-\")","v":154.31084633239416},{"$f":"IFERROR(IF($B$2=\"トン\",AppQt.Data!BC122,(AppQt.Data!BC122*ozton*AppQt.Data!BC$7)/1000000),\"-\")","v":211.81526102953154},{"$f":"IFERROR(IF($B$2=\"トン\",AppQt.Data!BD122,(AppQt.Data!BD122*ozton*AppQt.Data!BD$7)/1000000),\"-\")","v":254.68146288108179},{"$f":"IFERROR(IF($B$2=\"トン\",AppQt.Data!BE122,(AppQt.Data!BE122*ozton*AppQt.Data!BE$7)/1000000),\"-\")","v":349.39073276541546},{"$f":"IFERROR(IF($B$2=\"トン\",AppQt.Data!BF122,(AppQt.Data!BF122*ozton*AppQt.Data!BF$7)/1000000),\"-\")","v":239.51836316441234},{"$f":"IFERROR(IF($B$2=\"トン\",AppQt.Data!BG122,(AppQt.Data!BG122*ozton*AppQt.Data!BG$7)/1000000),\"-\")","v":254.08241139339066},{"$f":"IFERROR(IF($B$2=\"トン\",AppQt.Data!BH122,(AppQt.Data!BH122*ozton*AppQt.Data!BH$7)/1000000),\"-\")","v":312.95147432225309},{"$f":"IFERROR(IF($B$2=\"トン\",AppQt.Data!BI122,(AppQt.Data!BI122*ozton*AppQt.Data!BI$7)/1000000),\"-\")","v":271.56875746812244},{"$f":"IFERROR(IF($B$2=\"トン\",AppQt.Data!BJ122,(AppQt.Data!BJ122*ozton*AppQt.Data!BJ$7)/1000000),\"-\")","v":248.64918423119875},{"$f":"IFERROR(IF($B$2=\"トン\",AppQt.Data!BK122,(AppQt.Data!BK122*ozton*AppQt.Data!BK$7)/1000000),\"-\")","v":331.63324410430641},{"$f":"IFERROR(IF($B$2=\"トン\",AppQt.Data!BL122,(AppQt.Data!BL122*ozton*AppQt.Data!BL$7)/1000000),\"-\")","v":327.24302026547252},"▲",4.5666971130812195]
[null,"その他&在庫変動分",{"$f":"IFERROR(IF($B$2=\"トン\",AppAn.Data!L113,(AppAn.Data!L113*ozton*AppAn.Data!L$6)/1000000),\"-\")","v":40.108131492064665},{"$f":"IFERROR(IF($B$2=\"トン\",AppAn.Data!M113,(AppAn.Data!M113*ozton*AppAn.Data!M$6)/1000000),\"-\")","v":84.162573536383718},{"$f":"IFERROR(IF($B$2=\"トン\",AppAn.Data!N113,(AppAn.Data!N113*ozton*AppAn.Data!N$6)/1000000),\"-\")","v":71.486687233710455},{"$f":"IFERROR(IF($B$2=\"トン\",AppAn.Data!O113,(AppAn.Data!O113*ozton*AppAn.Data!O$6)/1000000),\"-\")","v":74.319522901096093},{"$f":"IFERROR(IF($B$2=\"トン\",AppAn.Data!P113,(AppAn.Data!P113*ozton*AppAn.Data!P$6)/1000000),\"-\")","v":48.341164675315412},{"$f":"IFERROR(IF($B$2=\"トン\",AppAn.Data!Q113,(AppAn.Data!Q113*ozton*AppAn.Data!Q$6)/1000000),\"-\")","v":59.119085078473233},{"$f":"IFERROR(IF($B$2=\"トン\",AppAn.Data!R113,(AppAn.Data!R113*ozton*AppAn.Data!R$6)/1000000),\"-\")","v":63.011555776322666},{"$f":"IFERROR(IF($B$2=\"トン\",AppAn.Data!S113,(AppAn.Data!S113*ozton*AppAn.Data!S$6)/1000000),\"-\")","v":64.41614803169864},{"$f":"IFERROR(IF($B$2=\"トン\",AppAn.Data!T113,(AppAn.Data!T113*ozton*AppAn.Data!T$6)/1000000),\"-\")","v":93.482511188824162},{"$f":"IFERROR(IF($B$2=\"トン\",AppAn.Data!U113,(AppAn.Data!U113*ozton*AppAn.Data!U$6)/1000000),\"-\")","v":100.04727654804987},{"$f":"IFERROR(IF($B$2=\"トン\",AppAn.Data!V113,(AppAn.Data!V113*ozton*AppAn.Data!V$6)/1000000),\"-\")","v":58.81128409426816},{"$f":"IFERROR(IF($B$2=\"トン\",AppAn.Data!W113,(AppAn.Data!W113*ozton*AppAn.Data!W$6)/1000000),\"-\")","v":34.940795533507867},{"$f":"IFERROR(IF($B$2=\"トン\",AppAn.Data!X113,(AppAn.Data!X113*ozton*AppAn.Data!X$6)/1000000),\"-\")","v":38.023041757898881},"▲",8.8213395754975554,null,{"$f":"IFERROR(IF($B$2=\"トン\",AppQt.Data!M123,(AppQt.Data!M123*ozton*AppQt.Data!M$7)/1000000),\"-\")","v":5.5163430035529393},{"$f":"IFERROR(IF($B$2=\"トン\",AppQt.Data!N123,(AppQt.Data!N123*ozton*AppQt.Data!N$7)/1000000),\"-\")","v":15.557915865741741},{"$f":"IFERROR(IF($B$2=\"トン\",AppQt.Data!O123,(AppQt.Data!O123*ozton*AppQt.Data!O$7)/1000000),\"-\")","v":11.724281519008041},{"$f":"IFERROR(IF($B$2=\"トン\",AppQt.Data!P123,(AppQt.Data!P123*ozton*AppQt.Data!P$7)/1000000),\"-\")","v":7.309591103761937},{"$f":"IFERROR(IF($B$2=\"トン\",AppQt.Data!Q123,(AppQt.Data!Q123*ozton*AppQt.Data!Q$7)/1000000),\"-\")","v":17.901748627799972},{"$f":"IFERROR(IF($B$2=\"トン\",AppQt.Data!R123,(AppQt.Data!R123*ozton*AppQt.Data!R$7)/1000000),\"-\")","v":15.229188425991055},{"$f":"IFERROR(IF($B$2=\"トン\",AppQt.Data!S123,(AppQt.Data!S123*ozton*AppQt.Data!S$7)/1000000),\"-\")","v":29.113785300941949},{"$f":"IFERROR(IF($B$2=\"トン\",AppQt.Data!T123,(AppQt.Data!T123*ozton*AppQt.Data!T$7)/1000000),\"-\")","v":21.917851181650736},{"$f":"IFERROR(IF($B$2=\"トン\",AppQt.Data!U123,(AppQt.Data!U123*ozton*AppQt.Data!U$7)/1000000),\"-\")","v":10.955976544122693},{"$f":"IFERROR(IF($B$2=\"トン\",AppQt.Data!V123,(AppQt.Data!V123*ozton*AppQt.Data!V$7)/1000000),\"-\")","v":15.984020511822813},{"$f":"IFERROR(IF($B$2=\"トン\",AppQt.Data!W123,(AppQt.Data!W123*ozton*AppQt.Data!W$7)/1000000),\"-\")","v":19.365740672573168},{"$f":"IFERROR(IF($B$2=\"トン\",AppQt.Data!X123,(AppQt.Data!X123*ozton*AppQt.Data!X$7)/1000000),\"-\")","v":25.180949505191787},{"$f":"IFERROR(IF($B$2=\"トン\",AppQt.Data!Y123,(AppQt.Data!Y123*ozton*AppQt.Data!Y$7)/1000000),\"-\")","v":17.482315087016545},{"$f":"IFERROR(IF($B$2=\"トン\",AppQt.Data!Z123,(AppQt.Data!Z123*ozton*AppQt.Data!Z$7)/1000000),\"-\")","v":19.557850420687068},{"$f":"IFERROR(IF($B$2=\"トン\",AppQt.Data!AA123,(AppQt.Data!AA123*ozton*AppQt.Data!AA$7)/1000000),\"-\")","v":17.941618263700821},{"$f":"IFERROR(IF($B$2=\"トン\",AppQt.Data!AB123,(AppQt.Data!AB123*ozton*AppQt.Data!AB$7)/1000000),\"-\")","v":19.337739129691649},{"$f":"IFERROR(IF($B$2=\"トン\",AppQt.Data!AC123,(AppQt.Data!AC123*ozton*AppQt.Data!AC$7)/1000000),\"-\")","v":9.7227541916449809},{"$f":"IFERROR(IF($B$2=\"トン\",AppQt.Data!AD123,(AppQt.Data!AD123*ozton*AppQt.Data!AD$7)/1000000),\"-\")","v":13.620849237861421},{"$f":"IFERROR(IF($B$2=\"トン\",AppQt.Data!AE123,(AppQt.Data!AE123*ozton*AppQt.Data!AE$7)/1000000),\"-\")","v":11.033896633601756},{"$f":"IFERROR(IF($B$2=\"トン\",AppQt.Data!AF123,(AppQt.Data!AF123*ozton*AppQt.Data!AF$7)/1000000),\"-\")","v":13.963664612207253},{"$f":"IFERROR(IF($B$2=\"トン\",AppQt.Data!AG123,(AppQt.Data!AG123*ozton*AppQt.Data!AG$7)/1000000),\"-\")","v":9.6529964099453878},{"$f":"IFERROR(IF($B$2=\"トン\",AppQt.Data!AH123,(AppQt.Data!AH123*ozton*AppQt.Data!AH$7)/1000000),\"-\")","v":11.59391423733075},{"$f":"IFERROR(IF($B$2=\"トン\",AppQt.Data!AI123,(AppQt.Data!AI123*ozton*AppQt.Data!AI$7)/1000000),\"-\")","v":17.630593223385176},{"$f":"IFERROR(IF($B$2=\"トン\",AppQt.Data!AJ123,(AppQt.Data!AJ123*ozton*AppQt.Data!AJ$7)/1000000),\"-\")","v":20.241581207811919},{"$f":"IFERROR(IF($B$2=\"トン\",AppQt.Data!AK123,(AppQt.Data!AK123*ozton*AppQt.Data!AK$7)/1000000),\"-\")","v":15.664364042105603},{"$f":"IFERROR(IF($B$2=\"トン\",AppQt.Data!AL123,(AppQt.Data!AL123*ozton*AppQt.Data!AL$7)/1000000),\"-\")","v":17.990245395999295},{"$f":"IFERROR(IF($B$2=\"トン\",AppQt.Data!AM123,(AppQt.Data!AM123*ozton*AppQt.Data!AM$7)/1000000),\"-\")","v":11.947816421233142},{"$f":"IFERROR(IF($B$2=\"トン\",AppQt.Data!AN123,(AppQt.Data!AN123*ozton*AppQt.Data!AN$7)/1000000),\"-\")","v":17.409129916984625},{"$f":"IFERROR(IF($B$2=\"トン\",AppQt.Data!AO123,(AppQt.Data!AO123*ozton*AppQt.Data!AO$7)/1000000),\"-\")","v":10.748776044090619},{"$f":"IFERROR(IF($B$2=\"トン\",AppQt.Data!AP123,(AppQt.Data!AP123*ozton*AppQt.Data!AP$7)/1000000),\"-\")","v":20.590572857466725},{"$f":"IFERROR(IF($B$2=\"トン\",AppQt.Data!AQ123,(AppQt.Data!AQ123*ozton*AppQt.Data!AQ$7)/1000000),\"-\")","v":17.158850211120779},{"$f":"IFERROR(IF($B$2=\"トン\",AppQt.Data!AR123,(AppQt.Data!AR123*ozton*AppQt.Data!AR$7)/1000000),\"-\")","v":15.917948919020517},{"$f":"IFERROR(IF($B$2=\"トン\",AppQt.Data!AS123,(AppQt.Data!AS123*ozton*AppQt.Data!AS$7)/1000000),\"-\")","v":20.527618504612292},{"$f":"IFERROR(IF($B$2=\"トン\",AppQt.Data!AT123,(AppQt.Data!AT123*ozton*AppQt.Data!AT$7)/1000000),\"-\")","v":20.903873832228214},{"$f":"IFERROR(IF($B$2=\"トン\",AppQt.Data!AU123,(AppQt.Data!AU123*ozton*AppQt.Data!AU$7)/1000000),\"-\")","v":28.701314840197028},{"$f":"IFERROR(IF($B$2=\"トン\",AppQt.Data!AV123,(AppQt.Data!AV123*ozton*AppQt.Data!AV$7)/1000000),\"-\")","v":23.349704011786628},{"$f":"IFERROR(IF($B$2=\"トン\",AppQt.Data!AW123,(AppQt.Data!AW123*ozton*AppQt.Data!AW$7)/1000000),\"-\")","v":19.588816809541413},{"$f":"IFERROR(IF($B$2=\"トン\",AppQt.Data!AX123,(AppQt.Data!AX123*ozton*AppQt.Data!AX$7)/1000000),\"-\")","v":26.924159888809214},{"$f":"IFERROR(IF($B$2=\"トン\",AppQt.Data!AY123,(AppQt.Data!AY123*ozton*AppQt.Data!AY$7)/1000000),\"-\")","v":22.336791041280833},{"$f":"IFERROR(IF($B$2=\"トン\",AppQt.Data!AZ123,(AppQt.Data!AZ123*ozton*AppQt.Data!AZ$7)/1000000),\"-\")","v":31.197508808418405},{"$f":"IFERROR(IF($B$2=\"トン\",AppQt.Data!BA123,(AppQt.Data!BA123*ozton*AppQt.Data!BA$7)/1000000),\"-\")","v":29.121908313616785},{"$f":"IFERROR(IF($B$2=\"トン\",AppQt.Data!BB123,(AppQt.Data!BB123*ozton*AppQt.Data!BB$7)/1000000),\"-\")","v":4.9797618743366741},{"$f":"IFERROR(IF($B$2=\"トン\",AppQt.Data!BC123,(AppQt.Data!BC123*ozton*AppQt.Data!BC$7)/1000000),\"-\")","v":9.6404663646629274},{"$f":"IFERROR(IF($B$2=\"トン\",AppQt.Data!BD123,(AppQt.Data!BD123*ozton*AppQt.Data!BD$7)/1000000),\"-\")","v":15.069147541651773},{"$f":"IFERROR(IF($B$2=\"トン\",AppQt.Data!BE123,(AppQt.Data!BE123*ozton*AppQt.Data!BE$7)/1000000),\"-\")","v":5.1775567461922378},{"$f":"IFERROR(IF($B$2=\"トン\",AppQt.Data!BF123,(AppQt.Data!BF123*ozton*AppQt.Data!BF$7)/1000000),\"-\")","v":8.6955640647258292},{"$f":"IFERROR(IF($B$2=\"トン\",AppQt.Data!BG123,(AppQt.Data!BG123*ozton*AppQt.Data!BG$7)/1000000),\"-\")","v":7.6278164374320454},{"$f":"IFERROR(IF($B$2=\"トン\",AppQt.Data!BH123,(AppQt.Data!BH123*ozton*AppQt.Data!BH$7)/1000000),\"-\")","v":13.439858285157754},{"$f":"IFERROR(IF($B$2=\"トン\",AppQt.Data!BI123,(AppQt.Data!BI123*ozton*AppQt.Data!BI$7)/1000000),\"-\")","v":11.619537985641614},{"$f":"IFERROR(IF($B$2=\"トン\",AppQt.Data!BJ123,(AppQt.Data!BJ123*ozton*AppQt.Data!BJ$7)/1000000),\"-\")","v":8.8688271623109074},{"$f":"IFERROR(IF($B$2=\"トン\",AppQt.Data!BK123,(AppQt.Data!BK123*ozton*AppQt.Data!BK$7)/1000000),\"-\")","v":9.5088816206163074},{"$f":"IFERROR(IF($B$2=\"トン\",AppQt.Data!BL123,(AppQt.Data!BL123*ozton*AppQt.Data!BL$7)/1000000),\"-\")","v":8.025794989330052},"▼",-40.283633807409245]
[null,"世界合計",{"$f":"IFERROR(IF($B$2=\"トン\",AppAn.Data!L114,(AppAn.Data!L114*ozton*AppAn.Data!L$6)/1000000),\"-\")","v":1204.2943132718722},{"$f":"IFERROR(IF($B$2=\"トン\",AppAn.Data!M114,(AppAn.Data!M114*ozton*AppAn.Data!M$6)/1000000),\"-\")","v":1501.9726045328728},{"$f":"IFERROR(IF($B$2=\"トン\",AppAn.Data!N114,(AppAn.Data!N114*ozton*AppAn.Data!N$6)/1000000),\"-\")","v":1322.350305472861},{"$f":"IFERROR(IF($B$2=\"トン\",AppAn.Data!O114,(AppAn.Data!O114*ozton*AppAn.Data!O$6)/1000000),\"-\")","v":1729.711148803553},{"$f":"IFERROR(IF($B$2=\"トン\",AppAn.Data!P114,(AppAn.Data!P114*ozton*AppAn.Data!P$6)/1000000),\"-\")","v":1066.6484448860749},{"$f":"IFERROR(IF($B$2=\"トン\",AppAn.Data!Q114,(AppAn.Data!Q114*ozton*AppAn.Data!Q$6)/1000000),\"-\")","v":1090.7165495514155},{"$f":"IFERROR(IF($B$2=\"トン\",AppAn.Data!R114,(AppAn.Data!R114*ozton*AppAn.Data!R$6)/1000000),\"-\")","v":1072.8817585160216},{"$f":"IFERROR(IF($B$2=\"トン\",AppAn.Data!S114,(AppAn.Data!S114*ozton*AppAn.Data!S$6)/1000000),\"-\")","v":1044.0592659806425},{"$f":"IFERROR(IF($B$2=\"トン\",AppAn.Data!T114,(AppAn.Data!T114*ozton*AppAn.Data!T$6)/1000000),\"-\")","v":1090.4494336674302},{"$f":"IFERROR(IF($B$2=\"トン\",AppAn.Data!U114,(AppAn.Data!U114*ozton*AppAn.Data!U$6)/1000000),\"-\")","v":870.87281957303503},{"$f":"IFERROR(IF($B$2=\"トン\",AppAn.Data!V114,(AppAn.Data!V114*ozton*AppAn.Data!V$6)/1000000),\"-\")","v":903.83043749419176},{"$f":"IFERROR(IF($B$2=\"トン\",AppAn.Data!W114,(AppAn.Data!W114*ozton*AppAn.Data!W$6)/1000000),\"-\")","v":1190.8837771789799},{"$f":"IFERROR(IF($B$2=\"トン\",AppAn.Data!X114,(AppAn.Data!X114*ozton*AppAn.Data!X$6)/1000000),\"-\")","v":1217.1172478269993},"▲",2.2028573359326842,null,{"$f":"IFERROR(IF($B$2=\"トン\",AppQt.Data!M124,(AppQt.Data!M124*ozton*AppQt.Data!M$7)/1000000),\"-\")","v":252.01793543186216},{"$f":"IFERROR(IF($B$2=\"トン\",AppQt.Data!N124,(AppQt.Data!N124*ozton*AppQt.Data!N$7)/1000000),\"-\")","v":306.15778790715143},{"$f":"IFERROR(IF($B$2=\"トン\",AppQt.Data!O124,(AppQt.Data!O124*ozton*AppQt.Data!O$7)/1000000),\"-\")","v":317.79766550253919},{"$f":"IFERROR(IF($B$2=\"トン\",AppQt.Data!P124,(AppQt.Data!P124*ozton*AppQt.Data!P$7)/1000000),\"-\")","v":328.32092443031928},{"$f":"IFERROR(IF($B$2=\"トン\",AppQt.Data!Q124,(AppQt.Data!Q124*ozton*AppQt.Data!Q$7)/1000000),\"-\")","v":396.35238455503327},{"$f":"IFERROR(IF($B$2=\"トン\",AppQt.Data!R124,(AppQt.Data!R124*ozton*AppQt.Data!R$7)/1000000),\"-\")","v":333.64038851810528},{"$f":"IFERROR(IF($B$2=\"トン\",AppQt.Data!S124,(AppQt.Data!S124*ozton*AppQt.Data!S$7)/1000000),\"-\")","v":418.61423416602139},{"$f":"IFERROR(IF($B$2=\"トン\",AppQt.Data!T124,(AppQt.Data!T124*ozton*AppQt.Data!T$7)/1000000),\"-\")","v":353.36559729371294},{"$f":"IFERROR(IF($B$2=\"トン\",AppQt.Data!U124,(AppQt.Data!U124*ozton*AppQt.Data!U$7)/1000000),\"-\")","v":346.87527773139584},{"$f":"IFERROR(IF($B$2=\"トン\",AppQt.Data!V124,(AppQt.Data!V124*ozton*AppQt.Data!V$7)/1000000),\"-\")","v":296.16589811105138},{"$f":"IFERROR(IF($B$2=\"トン\",AppQt.Data!W124,(AppQt.Data!W124*ozton*AppQt.Data!W$7)/1000000),\"-\")","v":303.58087185591916},{"$f":"IFERROR(IF($B$2=\"トン\",AppQt.Data!X124,(AppQt.Data!X124*ozton*AppQt.Data!X$7)/1000000),\"-\")","v":375.72825777449475},{"$f":"IFERROR(IF($B$2=\"トン\",AppQt.Data!Y124,(AppQt.Data!Y124*ozton*AppQt.Data!Y$7)/1000000),\"-\")","v":443.16924888373597},{"$f":"IFERROR(IF($B$2=\"トン\",AppQt.Data!Z124,(AppQt.Data!Z124*ozton*AppQt.Data!Z$7)/1000000),\"-\")","v":599.40350003716514},{"$f":"IFERROR(IF($B$2=\"トン\",AppQt.Data!AA124,(AppQt.Data!AA124*ozton*AppQt.Data!AA$7)/1000000),\"-\")","v":326.99277432211545},{"$f":"IFERROR(IF($B$2=\"トン\",AppQt.Data!AB124,(AppQt.Data!AB124*ozton*AppQt.Data!AB$7)/1000000),\"-\")","v":360.14562556053681},{"$f":"IFERROR(IF($B$2=\"トン\",AppQt.Data!AC124,(AppQt.Data!AC124*ozton*AppQt.Data!AC$7)/1000000),\"-\")","v":293.2162371207134},{"$f":"IFERROR(IF($B$2=\"トン\",AppQt.Data!AD124,(AppQt.Data!AD124*ozton*AppQt.Data!AD$7)/1000000),\"-\")","v":248.75790804792251},{"$f":"IFERROR(IF($B$2=\"トン\",AppQt.Data!AE124,(AppQt.Data!AE124*ozton*AppQt.Data!AE$7)/1000000),\"-\")","v":240.90581708760328},{"$f":"IFERROR(IF($B$2=\"トン\",AppQt.Data!AF124,(AppQt.Data!AF124*ozton*AppQt.Data!AF$7)/1000000),\"-\")","v":283.768482629836},{"$f":"IFERROR(IF($B$2=\"トン\",AppQt.Data!AG124,(AppQt.Data!AG124*ozton*AppQt.Data!AG$7)/1000000),\"-\")","v":266.72729141788432},{"$f":"IFERROR(IF($B$2=\"トン\",AppQt.Data!AH124,(AppQt.Data!AH124*ozton*AppQt.Data!AH$7)/1000000),\"-\")","v":218.47170469780136},{"$f":"IFERROR(IF($B$2=\"トン\",AppQt.Data!AI124,(AppQt.Data!AI124*ozton*AppQt.Data!AI$7)/1000000),\"-\")","v":305.01386151278314},{"$f":"IFERROR(IF($B$2=\"トン\",AppQt.Data!AJ124,(AppQt.Data!AJ124*ozton*AppQt.Data!AJ$7)/1000000),\"-\")","v":300.50369192294636},{"$f":"IFERROR(IF($B$2=\"トン\",AppQt.Data!AK124,(AppQt.Data!AK124*ozton*AppQt.Data!AK$7)/1000000),\"-\")","v":272.20296144917796},{"$f":"IFERROR(IF($B$2=\"トン\",AppQt.Data!AL124,(AppQt.Data!AL124*ozton*AppQt.Data!AL$7)/1000000),\"-\")","v":220.98687775924702},{"$f":"IFERROR(IF($B$2=\"トン\",AppQt.Data!AM124,(AppQt.Data!AM124*ozton*AppQt.Data!AM$7)/1000000),\"-\")","v":199.96661480269529},{"$f":"IFERROR(IF($B$2=\"トン\",AppQt.Data!AN124,(AppQt.Data!AN124*ozton*AppQt.Data!AN$7)/1000000),\"-\")","v":379.72530450490086},{"$f":"IFERROR(IF($B$2=\"トン\",AppQt.Data!AO124,(AppQt.Data!AO124*ozton*AppQt.Data!AO$7)/1000000),\"-\")","v":304.05328408846981},{"$f":"IFERROR(IF($B$2=\"トン\",AppQt.Data!AP124,(AppQt.Data!AP124*ozton*AppQt.Data!AP$7)/1000000),\"-\")","v":248.37124662729215},{"$f":"IFERROR(IF($B$2=\"トン\",AppQt.Data!AQ124,(AppQt.Data!AQ124*ozton*AppQt.Data!AQ$7)/1000000),\"-\")","v":232.92731662568548},{"$f":"IFERROR(IF($B$2=\"トン\",AppQt.Data!AR124,(AppQt.Data!AR124*ozton*AppQt.Data!AR$7)/1000000),\"-\")","v":258.70741863919511},{"$f":"IFERROR(IF($B$2=\"トン\",AppQt.Data!AS124,(AppQt.Data!AS124*ozton*AppQt.Data!AS$7)/1000000),\"-\")","v":261.25433421079424},{"$f":"IFERROR(IF($B$2=\"トン\",AppQt.Data!AT124,(AppQt.Data!AT124*ozton*AppQt.Data!AT$7)/1000000),\"-\")","v":247.99540310042417},{"$f":"IFERROR(IF($B$2=\"トン\",AppQt.Data!AU124,(AppQt.Data!AU124*ozton*AppQt.Data!AU$7)/1000000),\"-\")","v":297.41020610186729},{"$f":"IFERROR(IF($B$2=\"トン\",AppQt.Data!AV124,(AppQt.Data!AV124*ozton*AppQt.Data!AV$7)/1000000),\"-\")","v":283.78949025434491},{"$f":"IFERROR(IF($B$2=\"トン\",AppQt.Data!AW124,(AppQt.Data!AW124*ozton*AppQt.Data!AW$7)/1000000),\"-\")","v":258.24655255753504},{"$f":"IFERROR(IF($B$2=\"トン\",AppQt.Data!AX124,(AppQt.Data!AX124*ozton*AppQt.Data!AX$7)/1000000),\"-\")","v":219.7440227723803},{"$f":"IFERROR(IF($B$2=\"トン\",AppQt.Data!AY124,(AppQt.Data!AY124*ozton*AppQt.Data!AY$7)/1000000),\"-\")","v":150.36127411099673},{"$f":"IFERROR(IF($B$2=\"トン\",AppQt.Data!AZ124,(AppQt.Data!AZ124*ozton*AppQt.Data!AZ$7)/1000000),\"-\")","v":242.52097013212341},{"$f":"IFERROR(IF($B$2=\"トン\",AppQt.Data!BA124,(AppQt.Data!BA124*ozton*AppQt.Data!BA$7)/1000000),\"-\")","v":253.33349147053283},{"$f":"IFERROR(IF($B$2=\"トン\",AppQt.Data!BB124,(AppQt.Data!BB124*ozton*AppQt.Data!BB$7)/1000000),\"-\")","v":159.29060820673084},{"$f":"IFERROR(IF($B$2=\"トン\",AppQt.Data!BC124,(AppQt.Data!BC124*ozton*AppQt.Data!BC$7)/1000000),\"-\")","v":221.45572739419447},{"$f":"IFERROR(IF($B$2=\"トン\",AppQt.Data!BD124,(AppQt.Data!BD124*ozton*AppQt.Data!BD$7)/1000000),\"-\")","v":269.75061042273353},{"$f":"IFERROR(IF($B$2=\"トン\",AppQt.Data!BE124,(AppQt.Data!BE124*ozton*AppQt.Data!BE$7)/1000000),\"-\")","v":354.5682895116077},{"$f":"IFERROR(IF($B$2=\"トン\",AppQt.Data!BF124,(AppQt.Data!BF124*ozton*AppQt.Data!BF$7)/1000000),\"-\")","v":248.21392722913816},{"$f":"IFERROR(IF($B$2=\"トン\",AppQt.Data!BG124,(AppQt.Data!BG124*ozton*AppQt.Data!BG$7)/1000000),\"-\")","v":261.7102278308227},{"$f":"IFERROR(IF($B$2=\"トン\",AppQt.Data!BH124,(AppQt.Data!BH124*ozton*AppQt.Data!BH$7)/1000000),\"-\")","v":326.39133260741085},{"$f":"IFERROR(IF($B$2=\"トン\",AppQt.Data!BI124,(AppQt.Data!BI124*ozton*AppQt.Data!BI$7)/1000000),\"-\")","v":283.18829545376406},{"$f":"IFERROR(IF($B$2=\"トン\",AppQt.Data!BJ124,(AppQt.Data!BJ124*ozton*AppQt.Data!BJ$7)/1000000),\"-\")","v":257.51801139350965},{"$f":"IFERROR(IF($B$2=\"トン\",AppQt.Data!BK124,(AppQt.Data!BK124*ozton*AppQt.Data!BK$7)/1000000),\"-\")","v":341.14212572492272},{"$f":"IFERROR(IF($B$2=\"トン\",AppQt.Data!BL124,(AppQt.Data!BL124*ozton*AppQt.Data!BL$7)/1000000),\"-\")","v":335.26881525480258},"▲",2.7198892128884156]
[null,"出所：Metals Focus, Refinitiv GFMS, ICE Benchmark Administration, ワールド・ゴールド・カウンシル"]

{"sheet":"消費者","index":9,"n_rows":47,"n_cols":72,"rows_kept":47,"cut":false,"hidden":false,"merged":[]}
["▲"]
["▼","トン"]
[]
[null,{"$f":"\"主要国の消費者需要 (\"&$B$2&\")\"","v":"主要国の消費者需要 (トン)"}]
[null,null,{"$f":"AppAn.Data!L$2","v":2010},{"$f":"AppAn.Data!M$2","v":2011},{"$f":"AppAn.Data!N$2","v":2012},{"$f":"AppAn.Data!O$2","v":2013},{"$f":"AppAn.Data!P$2","v":2014},{"$f":"AppAn.Data!Q$2","v":2015},{"$f":"AppAn.Data!R$2","v":2016},{"$f":"AppAn.Data!S$2","v":2017},{"$f":"AppAn.Data!T$2","v":2018},{"$f":"AppAn.Data!U$2","v":2019},{"$f":"AppAn.Data!V$2","v":2020},{"$f":"AppAn.Data!W$2","v":2021},{"$f":"AppAn.Data!X$2","v":2022},null,"前年同期比%",null,"2010年第1四半期","2010年第2四半期","2010年第3四半期","2010年第4四半期","2011年第1四半期","2011年第2四半期","2011年第3四半期","2011年第4四半期","2012年第1四半期","2012年第2四半期","2012年第3四半期","2012年第4四半期","2013年第1四半期","2013年第2四半期","2013年第3四半期","2013年第4四半期","2014年第1四半期","2014年第2四半期","2014年第3四半期","2014年第4四半期","2015年第1四半期","2015年第2四半期","2015年第3四半期","2015年第4四半期","2016年第1四半期","2016年第2四半期","2016年第3四半期","2016年第4四半期","2017年第1四半期","2017年第2四半期","2017年第3四半期","2017年第4四半期","2018年第1四半期","2018年第2四半期","2018年第3四半期","2018年第4四半期","2019年第1四半期","2019年第2四半期","2019年第3四半期","2019年第4四半期","2020年第1四半期","2020年第2四半期","2020年第3四半期","2020年第4四半期","2021年第1四半期","2021年第2四半期","2021年第3四半期","2021年第4四半期","2022年第1四半期","2022年第2四半期","2022年第3四半期","2022年第4四半期",null,"前年同期比%"]
[null,"インド",{"$f":"IFERROR(IF($B$2=\"トン\",AppAn.Data!L116,(AppAn.Data!L116*ozton*AppAn.Data!L$6)/1000000),\"-\")","v":1001.7119716659736},{"$f":"IFERROR(IF($B$2=\"トン\",AppAn.Data!M116,(AppAn.Data!M116*ozton*AppAn.Data!M$6)/1000000),\"-\")","v":974.0223724614923},{"$f":"IFERROR(IF($B$2=\"トン\",AppAn.Data!N116,(AppAn.Data!N116*ozton*AppAn.Data!N$6)/1000000),\"-\")","v":914.15116888348098},{"$f":"IFERROR(IF($B$2=\"トン\",AppAn.Data!O116,(AppAn.Data!O116*ozton*AppAn.Data!O$6)/1000000),\"-\")","v":958.58121583418369},{"$f":"IFERROR(IF($B$2=\"トン\",AppAn.Data!P116,(AppAn.Data!P116*ozton*AppAn.Data!P$6)/1000000),\"-\")","v":833.45355596156014},{"$f":"IFERROR(IF($B$2=\"トン\",AppAn.Data!Q116,(AppAn.Data!Q116*ozton*AppAn.Data!Q$6)/1000000),\"-\")","v":857.23853598051562},{"$f":"IFERROR(IF($B$2=\"トン\",AppAn.Data!R116,(AppAn.Data!R116*ozton*AppAn.Data!R$6)/1000000),\"-\")","v":666.08500000259323},{"$f":"IFERROR(IF($B$2=\"トン\",AppAn.Data!S116,(AppAn.Data!S116*ozton*AppAn.Data!S$6)/1000000),\"-\")","v":771.21693866797023},{"$f":"IFERROR(IF($B$2=\"トン\",AppAn.Data!T116,(AppAn.Data!T116*ozton*AppAn.Data!T$6)/1000000),\"-\")","v":760.41258146352811},{"$f":"IFERROR(IF($B$2=\"トン\",AppAn.Data!U116,(AppAn.Data!U116*ozton*AppAn.Data!U$6)/1000000),\"-\")","v":690.40583538188821},{"$f":"IFERROR(IF($B$2=\"トン\",AppAn.Data!V116,(AppAn.Data!V116*ozton*AppAn.Data!V$6)/1000000),\"-\")","v":446.36951451962778},{"$f":"IFERROR(IF($B$2=\"トン\",AppAn.Data!W116,(AppAn.Data!W116*ozton*AppAn.Data!W$6)/1000000),\"-\")","v":797.34103979267218},{"$f":"IFERROR(IF($B$2=\"トン\",AppAn.Data!X116,(AppAn.Data!X116*ozton*AppAn.Data!X$6)/1000000),\"-\")","v":773.9568391121777},{"$f":"IF(Q6<0,$A$2,IF(Q6>0,$A$1,\"-\"))","v":"▼"},{"$f":"IF(AND(O6>0,N6>0),(O6/N6-1)*100,\"-\")","v":-2.9327727425863981},null,{"$f":"IFERROR(IF($B$2=\"トン\",AppQt.Data!M126,(AppQt.Data!M126*ozton*AppQt.Data!M$7)/1000000),\"-\")","v":269.41918909405962},{"$f":"IFERROR(IF($B$2=\"トン\",AppQt.Data!N126,(AppQt.Data!N126*ozton*AppQt.Data!N$7)/1000000),\"-\")","v":177.12255582056164},{"$f":"IFERROR(IF($B$2=\"トン\",AppQt.Data!O126,(AppQt.Data!O126*ozton*AppQt.Data!O$7)/1000000),\"-\")","v":259.41713216425154},{"$f":"IFERROR(IF($B$2=\"トン\",AppQt.Data!P126,(AppQt.Data!P126*ozton*AppQt.Data!P$7)/1000000),\"-\")","v":295.75309458710069},{"$f":"IFERROR(IF($B$2=\"トン\",AppQt.Data!Q126,(AppQt.Data!Q126*ozton*AppQt.Data!Q$7)/1000000),\"-\")","v":298.81864642178311},{"$f":"IFERROR(IF($B$2=\"トン\",AppQt.Data!R126,(AppQt.Data!R126*ozton*AppQt.Data!R$7)/1000000),\"-\")","v":290.84137563820263},{"$f":"IFERROR(IF($B$2=\"トン\",AppQt.Data!S126,(AppQt.Data!S126*ozton*AppQt.Data!S$7)/1000000),\"-\")","v":201.91416756336471},{"$f":"IFERROR(IF($B$2=\"トン\",AppQt.Data!T126,(AppQt.Data!T126*ozton*AppQt.Data!T$7)/1000000),\"-\")","v":182.44818283814183},{"$f":"IFERROR(IF($B$2=\"トン\",AppQt.Data!U126,(AppQt.Data!U126*ozton*AppQt.Data!U$7)/1000000),\"-\")","v":212.48566287613826},{"$f":"IFERROR(IF($B$2=\"トン\",AppQt.Data!V126,(AppQt.Data!V126*ozton*AppQt.Data!V$7)/1000000),\"-\")","v":191.47671904541374},{"$f":"IFERROR(IF($B$2=\"トン\",AppQt.Data!W126,(AppQt.Data!W126*ozton*AppQt.Data!W$7)/1000000),\"-\")","v":232.04073814487529},{"$f":"IFERROR(IF($B$2=\"トン\",AppQt.Data!X126,(AppQt.Data!X126*ozton*AppQt.Data!X$7)/1000000),\"-\")","v":278.14804881705351},{"$f":"IFERROR(IF($B$2=\"トン\",AppQt.Data!Y126,(AppQt.Data!Y126*ozton*AppQt.Data!Y$7)/1000000),\"-\")","v":235.28543887764255},{"$f":"IFERROR(IF($B$2=\"トン\",AppQt.Data!Z126,(AppQt.Data!Z126*ozton*AppQt.Data!Z$7)/1000000),\"-\")","v":321.67347682184931},{"$f":"IFERROR(IF($B$2=\"トン\",AppQt.Data!AA126,(AppQt.Data!AA126*ozton*AppQt.Data!AA$7)/1000000),\"-\")","v":197.64458278885763},{"$f":"IFERROR(IF($B$2=\"トン\",AppQt.Data!AB126,(AppQt.Data!AB126*ozton*AppQt.Data!AB$7)/1000000),\"-\")","v":203.97771734583421},{"$f":"IFERROR(IF($B$2=\"トン\",AppQt.Data!AC126,(AppQt.Data!AC126*ozton*AppQt.Data!AC$7)/1000000),\"-\")","v":166.37743544556565},{"$f":"IFERROR(IF($B$2=\"トン\",AppQt.Data!AD126,(AppQt.Data!AD126*ozton*AppQt.Data!AD$7)/1000000),\"-\")","v":203.91609699563469},{"$f":"IFERROR(IF($B$2=\"トン\",AppQt.Data!AE126,(AppQt.Data!AE126*ozton*AppQt.Data!AE$7)/1000000),\"-\")","v":237.06020386225163},{"$f":"IFERROR(IF($B$2=\"トン\",AppQt.Data!AF126,(AppQt.Data!AF126*ozton*AppQt.Data!AF$7)/1000000),\"-\")","v":226.09981965810826},{"$f":"IFERROR(IF($B$2=\"トン\",AppQt.Data!AG126,(AppQt.Data!AG126*ozton*AppQt.Data!AG$7)/1000000),\"-\")","v":190.74704337519171},{"$f":"IFERROR(IF($B$2=\"トン\",AppQt.Data!AH126,(AppQt.Data!AH126*ozton*AppQt.Data!AH$7)/1000000),\"-\")","v":159.16461357340742},{"$f":"IFERROR(IF($B$2=\"トン\",AppQt.Data!AI126,(AppQt.Data!AI126*ozton*AppQt.Data!AI$7)/1000000),\"-\")","v":271.17751859226001},{"$f":"IFERROR(IF($B$2=\"トン\",AppQt.Data!AJ126,(AppQt.Data!AJ126*ozton*AppQt.Data!AJ$7)/1000000),\"-\")","v":236.14936043965648},{"$f":"IFERROR(IF($B$2=\"トン\",AppQt.Data!AK126,(AppQt.Data!AK126*ozton*AppQt.Data!AK$7)/1000000),\"-\")","v":107.23890971271256},{"$f":"IFERROR(IF($B$2=\"トン\",AppQt.Data!AL126,(AppQt.Data!AL126*ozton*AppQt.Data!AL$7)/1000000),\"-\")","v":122.09521847662704},{"$f":"IFERROR(IF($B$2=\"トン\",AppQt.Data!AM126,(AppQt.Data!AM126*ozton*AppQt.Data!AM$7)/1000000),\"-\")","v":192.77924085804847},{"$f":"IFERROR(IF($B$2=\"トン\",AppQt.Data!AN126,(AppQt.Data!AN126*ozton*AppQt.Data!AN$7)/1000000),\"-\")","v":243.97163095520526},{"$f":"IFERROR(IF($B$2=\"トン\",AppQt.Data!AO126,(AppQt.Data!AO126*ozton*AppQt.Data!AO$7)/1000000),\"-\")","v":160.79853018310081},{"$f":"IFERROR(IF($B$2=\"トン\",AppQt.Data!AP126,(AppQt.Data!AP126*ozton*AppQt.Data!AP$7)/1000000),\"-\")","v":202.50720316678803},{"$f":"IFERROR(IF($B$2=\"トン\",AppQt.Data!AQ126,(AppQt.Data!AQ126*ozton*AppQt.Data!AQ$7)/1000000),\"-\")","v":165.83506382350748},{"$f":"IFERROR(IF($B$2=\"トン\",AppQt.Data!AR126,(AppQt.Data!AR126*ozton*AppQt.Data!AR$7)/1000000),\"-\")","v":242.07614149457393},{"$f":"IFERROR(IF($B$2=\"トン\",AppQt.Data!AS126,(AppQt.Data!AS126*ozton*AppQt.Data!AS$7)/1000000),\"-\")","v":151.53325849617966},{"$f":"IFERROR(IF($B$2=\"トン\",AppQt.Data!AT126,(AppQt.Data!AT126*ozton*AppQt.Data!AT$7)/1000000),\"-\")","v":189.24451433261939},{"$f":"IFERROR(IF($B$2=\"トン\",AppQt.Data!AU126,(AppQt.Data!AU126*ozton*AppQt.Data!AU$7)/1000000),\"-\")","v":183.15636748412948},{"$f":"IFERROR(IF($B$2=\"トン\",AppQt.Data!AV126,(AppQt.Data!AV126*ozton*AppQt.Data!AV$7)/1000000),\"-\")","v":236.47844115059956},{"$f":"IFERROR(IF($B$2=\"トン\",AppQt.Data!AW126,(AppQt.Data!AW126*ozton*AppQt.Data!AW$7)/1000000),\"-\")","v":159.04499034022686},{"$f":"IFERROR(IF($B$2=\"トン\",AppQt.Data!AX126,(AppQt.Data!AX126*ozton*AppQt.Data!AX$7)/1000000),\"-\")","v":213.16708037718047},{"$f":"IFERROR(IF($B$2=\"トン\",AppQt.Data!AY126,(AppQt.Data!AY126*ozton*AppQt.Data!AY$7)/1000000),\"-\")","v":123.90590959468416},{"$f":"IFERROR(IF($B$2=\"トン\",AppQt.Data!AZ126,(AppQt.Data!AZ126*ozton*AppQt.Data!AZ$7)/1000000),\"-\")","v":194.28785506979671},{"$f":"IFERROR(IF($B$2=\"トン\",AppQt.Data!BA126,(AppQt.Data!BA126*ozton*AppQt.Data!BA$7)/1000000),\"-\")","v":101.91971521449426},{"$f":"IFERROR(IF($B$2=\"トン\",AppQt.Data!BB126,(AppQt.Data!BB126*ozton*AppQt.Data!BB$7)/1000000),\"-\")","v":63.731608635046534},{"$f":"IFERROR(IF($B$2=\"トン\",AppQt.Data!BC126,(AppQt.Data!BC126*ozton*AppQt.Data!BC$7)/1000000),\"-\")","v":94.561913707034734},{"$f":"IFERROR(IF($B$2=\"トン\",AppQt.Data!BD126,(AppQt.Data!BD126*ozton*AppQt.Data!BD$7)/1000000),\"-\")","v":186.15627696305225},{"$f":"IFERROR(IF($B$2=\"トン\",AppQt.Data!BE126,(AppQt.Data!BE126*ozton*AppQt.Data!BE$7)/1000000),\"-\")","v":165.8209558415486},{"$f":"IFERROR(IF($B$2=\"トン\",AppQt.Data!BF126,(AppQt.Data!BF126*ozton*AppQt.Data!BF$7)/1000000),\"-\")","v":119.63781202431147},{"$f":"IFERROR(IF($B$2=\"トン\",AppQt.Data!BG126,(AppQt.Data!BG126*ozton*AppQt.Data!BG$7)/1000000),\"-\")","v":168.00092949489553},{"$f":"IFERROR(IF($B$2=\"トン\",AppQt.Data!BH126,(AppQt.Data!BH126*ozton*AppQt.Data!BH$7)/1000000),\"-\")","v":343.88134243191655},{"$f":"IFERROR(IF($B$2=\"トン\",AppQt.Data!BI126,(AppQt.Data!BI126*ozton*AppQt.Data!BI$7)/1000000),\"-\")","v":135.45941367933091},{"$f":"IFERROR(IF($B$2=\"トン\",AppQt.Data!BJ126,(AppQt.Data!BJ126*ozton*AppQt.Data!BJ$7)/1000000),\"-\")","v":170.73290551086191},{"$f":"IFERROR(IF($B$2=\"トン\",AppQt.Data!BK126,(AppQt.Data!BK126*ozton*AppQt.Data!BK$7)/1000000),\"-\")","v":191.6504765149914},{"$f":"IFERROR(IF($B$2=\"トン\",AppQt.Data!BL126,(AppQt.Data!BL126*ozton*AppQt.Data!BL$7)/1000000),\"-\")","v":276.11404340699352},{"$f":"IF(BT6<0,$A$2,IF(BT6>0,$A$1,\"-\"))","v":"▼"},{"$f":"IF(AND(ISNUMBER(BR6),ISNUMBER(BN6),BR6>0,BN6>0,(BR6/BN6-1)*100<300),(BR6/BN6-1)*100,IF(AND(ISNUMBER(BR6),ISNUMBER(BN6),BR6>0,BN6>0,(BR6/BN6-1)*100>300),\">300\",\"-\"))","v":-19.706593717959553}]
[null,"パキスタン",{"$f":"IFERROR(IF($B$2=\"トン\",AppAn.Data!L117,(AppAn.Data!L117*ozton*AppAn.Data!L$6)/1000000),\"-\")","v":33.829500137262073},{"$f":"IFERROR(IF($B$2=\"トン\",AppAn.Data!M117,(AppAn.Data!M117*ozton*AppAn.Data!M$6)/1000000),\"-\")","v":39.946141490228904},{"$f":"IFERROR(IF($B$2=\"トン\",AppAn.Data!N117,(AppAn.Data!N117*ozton*AppAn.Data!N$6)/1000000),\"-\")","v":39.390174213503357},{"$f":"IFERROR(IF($B$2=\"トン\",AppAn.Data!O117,(AppAn.Data!O117*ozton*AppAn.Data!O$6)/1000000),\"-\")","v":44.245923145083871},{"$f":"IFERROR(IF($B$2=\"トン\",AppAn.Data!P117,(AppAn.Data!P117*ozton*AppAn.Data!P$6)/1000000),\"-\")","v":35.779776352061432},{"$f":"IFERROR(IF($B$2=\"トン\",AppAn.Data!Q117,(AppAn.Data!Q117*ozton*AppAn.Data!Q$6)/1000000),\"-\")","v":37.639769814692798},{"$f":"IFERROR(IF($B$2=\"トン\",AppAn.Data!R117,(AppAn.Data!R117*ozton*AppAn.Data!R$6)/1000000),\"-\")","v":42.243682626571143},{"$f":"IFERROR(IF($B$2=\"トン\",AppAn.Data!S117,(AppAn.Data!S117*ozton*AppAn.Data!S$6)/1000000),\"-\")","v":44.929617051992238},{"$f":"IFERROR(IF($B$2=\"トン\",AppAn.Data!T117,(AppAn.Data!T117*ozton*AppAn.Data!T$6)/1000000),\"-\")","v":40.172315030232589},{"$f":"IFERROR(IF($B$2=\"トン\",AppAn.Data!U117,(AppAn.Data!U117*ozton*AppAn.Data!U$6)/1000000),\"-\")","v":38.038190719625618},{"$f":"IFERROR(IF($B$2=\"トン\",AppAn.Data!V117,(AppAn.Data!V117*ozton*AppAn.Data!V$6)/1000000),\"-\")","v":28.759723179548683},{"$f":"IFERROR(IF($B$2=\"トン\",AppAn.Data!W117,(AppAn.Data!W117*ozton*AppAn.Data!W$6)/1000000),\"-\")","v":41.18896319298559},{"$f":"IFERROR(IF($B$2=\"トン\",AppAn.Data!X117,(AppAn.Data!X117*ozton*AppAn.Data!X$6)/1000000),\"-\")","v":44.28646853980176},"▲",7.5202314083586019,null,{"$f":"IFERROR(IF($B$2=\"トン\",AppQt.Data!M127,(AppQt.Data!M127*ozton*AppQt.Data!M$7)/1000000),\"-\")","v":16.80858116764275},{"$f":"IFERROR(IF($B$2=\"トン\",AppQt.Data!N127,(AppQt.Data!N127*ozton*AppQt.Data!N$7)/1000000),\"-\")","v":3.3150132686676423},{"$f":"IFERROR(IF($B$2=\"トン\",AppQt.Data!O127,(AppQt.Data!O127*ozton*AppQt.Data!O$7)/1000000),\"-\")","v":10.95047927342606},{"$f":"IFERROR(IF($B$2=\"トン\",AppQt.Data!P127,(AppQt.Data!P127*ozton*AppQt.Data!P$7)/1000000),\"-\")","v":2.7554264275256219},{"$f":"IFERROR(IF($B$2=\"トン\",AppQt.Data!Q127,(AppQt.Data!Q127*ozton*AppQt.Data!Q$7)/1000000),\"-\")","v":14.796621542176091},{"$f":"IFERROR(IF($B$2=\"トン\",AppQt.Data!R127,(AppQt.Data!R127*ozton*AppQt.Data!R$7)/1000000),\"-\")","v":9.3510163539248055},{"$f":"IFERROR(IF($B$2=\"トン\",AppQt.Data!S127,(AppQt.Data!S127*ozton*AppQt.Data!S$7)/1000000),\"-\")","v":8.4943005963605245},{"$f":"IFERROR(IF($B$2=\"トン\",AppQt.Data!T127,(AppQt.Data!T127*ozton*AppQt.Data!T$7)/1000000),\"-\")","v":7.3042029977674794},{"$f":"IFERROR(IF($B$2=\"トン\",AppQt.Data!U127,(AppQt.Data!U127*ozton*AppQt.Data!U$7)/1000000),\"-\")","v":13.340676370611659},{"$f":"IFERROR(IF($B$2=\"トン\",AppQt.Data!V127,(AppQt.Data!V127*ozton*AppQt.Data!V$7)/1000000),\"-\")","v":7.9194895415799698},{"$f":"IFERROR(IF($B$2=\"トン\",AppQt.Data!W127,(AppQt.Data!W127*ozton*AppQt.Data!W$7)/1000000),\"-\")","v":9.0847520246024054},{"$f":"IFERROR(IF($B$2=\"トン\",AppQt.Data!X127,(AppQt.Data!X127*ozton*AppQt.Data!X$7)/1000000),\"-\")","v":9.0452562767093188},{"$f":"IFERROR(IF($B$2=\"トン\",AppQt.Data!Y127,(AppQt.Data!Y127*ozton*AppQt.Data!Y$7)/1000000),\"-\")","v":9.6869980042441401},{"$f":"IFERROR(IF($B$2=\"トン\",AppQt.Data!Z127,(AppQt.Data!Z127*ozton*AppQt.Data!Z$7)/1000000),\"-\")","v":13.325263197251417},{"$f":"IFERROR(IF($B$2=\"トン\",AppQt.Data!AA127,(AppQt.Data!AA127*ozton*AppQt.Data!AA$7)/1000000),\"-\")","v":10.837657497347411},{"$f":"IFERROR(IF($B$2=\"トン\",AppQt.Data!AB127,(AppQt.Data!AB127*ozton*AppQt.Data!AB$7)/1000000),\"-\")","v":10.396004446240905},{"$f":"IFERROR(IF($B$2=\"トン\",AppQt.Data!AC127,(AppQt.Data!AC127*ozton*AppQt.Data!AC$7)/1000000),\"-\")","v":7.1039513338722706},{"$f":"IFERROR(IF($B$2=\"トン\",AppQt.Data!AD127,(AppQt.Data!AD127*ozton*AppQt.Data!AD$7)/1000000),\"-\")","v":10.226690038399354},{"$f":"IFERROR(IF($B$2=\"トン\",AppQt.Data!AE127,(AppQt.Data!AE127*ozton*AppQt.Data!AE$7)/1000000),\"-\")","v":8.7051466248989477},{"$f":"IFERROR(IF($B$2=\"トン\",AppQt.Data!AF127,(AppQt.Data!AF127*ozton*AppQt.Data!AF$7)/1000000),\"-\")","v":9.7439883548908632},{"$f":"IFERROR(IF($B$2=\"トン\",AppQt.Data!AG127,(AppQt.Data!AG127*ozton*AppQt.Data!AG$7)/1000000),\"-\")","v":8.3737949749393685},{"$f":"IFERROR(IF($B$2=\"トン\",AppQt.Data!AH127,(AppQt.Data!AH127*ozton*AppQt.Data!AH$7)/1000000),\"-\")","v":9.152209251717867},{"$f":"IFERROR(IF($B$2=\"トン\",AppQt.Data!AI127,(AppQt.Data!AI127*ozton*AppQt.Data!AI$7)/1000000),\"-\")","v":9.5865053023443796},{"$f":"IFERROR(IF($B$2=\"トン\",AppQt.Data!AJ127,(AppQt.Data!AJ127*ozton*AppQt.Data!AJ$7)/1000000),\"-\")","v":10.527260285691188},{"$f":"IFERROR(IF($B$2=\"トン\",AppQt.Data!AK127,(AppQt.Data!AK127*ozton*AppQt.Data!AK$7)/1000000),\"-\")","v":9.8268100673726764},{"$f":"IFERROR(IF($B$2=\"トン\",AppQt.Data!AL127,(AppQt.Data!AL127*ozton*AppQt.Data!AL$7)/1000000),\"-\")","v":10.382512955143493},{"$f":"IFERROR(IF($B$2=\"トン\",AppQt.Data!AM127,(AppQt.Data!AM127*ozton*AppQt.Data!AM$7)/1000000),\"-\")","v":10.286072087485852},{"$f":"IFERROR(IF($B$2=\"トン\",AppQt.Data!AN127,(AppQt.Data!AN127*ozton*AppQt.Data!AN$7)/1000000),\"-\")","v":11.748287516569118},{"$f":"IFERROR(IF($B$2=\"トン\",AppQt.Data!AO127,(AppQt.Data!AO127*ozton*AppQt.Data!AO$7)/1000000),\"-\")","v":10.05034626872013},{"$f":"IFERROR(IF($B$2=\"トン\",AppQt.Data!AP127,(AppQt.Data!AP127*ozton*AppQt.Data!AP$7)/1000000),\"-\")","v":11.078864768369442},{"$f":"IFERROR(IF($B$2=\"トン\",AppQt.Data!AQ127,(AppQt.Data!AQ127*ozton*AppQt.Data!AQ$7)/1000000),\"-\")","v":10.165031274062246},{"$f":"IFERROR(IF($B$2=\"トン\",AppQt.Data!AR127,(AppQt.Data!AR127*ozton*AppQt.Data!AR$7)/1000000),\"-\")","v":13.635374740840419},{"$f":"IFERROR(IF($B$2=\"トン\",AppQt.Data!AS127,(AppQt.Data!AS127*ozton*AppQt.Data!AS$7)/1000000),\"-\")","v":10.540646554128845},{"$f":"IFERROR(IF($B$2=\"トン\",AppQt.Data!AT127,(AppQt.Data!AT127*ozton*AppQt.Data!AT$7)/1000000),\"-\")","v":9.860197886206711},{"$f":"IFERROR(IF($B$2=\"トン\",AppQt.Data!AU127,(AppQt.Data!AU127*ozton*AppQt.Data!AU$7)/1000000),\"-\")","v":8.9668326557782123},{"$f":"IFERROR(IF($B$2=\"トン\",AppQt.Data!AV127,(AppQt.Data!AV127*ozton*AppQt.Data!AV$7)/1000000),\"-\")","v":10.804637934118819},{"$f":"IFERROR(IF($B$2=\"トン\",AppQt.Data!AW127,(AppQt.Data!AW127*ozton*AppQt.Data!AW$7)/1000000),\"-\")","v":11.85071120954173},{"$f":"IFERROR(IF($B$2=\"トン\",AppQt.Data!AX127,(AppQt.Data!AX127*ozton*AppQt.Data!AX$7)/1000000),\"-\")","v":9.540757180792955},{"$f":"IFERROR(IF($B$2=\"トン\",AppQt.Data!AY127,(AppQt.Data!AY127*ozton*AppQt.Data!AY$7)/1000000),\"-\")","v":7.1379661246225714},{"$f":"IFERROR(IF($B$2=\"トン\",AppQt.Data!AZ127,(AppQt.Data!AZ127*ozton*AppQt.Data!AZ$7)/1000000),\"-\")","v":9.508756204668364},{"$f":"IFERROR(IF($B$2=\"トン\",AppQt.Data!BA127,(AppQt.Data!BA127*ozton*AppQt.Data!BA$7)/1000000),\"-\")","v":11.263843979959429},{"$f":"IFERROR(IF($B$2=\"トン\",AppQt.Data!BB127,(AppQt.Data!BB127*ozton*AppQt.Data!BB$7)/1000000),\"-\")","v":2.2675392951982385},{"$f":"IFERROR(IF($B$2=\"トン\",AppQt.Data!BC127,(AppQt.Data!BC127*ozton*AppQt.Data!BC$7)/1000000),\"-\")","v":6.3008132836022206},{"$f":"IFERROR(IF($B$2=\"トン\",AppQt.Data!BD127,(AppQt.Data!BD127*ozton*AppQt.Data!BD$7)/1000000),\"-\")","v":8.9275266207887967},{"$f":"IFERROR(IF($B$2=\"トン\",AppQt.Data!BE127,(AppQt.Data!BE127*ozton*AppQt.Data!BE$7)/1000000),\"-\")","v":11.880494395210777},{"$f":"IFERROR(IF($B$2=\"トン\",AppQt.Data!BF127,(AppQt.Data!BF127*ozton*AppQt.Data!BF$7)/1000000),\"-\")","v":9.2479715490189189},{"$f":"IFERROR(IF($B$2=\"トン\",AppQt.Data!BG127,(AppQt.Data!BG127*ozton*AppQt.Data!BG$7)/1000000),\"-\")","v":9.7343889018321423},{"$f":"IFERROR(IF($B$2=\"トン\",AppQt.Data!BH127,(AppQt.Data!BH127*ozton*AppQt.Data!BH$7)/1000000),\"-\")","v":10.32610834692375},{"$f":"IFERROR(IF($B$2=\"トン\",AppQt.Data!BI127,(AppQt.Data!BI127*ozton*AppQt.Data!BI$7)/1000000),\"-\")","v":9.6951709275775642},{"$f":"IFERROR(IF($B$2=\"トン\",AppQt.Data!BJ127,(AppQt.Data!BJ127*ozton*AppQt.Data!BJ$7)/1000000),\"-\")","v":11.465525156243075},{"$f":"IFERROR(IF($B$2=\"トン\",AppQt.Data!BK127,(AppQt.Data!BK127*ozton*AppQt.Data!BK$7)/1000000),\"-\")","v":12.99964648229327},{"$f":"IFERROR(IF($B$2=\"トン\",AppQt.Data!BL127,(AppQt.Data!BL127*ozton*AppQt.Data!BL$7)/1000000),\"-\")","v":10.126125973687854},{"$f":"IF(BT7<0,$A$2,IF(BT7>0,$A$1,\"-\"))","v":"▼"},-1.9366673921785149]
[null,"スリランカ","-","-","-","-",{"$f":"IFERROR(IF($B$2=\"トン\",AppAn.Data!P118,(AppAn.Data!P118*ozton*AppAn.Data!P$6)/1000000),\"-\")","v":9.1224999999999987},{"$f":"IFERROR(IF($B$2=\"トン\",AppAn.Data!Q118,(AppAn.Data!Q118*ozton*AppAn.Data!Q$6)/1000000),\"-\")","v":10.66085},{"$f":"IFERROR(IF($B$2=\"トン\",AppAn.Data!R118,(AppAn.Data!R118*ozton*AppAn.Data!R$6)/1000000),\"-\")","v":10.471097299999997},{"$f":"IFERROR(IF($B$2=\"トン\",AppAn.Data!S118,(AppAn.Data!S118*ozton*AppAn.Data!S$6)/1000000),\"-\")","v":11.181414629999999},{"$f":"IFERROR(IF($B$2=\"トン\",AppAn.Data!T118,(AppAn.Data!T118*ozton*AppAn.Data!T$6)/1000000),\"-\")","v":9.6047718610000015},{"$f":"IFERROR(IF($B$2=\"トン\",AppAn.Data!U118,(AppAn.Data!U118*ozton*AppAn.Data!U$6)/1000000),\"-\")","v":7.8870487193700001},{"$f":"IFERROR(IF($B$2=\"トン\",AppAn.Data!V118,(AppAn.Data!V118*ozton*AppAn.Data!V$6)/1000000),\"-\")","v":4.2723289511385003},{"$f":"IFERROR(IF($B$2=\"トン\",AppAn.Data!W118,(AppAn.Data!W118*ozton*AppAn.Data!W$6)/1000000),\"-\")","v":4.0944540267944571},{"$f":"IFERROR(IF($B$2=\"トン\",AppAn.Data!X118,(AppAn.Data!X118*ozton*AppAn.Data!X$6)/1000000),\"-\")","v":3.91252206697372},"▼",-4.4433753225743615,null,"-","-","-","-","-","-","-","-","-","-","-","-","-","-","-","-",{"$f":"IFERROR(IF($B$2=\"トン\",AppQt.Data!AC128,(AppQt.Data!AC128*ozton*AppQt.Data!AC$7)/1000000),\"-\")","v":2.6824999999999997},{"$f":"IFERROR(IF($B$2=\"トン\",AppQt.Data!AD128,(AppQt.Data!AD128*ozton*AppQt.Data!AD$7)/1000000),\"-\")","v":2.7679999999999998},{"$f":"IFERROR(IF($B$2=\"トン\",AppQt.Data!AE128,(AppQt.Data!AE128*ozton*AppQt.Data!AE$7)/1000000),\"-\")","v":1.911},{"$f":"IFERROR(IF($B$2=\"トン\",AppQt.Data!AF128,(AppQt.Data!AF128*ozton*AppQt.Data!AF$7)/1000000),\"-\")","v":1.7610000000000001},{"$f":"IFERROR(IF($B$2=\"トン\",AppQt.Data!AG128,(AppQt.Data!AG128*ozton*AppQt.Data!AG$7)/1000000),\"-\")","v":3.1257499999999996},{"$f":"IFERROR(IF($B$2=\"トン\",AppQt.Data!AH128,(AppQt.Data!AH128*ozton*AppQt.Data!AH$7)/1000000),\"-\")","v":3.0254400000000001},{"$f":"IFERROR(IF($B$2=\"トン\",AppQt.Data!AI128,(AppQt.Data!AI128*ozton*AppQt.Data!AI$7)/1000000),\"-\")","v":2.1539499999999996},{"$f":"IFERROR(IF($B$2=\"トン\",AppQt.Data!AJ128,(AppQt.Data!AJ128*ozton*AppQt.Data!AJ$7)/1000000),\"-\")","v":2.3557100000000002},{"$f":"IFERROR(IF($B$2=\"トン\",AppQt.Data!AK128,(AppQt.Data!AK128*ozton*AppQt.Data!AK$7)/1000000),\"-\")","v":2.5886599999999995},{"$f":"IFERROR(IF($B$2=\"トン\",AppQt.Data!AL128,(AppQt.Data!AL128*ozton*AppQt.Data!AL$7)/1000000),\"-\")","v":3.2657120000000002},{"$f":"IFERROR(IF($B$2=\"トン\",AppQt.Data!AM128,(AppQt.Data!AM128*ozton*AppQt.Data!AM$7)/1000000),\"-\")","v":2.2862354999999992},{"$f":"IFERROR(IF($B$2=\"トン\",AppQt.Data!AN128,(AppQt.Data!AN128*ozton*AppQt.Data!AN$7)/1000000),\"-\")","v":2.3304897999999996},{"$f":"IFERROR(IF($B$2=\"トン\",AppQt.Data!AO128,(AppQt.Data!AO128*ozton*AppQt.Data!AO$7)/1000000),\"-\")","v":2.700593},{"$f":"IFERROR(IF($B$2=\"トン\",AppQt.Data!AP128,(AppQt.Data!AP128*ozton*AppQt.Data!AP$7)/1000000),\"-\")","v":2.8108551999999998},{"$f":"IFERROR(IF($B$2=\"トン\",AppQt.Data!AQ128,(AppQt.Data!AQ128*ozton*AppQt.Data!AQ$7)/1000000),\"-\")","v":2.4388051999999996},{"$f":"IFERROR(IF($B$2=\"トン\",AppQt.Data!AR128,(AppQt.Data!AR128*ozton*AppQt.Data!AR$7)/1000000),\"-\")","v":3.2311612300000001},{"$f":"IFERROR(IF($B$2=\"トン\",AppQt.Data!AS128,(AppQt.Data!AS128*ozton*AppQt.Data!AS$7)/1000000),\"-\")","v":2.1435040499999998},{"$f":"IFERROR(IF($B$2=\"トン\",AppQt.Data!AT128,(AppQt.Data!AT128*ozton*AppQt.Data!AT$7)/1000000),\"-\")","v":2.2556414},{"$f":"IFERROR(IF($B$2=\"トン\",AppQt.Data!AU128,(AppQt.Data!AU128*ozton*AppQt.Data!AU$7)/1000000),\"-\")","v":2.5055813040000001},{"$f":"IFERROR(IF($B$2=\"トン\",AppQt.Data!AV128,(AppQt.Data!AV128*ozton*AppQt.Data!AV$7)/1000000),\"-\")","v":2.7000451070000007},{"$f":"IFERROR(IF($B$2=\"トン\",AppQt.Data!AW128,(AppQt.Data!AW128*ozton*AppQt.Data!AW$7)/1000000),\"-\")","v":2.0386587665000002},{"$f":"IFERROR(IF($B$2=\"トン\",AppQt.Data!AX128,(AppQt.Data!AX128*ozton*AppQt.Data!AX$7)/1000000),\"-\")","v":1.8310772600000003},{"$f":"IFERROR(IF($B$2=\"トン\",AppQt.Data!AY128,(AppQt.Data!AY128*ozton*AppQt.Data!AY$7)/1000000),\"-\")","v":2.0137743519199995},{"$f":"IFERROR(IF($B$2=\"トン\",AppQt.Data!AZ128,(AppQt.Data!AZ128*ozton*AppQt.Data!AZ$7)/1000000),\"-\")","v":2.0035383409500001},{"$f":"IFERROR(IF($B$2=\"トン\",AppQt.Data!BA128,(AppQt.Data!BA128*ozton*AppQt.Data!BA$7)/1000000),\"-\")","v":1.3493111365499999},{"$f":"IFERROR(IF($B$2=\"トン\",AppQt.Data!BB128,(AppQt.Data!BB128*ozton*AppQt.Data!BB$7)/1000000),\"-\")","v":0.52123175330000004},{"$f":"IFERROR(IF($B$2=\"トン\",AppQt.Data!BC128,(AppQt.Data!BC128*ozton*AppQt.Data!BC$7)/1000000),\"-\")","v":0.68413230557599991},{"$f":"IFERROR(IF($B$2=\"トン\",AppQt.Data!BD128,(AppQt.Data!BD128*ozton*AppQt.Data!BD$7)/1000000),\"-\")","v":1.7176537557125002},{"$f":"IFERROR(IF($B$2=\"トン\",AppQt.Data!BE128,(AppQt.Data!BE128*ozton*AppQt.Data!BE$7)/1000000),\"-\")","v":1.7691733638599998},{"$f":"IFERROR(IF($B$2=\"トン\",AppQt.Data!BF128,(AppQt.Data!BF128*ozton*AppQt.Data!BF$7)/1000000),\"-\")","v":0.98062801373699993},{"$f":"IFERROR(IF($B$2=\"トン\",AppQt.Data!BG128,(AppQt.Data!BG128*ozton*AppQt.Data!BG$7)/1000000),\"-\")","v":0.57890820892905004},{"$f":"IFERROR(IF($B$2=\"トン\",AppQt.Data!BH128,(AppQt.Data!BH128*ozton*AppQt.Data!BH$7)/1000000),\"-\")","v":0.76574444026840749},{"$f":"IFERROR(IF($B$2=\"トン\",AppQt.Data!BI128,(AppQt.Data!BI128*ozton*AppQt.Data!BI$7)/1000000),\"-\")","v":2.2343832375477994},{"$f":"IFERROR(IF($B$2=\"トン\",AppQt.Data!BJ128,(AppQt.Data!BJ128*ozton*AppQt.Data!BJ$7)/1000000),\"-\")","v":0.44531400686849998},{"$f":"IFERROR(IF($B$2=\"トン\",AppQt.Data!BK128,(AppQt.Data!BK128*ozton*AppQt.Data!BK$7)/1000000),\"-\")","v":0.30078260618164998},{"$f":"IFERROR(IF($B$2=\"トン\",AppQt.Data!BL128,(AppQt.Data!BL128*ozton*AppQt.Data!BL$7)/1000000),\"-\")","v":0.93204221637577045},"▲",21.717137906880858]
[null,"中華圏",{"$f":"IFERROR(IF($B$2=\"トン\",AppAn.Data!L119,(AppAn.Data!L119*ozton*AppAn.Data!L$6)/1000000),\"-\")","v":676.26143855874375},{"$f":"IFERROR(IF($B$2=\"トン\",AppAn.Data!M119,(AppAn.Data!M119*ozton*AppAn.Data!M$6)/1000000),\"-\")","v":873.03567781160621},{"$f":"IFERROR(IF($B$2=\"トン\",AppAn.Data!N119,(AppAn.Data!N119*ozton*AppAn.Data!N$6)/1000000),\"-\")","v":918.34164521721686},{"$f":"IFERROR(IF($B$2=\"トン\",AppAn.Data!O119,(AppAn.Data!O119*ozton*AppAn.Data!O$6)/1000000),\"-\")","v":1449.7872416811338},{"$f":"IFERROR(IF($B$2=\"トン\",AppAn.Data!P119,(AppAn.Data!P119*ozton*AppAn.Data!P$6)/1000000),\"-\")","v":1083.6778101313364},{"$f":"IFERROR(IF($B$2=\"トン\",AppAn.Data!Q119,(AppAn.Data!Q119*ozton*AppAn.Data!Q$6)/1000000),\"-\")","v":1062.1548088539487},{"$f":"IFERROR(IF($B$2=\"トン\",AppAn.Data!R119,(AppAn.Data!R119*ozton*AppAn.Data!R$6)/1000000),\"-\")","v":985.04707314062625},{"$f":"IFERROR(IF($B$2=\"トン\",AppAn.Data!S119,(AppAn.Data!S119*ozton*AppAn.Data!S$6)/1000000),\"-\")","v":1029.7059357774688},{"$f":"IFERROR(IF($B$2=\"トン\",AppAn.Data!T119,(AppAn.Data!T119*ozton*AppAn.Data!T$6)/1000000),\"-\")","v":1058.390947187105},{"$f":"IFERROR(IF($B$2=\"トン\",AppAn.Data!U119,(AppAn.Data!U119*ozton*AppAn.Data!U$6)/1000000),\"-\")","v":899.51995681909159},{"$f":"IFERROR(IF($B$2=\"トン\",AppAn.Data!V119,(AppAn.Data!V119*ozton*AppAn.Data!V$6)/1000000),\"-\")","v":641.30082834761242},{"$f":"IFERROR(IF($B$2=\"トン\",AppAn.Data!W119,(AppAn.Data!W119*ozton*AppAn.Data!W$6)/1000000),\"-\")","v":993.69712470534751},{"$f":"IFERROR(IF($B$2=\"トン\",AppAn.Data!X119,(AppAn.Data!X119*ozton*AppAn.Data!X$6)/1000000),\"-\")","v":824.93735431653283},"▼",-16.983018889065981,null,{"$f":"IFERROR(IF($B$2=\"トン\",AppQt.Data!M129,(AppQt.Data!M129*ozton*AppQt.Data!M$7)/1000000),\"-\")","v":168.48921532508194},{"$f":"IFERROR(IF($B$2=\"トン\",AppQt.Data!N129,(AppQt.Data!N129*ozton*AppQt.Data!N$7)/1000000),\"-\")","v":133.77092858422444},{"$f":"IFERROR(IF($B$2=\"トン\",AppQt.Data!O129,(AppQt.Data!O129*ozton*AppQt.Data!O$7)/1000000),\"-\")","v":174.16475442630698},{"$f":"IFERROR(IF($B$2=\"トン\",AppQt.Data!P129,(AppQt.Data!P129*ozton*AppQt.Data!P$7)/1000000),\"-\")","v":199.83654022313036},{"$f":"IFERROR(IF($B$2=\"トン\",AppQt.Data!Q129,(AppQt.Data!Q129*ozton*AppQt.Data!Q$7)/1000000),\"-\")","v":253.40385180124494},{"$f":"IFERROR(IF($B$2=\"トン\",AppQt.Data!R129,(AppQt.Data!R129*ozton*AppQt.Data!R$7)/1000000),\"-\")","v":181.63697155310729},{"$f":"IFERROR(IF($B$2=\"トン\",AppQt.Data!S129,(AppQt.Data!S129*ozton*AppQt.Data!S$7)/1000000),\"-\")","v":212.80759563394423},{"$f":"IFERROR(IF($B$2=\"トン\",AppQt.Data!T129,(AppQt.Data!T129*ozton*AppQt.Data!T$7)/1000000),\"-\")","v":225.18725882330978},{"$f":"IFERROR(IF($B$2=\"トン\",AppQt.Data!U129,(AppQt.Data!U129*ozton*AppQt.Data!U$7)/1000000),\"-\")","v":275.0169030139748},{"$f":"IFERROR(IF($B$2=\"トン\",AppQt.Data!V129,(AppQt.Data!V129*ozton*AppQt.Data!V$7)/1000000),\"-\")","v":199.32441703306932},{"$f":"IFERROR(IF($B$2=\"トン\",AppQt.Data!W129,(AppQt.Data!W129*ozton*AppQt.Data!W$7)/1000000),\"-\")","v":209.01218839985515},{"$f":"IFERROR(IF($B$2=\"トン\",AppQt.Data!X129,(AppQt.Data!X129*ozton*AppQt.Data!X$7)/1000000),\"-\")","v":234.9881367703176},{"$f":"IFERROR(IF($B$2=\"トン\",AppQt.Data!Y129,(AppQt.Data!Y129*ozton*AppQt.Data!Y$7)/1000000),\"-\")","v":359.4406030722397},{"$f":"IFERROR(IF($B$2=\"トン\",AppQt.Data!Z129,(AppQt.Data!Z129*ozton*AppQt.Data!Z$7)/1000000),\"-\")","v":517.31202001116685},{"$f":"IFERROR(IF($B$2=\"トン\",AppQt.Data!AA129,(AppQt.Data!AA129*ozton*AppQt.Data!AA$7)/1000000),\"-\")","v":330.85537378543364},{"$f":"IFERROR(IF($B$2=\"トン\",AppQt.Data!AB129,(AppQt.Data!AB129*ozton*AppQt.Data!AB$7)/1000000),\"-\")","v":242.17924481229355},{"$f":"IFERROR(IF($B$2=\"トン\",AppQt.Data!AC129,(AppQt.Data!AC129*ozton*AppQt.Data!AC$7)/1000000),\"-\")","v":320.75044559737626},{"$f":"IFERROR(IF($B$2=\"トン\",AppQt.Data!AD129,(AppQt.Data!AD129*ozton*AppQt.Data!AD$7)/1000000),\"-\")","v":246.20043650110142},{"$f":"IFERROR(IF($B$2=\"トン\",AppQt.Data!AE129,(AppQt.Data!AE129*ozton*AppQt.Data!AE$7)/1000000),\"-\")","v":236.72254732736073},{"$f":"IFERROR(IF($B$2=\"トン\",AppQt.Data!AF129,(AppQt.Data!AF129*ozton*AppQt.Data!AF$7)/1000000),\"-\")","v":280.00438070549797},{"$f":"IFERROR(IF($B$2=\"トン\",AppQt.Data!AG129,(AppQt.Data!AG129*ozton*AppQt.Data!AG$7)/1000000),\"-\")","v":301.34318955991495},{"$f":"IFERROR(IF($B$2=\"トン\",AppQt.Data!AH129,(AppQt.Data!AH129*ozton*AppQt.Data!AH$7)/1000000),\"-\")","v":231.43048784165023},{"$f":"IFERROR(IF($B$2=\"トン\",AppQt.Data!AI129,(AppQt.Data!AI129*ozton*AppQt.Data!AI$7)/1000000),\"-\")","v":254.76544143562245},{"$f":"IFERROR(IF($B$2=\"トン\",AppQt.Data!AJ129,(AppQt.Data!AJ129*ozton*AppQt.Data!AJ$7)/1000000),\"-\")","v":274.61569001676105},{"$f":"IFERROR(IF($B$2=\"トン\",AppQt.Data!AK129,(AppQt.Data!AK129*ozton*AppQt.Data!AK$7)/1000000),\"-\")","v":278.45415969999311},{"$f":"IFERROR(IF($B$2=\"トン\",AppQt.Data!AL129,(AppQt.Data!AL129*ozton*AppQt.Data!AL$7)/1000000),\"-\")","v":201.55847830304967},{"$f":"IFERROR(IF($B$2=\"トン\",AppQt.Data!AM129,(AppQt.Data!AM129*ozton*AppQt.Data!AM$7)/1000000),\"-\")","v":196.17762277877898},{"$f":"IFERROR(IF($B$2=\"トン\",AppQt.Data!AN129,(AppQt.Data!AN129*ozton*AppQt.Data!AN$7)/1000000),\"-\")","v":308.85681235880452},{"$f":"IFERROR(IF($B$2=\"トン\",AppQt.Data!AO129,(AppQt.Data!AO129*ozton*AppQt.Data!AO$7)/1000000),\"-\")","v":299.96211075619937},{"$f":"IFERROR(IF($B$2=\"トン\",AppQt.Data!AP129,(AppQt.Data!AP129*ozton*AppQt.Data!AP$7)/1000000),\"-\")","v":216.15495881681252},{"$f":"IFERROR(IF($B$2=\"トン\",AppQt.Data!AQ129,(AppQt.Data!AQ129*ozton*AppQt.Data!AQ$7)/1000000),\"-\")","v":244.21238011288023},{"$f":"IFERROR(IF($B$2=\"トン\",AppQt.Data!AR129,(AppQt.Data!AR129*ozton*AppQt.Data!AR$7)/1000000),\"-\")","v":269.37648609157662},{"$f":"IFERROR(IF($B$2=\"トン\",AppQt.Data!AS129,(AppQt.Data!AS129*ozton*AppQt.Data!AS$7)/1000000),\"-\")","v":281.04355504741625},{"$f":"IFERROR(IF($B$2=\"トン\",AppQt.Data!AT129,(AppQt.Data!AT129*ozton*AppQt.Data!AT$7)/1000000),\"-\")","v":227.70455143147626},{"$f":"IFERROR(IF($B$2=\"トン\",AppQt.Data!AU129,(AppQt.Data!AU129*ozton*AppQt.Data!AU$7)/1000000),\"-\")","v":281.84908694337423},{"$f":"IFERROR(IF($B$2=\"トン\",AppQt.Data!AV129,(AppQt.Data!AV129*ozton*AppQt.Data!AV$7)/1000000),\"-\")","v":267.79375376483836},{"$f":"IFERROR(IF($B$2=\"トン\",AppQt.Data!AW129,(AppQt.Data!AW129*ozton*AppQt.Data!AW$7)/1000000),\"-\")","v":270.81485312991504},{"$f":"IFERROR(IF($B$2=\"トン\",AppQt.Data!AX129,(AppQt.Data!AX129*ozton*AppQt.Data!AX$7)/1000000),\"-\")","v":197.74439870447929},{"$f":"IFERROR(IF($B$2=\"トン\",AppQt.Data!AY129,(AppQt.Data!AY129*ozton*AppQt.Data!AY$7)/1000000),\"-\")","v":210.62858037469718},{"$f":"IFERROR(IF($B$2=\"トン\",AppQt.Data!AZ129,(AppQt.Data!AZ129*ozton*AppQt.Data!AZ$7)/1000000),\"-\")","v":220.33212460999999},{"$f":"IFERROR(IF($B$2=\"トン\",AppQt.Data!BA129,(AppQt.Data!BA129*ozton*AppQt.Data!BA$7)/1000000),\"-\")","v":106.46290922464877},{"$f":"IFERROR(IF($B$2=\"トン\",AppQt.Data!BB129,(AppQt.Data!BB129*ozton*AppQt.Data!BB$7)/1000000),\"-\")","v":137.0003313929636},{"$f":"IFERROR(IF($B$2=\"トン\",AppQt.Data!BC129,(AppQt.Data!BC129*ozton*AppQt.Data!BC$7)/1000000),\"-\")","v":183.09092212000002},{"$f":"IFERROR(IF($B$2=\"トン\",AppQt.Data!BD129,(AppQt.Data!BD129*ozton*AppQt.Data!BD$7)/1000000),\"-\")","v":214.74666561000004},{"$f":"IFERROR(IF($B$2=\"トン\",AppQt.Data!BE129,(AppQt.Data!BE129*ozton*AppQt.Data!BE$7)/1000000),\"-\")","v":289.25075517079745},{"$f":"IFERROR(IF($B$2=\"トン\",AppQt.Data!BF129,(AppQt.Data!BF129*ozton*AppQt.Data!BF$7)/1000000),\"-\")","v":211.52537360635},{"$f":"IFERROR(IF($B$2=\"トン\",AppQt.Data!BG129,(AppQt.Data!BG129*ozton*AppQt.Data!BG$7)/1000000),\"-\")","v":228.74914641520007},{"$f":"IFERROR(IF($B$2=\"トン\",AppQt.Data!BH129,(AppQt.Data!BH129*ozton*AppQt.Data!BH$7)/1000000),\"-\")","v":264.17184951299998},{"$f":"IFERROR(IF($B$2=\"トン\",AppQt.Data!BI129,(AppQt.Data!BI129*ozton*AppQt.Data!BI$7)/1000000),\"-\")","v":234.86174785937081},{"$f":"IFERROR(IF($B$2=\"トン\",AppQt.Data!BJ129,(AppQt.Data!BJ129*ozton*AppQt.Data!BJ$7)/1000000),\"-\")","v":148.389678413122},{"$f":"IFERROR(IF($B$2=\"トン\",AppQt.Data!BK129,(AppQt.Data!BK129*ozton*AppQt.Data!BK$7)/1000000),\"-\")","v":242.665190825},{"$f":"IFERROR(IF($B$2=\"トン\",AppQt.Data!BL129,(AppQt.Data!BL129*ozton*AppQt.Data!BL$7)/1000000),\"-\")","v":199.02073721903997},"▼",-24.662397758908039]
[null,"中国",{"$f":"IFERROR(IF($B$2=\"トン\",AppAn.Data!L120,(AppAn.Data!L120*ozton*AppAn.Data!L$6)/1000000),\"-\")","v":645.74184555544798},{"$f":"IFERROR(IF($B$2=\"トン\",AppAn.Data!M120,(AppAn.Data!M120*ozton*AppAn.Data!M$6)/1000000),\"-\")","v":816.27519327915661},{"$f":"IFERROR(IF($B$2=\"トン\",AppAn.Data!N120,(AppAn.Data!N120*ozton*AppAn.Data!N$6)/1000000),\"-\")","v":856.32197992232602},{"$f":"IFERROR(IF($B$2=\"トン\",AppAn.Data!O120,(AppAn.Data!O120*ozton*AppAn.Data!O$6)/1000000),\"-\")","v":1345.5063073590854},{"$f":"IFERROR(IF($B$2=\"トン\",AppAn.Data!P120,(AppAn.Data!P120*ozton*AppAn.Data!P$6)/1000000),\"-\")","v":1005.2857733245135},{"$f":"IFERROR(IF($B$2=\"トン\",AppAn.Data!Q120,(AppAn.Data!Q120*ozton*AppAn.Data!Q$6)/1000000),\"-\")","v":995.54970720395886},{"$f":"IFERROR(IF($B$2=\"トン\",AppAn.Data!R120,(AppAn.Data!R120*ozton*AppAn.Data!R$6)/1000000),\"-\")","v":929.37104400885528},{"$f":"IFERROR(IF($B$2=\"トン\",AppAn.Data!S120,(AppAn.Data!S120*ozton*AppAn.Data!S$6)/1000000),\"-\")","v":971.55282608736036},{"$f":"IFERROR(IF($B$2=\"トン\",AppAn.Data!T120,(AppAn.Data!T120*ozton*AppAn.Data!T$6)/1000000),\"-\")","v":994.3479804754104},{"$f":"IFERROR(IF($B$2=\"トン\",AppAn.Data!U120,(AppAn.Data!U120*ozton*AppAn.Data!U$6)/1000000),\"-\")","v":849.12797596565406},{"$f":"IFERROR(IF($B$2=\"トン\",AppAn.Data!V120,(AppAn.Data!V120*ozton*AppAn.Data!V$6)/1000000),\"-\")","v":612.65382834761238},{"$f":"IFERROR(IF($B$2=\"トン\",AppAn.Data!W120,(AppAn.Data!W120*ozton*AppAn.Data!W$6)/1000000),\"-\")","v":958.83312470534747},{"$f":"IFERROR(IF($B$2=\"トン\",AppAn.Data!X120,(AppAn.Data!X120*ozton*AppAn.Data!X$6)/1000000),\"-\")","v":789.16235431653286},"▼",-17.695547433340398,null,{"$f":"IFERROR(IF($B$2=\"トン\",AppQt.Data!M130,(AppQt.Data!M130*ozton*AppQt.Data!M$7)/1000000),\"-\")","v":160.3857378093976},{"$f":"IFERROR(IF($B$2=\"トン\",AppQt.Data!N130,(AppQt.Data!N130*ozton*AppQt.Data!N$7)/1000000),\"-\")","v":127.63497509897417},{"$f":"IFERROR(IF($B$2=\"トン\",AppQt.Data!O130,(AppQt.Data!O130*ozton*AppQt.Data!O$7)/1000000),\"-\")","v":166.42415200697152},{"$f":"IFERROR(IF($B$2=\"トン\",AppQt.Data!P130,(AppQt.Data!P130*ozton*AppQt.Data!P$7)/1000000),\"-\")","v":191.29698064010472},{"$f":"IFERROR(IF($B$2=\"トン\",AppQt.Data!Q130,(AppQt.Data!Q130*ozton*AppQt.Data!Q$7)/1000000),\"-\")","v":239.09844340113835},{"$f":"IFERROR(IF($B$2=\"トン\",AppQt.Data!R130,(AppQt.Data!R130*ozton*AppQt.Data!R$7)/1000000),\"-\")","v":167.83303698727048},{"$f":"IFERROR(IF($B$2=\"トン\",AppQt.Data!S130,(AppQt.Data!S130*ozton*AppQt.Data!S$7)/1000000),\"-\")","v":199.4451452526647},{"$f":"IFERROR(IF($B$2=\"トン\",AppQt.Data!T130,(AppQt.Data!T130*ozton*AppQt.Data!T$7)/1000000),\"-\")","v":209.89856763808302},{"$f":"IFERROR(IF($B$2=\"トン\",AppQt.Data!U130,(AppQt.Data!U130*ozton*AppQt.Data!U$7)/1000000),\"-\")","v":259.7877470473386},{"$f":"IFERROR(IF($B$2=\"トン\",AppQt.Data!V130,(AppQt.Data!V130*ozton*AppQt.Data!V$7)/1000000),\"-\")","v":182.77396424831838},{"$f":"IFERROR(IF($B$2=\"トン\",AppQt.Data!W130,(AppQt.Data!W130*ozton*AppQt.Data!W$7)/1000000),\"-\")","v":195.51084877784109},{"$f":"IFERROR(IF($B$2=\"トン\",AppQt.Data!X130,(AppQt.Data!X130*ozton*AppQt.Data!X$7)/1000000),\"-\")","v":218.24941984882793},{"$f":"IFERROR(IF($B$2=\"トン\",AppQt.Data!Y130,(AppQt.Data!Y130*ozton*AppQt.Data!Y$7)/1000000),\"-\")","v":336.06691969917631},{"$f":"IFERROR(IF($B$2=\"トン\",AppQt.Data!Z130,(AppQt.Data!Z130*ozton*AppQt.Data!Z$7)/1000000),\"-\")","v":482.10660694681246},{"$f":"IFERROR(IF($B$2=\"トン\",AppQt.Data!AA130,(AppQt.Data!AA130*ozton*AppQt.Data!AA$7)/1000000),\"-\")","v":311.38617205273175},{"$f":"IFERROR(IF($B$2=\"トン\",AppQt.Data!AB130,(AppQt.Data!AB130*ozton*AppQt.Data!AB$7)/1000000),\"-\")","v":215.9466086603648},{"$f":"IFERROR(IF($B$2=\"トン\",AppQt.Data!AC130,(AppQt.Data!AC130*ozton*AppQt.Data!AC$7)/1000000),\"-\")","v":298.25204811960106},{"$f":"IFERROR(IF($B$2=\"トン\",AppQt.Data!AD130,(AppQt.Data!AD130*ozton*AppQt.Data!AD$7)/1000000),\"-\")","v":227.99692435448483},{"$f":"IFERROR(IF($B$2=\"トン\",AppQt.Data!AE130,(AppQt.Data!AE130*ozton*AppQt.Data!AE$7)/1000000),\"-\")","v":221.52969330931884},{"$f":"IFERROR(IF($B$2=\"トン\",AppQt.Data!AF130,(AppQt.Data!AF130*ozton*AppQt.Data!AF$7)/1000000),\"-\")","v":257.50710754110884},{"$f":"IFERROR(IF($B$2=\"トン\",AppQt.Data!AG130,(AppQt.Data!AG130*ozton*AppQt.Data!AG$7)/1000000),\"-\")","v":283.76521195602851},{"$f":"IFERROR(IF($B$2=\"トン\",AppQt.Data!AH130,(AppQt.Data!AH130*ozton*AppQt.Data!AH$7)/1000000),\"-\")","v":217.63230687834675},{"$f":"IFERROR(IF($B$2=\"トン\",AppQt.Data!AI130,(AppQt.Data!AI130*ozton*AppQt.Data!AI$7)/1000000),\"-\")","v":237.30018599525468},{"$f":"IFERROR(IF($B$2=\"トン\",AppQt.Data!AJ130,(AppQt.Data!AJ130*ozton*AppQt.Data!AJ$7)/1000000),\"-\")","v":256.85200237432889},{"$f":"IFERROR(IF($B$2=\"トン\",AppQt.Data!AK130,(AppQt.Data!AK130*ozton*AppQt.Data!AK$7)/1000000),\"-\")","v":264.39035268540965},{"$f":"IFERROR(IF($B$2=\"トン\",AppQt.Data!AL130,(AppQt.Data!AL130*ozton*AppQt.Data!AL$7)/1000000),\"-\")","v":189.30177595929968},{"$f":"IFERROR(IF($B$2=\"トン\",AppQt.Data!AM130,(AppQt.Data!AM130*ozton*AppQt.Data!AM$7)/1000000),\"-\")","v":185.12448172096646},{"$f":"IFERROR(IF($B$2=\"トン\",AppQt.Data!AN130,(AppQt.Data!AN130*ozton*AppQt.Data!AN$7)/1000000),\"-\")","v":290.55443364317949},{"$f":"IFERROR(IF($B$2=\"トン\",AppQt.Data!AO130,(AppQt.Data!AO130*ozton*AppQt.Data!AO$7)/1000000),\"-\")","v":284.99566761948063},{"$f":"IFERROR(IF($B$2=\"トン\",AppQt.Data!AP130,(AppQt.Data!AP130*ozton*AppQt.Data!AP$7)/1000000),\"-\")","v":203.6829391483555},{"$f":"IFERROR(IF($B$2=\"トン\",AppQt.Data!AQ130,(AppQt.Data!AQ130*ozton*AppQt.Data!AQ$7)/1000000),\"-\")","v":231.3258967228216},{"$f":"IFERROR(IF($B$2=\"トン\",AppQt.Data!AR130,(AppQt.Data!AR130*ozton*AppQt.Data!AR$7)/1000000),\"-\")","v":251.5483225967026},{"$f":"IFERROR(IF($B$2=\"トン\",AppQt.Data!AS130,(AppQt.Data!AS130*ozton*AppQt.Data!AS$7)/1000000),\"-\")","v":264.86708769159588},{"$f":"IFERROR(IF($B$2=\"トン\",AppQt.Data!AT130,(AppQt.Data!AT130*ozton*AppQt.Data!AT$7)/1000000),\"-\")","v":213.54279187790206},{"$f":"IFERROR(IF($B$2=\"トン\",AppQt.Data!AU130,(AppQt.Data!AU130*ozton*AppQt.Data!AU$7)/1000000),\"-\")","v":264.64434714107426},{"$f":"IFERROR(IF($B$2=\"トン\",AppQt.Data!AV130,(AppQt.Data!AV130*ozton*AppQt.Data!AV$7)/1000000),\"-\")","v":251.29375376483833},{"$f":"IFERROR(IF($B$2=\"トン\",AppQt.Data!AW130,(AppQt.Data!AW130*ozton*AppQt.Data!AW$7)/1000000),\"-\")","v":254.77587227647754},{"$f":"IFERROR(IF($B$2=\"トン\",AppQt.Data!AX130,(AppQt.Data!AX130*ozton*AppQt.Data!AX$7)/1000000),\"-\")","v":185.41939870447928},{"$f":"IFERROR(IF($B$2=\"トン\",AppQt.Data!AY130,(AppQt.Data!AY130*ozton*AppQt.Data!AY$7)/1000000),\"-\")","v":200.8945803746972},{"$f":"IFERROR(IF($B$2=\"トン\",AppQt.Data!AZ130,(AppQt.Data!AZ130*ozton*AppQt.Data!AZ$7)/1000000),\"-\")","v":208.03812461000001},{"$f":"IFERROR(IF($B$2=\"トン\",AppQt.Data!BA130,(AppQt.Data!BA130*ozton*AppQt.Data!BA$7)/1000000),\"-\")","v":98.369909224648779},{"$f":"IFERROR(IF($B$2=\"トン\",AppQt.Data!BB130,(AppQt.Data!BB130*ozton*AppQt.Data!BB$7)/1000000),\"-\")","v":131.33133139296359},{"$f":"IFERROR(IF($B$2=\"トン\",AppQt.Data!BC130,(AppQt.Data!BC130*ozton*AppQt.Data!BC$7)/1000000),\"-\")","v":176.09892212},{"$f":"IFERROR(IF($B$2=\"トン\",AppQt.Data!BD130,(AppQt.Data!BD130*ozton*AppQt.Data!BD$7)/1000000),\"-\")","v":206.85366561000001},{"$f":"IFERROR(IF($B$2=\"トン\",AppQt.Data!BE130,(AppQt.Data!BE130*ozton*AppQt.Data!BE$7)/1000000),\"-\")","v":280.22575517079741},{"$f":"IFERROR(IF($B$2=\"トン\",AppQt.Data!BF130,(AppQt.Data!BF130*ozton*AppQt.Data!BF$7)/1000000),\"-\")","v":204.09937360635001},{"$f":"IFERROR(IF($B$2=\"トン\",AppQt.Data!BG130,(AppQt.Data!BG130*ozton*AppQt.Data!BG$7)/1000000),\"-\")","v":220.74814641520004},{"$f":"IFERROR(IF($B$2=\"トン\",AppQt.Data!BH130,(AppQt.Data!BH130*ozton*AppQt.Data!BH$7)/1000000),\"-\")","v":253.75984951300001},{"$f":"IFERROR(IF($B$2=\"トン\",AppQt.Data!BI130,(AppQt.Data!BI130*ozton*AppQt.Data!BI$7)/1000000),\"-\")","v":226.77274785937081},{"$f":"IFERROR(IF($B$2=\"トン\",AppQt.Data!BJ130,(AppQt.Data!BJ130*ozton*AppQt.Data!BJ$7)/1000000),\"-\")","v":140.61467841312199},{"$f":"IFERROR(IF($B$2=\"トン\",AppQt.Data!BK130,(AppQt.Data!BK130*ozton*AppQt.Data!BK$7)/1000000),\"-\")","v":233.25719082500001},{"$f":"IFERROR(IF($B$2=\"トン\",AppQt.Data!BL130,(AppQt.Data!BL130*ozton*AppQt.Data!BL$7)/1000000),\"-\")","v":188.51773721903999},"▼",-25.710179297145942]
[null,"香港",{"$f":"IFERROR(IF($B$2=\"トン\",AppAn.Data!L121,(AppAn.Data!L121*ozton*AppAn.Data!L$6)/1000000),\"-\")","v":24.189550952542302},{"$f":"IFERROR(IF($B$2=\"トン\",AppAn.Data!M121,(AppAn.Data!M121*ozton*AppAn.Data!M$6)/1000000),\"-\")","v":43.802167671522923},{"$f":"IFERROR(IF($B$2=\"トン\",AppAn.Data!N121,(AppAn.Data!N121*ozton*AppAn.Data!N$6)/1000000),\"-\")","v":49.6512967992334},{"$f":"IFERROR(IF($B$2=\"トン\",AppAn.Data!O121,(AppAn.Data!O121*ozton*AppAn.Data!O$6)/1000000),\"-\")","v":85.521375000000006},{"$f":"IFERROR(IF($B$2=\"トン\",AppAn.Data!P121,(AppAn.Data!P121*ozton*AppAn.Data!P$6)/1000000),\"-\")","v":61.432000000000002},{"$f":"IFERROR(IF($B$2=\"トン\",AppAn.Data!Q121,(AppAn.Data!Q121*ozton*AppAn.Data!Q$6)/1000000),\"-\")","v":52.847000000000001},{"$f":"IFERROR(IF($B$2=\"トン\",AppAn.Data!R121,(AppAn.Data!R121*ozton*AppAn.Data!R$6)/1000000),\"-\")","v":42.855189500000002},{"$f":"IFERROR(IF($B$2=\"トン\",AppAn.Data!S121,(AppAn.Data!S121*ozton*AppAn.Data!S$6)/1000000),\"-\")","v":45.982860807999998},{"$f":"IFERROR(IF($B$2=\"トン\",AppAn.Data!T121,(AppAn.Data!T121*ozton*AppAn.Data!T$6)/1000000),\"-\")","v":52.116950682300001},{"$f":"IFERROR(IF($B$2=\"トン\",AppAn.Data!U121,(AppAn.Data!U121*ozton*AppAn.Data!U$6)/1000000),\"-\")","v":39.5759808534375},{"$f":"IFERROR(IF($B$2=\"トン\",AppAn.Data!V121,(AppAn.Data!V121*ozton*AppAn.Data!V$6)/1000000),\"-\")","v":17.803000000000001},{"$f":"IFERROR(IF($B$2=\"トン\",AppAn.Data!W121,(AppAn.Data!W121*ozton*AppAn.Data!W$6)/1000000),\"-\")","v":24.648999999999997},{"$f":"IFERROR(IF($B$2=\"トン\",AppAn.Data!X121,(AppAn.Data!X121*ozton*AppAn.Data!X$6)/1000000),\"-\")","v":24.544999999999998},"▼",-0.42192381029656501,null,{"$f":"IFERROR(IF($B$2=\"トン\",AppQt.Data!M131,(AppQt.Data!M131*ozton*AppQt.Data!M$7)/1000000),\"-\")","v":6.0723735111236508},{"$f":"IFERROR(IF($B$2=\"トン\",AppQt.Data!N131,(AppQt.Data!N131*ozton*AppQt.Data!N$7)/1000000),\"-\")","v":5.622682055677795},{"$f":"IFERROR(IF($B$2=\"トン\",AppQt.Data!O131,(AppQt.Data!O131*ozton*AppQt.Data!O$7)/1000000),\"-\")","v":6.0802818752268397},{"$f":"IFERROR(IF($B$2=\"トン\",AppQt.Data!P131,(AppQt.Data!P131*ozton*AppQt.Data!P$7)/1000000),\"-\")","v":6.4142135105140188},{"$f":"IFERROR(IF($B$2=\"トン\",AppQt.Data!Q131,(AppQt.Data!Q131*ozton*AppQt.Data!Q$7)/1000000),\"-\")","v":11.003922578671329},{"$f":"IFERROR(IF($B$2=\"トン\",AppQt.Data!R131,(AppQt.Data!R131*ozton*AppQt.Data!R$7)/1000000),\"-\")","v":10.612115209790209},{"$f":"IFERROR(IF($B$2=\"トン\",AppQt.Data!S131,(AppQt.Data!S131*ozton*AppQt.Data!S$7)/1000000),\"-\")","v":10.470825979409481},{"$f":"IFERROR(IF($B$2=\"トン\",AppQt.Data!T131,(AppQt.Data!T131*ozton*AppQt.Data!T$7)/1000000),\"-\")","v":11.715303903651904},{"$f":"IFERROR(IF($B$2=\"トン\",AppQt.Data!U131,(AppQt.Data!U131*ozton*AppQt.Data!U$7)/1000000),\"-\")","v":11.721598432857723},{"$f":"IFERROR(IF($B$2=\"トン\",AppQt.Data!V131,(AppQt.Data!V131*ozton*AppQt.Data!V$7)/1000000),\"-\")","v":13.2906449125188},{"$f":"IFERROR(IF($B$2=\"トン\",AppQt.Data!W131,(AppQt.Data!W131*ozton*AppQt.Data!W$7)/1000000),\"-\")","v":11.593455480413015},{"$f":"IFERROR(IF($B$2=\"トン\",AppQt.Data!X131,(AppQt.Data!X131*ozton*AppQt.Data!X$7)/1000000),\"-\")","v":13.045597973443861},{"$f":"IFERROR(IF($B$2=\"トン\",AppQt.Data!Y131,(AppQt.Data!Y131*ozton*AppQt.Data!Y$7)/1000000),\"-\")","v":18.0695625},{"$f":"IFERROR(IF($B$2=\"トン\",AppQt.Data!Z131,(AppQt.Data!Z131*ozton*AppQt.Data!Z$7)/1000000),\"-\")","v":29.925875000000001},{"$f":"IFERROR(IF($B$2=\"トン\",AppQt.Data!AA131,(AppQt.Data!AA131*ozton*AppQt.Data!AA$7)/1000000),\"-\")","v":15.535937499999999},{"$f":"IFERROR(IF($B$2=\"トン\",AppQt.Data!AB131,(AppQt.Data!AB131*ozton*AppQt.Data!AB$7)/1000000),\"-\")","v":21.990000000000002},{"$f":"IFERROR(IF($B$2=\"トン\",AppQt.Data!AC131,(AppQt.Data!AC131*ozton*AppQt.Data!AC$7)/1000000),\"-\")","v":18.840999999999998},{"$f":"IFERROR(IF($B$2=\"トン\",AppQt.Data!AD131,(AppQt.Data!AD131*ozton*AppQt.Data!AD$7)/1000000),\"-\")","v":13.157},{"$f":"IFERROR(IF($B$2=\"トン\",AppQt.Data!AE131,(AppQt.Data!AE131*ozton*AppQt.Data!AE$7)/1000000),\"-\")","v":11.504},{"$f":"IFERROR(IF($B$2=\"トン\",AppQt.Data!AF131,(AppQt.Data!AF131*ozton*AppQt.Data!AF$7)/1000000),\"-\")","v":17.93},{"$f":"IFERROR(IF($B$2=\"トン\",AppQt.Data!AG131,(AppQt.Data!AG131*ozton*AppQt.Data!AG$7)/1000000),\"-\")","v":13.969999999999999},{"$f":"IFERROR(IF($B$2=\"トン\",AppQt.Data!AH131,(AppQt.Data!AH131*ozton*AppQt.Data!AH$7)/1000000),\"-\")","v":10.798},{"$f":"IFERROR(IF($B$2=\"トン\",AppQt.Data!AI131,(AppQt.Data!AI131*ozton*AppQt.Data!AI$7)/1000000),\"-\")","v":14.182},{"$f":"IFERROR(IF($B$2=\"トン\",AppQt.Data!AJ131,(AppQt.Data!AJ131*ozton*AppQt.Data!AJ$7)/1000000),\"-\")","v":13.897},{"$f":"IFERROR(IF($B$2=\"トン\",AppQt.Data!AK131,(AppQt.Data!AK131*ozton*AppQt.Data!AK$7)/1000000),\"-\")","v":10.559999999999999},{"$f":"IFERROR(IF($B$2=\"トン\",AppQt.Data!AL131,(AppQt.Data!AL131*ozton*AppQt.Data!AL$7)/1000000),\"-\")","v":8.9720000000000013},{"$f":"IFERROR(IF($B$2=\"トン\",AppQt.Data!AM131,(AppQt.Data!AM131*ozton*AppQt.Data!AM$7)/1000000),\"-\")","v":8.7796142999999987},{"$f":"IFERROR(IF($B$2=\"トン\",AppQt.Data!AN131,(AppQt.Data!AN131*ozton*AppQt.Data!AN$7)/1000000),\"-\")","v":14.543575200000001},{"$f":"IFERROR(IF($B$2=\"トン\",AppQt.Data!AO131,(AppQt.Data!AO131*ozton*AppQt.Data!AO$7)/1000000),\"-\")","v":11.6238405},{"$f":"IFERROR(IF($B$2=\"トン\",AppQt.Data!AP131,(AppQt.Data!AP131*ozton*AppQt.Data!AP$7)/1000000),\"-\")","v":9.8034619999999997},{"$f":"IFERROR(IF($B$2=\"トン\",AppQt.Data!AQ131,(AppQt.Data!AQ131*ozton*AppQt.Data!AQ$7)/1000000),\"-\")","v":10.220936030000001},{"$f":"IFERROR(IF($B$2=\"トン\",AppQt.Data!AR131,(AppQt.Data!AR131*ozton*AppQt.Data!AR$7)/1000000),\"-\")","v":14.334622277999998},{"$f":"IFERROR(IF($B$2=\"トン\",AppQt.Data!AS131,(AppQt.Data!AS131*ozton*AppQt.Data!AS$7)/1000000),\"-\")","v":12.673928515},{"$f":"IFERROR(IF($B$2=\"トン\",AppQt.Data!AT131,(AppQt.Data!AT131*ozton*AppQt.Data!AT$7)/1000000),\"-\")","v":11.658282365000002},{"$f":"IFERROR(IF($B$2=\"トン\",AppQt.Data!AU131,(AppQt.Data!AU131*ozton*AppQt.Data!AU$7)/1000000),\"-\")","v":14.204739802300001},{"$f":"IFERROR(IF($B$2=\"トン\",AppQt.Data!AV131,(AppQt.Data!AV131*ozton*AppQt.Data!AV$7)/1000000),\"-\")","v":13.58},{"$f":"IFERROR(IF($B$2=\"トン\",AppQt.Data!AW131,(AppQt.Data!AW131*ozton*AppQt.Data!AW$7)/1000000),\"-\")","v":12.967980853437501},{"$f":"IFERROR(IF($B$2=\"トン\",AppQt.Data!AX131,(AppQt.Data!AX131*ozton*AppQt.Data!AX$7)/1000000),\"-\")","v":10.01},{"$f":"IFERROR(IF($B$2=\"トン\",AppQt.Data!AY131,(AppQt.Data!AY131*ozton*AppQt.Data!AY$7)/1000000),\"-\")","v":7.2130000000000001},{"$f":"IFERROR(IF($B$2=\"トン\",AppQt.Data!AZ131,(AppQt.Data!AZ131*ozton*AppQt.Data!AZ$7)/1000000),\"-\")","v":9.3849999999999998},{"$f":"IFERROR(IF($B$2=\"トン\",AppQt.Data!BA131,(AppQt.Data!BA131*ozton*AppQt.Data!BA$7)/1000000),\"-\")","v":4.8840000000000003},{"$f":"IFERROR(IF($B$2=\"トン\",AppQt.Data!BB131,(AppQt.Data!BB131*ozton*AppQt.Data!BB$7)/1000000),\"-\")","v":3.2439999999999998},{"$f":"IFERROR(IF($B$2=\"トン\",AppQt.Data!BC131,(AppQt.Data!BC131*ozton*AppQt.Data!BC$7)/1000000),\"-\")","v":4.3019999999999996},{"$f":"IFERROR(IF($B$2=\"トン\",AppQt.Data!BD131,(AppQt.Data!BD131*ozton*AppQt.Data!BD$7)/1000000),\"-\")","v":5.3730000000000002},{"$f":"IFERROR(IF($B$2=\"トン\",AppQt.Data!BE131,(AppQt.Data!BE131*ozton*AppQt.Data!BE$7)/1000000),\"-\")","v":5.77},{"$f":"IFERROR(IF($B$2=\"トン\",AppQt.Data!BF131,(AppQt.Data!BF131*ozton*AppQt.Data!BF$7)/1000000),\"-\")","v":5.1509999999999998},{"$f":"IFERROR(IF($B$2=\"トン\",AppQt.Data!BG131,(AppQt.Data!BG131*ozton*AppQt.Data!BG$7)/1000000),\"-\")","v":6.1760000000000002},{"$f":"IFERROR(IF($B$2=\"トン\",AppQt.Data!BH131,(AppQt.Data!BH131*ozton*AppQt.Data!BH$7)/1000000),\"-\")","v":7.5519999999999996},{"$f":"IFERROR(IF($B$2=\"トン\",AppQt.Data!BI131,(AppQt.Data!BI131*ozton*AppQt.Data!BI$7)/1000000),\"-\")","v":4.5940000000000003},{"$f":"IFERROR(IF($B$2=\"トン\",AppQt.Data!BJ131,(AppQt.Data!BJ131*ozton*AppQt.Data!BJ$7)/1000000),\"-\")","v":5.24},{"$f":"IFERROR(IF($B$2=\"トン\",AppQt.Data!BK131,(AppQt.Data!BK131*ozton*AppQt.Data!BK$7)/1000000),\"-\")","v":7.3730000000000002},{"$f":"IFERROR(IF($B$2=\"トン\",AppQt.Data!BL131,(AppQt.Data!BL131*ozton*AppQt.Data!BL$7)/1000000),\"-\")","v":7.3380000000000001},"▼",-2.8336864406779627]
[null,"台湾",{"$f":"IFERROR(IF($B$2=\"トン\",AppAn.Data!L122,(AppAn.Data!L122*ozton*AppAn.Data!L$6)/1000000),\"-\")","v":6.3300420507533932},{"$f":"IFERROR(IF($B$2=\"トン\",AppAn.Data!M122,(AppAn.Data!M122*ozton*AppAn.Data!M$6)/1000000),\"-\")","v":12.958316860926798},{"$f":"IFERROR(IF($B$2=\"トン\",AppAn.Data!N122,(AppAn.Data!N122*ozton*AppAn.Data!N$6)/1000000),\"-\")","v":12.368368495657446},{"$f":"IFERROR(IF($B$2=\"トン\",AppAn.Data!O122,(AppAn.Data!O122*ozton*AppAn.Data!O$6)/1000000),\"-\")","v":18.759559322048446},{"$f":"IFERROR(IF($B$2=\"トン\",AppAn.Data!P122,(AppAn.Data!P122*ozton*AppAn.Data!P$6)/1000000),\"-\")","v":16.960036806822856},{"$f":"IFERROR(IF($B$2=\"トン\",AppAn.Data!Q122,(AppAn.Data!Q122*ozton*AppAn.Data!Q$6)/1000000),\"-\")","v":13.758101649989872},{"$f":"IFERROR(IF($B$2=\"トン\",AppAn.Data!R122,(AppAn.Data!R122*ozton*AppAn.Data!R$6)/1000000),\"-\")","v":12.820839631770992},{"$f":"IFERROR(IF($B$2=\"トン\",AppAn.Data!S122,(AppAn.Data!S122*ozton*AppAn.Data!S$6)/1000000),\"-\")","v":12.170248882108396},{"$f":"IFERROR(IF($B$2=\"トン\",AppAn.Data!T122,(AppAn.Data!T122*ozton*AppAn.Data!T$6)/1000000),\"-\")","v":11.92601602939453},{"$f":"IFERROR(IF($B$2=\"トン\",AppAn.Data!U122,(AppAn.Data!U122*ozton*AppAn.Data!U$6)/1000000),\"-\")","v":10.815999999999999},{"$f":"IFERROR(IF($B$2=\"トン\",AppAn.Data!V122,(AppAn.Data!V122*ozton*AppAn.Data!V$6)/1000000),\"-\")","v":10.844000000000001},{"$f":"IFERROR(IF($B$2=\"トン\",AppAn.Data!W122,(AppAn.Data!W122*ozton*AppAn.Data!W$6)/1000000),\"-\")","v":10.215},{"$f":"IFERROR(IF($B$2=\"トン\",AppAn.Data!X122,(AppAn.Data!X122*ozton*AppAn.Data!X$6)/1000000),\"-\")","v":11.23},"▲",9.9363680861478176,null,{"$f":"IFERROR(IF($B$2=\"トン\",AppQt.Data!M132,(AppQt.Data!M132*ozton*AppQt.Data!M$7)/1000000),\"-\")","v":2.0311040045606794},{"$f":"IFERROR(IF($B$2=\"トン\",AppQt.Data!N132,(AppQt.Data!N132*ozton*AppQt.Data!N$7)/1000000),\"-\")","v":0.51327142957247229},{"$f":"IFERROR(IF($B$2=\"トン\",AppQt.Data!O132,(AppQt.Data!O132*ozton*AppQt.Data!O$7)/1000000),\"-\")","v":1.6603205441086175},{"$f":"IFERROR(IF($B$2=\"トン\",AppQt.Data!P132,(AppQt.Data!P132*ozton*AppQt.Data!P$7)/1000000),\"-\")","v":2.1253460725116247},{"$f":"IFERROR(IF($B$2=\"トン\",AppQt.Data!Q132,(AppQt.Data!Q132*ozton*AppQt.Data!Q$7)/1000000),\"-\")","v":3.3014858214352558},{"$f":"IFERROR(IF($B$2=\"トン\",AppQt.Data!R132,(AppQt.Data!R132*ozton*AppQt.Data!R$7)/1000000),\"-\")","v":3.1918193560465942},{"$f":"IFERROR(IF($B$2=\"トン\",AppQt.Data!S132,(AppQt.Data!S132*ozton*AppQt.Data!S$7)/1000000),\"-\")","v":2.891624401870081},{"$f":"IFERROR(IF($B$2=\"トン\",AppQt.Data!T132,(AppQt.Data!T132*ozton*AppQt.Data!T$7)/1000000),\"-\")","v":3.5733872815748677},{"$f":"IFERROR(IF($B$2=\"トン\",AppQt.Data!U132,(AppQt.Data!U132*ozton*AppQt.Data!U$7)/1000000),\"-\")","v":3.5075575337784457},{"$f":"IFERROR(IF($B$2=\"トン\",AppQt.Data!V132,(AppQt.Data!V132*ozton*AppQt.Data!V$7)/1000000),\"-\")","v":3.2598078722321548},{"$f":"IFERROR(IF($B$2=\"トン\",AppQt.Data!W132,(AppQt.Data!W132*ozton*AppQt.Data!W$7)/1000000),\"-\")","v":1.9078841416010444},{"$f":"IFERROR(IF($B$2=\"トン\",AppQt.Data!X132,(AppQt.Data!X132*ozton*AppQt.Data!X$7)/1000000),\"-\")","v":3.6931189480458011},{"$f":"IFERROR(IF($B$2=\"トン\",AppQt.Data!Y132,(AppQt.Data!Y132*ozton*AppQt.Data!Y$7)/1000000),\"-\")","v":5.3041208730634093},{"$f":"IFERROR(IF($B$2=\"トン\",AppQt.Data!Z132,(AppQt.Data!Z132*ozton*AppQt.Data!Z$7)/1000000),\"-\")","v":5.2795380643543481},{"$f":"IFERROR(IF($B$2=\"トン\",AppQt.Data!AA132,(AppQt.Data!AA132*ozton*AppQt.Data!AA$7)/1000000),\"-\")","v":3.9332642327019336},{"$f":"IFERROR(IF($B$2=\"トン\",AppQt.Data!AB132,(AppQt.Data!AB132*ozton*AppQt.Data!AB$7)/1000000),\"-\")","v":4.2426361519287541},{"$f":"IFERROR(IF($B$2=\"トン\",AppQt.Data!AC132,(AppQt.Data!AC132*ozton*AppQt.Data!AC$7)/1000000),\"-\")","v":3.6573974777752265},{"$f":"IFERROR(IF($B$2=\"トン\",AppQt.Data!AD132,(AppQt.Data!AD132*ozton*AppQt.Data!AD$7)/1000000),\"-\")","v":5.0465121466165872},{"$f":"IFERROR(IF($B$2=\"トン\",AppQt.Data!AE132,(AppQt.Data!AE132*ozton*AppQt.Data!AE$7)/1000000),\"-\")","v":3.6888540180419156},{"$f":"IFERROR(IF($B$2=\"トン\",AppQt.Data!AF132,(AppQt.Data!AF132*ozton*AppQt.Data!AF$7)/1000000),\"-\")","v":4.5672731643891264},{"$f":"IFERROR(IF($B$2=\"トン\",AppQt.Data!AG132,(AppQt.Data!AG132*ozton*AppQt.Data!AG$7)/1000000),\"-\")","v":3.6079776038864653},{"$f":"IFERROR(IF($B$2=\"トン\",AppQt.Data!AH132,(AppQt.Data!AH132*ozton*AppQt.Data!AH$7)/1000000),\"-\")","v":3.000180963303495},{"$f":"IFERROR(IF($B$2=\"トン\",AppQt.Data!AI132,(AppQt.Data!AI132*ozton*AppQt.Data!AI$7)/1000000),\"-\")","v":3.2832554403677747},{"$f":"IFERROR(IF($B$2=\"トン\",AppQt.Data!AJ132,(AppQt.Data!AJ132*ozton*AppQt.Data!AJ$7)/1000000),\"-\")","v":3.8666876424321357},{"$f":"IFERROR(IF($B$2=\"トン\",AppQt.Data!AK132,(AppQt.Data!AK132*ozton*AppQt.Data!AK$7)/1000000),\"-\")","v":3.5038070145834928},{"$f":"IFERROR(IF($B$2=\"トン\",AppQt.Data!AL132,(AppQt.Data!AL132*ozton*AppQt.Data!AL$7)/1000000),\"-\")","v":3.2847023437499994},{"$f":"IFERROR(IF($B$2=\"トン\",AppQt.Data!AM132,(AppQt.Data!AM132*ozton*AppQt.Data!AM$7)/1000000),\"-\")","v":2.2735267578125002},{"$f":"IFERROR(IF($B$2=\"トン\",AppQt.Data!AN132,(AppQt.Data!AN132*ozton*AppQt.Data!AN$7)/1000000),\"-\")","v":3.7588035156249999},{"$f":"IFERROR(IF($B$2=\"トン\",AppQt.Data!AO132,(AppQt.Data!AO132*ozton*AppQt.Data!AO$7)/1000000),\"-\")","v":3.3426026367187496},{"$f":"IFERROR(IF($B$2=\"トン\",AppQt.Data!AP132,(AppQt.Data!AP132*ozton*AppQt.Data!AP$7)/1000000),\"-\")","v":2.6685576684570309},{"$f":"IFERROR(IF($B$2=\"トン\",AppQt.Data!AQ132,(AppQt.Data!AQ132*ozton*AppQt.Data!AQ$7)/1000000),\"-\")","v":2.6655473600585937},{"$f":"IFERROR(IF($B$2=\"トン\",AppQt.Data!AR132,(AppQt.Data!AR132*ozton*AppQt.Data!AR$7)/1000000),\"-\")","v":3.4935412168740232},{"$f":"IFERROR(IF($B$2=\"トン\",AppQt.Data!AS132,(AppQt.Data!AS132*ozton*AppQt.Data!AS$7)/1000000),\"-\")","v":3.5025388408203124},{"$f":"IFERROR(IF($B$2=\"トン\",AppQt.Data!AT132,(AppQt.Data!AT132*ozton*AppQt.Data!AT$7)/1000000),\"-\")","v":2.5034771885742186},{"$f":"IFERROR(IF($B$2=\"トン\",AppQt.Data!AU132,(AppQt.Data!AU132*ozton*AppQt.Data!AU$7)/1000000),\"-\")","v":3},{"$f":"IFERROR(IF($B$2=\"トン\",AppQt.Data!AV132,(AppQt.Data!AV132*ozton*AppQt.Data!AV$7)/1000000),\"-\")","v":2.92},{"$f":"IFERROR(IF($B$2=\"トン\",AppQt.Data!AW132,(AppQt.Data!AW132*ozton*AppQt.Data!AW$7)/1000000),\"-\")","v":3.0710000000000002},{"$f":"IFERROR(IF($B$2=\"トン\",AppQt.Data!AX132,(AppQt.Data!AX132*ozton*AppQt.Data!AX$7)/1000000),\"-\")","v":2.3149999999999999},{"$f":"IFERROR(IF($B$2=\"トン\",AppQt.Data!AY132,(AppQt.Data!AY132*ozton*AppQt.Data!AY$7)/1000000),\"-\")","v":2.5209999999999999},{"$f":"IFERROR(IF($B$2=\"トン\",AppQt.Data!AZ132,(AppQt.Data!AZ132*ozton*AppQt.Data!AZ$7)/1000000),\"-\")","v":2.9089999999999998},{"$f":"IFERROR(IF($B$2=\"トン\",AppQt.Data!BA132,(AppQt.Data!BA132*ozton*AppQt.Data!BA$7)/1000000),\"-\")","v":3.2090000000000001},{"$f":"IFERROR(IF($B$2=\"トン\",AppQt.Data!BB132,(AppQt.Data!BB132*ozton*AppQt.Data!BB$7)/1000000),\"-\")","v":2.4249999999999998},{"$f":"IFERROR(IF($B$2=\"トン\",AppQt.Data!BC132,(AppQt.Data!BC132*ozton*AppQt.Data!BC$7)/1000000),\"-\")","v":2.69},{"$f":"IFERROR(IF($B$2=\"トン\",AppQt.Data!BD132,(AppQt.Data!BD132*ozton*AppQt.Data!BD$7)/1000000),\"-\")","v":2.52},{"$f":"IFERROR(IF($B$2=\"トン\",AppQt.Data!BE132,(AppQt.Data!BE132*ozton*AppQt.Data!BE$7)/1000000),\"-\")","v":3.2549999999999999},{"$f":"IFERROR(IF($B$2=\"トン\",AppQt.Data!BF132,(AppQt.Data!BF132*ozton*AppQt.Data!BF$7)/1000000),\"-\")","v":2.2750000000000004},{"$f":"IFERROR(IF($B$2=\"トン\",AppQt.Data!BG132,(AppQt.Data!BG132*ozton*AppQt.Data!BG$7)/1000000),\"-\")","v":1.825},{"$f":"IFERROR(IF($B$2=\"トン\",AppQt.Data!BH132,(AppQt.Data!BH132*ozton*AppQt.Data!BH$7)/1000000),\"-\")","v":2.86},{"$f":"IFERROR(IF($B$2=\"トン\",AppQt.Data!BI132,(AppQt.Data!BI132*ozton*AppQt.Data!BI$7)/1000000),\"-\")","v":3.4950000000000001},{"$f":"IFERROR(IF($B$2=\"トン\",AppQt.Data!BJ132,(AppQt.Data!BJ132*ozton*AppQt.Data!BJ$7)/1000000),\"-\")","v":2.5350000000000001},{"$f":"IFERROR(IF($B$2=\"トン\",AppQt.Data!BK132,(AppQt.Data!BK132*ozton*AppQt.Data!BK$7)/1000000),\"-\")","v":2.0350000000000001},{"$f":"IFERROR(IF($B$2=\"トン\",AppQt.Data!BL132,(AppQt.Data!BL132*ozton*AppQt.Data!BL$7)/1000000),\"-\")","v":3.165},"▲",10.664335664335667]
[null,"日本",{"$f":"IFERROR(IF($B$2=\"トン\",AppAn.Data!L123,(AppAn.Data!L123*ozton*AppAn.Data!L$6)/1000000),\"-\")","v":-19.055364886335948},{"$f":"IFERROR(IF($B$2=\"トン\",AppAn.Data!M123,(AppAn.Data!M123*ozton*AppAn.Data!M$6)/1000000),\"-\")","v":-36.357808129163288},{"$f":"IFERROR(IF($B$2=\"トン\",AppAn.Data!N123,(AppAn.Data!N123*ozton*AppAn.Data!N$6)/1000000),\"-\")","v":5.1395755953179147},{"$f":"IFERROR(IF($B$2=\"トン\",AppAn.Data!O123,(AppAn.Data!O123*ozton*AppAn.Data!O$6)/1000000),\"-\")","v":20.873385986713519},{"$f":"IFERROR(IF($B$2=\"トン\",AppAn.Data!P123,(AppAn.Data!P123*ozton*AppAn.Data!P$6)/1000000),\"-\")","v":13.708932556152174},{"$f":"IFERROR(IF($B$2=\"トン\",AppAn.Data!Q123,(AppAn.Data!Q123*ozton*AppAn.Data!Q$6)/1000000),\"-\")","v":32.671869623677125},{"$f":"IFERROR(IF($B$2=\"トン\",AppAn.Data!R123,(AppAn.Data!R123*ozton*AppAn.Data!R$6)/1000000),\"-\")","v":34.026871909073691},{"$f":"IFERROR(IF($B$2=\"トン\",AppAn.Data!S123,(AppAn.Data!S123*ozton*AppAn.Data!S$6)/1000000),\"-\")","v":13.328826784168983},{"$f":"IFERROR(IF($B$2=\"トン\",AppAn.Data!T123,(AppAn.Data!T123*ozton*AppAn.Data!T$6)/1000000),\"-\")","v":28.96558073689836},{"$f":"IFERROR(IF($B$2=\"トン\",AppAn.Data!U123,(AppAn.Data!U123*ozton*AppAn.Data!U$6)/1000000),\"-\")","v":-3.1154981154187702},{"$f":"IFERROR(IF($B$2=\"トン\",AppAn.Data!V123,(AppAn.Data!V123*ozton*AppAn.Data!V$6)/1000000),\"-\")","v":4.5082988964073678},{"$f":"IFERROR(IF($B$2=\"トン\",AppAn.Data!W123,(AppAn.Data!W123*ozton*AppAn.Data!W$6)/1000000),\"-\")","v":15.588639468830419},{"$f":"IFERROR(IF($B$2=\"トン\",AppAn.Data!X123,(AppAn.Data!X123*ozton*AppAn.Data!X$6)/1000000),\"-\")","v":4.2693257738281201},"▼",-72.612582500450642,null,{"$f":"IFERROR(IF($B$2=\"トン\",AppQt.Data!M133,(AppQt.Data!M133*ozton*AppQt.Data!M$7)/1000000),\"-\")","v":-7.0530735547976935},{"$f":"IFERROR(IF($B$2=\"トン\",AppQt.Data!N133,(AppQt.Data!N133*ozton*AppQt.Data!N$7)/1000000),\"-\")","v":-2.9707878745017782},{"$f":"IFERROR(IF($B$2=\"トン\",AppQt.Data!O133,(AppQt.Data!O133*ozton*AppQt.Data!O$7)/1000000),\"-\")","v":-5.4432156983192872},{"$f":"IFERROR(IF($B$2=\"トン\",AppQt.Data!P133,(AppQt.Data!P133*ozton*AppQt.Data!P$7)/1000000),\"-\")","v":-3.588287758717188},{"$f":"IFERROR(IF($B$2=\"トン\",AppQt.Data!Q133,(AppQt.Data!Q133*ozton*AppQt.Data!Q$7)/1000000),\"-\")","v":-2.1094397419316353},{"$f":"IFERROR(IF($B$2=\"トン\",AppQt.Data!R133,(AppQt.Data!R133*ozton*AppQt.Data!R$7)/1000000),\"-\")","v":-6.4233853826256553},{"$f":"IFERROR(IF($B$2=\"トン\",AppQt.Data!S133,(AppQt.Data!S133*ozton*AppQt.Data!S$7)/1000000),\"-\")","v":-18.183225571361536},{"$f":"IFERROR(IF($B$2=\"トン\",AppQt.Data!T133,(AppQt.Data!T133*ozton*AppQt.Data!T$7)/1000000),\"-\")","v":-9.6417574332444627},{"$f":"IFERROR(IF($B$2=\"トン\",AppQt.Data!U133,(AppQt.Data!U133*ozton*AppQt.Data!U$7)/1000000),\"-\")","v":0.34404635204286071},{"$f":"IFERROR(IF($B$2=\"トン\",AppQt.Data!V133,(AppQt.Data!V133*ozton*AppQt.Data!V$7)/1000000),\"-\")","v":6.6271058507163598},{"$f":"IFERROR(IF($B$2=\"トン\",AppQt.Data!W133,(AppQt.Data!W133*ozton*AppQt.Data!W$7)/1000000),\"-\")","v":-1.2206389190055047},{"$f":"IFERROR(IF($B$2=\"トン\",AppQt.Data!X133,(AppQt.Data!X133*ozton*AppQt.Data!X$7)/1000000),\"-\")","v":-0.6109376884358042},{"$f":"IFERROR(IF($B$2=\"トン\",AppQt.Data!Y133,(AppQt.Data!Y133*ozton*AppQt.Data!Y$7)/1000000),\"-\")","v":-6.5391174039888362},{"$f":"IFERROR(IF($B$2=\"トン\",AppQt.Data!Z133,(AppQt.Data!Z133*ozton*AppQt.Data!Z$7)/1000000),\"-\")","v":12.020166270308204},{"$f":"IFERROR(IF($B$2=\"トン\",AppQt.Data!AA133,(AppQt.Data!AA133*ozton*AppQt.Data!AA$7)/1000000),\"-\")","v":3.7828238886995487},{"$f":"IFERROR(IF($B$2=\"トン\",AppQt.Data!AB133,(AppQt.Data!AB133*ozton*AppQt.Data!AB$7)/1000000),\"-\")","v":11.609513231694603},{"$f":"IFERROR(IF($B$2=\"トン\",AppQt.Data!AC133,(AppQt.Data!AC133*ozton*AppQt.Data!AC$7)/1000000),\"-\")","v":11.365349923330925},{"$f":"IFERROR(IF($B$2=\"トン\",AppQt.Data!AD133,(AppQt.Data!AD133*ozton*AppQt.Data!AD$7)/1000000),\"-\")","v":2.585023113223345},{"$f":"IFERROR(IF($B$2=\"トン\",AppQt.Data!AE133,(AppQt.Data!AE133*ozton*AppQt.Data!AE$7)/1000000),\"-\")","v":3.1070759514534654},{"$f":"IFERROR(IF($B$2=\"トン\",AppQt.Data!AF133,(AppQt.Data!AF133*ozton*AppQt.Data!AF$7)/1000000),\"-\")","v":-3.3485164318555594},{"$f":"IFERROR(IF($B$2=\"トン\",AppQt.Data!AG133,(AppQt.Data!AG133*ozton*AppQt.Data!AG$7)/1000000),\"-\")","v":2.3399206579996612E-2},{"$f":"IFERROR(IF($B$2=\"トン\",AppQt.Data!AH133,(AppQt.Data!AH133*ozton*AppQt.Data!AH$7)/1000000),\"-\")","v":3.6367474501456285},{"$f":"IFERROR(IF($B$2=\"トン\",AppQt.Data!AI133,(AppQt.Data!AI133*ozton*AppQt.Data!AI$7)/1000000),\"-\")","v":15.139940165950552},{"$f":"IFERROR(IF($B$2=\"トン\",AppQt.Data!AJ133,(AppQt.Data!AJ133*ozton*AppQt.Data!AJ$7)/1000000),\"-\")","v":13.871782801000943},{"$f":"IFERROR(IF($B$2=\"トン\",AppQt.Data!AK133,(AppQt.Data!AK133*ozton*AppQt.Data!AK$7)/1000000),\"-\")","v":7.1477967139835359},{"$f":"IFERROR(IF($B$2=\"トン\",AppQt.Data!AL133,(AppQt.Data!AL133*ozton*AppQt.Data!AL$7)/1000000),\"-\")","v":9.763803575872668},{"$f":"IFERROR(IF($B$2=\"トン\",AppQt.Data!AM133,(AppQt.Data!AM133*ozton*AppQt.Data!AM$7)/1000000),\"-\")","v":7.3438557836903398},{"$f":"IFERROR(IF($B$2=\"トン\",AppQt.Data!AN133,(AppQt.Data!AN133*ozton*AppQt.Data!AN$7)/1000000),\"-\")","v":9.7714158355271454},{"$f":"IFERROR(IF($B$2=\"トン\",AppQt.Data!AO133,(AppQt.Data!AO133*ozton*AppQt.Data!AO$7)/1000000),\"-\")","v":1.4269631524209405},{"$f":"IFERROR(IF($B$2=\"トン\",AppQt.Data!AP133,(AppQt.Data!AP133*ozton*AppQt.Data!AP$7)/1000000),\"-\")","v":5.2111167287227316},{"$f":"IFERROR(IF($B$2=\"トン\",AppQt.Data!AQ133,(AppQt.Data!AQ133*ozton*AppQt.Data!AQ$7)/1000000),\"-\")","v":-3.7762774146563594E-2},{"$f":"IFERROR(IF($B$2=\"トン\",AppQt.Data!AR133,(AppQt.Data!AR133*ozton*AppQt.Data!AR$7)/1000000),\"-\")","v":6.7285096771718749},{"$f":"IFERROR(IF($B$2=\"トン\",AppQt.Data!AS133,(AppQt.Data!AS133*ozton*AppQt.Data!AS$7)/1000000),\"-\")","v":4.7879024154693592},{"$f":"IFERROR(IF($B$2=\"トン\",AppQt.Data!AT133,(AppQt.Data!AT133*ozton*AppQt.Data!AT$7)/1000000),\"-\")","v":6.825316728722731},{"$f":"IFERROR(IF($B$2=\"トン\",AppQt.Data!AU133,(AppQt.Data!AU133*ozton*AppQt.Data!AU$7)/1000000),\"-\")","v":11.962230109077833},{"$f":"IFERROR(IF($B$2=\"トン\",AppQt.Data!AV133,(AppQt.Data!AV133*ozton*AppQt.Data!AV$7)/1000000),\"-\")","v":5.3901314836284362},{"$f":"IFERROR(IF($B$2=\"トン\",AppQt.Data!AW133,(AppQt.Data!AW133*ozton*AppQt.Data!AW$7)/1000000),\"-\")","v":-2.7536515362212532},{"$f":"IFERROR(IF($B$2=\"トン\",AppQt.Data!AX133,(AppQt.Data!AX133*ozton*AppQt.Data!AX$7)/1000000),\"-\")","v":1.0192990632971859},{"$f":"IFERROR(IF($B$2=\"トン\",AppQt.Data!AY133,(AppQt.Data!AY133*ozton*AppQt.Data!AY$7)/1000000),\"-\")","v":-3.6183383854682756},{"$f":"IFERROR(IF($B$2=\"トン\",AppQt.Data!AZ133,(AppQt.Data!AZ133*ozton*AppQt.Data!AZ$7)/1000000),\"-\")","v":2.2371927429735736},{"$f":"IFERROR(IF($B$2=\"トン\",AppQt.Data!BA133,(AppQt.Data!BA133*ozton*AppQt.Data!BA$7)/1000000),\"-\")","v":-3.4741463825991281},{"$f":"IFERROR(IF($B$2=\"トン\",AppQt.Data!BB133,(AppQt.Data!BB133*ozton*AppQt.Data!BB$7)/1000000),\"-\")","v":0.11197943797831167},{"$f":"IFERROR(IF($B$2=\"トン\",AppQt.Data!BC133,(AppQt.Data!BC133*ozton*AppQt.Data!BC$7)/1000000),\"-\")","v":3.6073923723519656},{"$f":"IFERROR(IF($B$2=\"トン\",AppQt.Data!BD133,(AppQt.Data!BD133*ozton*AppQt.Data!BD$7)/1000000),\"-\")","v":4.2630734686762164},{"$f":"IFERROR(IF($B$2=\"トン\",AppQt.Data!BE133,(AppQt.Data!BE133*ozton*AppQt.Data!BE$7)/1000000),\"-\")","v":8.1963482556607836},{"$f":"IFERROR(IF($B$2=\"トン\",AppQt.Data!BF133,(AppQt.Data!BF133*ozton*AppQt.Data!BF$7)/1000000),\"-\")","v":0.23829121316963553},{"$f":"IFERROR(IF($B$2=\"トン\",AppQt.Data!BG133,(AppQt.Data!BG133*ozton*AppQt.Data!BG$7)/1000000),\"-\")","v":5.9159999999999995},{"$f":"IFERROR(IF($B$2=\"トン\",AppQt.Data!BH133,(AppQt.Data!BH133*ozton*AppQt.Data!BH$7)/1000000),\"-\")","v":1.2379999999999995},{"$f":"IFERROR(IF($B$2=\"トン\",AppQt.Data!BI133,(AppQt.Data!BI133*ozton*AppQt.Data!BI$7)/1000000),\"-\")","v":-6.847999999999999},{"$f":"IFERROR(IF($B$2=\"トン\",AppQt.Data!BJ133,(AppQt.Data!BJ133*ozton*AppQt.Data!BJ$7)/1000000),\"-\")","v":9.5125773828117932E-2},{"$f":"IFERROR(IF($B$2=\"トン\",AppQt.Data!BK133,(AppQt.Data!BK133*ozton*AppQt.Data!BK$7)/1000000),\"-\")","v":7.3544},{"$f":"IFERROR(IF($B$2=\"トン\",AppQt.Data!BL133,(AppQt.Data!BL133*ozton*AppQt.Data!BL$7)/1000000),\"-\")","v":3.6677999999999997},"▲",196.26817447495969]
[null,"インドネシア",{"$f":"IFERROR(IF($B$2=\"トン\",AppAn.Data!L124,(AppAn.Data!L124*ozton*AppAn.Data!L$6)/1000000),\"-\")","v":50.56293861635222},{"$f":"IFERROR(IF($B$2=\"トン\",AppAn.Data!M124,(AppAn.Data!M124*ozton*AppAn.Data!M$6)/1000000),\"-\")","v":60.816505254858598},{"$f":"IFERROR(IF($B$2=\"トン\",AppAn.Data!N124,(AppAn.Data!N124*ozton*AppAn.Data!N$6)/1000000),\"-\")","v":61.667477906060412},{"$f":"IFERROR(IF($B$2=\"トン\",AppAn.Data!O124,(AppAn.Data!O124*ozton*AppAn.Data!O$6)/1000000),\"-\")","v":88.112307035880193},{"$f":"IFERROR(IF($B$2=\"トン\",AppAn.Data!P124,(AppAn.Data!P124*ozton*AppAn.Data!P$6)/1000000),\"-\")","v":63.382704848543064},{"$f":"IFERROR(IF($B$2=\"トン\",AppAn.Data!Q124,(AppAn.Data!Q124*ozton*AppAn.Data!Q$6)/1000000),\"-\")","v":59.018298072598462},{"$f":"IFERROR(IF($B$2=\"トン\",AppAn.Data!R124,(AppAn.Data!R124*ozton*AppAn.Data!R$6)/1000000),\"-\")","v":59.475655726281254},{"$f":"IFERROR(IF($B$2=\"トン\",AppAn.Data!S124,(AppAn.Data!S124*ozton*AppAn.Data!S$6)/1000000),\"-\")","v":58.788705057500003},{"$f":"IFERROR(IF($B$2=\"トン\",AppAn.Data!T124,(AppAn.Data!T124*ozton*AppAn.Data!T$6)/1000000),\"-\")","v":64.048343294046248},{"$f":"IFERROR(IF($B$2=\"トン\",AppAn.Data!U124,(AppAn.Data!U124*ozton*AppAn.Data!U$6)/1000000),\"-\")","v":54.548782586244201},{"$f":"IFERROR(IF($B$2=\"トン\",AppAn.Data!V124,(AppAn.Data!V124*ozton*AppAn.Data!V$6)/1000000),\"-\")","v":37.619347136639092},{"$f":"IFERROR(IF($B$2=\"トン\",AppAn.Data!W124,(AppAn.Data!W124*ozton*AppAn.Data!W$6)/1000000),\"-\")","v":46.771007469492133},{"$f":"IFERROR(IF($B$2=\"トン\",AppAn.Data!X124,(AppAn.Data!X124*ozton*AppAn.Data!X$6)/1000000),\"-\")","v":49.723202615936387},"▲",6.3120195740276053,null,{"$f":"IFERROR(IF($B$2=\"トン\",AppQt.Data!M134,(AppQt.Data!M134*ozton*AppQt.Data!M$7)/1000000),\"-\")","v":12.969772691934295},{"$f":"IFERROR(IF($B$2=\"トン\",AppQt.Data!N134,(AppQt.Data!N134*ozton*AppQt.Data!N$7)/1000000),\"-\")","v":9.3490514328698282},{"$f":"IFERROR(IF($B$2=\"トン\",AppQt.Data!O134,(AppQt.Data!O134*ozton*AppQt.Data!O$7)/1000000),\"-\")","v":15.318333482309697},{"$f":"IFERROR(IF($B$2=\"トン\",AppQt.Data!P134,(AppQt.Data!P134*ozton*AppQt.Data!P$7)/1000000),\"-\")","v":12.925781009238403},{"$f":"IFERROR(IF($B$2=\"トン\",AppQt.Data!Q134,(AppQt.Data!Q134*ozton*AppQt.Data!Q$7)/1000000),\"-\")","v":16.524623192535216},{"$f":"IFERROR(IF($B$2=\"トン\",AppQt.Data!R134,(AppQt.Data!R134*ozton*AppQt.Data!R$7)/1000000),\"-\")","v":12.860407072951091},{"$f":"IFERROR(IF($B$2=\"トン\",AppQt.Data!S134,(AppQt.Data!S134*ozton*AppQt.Data!S$7)/1000000),\"-\")","v":16.180370706859971},{"$f":"IFERROR(IF($B$2=\"トン\",AppQt.Data!T134,(AppQt.Data!T134*ozton*AppQt.Data!T$7)/1000000),\"-\")","v":15.251104282512316},{"$f":"IFERROR(IF($B$2=\"トン\",AppQt.Data!U134,(AppQt.Data!U134*ozton*AppQt.Data!U$7)/1000000),\"-\")","v":22.02829829645535},{"$f":"IFERROR(IF($B$2=\"トン\",AppQt.Data!V134,(AppQt.Data!V134*ozton*AppQt.Data!V$7)/1000000),\"-\")","v":12.790117529942091},{"$f":"IFERROR(IF($B$2=\"トン\",AppQt.Data!W134,(AppQt.Data!W134*ozton*AppQt.Data!W$7)/1000000),\"-\")","v":13.229384340243124},{"$f":"IFERROR(IF($B$2=\"トン\",AppQt.Data!X134,(AppQt.Data!X134*ozton*AppQt.Data!X$7)/1000000),\"-\")","v":13.619677739419847},{"$f":"IFERROR(IF($B$2=\"トン\",AppQt.Data!Y134,(AppQt.Data!Y134*ozton*AppQt.Data!Y$7)/1000000),\"-\")","v":26.533362302291074},{"$f":"IFERROR(IF($B$2=\"トン\",AppQt.Data!Z134,(AppQt.Data!Z134*ozton*AppQt.Data!Z$7)/1000000),\"-\")","v":25.451287306955301},{"$f":"IFERROR(IF($B$2=\"トン\",AppQt.Data!AA134,(AppQt.Data!AA134*ozton*AppQt.Data!AA$7)/1000000),\"-\")","v":18.237222244428594},{"$f":"IFERROR(IF($B$2=\"トン\",AppQt.Data!AB134,(AppQt.Data!AB134*ozton*AppQt.Data!AB$7)/1000000),\"-\")","v":17.890435182205216},{"$f":"IFERROR(IF($B$2=\"トン\",AppQt.Data!AC134,(AppQt.Data!AC134*ozton*AppQt.Data!AC$7)/1000000),\"-\")","v":17.054394388149031},{"$f":"IFERROR(IF($B$2=\"トン\",AppQt.Data!AD134,(AppQt.Data!AD134*ozton*AppQt.Data!AD$7)/1000000),\"-\")","v":15.790564033338265},{"$f":"IFERROR(IF($B$2=\"トン\",AppQt.Data!AE134,(AppQt.Data!AE134*ozton*AppQt.Data!AE$7)/1000000),\"-\")","v":14.968357510454583},{"$f":"IFERROR(IF($B$2=\"トン\",AppQt.Data!AF134,(AppQt.Data!AF134*ozton*AppQt.Data!AF$7)/1000000),\"-\")","v":15.569388916601188},{"$f":"IFERROR(IF($B$2=\"トン\",AppQt.Data!AG134,(AppQt.Data!AG134*ozton*AppQt.Data!AG$7)/1000000),\"-\")","v":17.775114107556483},{"$f":"IFERROR(IF($B$2=\"トン\",AppQt.Data!AH134,(AppQt.Data!AH134*ozton*AppQt.Data!AH$7)/1000000),\"-\")","v":12.99107987528954},{"$f":"IFERROR(IF($B$2=\"トン\",AppQt.Data!AI134,(AppQt.Data!AI134*ozton*AppQt.Data!AI$7)/1000000),\"-\")","v":13.954787862818494},{"$f":"IFERROR(IF($B$2=\"トン\",AppQt.Data!AJ134,(AppQt.Data!AJ134*ozton*AppQt.Data!AJ$7)/1000000),\"-\")","v":14.297316226933939},{"$f":"IFERROR(IF($B$2=\"トン\",AppQt.Data!AK134,(AppQt.Data!AK134*ozton*AppQt.Data!AK$7)/1000000),\"-\")","v":16.0288495},{"$f":"IFERROR(IF($B$2=\"トン\",AppQt.Data!AL134,(AppQt.Data!AL134*ozton*AppQt.Data!AL$7)/1000000),\"-\")","v":15.354176925000001},{"$f":"IFERROR(IF($B$2=\"トン\",AppQt.Data!AM134,(AppQt.Data!AM134*ozton*AppQt.Data!AM$7)/1000000),\"-\")","v":13.308887116875002},{"$f":"IFERROR(IF($B$2=\"トン\",AppQt.Data!AN134,(AppQt.Data!AN134*ozton*AppQt.Data!AN$7)/1000000),\"-\")","v":14.78374218440625},{"$f":"IFERROR(IF($B$2=\"トン\",AppQt.Data!AO134,(AppQt.Data!AO134*ozton*AppQt.Data!AO$7)/1000000),\"-\")","v":14.239679075000002},{"$f":"IFERROR(IF($B$2=\"トン\",AppQt.Data!AP134,(AppQt.Data!AP134*ozton*AppQt.Data!AP$7)/1000000),\"-\")","v":15.776221982500005},{"$f":"IFERROR(IF($B$2=\"トン\",AppQt.Data!AQ134,(AppQt.Data!AQ134*ozton*AppQt.Data!AQ$7)/1000000),\"-\")","v":13.655214000000001},{"$f":"IFERROR(IF($B$2=\"トン\",AppQt.Data!AR134,(AppQt.Data!AR134*ozton*AppQt.Data!AR$7)/1000000),\"-\")","v":15.11759},{"$f":"IFERROR(IF($B$2=\"トン\",AppQt.Data!AS134,(AppQt.Data!AS134*ozton*AppQt.Data!AS$7)/1000000),\"-\")","v":14.606262749562504},{"$f":"IFERROR(IF($B$2=\"トン\",AppQt.Data!AT134,(AppQt.Data!AT134*ozton*AppQt.Data!AT$7)/1000000),\"-\")","v":17.187701544483755},{"$f":"IFERROR(IF($B$2=\"トン\",AppQt.Data!AU134,(AppQt.Data!AU134*ozton*AppQt.Data!AU$7)/1000000),\"-\")","v":15.38},{"$f":"IFERROR(IF($B$2=\"トン\",AppQt.Data!AV134,(AppQt.Data!AV134*ozton*AppQt.Data!AV$7)/1000000),\"-\")","v":16.874379000000001},{"$f":"IFERROR(IF($B$2=\"トン\",AppQt.Data!AW134,(AppQt.Data!AW134*ozton*AppQt.Data!AW$7)/1000000),\"-\")","v":15.426482764536255},{"$f":"IFERROR(IF($B$2=\"トン\",AppQt.Data!AX134,(AppQt.Data!AX134*ozton*AppQt.Data!AX$7)/1000000),\"-\")","v":17.987199721707942},{"$f":"IFERROR(IF($B$2=\"トン\",AppQt.Data!AY134,(AppQt.Data!AY134*ozton*AppQt.Data!AY$7)/1000000),\"-\")","v":7.9284000000000008},{"$f":"IFERROR(IF($B$2=\"トン\",AppQt.Data!AZ134,(AppQt.Data!AZ134*ozton*AppQt.Data!AZ$7)/1000000),\"-\")","v":13.206700100000001},{"$f":"IFERROR(IF($B$2=\"トン\",AppQt.Data!BA134,(AppQt.Data!BA134*ozton*AppQt.Data!BA$7)/1000000),\"-\")","v":7.999587994041315},{"$f":"IFERROR(IF($B$2=\"トン\",AppQt.Data!BB134,(AppQt.Data!BB134*ozton*AppQt.Data!BB$7)/1000000),\"-\")","v":7.2854030625977799},{"$f":"IFERROR(IF($B$2=\"トン\",AppQt.Data!BC134,(AppQt.Data!BC134*ozton*AppQt.Data!BC$7)/1000000),\"-\")","v":9.8649799999999992},{"$f":"IFERROR(IF($B$2=\"トン\",AppQt.Data!BD134,(AppQt.Data!BD134*ozton*AppQt.Data!BD$7)/1000000),\"-\")","v":12.469376080000002},{"$f":"IFERROR(IF($B$2=\"トン\",AppQt.Data!BE134,(AppQt.Data!BE134*ozton*AppQt.Data!BE$7)/1000000),\"-\")","v":11.515644534634536},{"$f":"IFERROR(IF($B$2=\"トン\",AppQt.Data!BF134,(AppQt.Data!BF134*ozton*AppQt.Data!BF$7)/1000000),\"-\")","v":8.070553714057592},{"$f":"IFERROR(IF($B$2=\"トン\",AppQt.Data!BG134,(AppQt.Data!BG134*ozton*AppQt.Data!BG$7)/1000000),\"-\")","v":13.138260000000002},{"$f":"IFERROR(IF($B$2=\"トン\",AppQt.Data!BH134,(AppQt.Data!BH134*ozton*AppQt.Data!BH$7)/1000000),\"-\")","v":14.046549220800001},{"$f":"IFERROR(IF($B$2=\"トン\",AppQt.Data!BI134,(AppQt.Data!BI134*ozton*AppQt.Data!BI$7)/1000000),\"-\")","v":10.543351580210121},{"$f":"IFERROR(IF($B$2=\"トン\",AppQt.Data!BJ134,(AppQt.Data!BJ134*ozton*AppQt.Data!BJ$7)/1000000),\"-\")","v":9.3930889025102609},{"$f":"IFERROR(IF($B$2=\"トン\",AppQt.Data!BK134,(AppQt.Data!BK134*ozton*AppQt.Data!BK$7)/1000000),\"-\")","v":14.946444000000001},{"$f":"IFERROR(IF($B$2=\"トン\",AppQt.Data!BL134,(AppQt.Data!BL134*ozton*AppQt.Data!BL$7)/1000000),\"-\")","v":14.840318133216002},"▲",5.6509887228429978]
[null,"マレーシア",{"$f":"IFERROR(IF($B$2=\"トン\",AppAn.Data!L125,(AppAn.Data!L125*ozton*AppAn.Data!L$6)/1000000),\"-\")","v":16.956074122508419},{"$f":"IFERROR(IF($B$2=\"トン\",AppAn.Data!M125,(AppAn.Data!M125*ozton*AppAn.Data!M$6)/1000000),\"-\")","v":20.399747699082589},{"$f":"IFERROR(IF($B$2=\"トン\",AppAn.Data!N125,(AppAn.Data!N125*ozton*AppAn.Data!N$6)/1000000),\"-\")","v":20.648159837283615},{"$f":"IFERROR(IF($B$2=\"トン\",AppAn.Data!O125,(AppAn.Data!O125*ozton*AppAn.Data!O$6)/1000000),\"-\")","v":28.598494135875697},{"$f":"IFERROR(IF($B$2=\"トン\",AppAn.Data!P125,(AppAn.Data!P125*ozton*AppAn.Data!P$6)/1000000),\"-\")","v":26.856594741350655},{"$f":"IFERROR(IF($B$2=\"トン\",AppAn.Data!Q125,(AppAn.Data!Q125*ozton*AppAn.Data!Q$6)/1000000),\"-\")","v":22.109933570359978},{"$f":"IFERROR(IF($B$2=\"トン\",AppAn.Data!R125,(AppAn.Data!R125*ozton*AppAn.Data!R$6)/1000000),\"-\")","v":19.366091745383841},{"$f":"IFERROR(IF($B$2=\"トン\",AppAn.Data!S125,(AppAn.Data!S125*ozton*AppAn.Data!S$6)/1000000),\"-\")","v":19.058263066983983},{"$f":"IFERROR(IF($B$2=\"トン\",AppAn.Data!T125,(AppAn.Data!T125*ozton*AppAn.Data!T$6)/1000000),\"-\")","v":18.916999999999998},{"$f":"IFERROR(IF($B$2=\"トン\",AppAn.Data!U125,(AppAn.Data!U125*ozton*AppAn.Data!U$6)/1000000),\"-\")","v":17.605},{"$f":"IFERROR(IF($B$2=\"トン\",AppAn.Data!V125,(AppAn.Data!V125*ozton*AppAn.Data!V$6)/1000000),\"-\")","v":13.0731},{"$f":"IFERROR(IF($B$2=\"トン\",AppAn.Data!W125,(AppAn.Data!W125*ozton*AppAn.Data!W$6)/1000000),\"-\")","v":14.861750000000001},{"$f":"IFERROR(IF($B$2=\"トン\",AppAn.Data!X125,(AppAn.Data!X125*ozton*AppAn.Data!X$6)/1000000),\"-\")","v":18.532790499999997},"▲",24.701266674516773,null,{"$f":"IFERROR(IF($B$2=\"トン\",AppQt.Data!M135,(AppQt.Data!M135*ozton*AppQt.Data!M$7)/1000000),\"-\")","v":4.4390400065102646},{"$f":"IFERROR(IF($B$2=\"トン\",AppQt.Data!N135,(AppQt.Data!N135*ozton*AppQt.Data!N$7)/1000000),\"-\")","v":4.8605910054490096},{"$f":"IFERROR(IF($B$2=\"トン\",AppQt.Data!O135,(AppQt.Data!O135*ozton*AppQt.Data!O$7)/1000000),\"-\")","v":5.1856840124353374},{"$f":"IFERROR(IF($B$2=\"トン\",AppQt.Data!P135,(AppQt.Data!P135*ozton*AppQt.Data!P$7)/1000000),\"-\")","v":2.4707590981138079},{"$f":"IFERROR(IF($B$2=\"トン\",AppQt.Data!Q135,(AppQt.Data!Q135*ozton*AppQt.Data!Q$7)/1000000),\"-\")","v":5.6851581508299063},{"$f":"IFERROR(IF($B$2=\"トン\",AppQt.Data!R135,(AppQt.Data!R135*ozton*AppQt.Data!R$7)/1000000),\"-\")","v":5.4508062047916912},{"$f":"IFERROR(IF($B$2=\"トン\",AppQt.Data!S135,(AppQt.Data!S135*ozton*AppQt.Data!S$7)/1000000),\"-\")","v":5.1946216334620621},{"$f":"IFERROR(IF($B$2=\"トン\",AppQt.Data!T135,(AppQt.Data!T135*ozton*AppQt.Data!T$7)/1000000),\"-\")","v":4.0691617099989292},{"$f":"IFERROR(IF($B$2=\"トン\",AppQt.Data!U135,(AppQt.Data!U135*ozton*AppQt.Data!U$7)/1000000),\"-\")","v":5.3219944536739403},{"$f":"IFERROR(IF($B$2=\"トン\",AppQt.Data!V135,(AppQt.Data!V135*ozton*AppQt.Data!V$7)/1000000),\"-\")","v":5.0146989331755165},{"$f":"IFERROR(IF($B$2=\"トン\",AppQt.Data!W135,(AppQt.Data!W135*ozton*AppQt.Data!W$7)/1000000),\"-\")","v":4.6647537340546368},{"$f":"IFERROR(IF($B$2=\"トン\",AppQt.Data!X135,(AppQt.Data!X135*ozton*AppQt.Data!X$7)/1000000),\"-\")","v":5.6467127163795237},{"$f":"IFERROR(IF($B$2=\"トン\",AppQt.Data!Y135,(AppQt.Data!Y135*ozton*AppQt.Data!Y$7)/1000000),\"-\")","v":5.0250429750358823},{"$f":"IFERROR(IF($B$2=\"トン\",AppQt.Data!Z135,(AppQt.Data!Z135*ozton*AppQt.Data!Z$7)/1000000),\"-\")","v":9.1377709204556652},{"$f":"IFERROR(IF($B$2=\"トン\",AppQt.Data!AA135,(AppQt.Data!AA135*ozton*AppQt.Data!AA$7)/1000000),\"-\")","v":8.0007106806389316},{"$f":"IFERROR(IF($B$2=\"トン\",AppQt.Data!AB135,(AppQt.Data!AB135*ozton*AppQt.Data!AB$7)/1000000),\"-\")","v":6.4349695597452197},{"$f":"IFERROR(IF($B$2=\"トン\",AppQt.Data!AC135,(AppQt.Data!AC135*ozton*AppQt.Data!AC$7)/1000000),\"-\")","v":7.1488255302397654},{"$f":"IFERROR(IF($B$2=\"トン\",AppQt.Data!AD135,(AppQt.Data!AD135*ozton*AppQt.Data!AD$7)/1000000),\"-\")","v":5.7671453009180551},{"$f":"IFERROR(IF($B$2=\"トン\",AppQt.Data!AE135,(AppQt.Data!AE135*ozton*AppQt.Data!AE$7)/1000000),\"-\")","v":7.0711706268703587},{"$f":"IFERROR(IF($B$2=\"トン\",AppQt.Data!AF135,(AppQt.Data!AF135*ozton*AppQt.Data!AF$7)/1000000),\"-\")","v":6.8694532833224766},{"$f":"IFERROR(IF($B$2=\"トン\",AppQt.Data!AG135,(AppQt.Data!AG135*ozton*AppQt.Data!AG$7)/1000000),\"-\")","v":7.6227668067517538},{"$f":"IFERROR(IF($B$2=\"トン\",AppQt.Data!AH135,(AppQt.Data!AH135*ozton*AppQt.Data!AH$7)/1000000),\"-\")","v":4.0736600840510517},{"$f":"IFERROR(IF($B$2=\"トン\",AppQt.Data!AI135,(AppQt.Data!AI135*ozton*AppQt.Data!AI$7)/1000000),\"-\")","v":5.3296505987599856},{"$f":"IFERROR(IF($B$2=\"トン\",AppQt.Data!AJ135,(AppQt.Data!AJ135*ozton*AppQt.Data!AJ$7)/1000000),\"-\")","v":5.0838560807971858},{"$f":"IFERROR(IF($B$2=\"トン\",AppQt.Data!AK135,(AppQt.Data!AK135*ozton*AppQt.Data!AK$7)/1000000),\"-\")","v":5.4602400113008205},{"$f":"IFERROR(IF($B$2=\"トン\",AppQt.Data!AL135,(AppQt.Data!AL135*ozton*AppQt.Data!AL$7)/1000000),\"-\")","v":4.6857175848882182},{"$f":"IFERROR(IF($B$2=\"トン\",AppQt.Data!AM135,(AppQt.Data!AM135*ozton*AppQt.Data!AM$7)/1000000),\"-\")","v":4.3903354781438066},{"$f":"IFERROR(IF($B$2=\"トン\",AppQt.Data!AN135,(AppQt.Data!AN135*ozton*AppQt.Data!AN$7)/1000000),\"-\")","v":4.8297986710509972},{"$f":"IFERROR(IF($B$2=\"トン\",AppQt.Data!AO135,(AppQt.Data!AO135*ozton*AppQt.Data!AO$7)/1000000),\"-\")","v":4.7601418773421971},{"$f":"IFERROR(IF($B$2=\"トン\",AppQt.Data!AP135,(AppQt.Data!AP135*ozton*AppQt.Data!AP$7)/1000000),\"-\")","v":5.0970102708303937},{"$f":"IFERROR(IF($B$2=\"トン\",AppQt.Data!AQ135,(AppQt.Data!AQ135*ozton*AppQt.Data!AQ$7)/1000000),\"-\")","v":4.3996313730794263},{"$f":"IFERROR(IF($B$2=\"トン\",AppQt.Data!AR135,(AppQt.Data!AR135*ozton*AppQt.Data!AR$7)/1000000),\"-\")","v":4.8014795457319668},{"$f":"IFERROR(IF($B$2=\"トン\",AppQt.Data!AS135,(AppQt.Data!AS135*ozton*AppQt.Data!AS$7)/1000000),\"-\")","v":4.7300000000000004},{"$f":"IFERROR(IF($B$2=\"トン\",AppQt.Data!AT135,(AppQt.Data!AT135*ozton*AppQt.Data!AT$7)/1000000),\"-\")","v":4.3970000000000002},{"$f":"IFERROR(IF($B$2=\"トン\",AppQt.Data!AU135,(AppQt.Data!AU135*ozton*AppQt.Data!AU$7)/1000000),\"-\")","v":4.93},{"$f":"IFERROR(IF($B$2=\"トン\",AppQt.Data!AV135,(AppQt.Data!AV135*ozton*AppQt.Data!AV$7)/1000000),\"-\")","v":4.8600000000000003},{"$f":"IFERROR(IF($B$2=\"トン\",AppQt.Data!AW135,(AppQt.Data!AW135*ozton*AppQt.Data!AW$7)/1000000),\"-\")","v":4.55},{"$f":"IFERROR(IF($B$2=\"トン\",AppQt.Data!AX135,(AppQt.Data!AX135*ozton*AppQt.Data!AX$7)/1000000),\"-\")","v":4.3},{"$f":"IFERROR(IF($B$2=\"トン\",AppQt.Data!AY135,(AppQt.Data!AY135*ozton*AppQt.Data!AY$7)/1000000),\"-\")","v":4.32},{"$f":"IFERROR(IF($B$2=\"トン\",AppQt.Data!AZ135,(AppQt.Data!AZ135*ozton*AppQt.Data!AZ$7)/1000000),\"-\")","v":4.4349999999999996},{"$f":"IFERROR(IF($B$2=\"トン\",AppQt.Data!BA135,(AppQt.Data!BA135*ozton*AppQt.Data!BA$7)/1000000),\"-\")","v":3.2865000000000002},{"$f":"IFERROR(IF($B$2=\"トン\",AppQt.Data!BB135,(AppQt.Data!BB135*ozton*AppQt.Data!BB$7)/1000000),\"-\")","v":2.3115999999999999},{"$f":"IFERROR(IF($B$2=\"トン\",AppQt.Data!BC135,(AppQt.Data!BC135*ozton*AppQt.Data!BC$7)/1000000),\"-\")","v":3.67},{"$f":"IFERROR(IF($B$2=\"トン\",AppQt.Data!BD135,(AppQt.Data!BD135*ozton*AppQt.Data!BD$7)/1000000),\"-\")","v":3.8049999999999997},{"$f":"IFERROR(IF($B$2=\"トン\",AppQt.Data!BE135,(AppQt.Data!BE135*ozton*AppQt.Data!BE$7)/1000000),\"-\")","v":4.23285},{"$f":"IFERROR(IF($B$2=\"トン\",AppQt.Data!BF135,(AppQt.Data!BF135*ozton*AppQt.Data!BF$7)/1000000),\"-\")","v":3.3374999999999999},{"$f":"IFERROR(IF($B$2=\"トン\",AppQt.Data!BG135,(AppQt.Data!BG135*ozton*AppQt.Data!BG$7)/1000000),\"-\")","v":2.1593999999999998},{"$f":"IFERROR(IF($B$2=\"トン\",AppQt.Data!BH135,(AppQt.Data!BH135*ozton*AppQt.Data!BH$7)/1000000),\"-\")","v":5.1319999999999997},{"$f":"IFERROR(IF($B$2=\"トン\",AppQt.Data!BI135,(AppQt.Data!BI135*ozton*AppQt.Data!BI$7)/1000000),\"-\")","v":5.1577904999999999},{"$f":"IFERROR(IF($B$2=\"トン\",AppQt.Data!BJ135,(AppQt.Data!BJ135*ozton*AppQt.Data!BJ$7)/1000000),\"-\")","v":4.4849999999999994},{"$f":"IFERROR(IF($B$2=\"トン\",AppQt.Data!BK135,(AppQt.Data!BK135*ozton*AppQt.Data!BK$7)/1000000),\"-\")","v":3.65},{"$f":"IFERROR(IF($B$2=\"トン\",AppQt.Data!BL135,(AppQt.Data!BL135*ozton*AppQt.Data!BL$7)/1000000),\"-\")","v":5.24},"▲",2.1044427123928289]
[null,"シンガポール",{"$f":"IFERROR(IF($B$2=\"トン\",AppAn.Data!L126,(AppAn.Data!L126*ozton*AppAn.Data!L$6)/1000000),\"-\")","v":9.8982715159416514},{"$f":"IFERROR(IF($B$2=\"トン\",AppAn.Data!M126,(AppAn.Data!M126*ozton*AppAn.Data!M$6)/1000000),\"-\")","v":13.054682197087551},{"$f":"IFERROR(IF($B$2=\"トン\",AppAn.Data!N126,(AppAn.Data!N126*ozton*AppAn.Data!N$6)/1000000),\"-\")","v":14.822013743734031},{"$f":"IFERROR(IF($B$2=\"トン\",AppAn.Data!O126,(AppAn.Data!O126*ozton*AppAn.Data!O$6)/1000000),\"-\")","v":20.851856916977916},{"$f":"IFERROR(IF($B$2=\"トン\",AppAn.Data!P126,(AppAn.Data!P126*ozton*AppAn.Data!P$6)/1000000),\"-\")","v":20.522963965811755},{"$f":"IFERROR(IF($B$2=\"トン\",AppAn.Data!Q126,(AppAn.Data!Q126*ozton*AppAn.Data!Q$6)/1000000),\"-\")","v":18.061401816630372},{"$f":"IFERROR(IF($B$2=\"トン\",AppAn.Data!R126,(AppAn.Data!R126*ozton*AppAn.Data!R$6)/1000000),\"-\")","v":17.097230890448266},{"$f":"IFERROR(IF($B$2=\"トン\",AppAn.Data!S126,(AppAn.Data!S126*ozton*AppAn.Data!S$6)/1000000),\"-\")","v":16.632004598180874},{"$f":"IFERROR(IF($B$2=\"トン\",AppAn.Data!T126,(AppAn.Data!T126*ozton*AppAn.Data!T$6)/1000000),\"-\")","v":16.385848908904762},{"$f":"IFERROR(IF($B$2=\"トン\",AppAn.Data!U126,(AppAn.Data!U126*ozton*AppAn.Data!U$6)/1000000),\"-\")","v":14.98},{"$f":"IFERROR(IF($B$2=\"トン\",AppAn.Data!V126,(AppAn.Data!V126*ozton*AppAn.Data!V$6)/1000000),\"-\")","v":9.4379999999999988},{"$f":"IFERROR(IF($B$2=\"トン\",AppAn.Data!W126,(AppAn.Data!W126*ozton*AppAn.Data!W$6)/1000000),\"-\")","v":11.4527},{"$f":"IFERROR(IF($B$2=\"トン\",AppAn.Data!X126,(AppAn.Data!X126*ozton*AppAn.Data!X$6)/1000000),\"-\")","v":14.98602},"▲",30.851414950186417,null,{"$f":"IFERROR(IF($B$2=\"トン\",AppQt.Data!M136,(AppQt.Data!M136*ozton*AppQt.Data!M$7)/1000000),\"-\")","v":3.052089150376414},{"$f":"IFERROR(IF($B$2=\"トン\",AppQt.Data!N136,(AppQt.Data!N136*ozton*AppQt.Data!N$7)/1000000),\"-\")","v":2.0412956661193453},{"$f":"IFERROR(IF($B$2=\"トン\",AppQt.Data!O136,(AppQt.Data!O136*ozton*AppQt.Data!O$7)/1000000),\"-\")","v":2.9975753859442436},{"$f":"IFERROR(IF($B$2=\"トン\",AppQt.Data!P136,(AppQt.Data!P136*ozton*AppQt.Data!P$7)/1000000),\"-\")","v":1.807311313501649},{"$f":"IFERROR(IF($B$2=\"トン\",AppQt.Data!Q136,(AppQt.Data!Q136*ozton*AppQt.Data!Q$7)/1000000),\"-\")","v":3.2783615403399371},{"$f":"IFERROR(IF($B$2=\"トン\",AppQt.Data!R136,(AppQt.Data!R136*ozton*AppQt.Data!R$7)/1000000),\"-\")","v":3.5840093819553633},{"$f":"IFERROR(IF($B$2=\"トン\",AppQt.Data!S136,(AppQt.Data!S136*ozton*AppQt.Data!S$7)/1000000),\"-\")","v":2.797612814791826},{"$f":"IFERROR(IF($B$2=\"トン\",AppQt.Data!T136,(AppQt.Data!T136*ozton*AppQt.Data!T$7)/1000000),\"-\")","v":3.3946984600004262},{"$f":"IFERROR(IF($B$2=\"トン\",AppQt.Data!U136,(AppQt.Data!U136*ozton*AppQt.Data!U$7)/1000000),\"-\")","v":3.4690890512775043},{"$f":"IFERROR(IF($B$2=\"トン\",AppQt.Data!V136,(AppQt.Data!V136*ozton*AppQt.Data!V$7)/1000000),\"-\")","v":3.4611877937025},{"$f":"IFERROR(IF($B$2=\"トン\",AppQt.Data!W136,(AppQt.Data!W136*ozton*AppQt.Data!W$7)/1000000),\"-\")","v":3.2167244406974977},{"$f":"IFERROR(IF($B$2=\"トン\",AppQt.Data!X136,(AppQt.Data!X136*ozton*AppQt.Data!X$7)/1000000),\"-\")","v":4.6750124580565293},{"$f":"IFERROR(IF($B$2=\"トン\",AppQt.Data!Y136,(AppQt.Data!Y136*ozton*AppQt.Data!Y$7)/1000000),\"-\")","v":4.1734954685819892},{"$f":"IFERROR(IF($B$2=\"トン\",AppQt.Data!Z136,(AppQt.Data!Z136*ozton*AppQt.Data!Z$7)/1000000),\"-\")","v":6.4229282570369479},{"$f":"IFERROR(IF($B$2=\"トン\",AppQt.Data!AA136,(AppQt.Data!AA136*ozton*AppQt.Data!AA$7)/1000000),\"-\")","v":5.377759579864632},{"$f":"IFERROR(IF($B$2=\"トン\",AppQt.Data!AB136,(AppQt.Data!AB136*ozton*AppQt.Data!AB$7)/1000000),\"-\")","v":4.8776736114943446},{"$f":"IFERROR(IF($B$2=\"トン\",AppQt.Data!AC136,(AppQt.Data!AC136*ozton*AppQt.Data!AC$7)/1000000),\"-\")","v":5.0303550928307708},{"$f":"IFERROR(IF($B$2=\"トン\",AppQt.Data!AD136,(AppQt.Data!AD136*ozton*AppQt.Data!AD$7)/1000000),\"-\")","v":5.5645947304828907},{"$f":"IFERROR(IF($B$2=\"トン\",AppQt.Data!AE136,(AppQt.Data!AE136*ozton*AppQt.Data!AE$7)/1000000),\"-\")","v":5.1770237375698045},{"$f":"IFERROR(IF($B$2=\"トン\",AppQt.Data!AF136,(AppQt.Data!AF136*ozton*AppQt.Data!AF$7)/1000000),\"-\")","v":4.7509904049282916},{"$f":"IFERROR(IF($B$2=\"トン\",AppQt.Data!AG136,(AppQt.Data!AG136*ozton*AppQt.Data!AG$7)/1000000),\"-\")","v":5.0298373381892318},{"$f":"IFERROR(IF($B$2=\"トン\",AppQt.Data!AH136,(AppQt.Data!AH136*ozton*AppQt.Data!AH$7)/1000000),\"-\")","v":3.8581239370966545},{"$f":"IFERROR(IF($B$2=\"トン\",AppQt.Data!AI136,(AppQt.Data!AI136*ozton*AppQt.Data!AI$7)/1000000),\"-\")","v":4.5023894292337365},{"$f":"IFERROR(IF($B$2=\"トン\",AppQt.Data!AJ136,(AppQt.Data!AJ136*ozton*AppQt.Data!AJ$7)/1000000),\"-\")","v":4.6710511121107485},{"$f":"IFERROR(IF($B$2=\"トン\",AppQt.Data!AK136,(AppQt.Data!AK136*ozton*AppQt.Data!AK$7)/1000000),\"-\")","v":4.4749761955190541},{"$f":"IFERROR(IF($B$2=\"トン\",AppQt.Data!AL136,(AppQt.Data!AL136*ozton*AppQt.Data!AL$7)/1000000),\"-\")","v":4.2597524433551257},{"$f":"IFERROR(IF($B$2=\"トン\",AppQt.Data!AM136,(AppQt.Data!AM136*ozton*AppQt.Data!AM$7)/1000000),\"-\")","v":3.661638421851857},{"$f":"IFERROR(IF($B$2=\"トン\",AppQt.Data!AN136,(AppQt.Data!AN136*ozton*AppQt.Data!AN$7)/1000000),\"-\")","v":4.7008638297222287},{"$f":"IFERROR(IF($B$2=\"トン\",AppQt.Data!AO136,(AppQt.Data!AO136*ozton*AppQt.Data!AO$7)/1000000),\"-\")","v":4.5368195344816726},{"$f":"IFERROR(IF($B$2=\"トン\",AppQt.Data!AP136,(AppQt.Data!AP136*ozton*AppQt.Data!AP$7)/1000000),\"-\")","v":4.1008249586076468},{"$f":"IFERROR(IF($B$2=\"トン\",AppQt.Data!AQ136,(AppQt.Data!AQ136*ozton*AppQt.Data!AQ$7)/1000000),\"-\")","v":3.63399703797266},{"$f":"IFERROR(IF($B$2=\"トン\",AppQt.Data!AR136,(AppQt.Data!AR136*ozton*AppQt.Data!AR$7)/1000000),\"-\")","v":4.3603630671188949},{"$f":"IFERROR(IF($B$2=\"トン\",AppQt.Data!AS136,(AppQt.Data!AS136*ozton*AppQt.Data!AS$7)/1000000),\"-\")","v":4.5221201735420005},{"$f":"IFERROR(IF($B$2=\"トン\",AppQt.Data!AT136,(AppQt.Data!AT136*ozton*AppQt.Data!AT$7)/1000000),\"-\")","v":3.8037287353627605},{"$f":"IFERROR(IF($B$2=\"トン\",AppQt.Data!AU136,(AppQt.Data!AU136*ozton*AppQt.Data!AU$7)/1000000),\"-\")","v":4.01},{"$f":"IFERROR(IF($B$2=\"トン\",AppQt.Data!AV136,(AppQt.Data!AV136*ozton*AppQt.Data!AV$7)/1000000),\"-\")","v":4.05},{"$f":"IFERROR(IF($B$2=\"トン\",AppQt.Data!AW136,(AppQt.Data!AW136*ozton*AppQt.Data!AW$7)/1000000),\"-\")","v":4.0600000000000005},{"$f":"IFERROR(IF($B$2=\"トン\",AppQt.Data!AX136,(AppQt.Data!AX136*ozton*AppQt.Data!AX$7)/1000000),\"-\")","v":3.55},{"$f":"IFERROR(IF($B$2=\"トン\",AppQt.Data!AY136,(AppQt.Data!AY136*ozton*AppQt.Data!AY$7)/1000000),\"-\")","v":3.5300000000000002},{"$f":"IFERROR(IF($B$2=\"トン\",AppQt.Data!AZ136,(AppQt.Data!AZ136*ozton*AppQt.Data!AZ$7)/1000000),\"-\")","v":3.84},{"$f":"IFERROR(IF($B$2=\"トン\",AppQt.Data!BA136,(AppQt.Data!BA136*ozton*AppQt.Data!BA$7)/1000000),\"-\")","v":2.94},{"$f":"IFERROR(IF($B$2=\"トン\",AppQt.Data!BB136,(AppQt.Data!BB136*ozton*AppQt.Data!BB$7)/1000000),\"-\")","v":1.2},{"$f":"IFERROR(IF($B$2=\"トン\",AppQt.Data!BC136,(AppQt.Data!BC136*ozton*AppQt.Data!BC$7)/1000000),\"-\")","v":2.5680000000000001},{"$f":"IFERROR(IF($B$2=\"トン\",AppQt.Data!BD136,(AppQt.Data!BD136*ozton*AppQt.Data!BD$7)/1000000),\"-\")","v":2.73},{"$f":"IFERROR(IF($B$2=\"トン\",AppQt.Data!BE136,(AppQt.Data!BE136*ozton*AppQt.Data!BE$7)/1000000),\"-\")","v":3.5049999999999999},{"$f":"IFERROR(IF($B$2=\"トン\",AppQt.Data!BF136,(AppQt.Data!BF136*ozton*AppQt.Data!BF$7)/1000000),\"-\")","v":2.6826999999999996},{"$f":"IFERROR(IF($B$2=\"トン\",AppQt.Data!BG136,(AppQt.Data!BG136*ozton*AppQt.Data!BG$7)/1000000),\"-\")","v":2.105},{"$f":"IFERROR(IF($B$2=\"トン\",AppQt.Data!BH136,(AppQt.Data!BH136*ozton*AppQt.Data!BH$7)/1000000),\"-\")","v":3.16},{"$f":"IFERROR(IF($B$2=\"トン\",AppQt.Data!BI136,(AppQt.Data!BI136*ozton*AppQt.Data!BI$7)/1000000),\"-\")","v":4.1160199999999998},{"$f":"IFERROR(IF($B$2=\"トン\",AppQt.Data!BJ136,(AppQt.Data!BJ136*ozton*AppQt.Data!BJ$7)/1000000),\"-\")","v":3.84},{"$f":"IFERROR(IF($B$2=\"トン\",AppQt.Data!BK136,(AppQt.Data!BK136*ozton*AppQt.Data!BK$7)/1000000),\"-\")","v":3.33},{"$f":"IFERROR(IF($B$2=\"トン\",AppQt.Data!BL136,(AppQt.Data!BL136*ozton*AppQt.Data!BL$7)/1000000),\"-\")","v":3.7},"▲",17.088607594936711]
[null,"韓国",{"$f":"IFERROR(IF($B$2=\"トン\",AppAn.Data!L127,(AppAn.Data!L127*ozton*AppAn.Data!L$6)/1000000),\"-\")","v":19.16907310373346},{"$f":"IFERROR(IF($B$2=\"トン\",AppAn.Data!M127,(AppAn.Data!M127*ozton*AppAn.Data!M$6)/1000000),\"-\")","v":26.558216355121242},{"$f":"IFERROR(IF($B$2=\"トン\",AppAn.Data!N127,(AppAn.Data!N127*ozton*AppAn.Data!N$6)/1000000),\"-\")","v":27.969835175684075},{"$f":"IFERROR(IF($B$2=\"トン\",AppAn.Data!O127,(AppAn.Data!O127*ozton*AppAn.Data!O$6)/1000000),\"-\")","v":40.804742187499997},{"$f":"IFERROR(IF($B$2=\"トン\",AppAn.Data!P127,(AppAn.Data!P127*ozton*AppAn.Data!P$6)/1000000),\"-\")","v":39.669624999999996},{"$f":"IFERROR(IF($B$2=\"トン\",AppAn.Data!Q127,(AppAn.Data!Q127*ozton*AppAn.Data!Q$6)/1000000),\"-\")","v":45.540500000000002},{"$f":"IFERROR(IF($B$2=\"トン\",AppAn.Data!R127,(AppAn.Data!R127*ozton*AppAn.Data!R$6)/1000000),\"-\")","v":39.15},{"$f":"IFERROR(IF($B$2=\"トン\",AppAn.Data!S127,(AppAn.Data!S127*ozton*AppAn.Data!S$6)/1000000),\"-\")","v":41.197875000000003},{"$f":"IFERROR(IF($B$2=\"トン\",AppAn.Data!T127,(AppAn.Data!T127*ozton*AppAn.Data!T$6)/1000000),\"-\")","v":40.982333999999994},{"$f":"IFERROR(IF($B$2=\"トン\",AppAn.Data!U127,(AppAn.Data!U127*ozton*AppAn.Data!U$6)/1000000),\"-\")","v":38.941000000000003},{"$f":"IFERROR(IF($B$2=\"トン\",AppAn.Data!V127,(AppAn.Data!V127*ozton*AppAn.Data!V$6)/1000000),\"-\")","v":35.387999999999998},{"$f":"IFERROR(IF($B$2=\"トン\",AppAn.Data!W127,(AppAn.Data!W127*ozton*AppAn.Data!W$6)/1000000),\"-\")","v":39.636249999999997},{"$f":"IFERROR(IF($B$2=\"トン\",AppAn.Data!X127,(AppAn.Data!X127*ozton*AppAn.Data!X$6)/1000000),\"-\")","v":32.391500000000001},"▼",-18.278091393610641,null,{"$f":"IFERROR(IF($B$2=\"トン\",AppQt.Data!M137,(AppQt.Data!M137*ozton*AppQt.Data!M$7)/1000000),\"-\")","v":8.1764821892722122},{"$f":"IFERROR(IF($B$2=\"トン\",AppQt.Data!N137,(AppQt.Data!N137*ozton*AppQt.Data!N$7)/1000000),\"-\")","v":-1.9135086838374291},{"$f":"IFERROR(IF($B$2=\"トン\",AppQt.Data!O137,(AppQt.Data!O137*ozton*AppQt.Data!O$7)/1000000),\"-\")","v":11.504904536862004},{"$f":"IFERROR(IF($B$2=\"トン\",AppQt.Data!P137,(AppQt.Data!P137*ozton*AppQt.Data!P$7)/1000000),\"-\")","v":1.4011950614366735},{"$f":"IFERROR(IF($B$2=\"トン\",AppQt.Data!Q137,(AppQt.Data!Q137*ozton*AppQt.Data!Q$7)/1000000),\"-\")","v":9.2934430912182719},{"$f":"IFERROR(IF($B$2=\"トン\",AppQt.Data!R137,(AppQt.Data!R137*ozton*AppQt.Data!R$7)/1000000),\"-\")","v":5.4277597391736272},{"$f":"IFERROR(IF($B$2=\"トン\",AppQt.Data!S137,(AppQt.Data!S137*ozton*AppQt.Data!S$7)/1000000),\"-\")","v":4.5186268062961235},{"$f":"IFERROR(IF($B$2=\"トン\",AppQt.Data!T137,(AppQt.Data!T137*ozton*AppQt.Data!T$7)/1000000),\"-\")","v":7.3183867184332172},{"$f":"IFERROR(IF($B$2=\"トン\",AppQt.Data!U137,(AppQt.Data!U137*ozton*AppQt.Data!U$7)/1000000),\"-\")","v":9.3372023087686564},{"$f":"IFERROR(IF($B$2=\"トン\",AppQt.Data!V137,(AppQt.Data!V137*ozton*AppQt.Data!V$7)/1000000),\"-\")","v":6.5155971185737975},{"$f":"IFERROR(IF($B$2=\"トン\",AppQt.Data!W137,(AppQt.Data!W137*ozton*AppQt.Data!W$7)/1000000),\"-\")","v":6.0323096911276934},{"$f":"IFERROR(IF($B$2=\"トン\",AppQt.Data!X137,(AppQt.Data!X137*ozton*AppQt.Data!X$7)/1000000),\"-\")","v":6.0847260572139295},{"$f":"IFERROR(IF($B$2=\"トン\",AppQt.Data!Y137,(AppQt.Data!Y137*ozton*AppQt.Data!Y$7)/1000000),\"-\")","v":10.08984375},{"$f":"IFERROR(IF($B$2=\"トン\",AppQt.Data!Z137,(AppQt.Data!Z137*ozton*AppQt.Data!Z$7)/1000000),\"-\")","v":10.62521875},{"$f":"IFERROR(IF($B$2=\"トン\",AppQt.Data!AA137,(AppQt.Data!AA137*ozton*AppQt.Data!AA$7)/1000000),\"-\")","v":9.9441796875000001},{"$f":"IFERROR(IF($B$2=\"トン\",AppQt.Data!AB137,(AppQt.Data!AB137*ozton*AppQt.Data!AB$7)/1000000),\"-\")","v":10.1455},{"$f":"IFERROR(IF($B$2=\"トン\",AppQt.Data!AC137,(AppQt.Data!AC137*ozton*AppQt.Data!AC$7)/1000000),\"-\")","v":10.760999999999999},{"$f":"IFERROR(IF($B$2=\"トン\",AppQt.Data!AD137,(AppQt.Data!AD137*ozton*AppQt.Data!AD$7)/1000000),\"-\")","v":9.7271250000000009},{"$f":"IFERROR(IF($B$2=\"トン\",AppQt.Data!AE137,(AppQt.Data!AE137*ozton*AppQt.Data!AE$7)/1000000),\"-\")","v":9.6492499999999986},{"$f":"IFERROR(IF($B$2=\"トン\",AppQt.Data!AF137,(AppQt.Data!AF137*ozton*AppQt.Data!AF$7)/1000000),\"-\")","v":9.5322499999999994},{"$f":"IFERROR(IF($B$2=\"トン\",AppQt.Data!AG137,(AppQt.Data!AG137*ozton*AppQt.Data!AG$7)/1000000),\"-\")","v":11.214124999999999},{"$f":"IFERROR(IF($B$2=\"トン\",AppQt.Data!AH137,(AppQt.Data!AH137*ozton*AppQt.Data!AH$7)/1000000),\"-\")","v":9.7323750000000011},{"$f":"IFERROR(IF($B$2=\"トン\",AppQt.Data!AI137,(AppQt.Data!AI137*ozton*AppQt.Data!AI$7)/1000000),\"-\")","v":12.021125},{"$f":"IFERROR(IF($B$2=\"トン\",AppQt.Data!AJ137,(AppQt.Data!AJ137*ozton*AppQt.Data!AJ$7)/1000000),\"-\")","v":12.572875},{"$f":"IFERROR(IF($B$2=\"トン\",AppQt.Data!AK137,(AppQt.Data!AK137*ozton*AppQt.Data!AK$7)/1000000),\"-\")","v":10.507875},{"$f":"IFERROR(IF($B$2=\"トン\",AppQt.Data!AL137,(AppQt.Data!AL137*ozton*AppQt.Data!AL$7)/1000000),\"-\")","v":8.2606249999999992},{"$f":"IFERROR(IF($B$2=\"トン\",AppQt.Data!AM137,(AppQt.Data!AM137*ozton*AppQt.Data!AM$7)/1000000),\"-\")","v":8.7252499999999991},{"$f":"IFERROR(IF($B$2=\"トン\",AppQt.Data!AN137,(AppQt.Data!AN137*ozton*AppQt.Data!AN$7)/1000000),\"-\")","v":11.65625},{"$f":"IFERROR(IF($B$2=\"トン\",AppQt.Data!AO137,(AppQt.Data!AO137*ozton*AppQt.Data!AO$7)/1000000),\"-\")","v":11.102499999999999},{"$f":"IFERROR(IF($B$2=\"トン\",AppQt.Data!AP137,(AppQt.Data!AP137*ozton*AppQt.Data!AP$7)/1000000),\"-\")","v":9.4242500000000007},{"$f":"IFERROR(IF($B$2=\"トン\",AppQt.Data!AQ137,(AppQt.Data!AQ137*ozton*AppQt.Data!AQ$7)/1000000),\"-\")","v":9.6048749999999998},{"$f":"IFERROR(IF($B$2=\"トン\",AppQt.Data!AR137,(AppQt.Data!AR137*ozton*AppQt.Data!AR$7)/1000000),\"-\")","v":11.06625},{"$f":"IFERROR(IF($B$2=\"トン\",AppQt.Data!AS137,(AppQt.Data!AS137*ozton*AppQt.Data!AS$7)/1000000),\"-\")","v":11.227630000000001},{"$f":"IFERROR(IF($B$2=\"トン\",AppQt.Data!AT137,(AppQt.Data!AT137*ozton*AppQt.Data!AT$7)/1000000),\"-\")","v":8.9737040000000015},{"$f":"IFERROR(IF($B$2=\"トン\",AppQt.Data!AU137,(AppQt.Data!AU137*ozton*AppQt.Data!AU$7)/1000000),\"-\")","v":10.372},{"$f":"IFERROR(IF($B$2=\"トン\",AppQt.Data!AV137,(AppQt.Data!AV137*ozton*AppQt.Data!AV$7)/1000000),\"-\")","v":10.408999999999999},{"$f":"IFERROR(IF($B$2=\"トン\",AppQt.Data!AW137,(AppQt.Data!AW137*ozton*AppQt.Data!AW$7)/1000000),\"-\")","v":9.370000000000001},{"$f":"IFERROR(IF($B$2=\"トン\",AppQt.Data!AX137,(AppQt.Data!AX137*ozton*AppQt.Data!AX$7)/1000000),\"-\")","v":10.234999999999999},{"$f":"IFERROR(IF($B$2=\"トン\",AppQt.Data!AY137,(AppQt.Data!AY137*ozton*AppQt.Data!AY$7)/1000000),\"-\")","v":9.8230000000000004},{"$f":"IFERROR(IF($B$2=\"トン\",AppQt.Data!AZ137,(AppQt.Data!AZ137*ozton*AppQt.Data!AZ$7)/1000000),\"-\")","v":9.5129999999999999},{"$f":"IFERROR(IF($B$2=\"トン\",AppQt.Data!BA137,(AppQt.Data!BA137*ozton*AppQt.Data!BA$7)/1000000),\"-\")","v":7.9429999999999996},{"$f":"IFERROR(IF($B$2=\"トン\",AppQt.Data!BB137,(AppQt.Data!BB137*ozton*AppQt.Data!BB$7)/1000000),\"-\")","v":7.6999999999999993},{"$f":"IFERROR(IF($B$2=\"トン\",AppQt.Data!BC137,(AppQt.Data!BC137*ozton*AppQt.Data!BC$7)/1000000),\"-\")","v":9.9250000000000007},{"$f":"IFERROR(IF($B$2=\"トン\",AppQt.Data!BD137,(AppQt.Data!BD137*ozton*AppQt.Data!BD$7)/1000000),\"-\")","v":9.82},{"$f":"IFERROR(IF($B$2=\"トン\",AppQt.Data!BE137,(AppQt.Data!BE137*ozton*AppQt.Data!BE$7)/1000000),\"-\")","v":10.87125},{"$f":"IFERROR(IF($B$2=\"トン\",AppQt.Data!BF137,(AppQt.Data!BF137*ozton*AppQt.Data!BF$7)/1000000),\"-\")","v":9.43},{"$f":"IFERROR(IF($B$2=\"トン\",AppQt.Data!BG137,(AppQt.Data!BG137*ozton*AppQt.Data!BG$7)/1000000),\"-\")","v":9.0949999999999989},{"$f":"IFERROR(IF($B$2=\"トン\",AppQt.Data!BH137,(AppQt.Data!BH137*ozton*AppQt.Data!BH$7)/1000000),\"-\")","v":10.24},{"$f":"IFERROR(IF($B$2=\"トン\",AppQt.Data!BI137,(AppQt.Data!BI137*ozton*AppQt.Data!BI$7)/1000000),\"-\")","v":9.1315000000000008},{"$f":"IFERROR(IF($B$2=\"トン\",AppQt.Data!BJ137,(AppQt.Data!BJ137*ozton*AppQt.Data!BJ$7)/1000000),\"-\")","v":8.4250000000000007},{"$f":"IFERROR(IF($B$2=\"トン\",AppQt.Data!BK137,(AppQt.Data!BK137*ozton*AppQt.Data!BK$7)/1000000),\"-\")","v":7.0449999999999999},{"$f":"IFERROR(IF($B$2=\"トン\",AppQt.Data!BL137,(AppQt.Data!BL137*ozton*AppQt.Data!BL$7)/1000000),\"-\")","v":7.79},"▼",-23.92578125]
[null,"タイ",{"$f":"IFERROR(IF($B$2=\"トン\",AppAn.Data!L128,(AppAn.Data!L128*ozton*AppAn.Data!L$6)/1000000),\"-\")","v":71.295106396149237},{"$f":"IFERROR(IF($B$2=\"トン\",AppAn.Data!M128,(AppAn.Data!M128*ozton*AppAn.Data!M$6)/1000000),\"-\")","v":113.56312303644738},{"$f":"IFERROR(IF($B$2=\"トン\",AppAn.Data!N128,(AppAn.Data!N128*ozton*AppAn.Data!N$6)/1000000),\"-\")","v":110.01626891058577},{"$f":"IFERROR(IF($B$2=\"トン\",AppAn.Data!O128,(AppAn.Data!O128*ozton*AppAn.Data!O$6)/1000000),\"-\")","v":153.80618750000002},{"$f":"IFERROR(IF($B$2=\"トン\",AppAn.Data!P128,(AppAn.Data!P128*ozton*AppAn.Data!P$6)/1000000),\"-\")","v":108.71900000000001},{"$f":"IFERROR(IF($B$2=\"トン\",AppAn.Data!Q128,(AppAn.Data!Q128*ozton*AppAn.Data!Q$6)/1000000),\"-\")","v":90.206390074999987},{"$f":"IFERROR(IF($B$2=\"トン\",AppAn.Data!R128,(AppAn.Data!R128*ozton*AppAn.Data!R$6)/1000000),\"-\")","v":81.527985570156403},{"$f":"IFERROR(IF($B$2=\"トン\",AppAn.Data!S128,(AppAn.Data!S128*ozton*AppAn.Data!S$6)/1000000),\"-\")","v":75.416958928731489},{"$f":"IFERROR(IF($B$2=\"トン\",AppAn.Data!T128,(AppAn.Data!T128*ozton*AppAn.Data!T$6)/1000000),\"-\")","v":80.55498335880867},{"$f":"IFERROR(IF($B$2=\"トン\",AppAn.Data!U128,(AppAn.Data!U128*ozton*AppAn.Data!U$6)/1000000),\"-\")","v":46.498719169337527},{"$f":"IFERROR(IF($B$2=\"トン\",AppAn.Data!V128,(AppAn.Data!V128*ozton*AppAn.Data!V$6)/1000000),\"-\")","v":-81.496097639817407},{"$f":"IFERROR(IF($B$2=\"トン\",AppAn.Data!W128,(AppAn.Data!W128*ozton*AppAn.Data!W$6)/1000000),\"-\")","v":36.705409266786702},{"$f":"IFERROR(IF($B$2=\"トン\",AppAn.Data!X128,(AppAn.Data!X128*ozton*AppAn.Data!X$6)/1000000),\"-\")","v":37.92788082949761},"▲",3.3304942980626917,null,{"$f":"IFERROR(IF($B$2=\"トン\",AppQt.Data!M138,(AppQt.Data!M138*ozton*AppQt.Data!M$7)/1000000),\"-\")","v":18.321250263632209},{"$f":"IFERROR(IF($B$2=\"トン\",AppQt.Data!N138,(AppQt.Data!N138*ozton*AppQt.Data!N$7)/1000000),\"-\")","v":21.278004251658661},{"$f":"IFERROR(IF($B$2=\"トン\",AppQt.Data!O138,(AppQt.Data!O138*ozton*AppQt.Data!O$7)/1000000),\"-\")","v":22.19266568388645},{"$f":"IFERROR(IF($B$2=\"トン\",AppQt.Data!P138,(AppQt.Data!P138*ozton*AppQt.Data!P$7)/1000000),\"-\")","v":9.5031861969719102},{"$f":"IFERROR(IF($B$2=\"トン\",AppQt.Data!Q138,(AppQt.Data!Q138*ozton*AppQt.Data!Q$7)/1000000),\"-\")","v":33.267617374669932},{"$f":"IFERROR(IF($B$2=\"トン\",AppQt.Data!R138,(AppQt.Data!R138*ozton*AppQt.Data!R$7)/1000000),\"-\")","v":19.38410696594811},{"$f":"IFERROR(IF($B$2=\"トン\",AppQt.Data!S138,(AppQt.Data!S138*ozton*AppQt.Data!S$7)/1000000),\"-\")","v":35.573629517375629},{"$f":"IFERROR(IF($B$2=\"トン\",AppQt.Data!T138,(AppQt.Data!T138*ozton*AppQt.Data!T$7)/1000000),\"-\")","v":25.337769178453712},{"$f":"IFERROR(IF($B$2=\"トン\",AppQt.Data!U138,(AppQt.Data!U138*ozton*AppQt.Data!U$7)/1000000),\"-\")","v":35.835967375737511},{"$f":"IFERROR(IF($B$2=\"トン\",AppQt.Data!V138,(AppQt.Data!V138*ozton*AppQt.Data!V$7)/1000000),\"-\")","v":18.031095214931323},{"$f":"IFERROR(IF($B$2=\"トン\",AppQt.Data!W138,(AppQt.Data!W138*ozton*AppQt.Data!W$7)/1000000),\"-\")","v":20.424485466336858},{"$f":"IFERROR(IF($B$2=\"トン\",AppQt.Data!X138,(AppQt.Data!X138*ozton*AppQt.Data!X$7)/1000000),\"-\")","v":35.72472085358006},{"$f":"IFERROR(IF($B$2=\"トン\",AppQt.Data!Y138,(AppQt.Data!Y138*ozton*AppQt.Data!Y$7)/1000000),\"-\")","v":59.794125000000001},{"$f":"IFERROR(IF($B$2=\"トン\",AppQt.Data!Z138,(AppQt.Data!Z138*ozton*AppQt.Data!Z$7)/1000000),\"-\")","v":40.580500000000001},{"$f":"IFERROR(IF($B$2=\"トン\",AppQt.Data!AA138,(AppQt.Data!AA138*ozton*AppQt.Data!AA$7)/1000000),\"-\")","v":27.071562500000002},{"$f":"IFERROR(IF($B$2=\"トン\",AppQt.Data!AB138,(AppQt.Data!AB138*ozton*AppQt.Data!AB$7)/1000000),\"-\")","v":26.36},{"$f":"IFERROR(IF($B$2=\"トン\",AppQt.Data!AC138,(AppQt.Data!AC138*ozton*AppQt.Data!AC$7)/1000000),\"-\")","v":27.72},{"$f":"IFERROR(IF($B$2=\"トン\",AppQt.Data!AD138,(AppQt.Data!AD138*ozton*AppQt.Data!AD$7)/1000000),\"-\")","v":21.021999999999998},{"$f":"IFERROR(IF($B$2=\"トン\",AppQt.Data!AE138,(AppQt.Data!AE138*ozton*AppQt.Data!AE$7)/1000000),\"-\")","v":28.48},{"$f":"IFERROR(IF($B$2=\"トン\",AppQt.Data!AF138,(AppQt.Data!AF138*ozton*AppQt.Data!AF$7)/1000000),\"-\")","v":31.497},{"$f":"IFERROR(IF($B$2=\"トン\",AppQt.Data!AG138,(AppQt.Data!AG138*ozton*AppQt.Data!AG$7)/1000000),\"-\")","v":22.881},{"$f":"IFERROR(IF($B$2=\"トン\",AppQt.Data!AH138,(AppQt.Data!AH138*ozton*AppQt.Data!AH$7)/1000000),\"-\")","v":19.236229999999999},{"$f":"IFERROR(IF($B$2=\"トン\",AppQt.Data!AI138,(AppQt.Data!AI138*ozton*AppQt.Data!AI$7)/1000000),\"-\")","v":23.471541500000001},{"$f":"IFERROR(IF($B$2=\"トン\",AppQt.Data!AJ138,(AppQt.Data!AJ138*ozton*AppQt.Data!AJ$7)/1000000),\"-\")","v":24.617618575000002},{"$f":"IFERROR(IF($B$2=\"トン\",AppQt.Data!AK138,(AppQt.Data!AK138*ozton*AppQt.Data!AK$7)/1000000),\"-\")","v":25.668562003750004},{"$f":"IFERROR(IF($B$2=\"トン\",AppQt.Data!AL138,(AppQt.Data!AL138*ozton*AppQt.Data!AL$7)/1000000),\"-\")","v":18.282849602999999},{"$f":"IFERROR(IF($B$2=\"トン\",AppQt.Data!AM138,(AppQt.Data!AM138*ozton*AppQt.Data!AM$7)/1000000),\"-\")","v":16.935323059329999},{"$f":"IFERROR(IF($B$2=\"トン\",AppQt.Data!AN138,(AppQt.Data!AN138*ozton*AppQt.Data!AN$7)/1000000),\"-\")","v":20.641250904076401},{"$f":"IFERROR(IF($B$2=\"トン\",AppQt.Data!AO138,(AppQt.Data!AO138*ozton*AppQt.Data!AO$7)/1000000),\"-\")","v":23.313958395035634},{"$f":"IFERROR(IF($B$2=\"トン\",AppQt.Data!AP138,(AppQt.Data!AP138*ozton*AppQt.Data!AP$7)/1000000),\"-\")","v":17.729294738404398},{"$f":"IFERROR(IF($B$2=\"トン\",AppQt.Data!AQ138,(AppQt.Data!AQ138*ozton*AppQt.Data!AQ$7)/1000000),\"-\")","v":16.097272895601751},{"$f":"IFERROR(IF($B$2=\"トン\",AppQt.Data!AR138,(AppQt.Data!AR138*ozton*AppQt.Data!AR$7)/1000000),\"-\")","v":18.276432899689702},{"$f":"IFERROR(IF($B$2=\"トン\",AppQt.Data!AS138,(AppQt.Data!AS138*ozton*AppQt.Data!AS$7)/1000000),\"-\")","v":24.333836522812241},{"$f":"IFERROR(IF($B$2=\"トン\",AppQt.Data!AT138,(AppQt.Data!AT138*ozton*AppQt.Data!AT$7)/1000000),\"-\")","v":17.645750784043546},{"$f":"IFERROR(IF($B$2=\"トン\",AppQt.Data!AU138,(AppQt.Data!AU138*ozton*AppQt.Data!AU$7)/1000000),\"-\")","v":19.32385771338646},{"$f":"IFERROR(IF($B$2=\"トン\",AppQt.Data!AV138,(AppQt.Data!AV138*ozton*AppQt.Data!AV$7)/1000000),\"-\")","v":19.251538338566419},{"$f":"IFERROR(IF($B$2=\"トン\",AppQt.Data!AW138,(AppQt.Data!AW138*ozton*AppQt.Data!AW$7)/1000000),\"-\")","v":24.609406302643485},{"$f":"IFERROR(IF($B$2=\"トン\",AppQt.Data!AX138,(AppQt.Data!AX138*ozton*AppQt.Data!AX$7)/1000000),\"-\")","v":15.071809676608321},{"$f":"IFERROR(IF($B$2=\"トン\",AppQt.Data!AY138,(AppQt.Data!AY138*ozton*AppQt.Data!AY$7)/1000000),\"-\")","v":-7.022272118626165},{"$f":"IFERROR(IF($B$2=\"トン\",AppQt.Data!AZ138,(AppQt.Data!AZ138*ozton*AppQt.Data!AZ$7)/1000000),\"-\")","v":13.839775308711888},{"$f":"IFERROR(IF($B$2=\"トン\",AppQt.Data!BA138,(AppQt.Data!BA138*ozton*AppQt.Data!BA$7)/1000000),\"-\")","v":7.4704635671101665},{"$f":"IFERROR(IF($B$2=\"トン\",AppQt.Data!BB138,(AppQt.Data!BB138*ozton*AppQt.Data!BB$7)/1000000),\"-\")","v":-39.906568021367505},{"$f":"IFERROR(IF($B$2=\"トン\",AppQt.Data!BC138,(AppQt.Data!BC138*ozton*AppQt.Data!BC$7)/1000000),\"-\")","v":-43.802786897072458},{"$f":"IFERROR(IF($B$2=\"トン\",AppQt.Data!BD138,(AppQt.Data!BD138*ozton*AppQt.Data!BD$7)/1000000),\"-\")","v":-5.2572062884876161},{"$f":"IFERROR(IF($B$2=\"トン\",AppQt.Data!BE138,(AppQt.Data!BE138*ozton*AppQt.Data!BE$7)/1000000),\"-\")","v":8.2504415710058865},{"$f":"IFERROR(IF($B$2=\"トン\",AppQt.Data!BF138,(AppQt.Data!BF138*ozton*AppQt.Data!BF$7)/1000000),\"-\")","v":7.453880588361379},{"$f":"IFERROR(IF($B$2=\"トン\",AppQt.Data!BG138,(AppQt.Data!BG138*ozton*AppQt.Data!BG$7)/1000000),\"-\")","v":8.6165096536045738},{"$f":"IFERROR(IF($B$2=\"トン\",AppQt.Data!BH138,(AppQt.Data!BH138*ozton*AppQt.Data!BH$7)/1000000),\"-\")","v":12.38457745381486},{"$f":"IFERROR(IF($B$2=\"トン\",AppQt.Data!BI138,(AppQt.Data!BI138*ozton*AppQt.Data!BI$7)/1000000),\"-\")","v":3.8056787789283586},{"$f":"IFERROR(IF($B$2=\"トン\",AppQt.Data!BJ138,(AppQt.Data!BJ138*ozton*AppQt.Data!BJ$7)/1000000),\"-\")","v":8.4858931963159918},{"$f":"IFERROR(IF($B$2=\"トン\",AppQt.Data!BK138,(AppQt.Data!BK138*ozton*AppQt.Data!BK$7)/1000000),\"-\")","v":12.091313032366175},{"$f":"IFERROR(IF($B$2=\"トン\",AppQt.Data!BL138,(AppQt.Data!BL138*ozton*AppQt.Data!BL$7)/1000000),\"-\")","v":13.544995821887088},"▲",9.3698664520425865]
[null,"ベトナム",{"$f":"IFERROR(IF($B$2=\"トン\",AppAn.Data!L129,(AppAn.Data!L129*ozton*AppAn.Data!L$6)/1000000),\"-\")","v":82.327247288344168},{"$f":"IFERROR(IF($B$2=\"トン\",AppAn.Data!M129,(AppAn.Data!M129*ozton*AppAn.Data!M$6)/1000000),\"-\")","v":103.42445417920035},{"$f":"IFERROR(IF($B$2=\"トン\",AppAn.Data!N129,(AppAn.Data!N129*ozton*AppAn.Data!N$6)/1000000),\"-\")","v":84.252252048240891},{"$f":"IFERROR(IF($B$2=\"トン\",AppAn.Data!O129,(AppAn.Data!O129*ozton*AppAn.Data!O$6)/1000000),\"-\")","v":99.649157608695646},{"$f":"IFERROR(IF($B$2=\"トン\",AppAn.Data!P129,(AppAn.Data!P129*ozton*AppAn.Data!P$6)/1000000),\"-\")","v":66.650000000000006},{"$f":"IFERROR(IF($B$2=\"トン\",AppAn.Data!Q129,(AppAn.Data!Q129*ozton*AppAn.Data!Q$6)/1000000),\"-\")","v":63.41177175},{"$f":"IFERROR(IF($B$2=\"トン\",AppAn.Data!R129,(AppAn.Data!R129*ozton*AppAn.Data!R$6)/1000000),\"-\")","v":58.327975983320009},{"$f":"IFERROR(IF($B$2=\"トン\",AppAn.Data!S129,(AppAn.Data!S129*ozton*AppAn.Data!S$6)/1000000),\"-\")","v":53.869880208810478},{"$f":"IFERROR(IF($B$2=\"トン\",AppAn.Data!T129,(AppAn.Data!T129*ozton*AppAn.Data!T$6)/1000000),\"-\")","v":59.488263730545519},{"$f":"IFERROR(IF($B$2=\"トン\",AppAn.Data!U129,(AppAn.Data!U129*ozton*AppAn.Data!U$6)/1000000),\"-\")","v":56.369306311509256},{"$f":"IFERROR(IF($B$2=\"トン\",AppAn.Data!V129,(AppAn.Data!V129*ozton*AppAn.Data!V$6)/1000000),\"-\")","v":39.801864326969735},{"$f":"IFERROR(IF($B$2=\"トン\",AppAn.Data!W129,(AppAn.Data!W129*ozton*AppAn.Data!W$6)/1000000),\"-\")","v":42.989294897116224},{"$f":"IFERROR(IF($B$2=\"トン\",AppAn.Data!X129,(AppAn.Data!X129*ozton*AppAn.Data!X$6)/1000000),\"-\")","v":59.107685276409143},"▲",37.49396313167761,null,{"$f":"IFERROR(IF($B$2=\"トン\",AppQt.Data!M139,(AppQt.Data!M139*ozton*AppQt.Data!M$7)/1000000),\"-\")","v":19.279882752328607},{"$f":"IFERROR(IF($B$2=\"トン\",AppQt.Data!N139,(AppQt.Data!N139*ozton*AppQt.Data!N$7)/1000000),\"-\")","v":15.772569280573418},{"$f":"IFERROR(IF($B$2=\"トン\",AppQt.Data!O139,(AppQt.Data!O139*ozton*AppQt.Data!O$7)/1000000),\"-\")","v":22.252175351011736},{"$f":"IFERROR(IF($B$2=\"トン\",AppQt.Data!P139,(AppQt.Data!P139*ozton*AppQt.Data!P$7)/1000000),\"-\")","v":25.022619904430414},{"$f":"IFERROR(IF($B$2=\"トン\",AppQt.Data!Q139,(AppQt.Data!Q139*ozton*AppQt.Data!Q$7)/1000000),\"-\")","v":19.978177822654622},{"$f":"IFERROR(IF($B$2=\"トン\",AppQt.Data!R139,(AppQt.Data!R139*ozton*AppQt.Data!R$7)/1000000),\"-\")","v":17.304110665614804},{"$f":"IFERROR(IF($B$2=\"トン\",AppQt.Data!S139,(AppQt.Data!S139*ozton*AppQt.Data!S$7)/1000000),\"-\")","v":36.950540220526577},{"$f":"IFERROR(IF($B$2=\"トン\",AppQt.Data!T139,(AppQt.Data!T139*ozton*AppQt.Data!T$7)/1000000),\"-\")","v":29.191625470404347},{"$f":"IFERROR(IF($B$2=\"トン\",AppQt.Data!U139,(AppQt.Data!U139*ozton*AppQt.Data!U$7)/1000000),\"-\")","v":23.964489515741043},{"$f":"IFERROR(IF($B$2=\"トン\",AppQt.Data!V139,(AppQt.Data!V139*ozton*AppQt.Data!V$7)/1000000),\"-\")","v":20.601022279520734},{"$f":"IFERROR(IF($B$2=\"トン\",AppQt.Data!W139,(AppQt.Data!W139*ozton*AppQt.Data!W$7)/1000000),\"-\")","v":19.239227041615209},{"$f":"IFERROR(IF($B$2=\"トン\",AppQt.Data!X139,(AppQt.Data!X139*ozton*AppQt.Data!X$7)/1000000),\"-\")","v":20.447513211363894},{"$f":"IFERROR(IF($B$2=\"トン\",AppQt.Data!Y139,(AppQt.Data!Y139*ozton*AppQt.Data!Y$7)/1000000),\"-\")","v":22.795624999999998},{"$f":"IFERROR(IF($B$2=\"トン\",AppQt.Data!Z139,(AppQt.Data!Z139*ozton*AppQt.Data!Z$7)/1000000),\"-\")","v":29.831250000000001},{"$f":"IFERROR(IF($B$2=\"トン\",AppQt.Data!AA139,(AppQt.Data!AA139*ozton*AppQt.Data!AA$7)/1000000),\"-\")","v":24.6875},{"$f":"IFERROR(IF($B$2=\"トン\",AppQt.Data!AB139,(AppQt.Data!AB139*ozton*AppQt.Data!AB$7)/1000000),\"-\")","v":22.334782608695651},{"$f":"IFERROR(IF($B$2=\"トン\",AppQt.Data!AC139,(AppQt.Data!AC139*ozton*AppQt.Data!AC$7)/1000000),\"-\")","v":19.740000000000002},{"$f":"IFERROR(IF($B$2=\"トン\",AppQt.Data!AD139,(AppQt.Data!AD139*ozton*AppQt.Data!AD$7)/1000000),\"-\")","v":15.31},{"$f":"IFERROR(IF($B$2=\"トン\",AppQt.Data!AE139,(AppQt.Data!AE139*ozton*AppQt.Data!AE$7)/1000000),\"-\")","v":15.850000000000001},{"$f":"IFERROR(IF($B$2=\"トン\",AppQt.Data!AF139,(AppQt.Data!AF139*ozton*AppQt.Data!AF$7)/1000000),\"-\")","v":15.75},{"$f":"IFERROR(IF($B$2=\"トン\",AppQt.Data!AG139,(AppQt.Data!AG139*ozton*AppQt.Data!AG$7)/1000000),\"-\")","v":18.88},{"$f":"IFERROR(IF($B$2=\"トン\",AppQt.Data!AH139,(AppQt.Data!AH139*ozton*AppQt.Data!AH$7)/1000000),\"-\")","v":14.523999999999999},{"$f":"IFERROR(IF($B$2=\"トン\",AppQt.Data!AI139,(AppQt.Data!AI139*ozton*AppQt.Data!AI$7)/1000000),\"-\")","v":14.99845},{"$f":"IFERROR(IF($B$2=\"トン\",AppQt.Data!AJ139,(AppQt.Data!AJ139*ozton*AppQt.Data!AJ$7)/1000000),\"-\")","v":15.009321750000002},{"$f":"IFERROR(IF($B$2=\"トン\",AppQt.Data!AK139,(AppQt.Data!AK139*ozton*AppQt.Data!AK$7)/1000000),\"-\")","v":16.185700499999999},{"$f":"IFERROR(IF($B$2=\"トン\",AppQt.Data!AL139,(AppQt.Data!AL139*ozton*AppQt.Data!AL$7)/1000000),\"-\")","v":12.371760400000001},{"$f":"IFERROR(IF($B$2=\"トン\",AppQt.Data!AM139,(AppQt.Data!AM139*ozton*AppQt.Data!AM$7)/1000000),\"-\")","v":12.426437974000002},{"$f":"IFERROR(IF($B$2=\"トン\",AppQt.Data!AN139,(AppQt.Data!AN139*ozton*AppQt.Data!AN$7)/1000000),\"-\")","v":17.344077109320004},{"$f":"IFERROR(IF($B$2=\"トン\",AppQt.Data!AO139,(AppQt.Data!AO139*ozton*AppQt.Data!AO$7)/1000000),\"-\")","v":16.677955190951003},{"$f":"IFERROR(IF($B$2=\"トン\",AppQt.Data!AP139,(AppQt.Data!AP139*ozton*AppQt.Data!AP$7)/1000000),\"-\")","v":12.745596550308351},{"$f":"IFERROR(IF($B$2=\"トン\",AppQt.Data!AQ139,(AppQt.Data!AQ139*ozton*AppQt.Data!AQ$7)/1000000),\"-\")","v":11.94069848355506},{"$f":"IFERROR(IF($B$2=\"トン\",AppQt.Data!AR139,(AppQt.Data!AR139*ozton*AppQt.Data!AR$7)/1000000),\"-\")","v":12.505629983996066},{"$f":"IFERROR(IF($B$2=\"トン\",AppQt.Data!AS139,(AppQt.Data!AS139*ozton*AppQt.Data!AS$7)/1000000),\"-\")","v":17.788882621301322},{"$f":"IFERROR(IF($B$2=\"トン\",AppQt.Data!AT139,(AppQt.Data!AT139*ozton*AppQt.Data!AT$7)/1000000),\"-\")","v":13.880421673181148},{"$f":"IFERROR(IF($B$2=\"トン\",AppQt.Data!AU139,(AppQt.Data!AU139*ozton*AppQt.Data!AU$7)/1000000),\"-\")","v":14.333491653027217},{"$f":"IFERROR(IF($B$2=\"トン\",AppQt.Data!AV139,(AppQt.Data!AV139*ozton*AppQt.Data!AV$7)/1000000),\"-\")","v":13.48546778303583},{"$f":"IFERROR(IF($B$2=\"トン\",AppQt.Data!AW139,(AppQt.Data!AW139*ozton*AppQt.Data!AW$7)/1000000),\"-\")","v":18.729242272466401},{"$f":"IFERROR(IF($B$2=\"トン\",AppQt.Data!AX139,(AppQt.Data!AX139*ozton*AppQt.Data!AX$7)/1000000),\"-\")","v":13.49662367472602},{"$f":"IFERROR(IF($B$2=\"トン\",AppQt.Data!AY139,(AppQt.Data!AY139*ozton*AppQt.Data!AY$7)/1000000),\"-\")","v":12.817711782227454},{"$f":"IFERROR(IF($B$2=\"トン\",AppQt.Data!AZ139,(AppQt.Data!AZ139*ozton*AppQt.Data!AZ$7)/1000000),\"-\")","v":11.325728582089381},{"$f":"IFERROR(IF($B$2=\"トン\",AppQt.Data!BA139,(AppQt.Data!BA139*ozton*AppQt.Data!BA$7)/1000000),\"-\")","v":16.786543799941775},{"$f":"IFERROR(IF($B$2=\"トン\",AppQt.Data!BB139,(AppQt.Data!BB139*ozton*AppQt.Data!BB$7)/1000000),\"-\")","v":6.7981877345400443},{"$f":"IFERROR(IF($B$2=\"トン\",AppQt.Data!BC139,(AppQt.Data!BC139*ozton*AppQt.Data!BC$7)/1000000),\"-\")","v":6.5853451059208767},{"$f":"IFERROR(IF($B$2=\"トン\",AppQt.Data!BD139,(AppQt.Data!BD139*ozton*AppQt.Data!BD$7)/1000000),\"-\")","v":9.6317876865670353},{"$f":"IFERROR(IF($B$2=\"トン\",AppQt.Data!BE139,(AppQt.Data!BE139*ozton*AppQt.Data!BE$7)/1000000),\"-\")","v":18.55591168898869},{"$f":"IFERROR(IF($B$2=\"トン\",AppQt.Data!BF139,(AppQt.Data!BF139*ozton*AppQt.Data!BF$7)/1000000),\"-\")","v":12.596488015988099},{"$f":"IFERROR(IF($B$2=\"トン\",AppQt.Data!BG139,(AppQt.Data!BG139*ozton*AppQt.Data!BG$7)/1000000),\"-\")","v":3.2926725529604384},{"$f":"IFERROR(IF($B$2=\"トン\",AppQt.Data!BH139,(AppQt.Data!BH139*ozton*AppQt.Data!BH$7)/1000000),\"-\")","v":8.5442226391789919},{"$f":"IFERROR(IF($B$2=\"トン\",AppQt.Data!BI139,(AppQt.Data!BI139*ozton*AppQt.Data!BI$7)/1000000),\"-\")","v":19.602945546965429},{"$f":"IFERROR(IF($B$2=\"トン\",AppQt.Data!BJ139,(AppQt.Data!BJ139*ozton*AppQt.Data!BJ$7)/1000000),\"-\")","v":14.026874110464764},{"$f":"IFERROR(IF($B$2=\"トン\",AppQt.Data!BK139,(AppQt.Data!BK139*ozton*AppQt.Data!BK$7)/1000000),\"-\")","v":11.992609529173176},{"$f":"IFERROR(IF($B$2=\"トン\",AppQt.Data!BL139,(AppQt.Data!BL139*ozton*AppQt.Data!BL$7)/1000000),\"-\")","v":13.485256089805764},"▲",57.828940785905743]
[null,"オーストラリア","-","-","-","-","-","-","-","-","-","-","-",{"$f":"IFERROR(IF($B$2=\"トン\",AppAn.Data!W130,(AppAn.Data!W130*ozton*AppAn.Data!W$6)/1000000),\"-\")","v":28.702342548046914},{"$f":"IFERROR(IF($B$2=\"トン\",AppAn.Data!X130,(AppAn.Data!X130*ozton*AppAn.Data!X$6)/1000000),\"-\")","v":30.881778427733806},{"$f":"IF(Q20<0,$A$2,IF(Q20>0,$A$1,\"-\"))","v":"▲"},7.5932334653123768,null,"-","-","-","-","-","-","-","-","-","-","-","-","-","-","-","-","-","-","-","-","-","-","-","-","-","-","-","-","-","-","-","-","-","-","-","-","-","-","-","-","-","-","-","-",{"$f":"IFERROR(IF($B$2=\"トン\",AppQt.Data!BE140,(AppQt.Data!BE140*ozton*AppQt.Data!BE$7)/1000000),\"-\")","v":7.1649173498947336},{"$f":"IFERROR(IF($B$2=\"トン\",AppQt.Data!BF140,(AppQt.Data!BF140*ozton*AppQt.Data!BF$7)/1000000),\"-\")","v":7.5367937428737779},{"$f":"IFERROR(IF($B$2=\"トン\",AppQt.Data!BG140,(AppQt.Data!BG140*ozton*AppQt.Data!BG$7)/1000000),\"-\")","v":6.1071091120339744},{"$f":"IFERROR(IF($B$2=\"トン\",AppQt.Data!BH140,(AppQt.Data!BH140*ozton*AppQt.Data!BH$7)/1000000),\"-\")","v":7.8935223432444319},{"$f":"IFERROR(IF($B$2=\"トン\",AppQt.Data!BI140,(AppQt.Data!BI140*ozton*AppQt.Data!BI$7)/1000000),\"-\")","v":8.6170361116380576},{"$f":"IFERROR(IF($B$2=\"トン\",AppQt.Data!BJ140,(AppQt.Data!BJ140*ozton*AppQt.Data!BJ$7)/1000000),\"-\")","v":7.4162281162727339},{"$f":"IFERROR(IF($B$2=\"トン\",AppQt.Data!BK140,(AppQt.Data!BK140*ozton*AppQt.Data!BK$7)/1000000),\"-\")","v":7.4350639503362768},{"$f":"IFERROR(IF($B$2=\"トン\",AppQt.Data!BL140,(AppQt.Data!BL140*ozton*AppQt.Data!BL$7)/1000000),\"-\")","v":7.4134502494867354},{"$f":"IF(BT20<0,$A$2,IF(BT20>0,$A$1,\"-\"))","v":"▼"},-6.0818487980661811]
[null,"中東",{"$f":"IFERROR(IF($B$2=\"トン\",AppAn.Data!L131,(AppAn.Data!L131*ozton*AppAn.Data!L$6)/1000000),\"-\")","v":327.19435608846885},{"$f":"IFERROR(IF($B$2=\"トン\",AppAn.Data!M131,(AppAn.Data!M131*ozton*AppAn.Data!M$6)/1000000),\"-\")","v":301.43865697637409},{"$f":"IFERROR(IF($B$2=\"トン\",AppAn.Data!N131,(AppAn.Data!N131*ozton*AppAn.Data!N$6)/1000000),\"-\")","v":300.2276251316178},{"$f":"IFERROR(IF($B$2=\"トン\",AppAn.Data!O131,(AppAn.Data!O131*ozton*AppAn.Data!O$6)/1000000),\"-\")","v":388.89718214729777},{"$f":"IFERROR(IF($B$2=\"トン\",AppAn.Data!P131,(AppAn.Data!P131*ozton*AppAn.Data!P$6)/1000000),\"-\")","v":328.83809029566982},{"$f":"IFERROR(IF($B$2=\"トン\",AppAn.Data!Q131,(AppAn.Data!Q131*ozton*AppAn.Data!Q$6)/1000000),\"-\")","v":302.83922139120585},{"$f":"IFERROR(IF($B$2=\"トン\",AppAn.Data!R131,(AppAn.Data!R131*ozton*AppAn.Data!R$6)/1000000),\"-\")","v":228.88370290347456},{"$f":"IFERROR(IF($B$2=\"トン\",AppAn.Data!S131,(AppAn.Data!S131*ozton*AppAn.Data!S$6)/1000000),\"-\")","v":241.68900653959128},{"$f":"IFERROR(IF($B$2=\"トン\",AppAn.Data!T131,(AppAn.Data!T131*ozton*AppAn.Data!T$6)/1000000),\"-\")","v":258.9926554537733},{"$f":"IFERROR(IF($B$2=\"トン\",AppAn.Data!U131,(AppAn.Data!U131*ozton*AppAn.Data!U$6)/1000000),\"-\")","v":231.15983711153658},{"$f":"IFERROR(IF($B$2=\"トン\",AppAn.Data!V131,(AppAn.Data!V131*ozton*AppAn.Data!V$6)/1000000),\"-\")","v":171.97115849639778},{"$f":"IFERROR(IF($B$2=\"トン\",AppAn.Data!W131,(AppAn.Data!W131*ozton*AppAn.Data!W$6)/1000000),\"-\")","v":219.88502853054001},{"$f":"IFERROR(IF($B$2=\"トン\",AppAn.Data!X131,(AppAn.Data!X131*ozton*AppAn.Data!X$6)/1000000),\"-\")","v":268.16235259537564},"▲",21.955712213544508,null,{"$f":"IFERROR(IF($B$2=\"トン\",AppQt.Data!M141,(AppQt.Data!M141*ozton*AppQt.Data!M$7)/1000000),\"-\")","v":90.200367886492629},{"$f":"IFERROR(IF($B$2=\"トン\",AppQt.Data!N141,(AppQt.Data!N141*ozton*AppQt.Data!N$7)/1000000),\"-\")","v":85.117375694468194},{"$f":"IFERROR(IF($B$2=\"トン\",AppQt.Data!O141,(AppQt.Data!O141*ozton*AppQt.Data!O$7)/1000000),\"-\")","v":89.957497665722229},{"$f":"IFERROR(IF($B$2=\"トン\",AppQt.Data!P141,(AppQt.Data!P141*ozton*AppQt.Data!P$7)/1000000),\"-\")","v":61.919114841785749},{"$f":"IFERROR(IF($B$2=\"トン\",AppQt.Data!Q141,(AppQt.Data!Q141*ozton*AppQt.Data!Q$7)/1000000),\"-\")","v":79.183678607887401},{"$f":"IFERROR(IF($B$2=\"トン\",AppQt.Data!R141,(AppQt.Data!R141*ozton*AppQt.Data!R$7)/1000000),\"-\")","v":79.598742134606027},{"$f":"IFERROR(IF($B$2=\"トン\",AppQt.Data!S141,(AppQt.Data!S141*ozton*AppQt.Data!S$7)/1000000),\"-\")","v":77.827893006864542},{"$f":"IFERROR(IF($B$2=\"トン\",AppQt.Data!T141,(AppQt.Data!T141*ozton*AppQt.Data!T$7)/1000000),\"-\")","v":64.828343227016134},{"$f":"IFERROR(IF($B$2=\"トン\",AppQt.Data!U141,(AppQt.Data!U141*ozton*AppQt.Data!U$7)/1000000),\"-\")","v":75.529196349269085},{"$f":"IFERROR(IF($B$2=\"トン\",AppQt.Data!V141,(AppQt.Data!V141*ozton*AppQt.Data!V$7)/1000000),\"-\")","v":76.87963843570725},{"$f":"IFERROR(IF($B$2=\"トン\",AppQt.Data!W141,(AppQt.Data!W141*ozton*AppQt.Data!W$7)/1000000),\"-\")","v":73.957354857184242},{"$f":"IFERROR(IF($B$2=\"トン\",AppQt.Data!X141,(AppQt.Data!X141*ozton*AppQt.Data!X$7)/1000000),\"-\")","v":73.861435489457293},{"$f":"IFERROR(IF($B$2=\"トン\",AppQt.Data!Y141,(AppQt.Data!Y141*ozton*AppQt.Data!Y$7)/1000000),\"-\")","v":86.552594828752376},{"$f":"IFERROR(IF($B$2=\"トン\",AppQt.Data!Z141,(AppQt.Data!Z141*ozton*AppQt.Data!Z$7)/1000000),\"-\")","v":128.50801718367515},{"$f":"IFERROR(IF($B$2=\"トン\",AppQt.Data!AA141,(AppQt.Data!AA141*ozton*AppQt.Data!AA$7)/1000000),\"-\")","v":89.998225427193319},{"$f":"IFERROR(IF($B$2=\"トン\",AppQt.Data!AB141,(AppQt.Data!AB141*ozton*AppQt.Data!AB$7)/1000000),\"-\")","v":83.838344707676924},{"$f":"IFERROR(IF($B$2=\"トン\",AppQt.Data!AC141,(AppQt.Data!AC141*ozton*AppQt.Data!AC$7)/1000000),\"-\")","v":102.71335304632703},{"$f":"IFERROR(IF($B$2=\"トン\",AppQt.Data!AD141,(AppQt.Data!AD141*ozton*AppQt.Data!AD$7)/1000000),\"-\")","v":88.266217319466335},{"$f":"IFERROR(IF($B$2=\"トン\",AppQt.Data!AE141,(AppQt.Data!AE141*ozton*AppQt.Data!AE$7)/1000000),\"-\")","v":68.181404908664831},{"$f":"IFERROR(IF($B$2=\"トン\",AppQt.Data!AF141,(AppQt.Data!AF141*ozton*AppQt.Data!AF$7)/1000000),\"-\")","v":69.677115021211577},{"$f":"IFERROR(IF($B$2=\"トン\",AppQt.Data!AG141,(AppQt.Data!AG141*ozton*AppQt.Data!AG$7)/1000000),\"-\")","v":88.481919041558157},{"$f":"IFERROR(IF($B$2=\"トン\",AppQt.Data!AH141,(AppQt.Data!AH141*ozton*AppQt.Data!AH$7)/1000000),\"-\")","v":77.491766091225571},{"$f":"IFERROR(IF($B$2=\"トン\",AppQt.Data!AI141,(AppQt.Data!AI141*ozton*AppQt.Data!AI$7)/1000000),\"-\")","v":70.245559090568534},{"$f":"IFERROR(IF($B$2=\"トン\",AppQt.Data!AJ141,(AppQt.Data!AJ141*ozton*AppQt.Data!AJ$7)/1000000),\"-\")","v":66.619977167853563},{"$f":"IFERROR(IF($B$2=\"トン\",AppQt.Data!AK141,(AppQt.Data!AK141*ozton*AppQt.Data!AK$7)/1000000),\"-\")","v":65.893382140281318},{"$f":"IFERROR(IF($B$2=\"トン\",AppQt.Data!AL141,(AppQt.Data!AL141*ozton*AppQt.Data!AL$7)/1000000),\"-\")","v":57.119347818055353},{"$f":"IFERROR(IF($B$2=\"トン\",AppQt.Data!AM141,(AppQt.Data!AM141*ozton*AppQt.Data!AM$7)/1000000),\"-\")","v":50.025815748270759},{"$f":"IFERROR(IF($B$2=\"トン\",AppQt.Data!AN141,(AppQt.Data!AN141*ozton*AppQt.Data!AN$7)/1000000),\"-\")","v":55.84515719686712},{"$f":"IFERROR(IF($B$2=\"トン\",AppQt.Data!AO141,(AppQt.Data!AO141*ozton*AppQt.Data!AO$7)/1000000),\"-\")","v":64.729900629479957},{"$f":"IFERROR(IF($B$2=\"トン\",AppQt.Data!AP141,(AppQt.Data!AP141*ozton*AppQt.Data!AP$7)/1000000),\"-\")","v":61.383256026824313},{"$f":"IFERROR(IF($B$2=\"トン\",AppQt.Data!AQ141,(AppQt.Data!AQ141*ozton*AppQt.Data!AQ$7)/1000000),\"-\")","v":53.636567524643482},{"$f":"IFERROR(IF($B$2=\"トン\",AppQt.Data!AR141,(AppQt.Data!AR141*ozton*AppQt.Data!AR$7)/1000000),\"-\")","v":61.939282358643524},{"$f":"IFERROR(IF($B$2=\"トン\",AppQt.Data!AS141,(AppQt.Data!AS141*ozton*AppQt.Data!AS$7)/1000000),\"-\")","v":60.141263167860238},{"$f":"IFERROR(IF($B$2=\"トン\",AppQt.Data!AT141,(AppQt.Data!AT141*ozton*AppQt.Data!AT$7)/1000000),\"-\")","v":66.242329031972105},{"$f":"IFERROR(IF($B$2=\"トン\",AppQt.Data!AU141,(AppQt.Data!AU141*ozton*AppQt.Data!AU$7)/1000000),\"-\")","v":67.623042764360306},{"$f":"IFERROR(IF($B$2=\"トン\",AppQt.Data!AV141,(AppQt.Data!AV141*ozton*AppQt.Data!AV$7)/1000000),\"-\")","v":64.986020489580639},{"$f":"IFERROR(IF($B$2=\"トン\",AppQt.Data!AW141,(AppQt.Data!AW141*ozton*AppQt.Data!AW$7)/1000000),\"-\")","v":64.757149337429738},{"$f":"IFERROR(IF($B$2=\"トン\",AppQt.Data!AX141,(AppQt.Data!AX141*ozton*AppQt.Data!AX$7)/1000000),\"-\")","v":60.01299835746434},{"$f":"IFERROR(IF($B$2=\"トン\",AppQt.Data!AY141,(AppQt.Data!AY141*ozton*AppQt.Data!AY$7)/1000000),\"-\")","v":51.834215767351374},{"$f":"IFERROR(IF($B$2=\"トン\",AppQt.Data!AZ141,(AppQt.Data!AZ141*ozton*AppQt.Data!AZ$7)/1000000),\"-\")","v":54.555473649291123},{"$f":"IFERROR(IF($B$2=\"トン\",AppQt.Data!BA141,(AppQt.Data!BA141*ozton*AppQt.Data!BA$7)/1000000),\"-\")","v":56.314531364332922},{"$f":"IFERROR(IF($B$2=\"トン\",AppQt.Data!BB141,(AppQt.Data!BB141*ozton*AppQt.Data!BB$7)/1000000),\"-\")","v":23.180291229828118},{"$f":"IFERROR(IF($B$2=\"トン\",AppQt.Data!BC141,(AppQt.Data!BC141*ozton*AppQt.Data!BC$7)/1000000),\"-\")","v":45.049367443839678},{"$f":"IFERROR(IF($B$2=\"トン\",AppQt.Data!BD141,(AppQt.Data!BD141*ozton*AppQt.Data!BD$7)/1000000),\"-\")","v":47.426968458397027},{"$f":"IFERROR(IF($B$2=\"トン\",AppQt.Data!BE141,(AppQt.Data!BE141*ozton*AppQt.Data!BE$7)/1000000),\"-\")","v":54.899597515452612},{"$f":"IFERROR(IF($B$2=\"トン\",AppQt.Data!BF141,(AppQt.Data!BF141*ozton*AppQt.Data!BF$7)/1000000),\"-\")","v":47.194363558548368},{"$f":"IFERROR(IF($B$2=\"トン\",AppQt.Data!BG141,(AppQt.Data!BG141*ozton*AppQt.Data!BG$7)/1000000),\"-\")","v":56.585662262339028},{"$f":"IFERROR(IF($B$2=\"トン\",AppQt.Data!BH141,(AppQt.Data!BH141*ozton*AppQt.Data!BH$7)/1000000),\"-\")","v":61.205405194200033},{"$f":"IFERROR(IF($B$2=\"トン\",AppQt.Data!BI141,(AppQt.Data!BI141*ozton*AppQt.Data!BI$7)/1000000),\"-\")","v":64.720786351100458},{"$f":"IFERROR(IF($B$2=\"トン\",AppQt.Data!BJ141,(AppQt.Data!BJ141*ozton*AppQt.Data!BJ$7)/1000000),\"-\")","v":63.332621185696524},{"$f":"IFERROR(IF($B$2=\"トン\",AppQt.Data!BK141,(AppQt.Data!BK141*ozton*AppQt.Data!BK$7)/1000000),\"-\")","v":73.615279852613213},{"$f":"IFERROR(IF($B$2=\"トン\",AppQt.Data!BL141,(AppQt.Data!BL141*ozton*AppQt.Data!BL$7)/1000000),\"-\")","v":66.49366520596547},"▲",8.6401846290963924]
[null,"サウジアラビア",{"$f":"IFERROR(IF($B$2=\"トン\",AppAn.Data!L132,(AppAn.Data!L132*ozton*AppAn.Data!L$6)/1000000),\"-\")","v":84.462074313995856},{"$f":"IFERROR(IF($B$2=\"トン\",AppAn.Data!M132,(AppAn.Data!M132*ozton*AppAn.Data!M$6)/1000000),\"-\")","v":72.452524218590639},{"$f":"IFERROR(IF($B$2=\"トン\",AppAn.Data!N132,(AppAn.Data!N132*ozton*AppAn.Data!N$6)/1000000),\"-\")","v":65.930028500164184},{"$f":"IFERROR(IF($B$2=\"トン\",AppAn.Data!O132,(AppAn.Data!O132*ozton*AppAn.Data!O$6)/1000000),\"-\")","v":84.723777996539027},{"$f":"IFERROR(IF($B$2=\"トン\",AppAn.Data!P132,(AppAn.Data!P132*ozton*AppAn.Data!P$6)/1000000),\"-\")","v":84.024475910956085},{"$f":"IFERROR(IF($B$2=\"トン\",AppAn.Data!Q132,(AppAn.Data!Q132*ozton*AppAn.Data!Q$6)/1000000),\"-\")","v":84.427447428901701},{"$f":"IFERROR(IF($B$2=\"トン\",AppAn.Data!R132,(AppAn.Data!R132*ozton*AppAn.Data!R$6)/1000000),\"-\")","v":60.21567702210718},{"$f":"IFERROR(IF($B$2=\"トン\",AppAn.Data!S132,(AppAn.Data!S132*ozton*AppAn.Data!S$6)/1000000),\"-\")","v":54.376021169899104},{"$f":"IFERROR(IF($B$2=\"トン\",AppAn.Data!T132,(AppAn.Data!T132*ozton*AppAn.Data!T$6)/1000000),\"-\")","v":49.555482296940838},{"$f":"IFERROR(IF($B$2=\"トン\",AppAn.Data!U132,(AppAn.Data!U132*ozton*AppAn.Data!U$6)/1000000),\"-\")","v":46.003128047961553},{"$f":"IFERROR(IF($B$2=\"トン\",AppAn.Data!V132,(AppAn.Data!V132*ozton*AppAn.Data!V$6)/1000000),\"-\")","v":31.094898482228075},{"$f":"IFERROR(IF($B$2=\"トン\",AppAn.Data!W132,(AppAn.Data!W132*ozton*AppAn.Data!W$6)/1000000),\"-\")","v":44.235364794135819},{"$f":"IFERROR(IF($B$2=\"トン\",AppAn.Data!X132,(AppAn.Data!X132*ozton*AppAn.Data!X$6)/1000000),\"-\")","v":50.098914769550184},"▲",13.255344457319108,null,{"$f":"IFERROR(IF($B$2=\"トン\",AppQt.Data!M142,(AppQt.Data!M142*ozton*AppQt.Data!M$7)/1000000),\"-\")","v":20.484115316198832},{"$f":"IFERROR(IF($B$2=\"トン\",AppQt.Data!N142,(AppQt.Data!N142*ozton*AppQt.Data!N$7)/1000000),\"-\")","v":27.691450486600949},{"$f":"IFERROR(IF($B$2=\"トン\",AppQt.Data!O142,(AppQt.Data!O142*ozton*AppQt.Data!O$7)/1000000),\"-\")","v":22.475973729723691},{"$f":"IFERROR(IF($B$2=\"トン\",AppQt.Data!P142,(AppQt.Data!P142*ozton*AppQt.Data!P$7)/1000000),\"-\")","v":13.810534781472379},{"$f":"IFERROR(IF($B$2=\"トン\",AppQt.Data!Q142,(AppQt.Data!Q142*ozton*AppQt.Data!Q$7)/1000000),\"-\")","v":17.26305647089595},{"$f":"IFERROR(IF($B$2=\"トン\",AppQt.Data!R142,(AppQt.Data!R142*ozton*AppQt.Data!R$7)/1000000),\"-\")","v":23.537542525161502},{"$f":"IFERROR(IF($B$2=\"トン\",AppQt.Data!S142,(AppQt.Data!S142*ozton*AppQt.Data!S$7)/1000000),\"-\")","v":17.8384911050927},{"$f":"IFERROR(IF($B$2=\"トン\",AppQt.Data!T142,(AppQt.Data!T142*ozton*AppQt.Data!T$7)/1000000),\"-\")","v":13.813434117440497},{"$f":"IFERROR(IF($B$2=\"トン\",AppQt.Data!U142,(AppQt.Data!U142*ozton*AppQt.Data!U$7)/1000000),\"-\")","v":15.756020690247643},{"$f":"IFERROR(IF($B$2=\"トン\",AppQt.Data!V142,(AppQt.Data!V142*ozton*AppQt.Data!V$7)/1000000),\"-\")","v":19.923931605635975},{"$f":"IFERROR(IF($B$2=\"トン\",AppQt.Data!W142,(AppQt.Data!W142*ozton*AppQt.Data!W$7)/1000000),\"-\")","v":15.568350363346157},{"$f":"IFERROR(IF($B$2=\"トン\",AppQt.Data!X142,(AppQt.Data!X142*ozton*AppQt.Data!X$7)/1000000),\"-\")","v":14.681725840934408},{"$f":"IFERROR(IF($B$2=\"トン\",AppQt.Data!Y142,(AppQt.Data!Y142*ozton*AppQt.Data!Y$7)/1000000),\"-\")","v":16.160483523304627},{"$f":"IFERROR(IF($B$2=\"トン\",AppQt.Data!Z142,(AppQt.Data!Z142*ozton*AppQt.Data!Z$7)/1000000),\"-\")","v":30.220009217074551},{"$f":"IFERROR(IF($B$2=\"トン\",AppQt.Data!AA142,(AppQt.Data!AA142*ozton*AppQt.Data!AA$7)/1000000),\"-\")","v":21.160448221496921},{"$f":"IFERROR(IF($B$2=\"トン\",AppQt.Data!AB142,(AppQt.Data!AB142*ozton*AppQt.Data!AB$7)/1000000),\"-\")","v":17.182837034662921},{"$f":"IFERROR(IF($B$2=\"トン\",AppQt.Data!AC142,(AppQt.Data!AC142*ozton*AppQt.Data!AC$7)/1000000),\"-\")","v":21.420011467053875},{"$f":"IFERROR(IF($B$2=\"トン\",AppQt.Data!AD142,(AppQt.Data!AD142*ozton*AppQt.Data!AD$7)/1000000),\"-\")","v":22.590325994180358},{"$f":"IFERROR(IF($B$2=\"トン\",AppQt.Data!AE142,(AppQt.Data!AE142*ozton*AppQt.Data!AE$7)/1000000),\"-\")","v":18.17087360531465},{"$f":"IFERROR(IF($B$2=\"トン\",AppQt.Data!AF142,(AppQt.Data!AF142*ozton*AppQt.Data!AF$7)/1000000),\"-\")","v":21.843264844407216},{"$f":"IFERROR(IF($B$2=\"トン\",AppQt.Data!AG142,(AppQt.Data!AG142*ozton*AppQt.Data!AG$7)/1000000),\"-\")","v":22.126907607908599},{"$f":"IFERROR(IF($B$2=\"トン\",AppQt.Data!AH142,(AppQt.Data!AH142*ozton*AppQt.Data!AH$7)/1000000),\"-\")","v":22.005033896244989},{"$f":"IFERROR(IF($B$2=\"トン\",AppQt.Data!AI142,(AppQt.Data!AI142*ozton*AppQt.Data!AI$7)/1000000),\"-\")","v":19.206953377032153},{"$f":"IFERROR(IF($B$2=\"トン\",AppQt.Data!AJ142,(AppQt.Data!AJ142*ozton*AppQt.Data!AJ$7)/1000000),\"-\")","v":21.08855254771597},{"$f":"IFERROR(IF($B$2=\"トン\",AppQt.Data!AK142,(AppQt.Data!AK142*ozton*AppQt.Data!AK$7)/1000000),\"-\")","v":16.345670437001395},{"$f":"IFERROR(IF($B$2=\"トン\",AppQt.Data!AL142,(AppQt.Data!AL142*ozton*AppQt.Data!AL$7)/1000000),\"-\")","v":15.71957401024974},{"$f":"IFERROR(IF($B$2=\"トン\",AppQt.Data!AM142,(AppQt.Data!AM142*ozton*AppQt.Data!AM$7)/1000000),\"-\")","v":13.101772654602048},{"$f":"IFERROR(IF($B$2=\"トン\",AppQt.Data!AN142,(AppQt.Data!AN142*ozton*AppQt.Data!AN$7)/1000000),\"-\")","v":15.048659920253995},{"$f":"IFERROR(IF($B$2=\"トン\",AppQt.Data!AO142,(AppQt.Data!AO142*ozton*AppQt.Data!AO$7)/1000000),\"-\")","v":13.321667530680449},{"$f":"IFERROR(IF($B$2=\"トン\",AppQt.Data!AP142,(AppQt.Data!AP142*ozton*AppQt.Data!AP$7)/1000000),\"-\")","v":14.484370660378971},{"$f":"IFERROR(IF($B$2=\"トン\",AppQt.Data!AQ142,(AppQt.Data!AQ142*ozton*AppQt.Data!AQ$7)/1000000),\"-\")","v":11.68326325561765},{"$f":"IFERROR(IF($B$2=\"トン\",AppQt.Data!AR142,(AppQt.Data!AR142*ozton*AppQt.Data!AR$7)/1000000),\"-\")","v":14.886719723222033},{"$f":"IFERROR(IF($B$2=\"トン\",AppQt.Data!AS142,(AppQt.Data!AS142*ozton*AppQt.Data!AS$7)/1000000),\"-\")","v":9.9546684356774797},{"$f":"IFERROR(IF($B$2=\"トン\",AppQt.Data!AT142,(AppQt.Data!AT142*ozton*AppQt.Data!AT$7)/1000000),\"-\")","v":13.270823726965578},{"$f":"IFERROR(IF($B$2=\"トン\",AppQt.Data!AU142,(AppQt.Data!AU142*ozton*AppQt.Data!AU$7)/1000000),\"-\")","v":14.625005120030162},{"$f":"IFERROR(IF($B$2=\"トン\",AppQt.Data!AV142,(AppQt.Data!AV142*ozton*AppQt.Data!AV$7)/1000000),\"-\")","v":11.704985014267614},{"$f":"IFERROR(IF($B$2=\"トン\",AppQt.Data!AW142,(AppQt.Data!AW142*ozton*AppQt.Data!AW$7)/1000000),\"-\")","v":11.775869211166409},{"$f":"IFERROR(IF($B$2=\"トン\",AppQt.Data!AX142,(AppQt.Data!AX142*ozton*AppQt.Data!AX$7)/1000000),\"-\")","v":11.674962048685774},{"$f":"IFERROR(IF($B$2=\"トン\",AppQt.Data!AY142,(AppQt.Data!AY142*ozton*AppQt.Data!AY$7)/1000000),\"-\")","v":11.685917073452233},{"$f":"IFERROR(IF($B$2=\"トン\",AppQt.Data!AZ142,(AppQt.Data!AZ142*ozton*AppQt.Data!AZ$7)/1000000),\"-\")","v":10.866379714657128},{"$f":"IFERROR(IF($B$2=\"トン\",AppQt.Data!BA142,(AppQt.Data!BA142*ozton*AppQt.Data!BA$7)/1000000),\"-\")","v":9.4102609004794857},{"$f":"IFERROR(IF($B$2=\"トン\",AppQt.Data!BB142,(AppQt.Data!BB142*ozton*AppQt.Data!BB$7)/1000000),\"-\")","v":2.9684016615988691},{"$f":"IFERROR(IF($B$2=\"トン\",AppQt.Data!BC142,(AppQt.Data!BC142*ozton*AppQt.Data!BC$7)/1000000),\"-\")","v":9.6393455271675368},{"$f":"IFERROR(IF($B$2=\"トン\",AppQt.Data!BD142,(AppQt.Data!BD142*ozton*AppQt.Data!BD$7)/1000000),\"-\")","v":9.076890392982186},{"$f":"IFERROR(IF($B$2=\"トン\",AppQt.Data!BE142,(AppQt.Data!BE142*ozton*AppQt.Data!BE$7)/1000000),\"-\")","v":11.036504041593002},{"$f":"IFERROR(IF($B$2=\"トン\",AppQt.Data!BF142,(AppQt.Data!BF142*ozton*AppQt.Data!BF$7)/1000000),\"-\")","v":10.067484097365872},{"$f":"IFERROR(IF($B$2=\"トン\",AppQt.Data!BG142,(AppQt.Data!BG142*ozton*AppQt.Data!BG$7)/1000000),\"-\")","v":10.990584400338047},{"$f":"IFERROR(IF($B$2=\"トン\",AppQt.Data!BH142,(AppQt.Data!BH142*ozton*AppQt.Data!BH$7)/1000000),\"-\")","v":12.140792254838892},{"$f":"IFERROR(IF($B$2=\"トン\",AppQt.Data!BI142,(AppQt.Data!BI142*ozton*AppQt.Data!BI$7)/1000000),\"-\")","v":11.693794562348277},{"$f":"IFERROR(IF($B$2=\"トン\",AppQt.Data!BJ142,(AppQt.Data!BJ142*ozton*AppQt.Data!BJ$7)/1000000),\"-\")","v":12.157335612994107},{"$f":"IFERROR(IF($B$2=\"トン\",AppQt.Data!BK142,(AppQt.Data!BK142*ozton*AppQt.Data!BK$7)/1000000),\"-\")","v":13.489861284603537},{"$f":"IFERROR(IF($B$2=\"トン\",AppQt.Data!BL142,(AppQt.Data!BL142*ozton*AppQt.Data!BL$7)/1000000),\"-\")","v":12.757923309604253},"▲",5.0831201276785976]
[null,"UAE",{"$f":"IFERROR(IF($B$2=\"トン\",AppAn.Data!L133,(AppAn.Data!L133*ozton*AppAn.Data!L$6)/1000000),\"-\")","v":76.911041737927107},{"$f":"IFERROR(IF($B$2=\"トン\",AppAn.Data!M133,(AppAn.Data!M133*ozton*AppAn.Data!M$6)/1000000),\"-\")","v":68.221997717596395},{"$f":"IFERROR(IF($B$2=\"トン\",AppAn.Data!N133,(AppAn.Data!N133*ozton*AppAn.Data!N$6)/1000000),\"-\")","v":60.026815480297493},{"$f":"IFERROR(IF($B$2=\"トン\",AppAn.Data!O133,(AppAn.Data!O133*ozton*AppAn.Data!O$6)/1000000),\"-\")","v":78.476804495717147},{"$f":"IFERROR(IF($B$2=\"トン\",AppAn.Data!P133,(AppAn.Data!P133*ozton*AppAn.Data!P$6)/1000000),\"-\")","v":65.954507530993595},{"$f":"IFERROR(IF($B$2=\"トン\",AppAn.Data!Q133,(AppAn.Data!Q133*ozton*AppAn.Data!Q$6)/1000000),\"-\")","v":60.158434607045912},{"$f":"IFERROR(IF($B$2=\"トン\",AppAn.Data!R133,(AppAn.Data!R133*ozton*AppAn.Data!R$6)/1000000),\"-\")","v":51.227492053448771},{"$f":"IFERROR(IF($B$2=\"トン\",AppAn.Data!S133,(AppAn.Data!S133*ozton*AppAn.Data!S$6)/1000000),\"-\")","v":52.231121254872463},{"$f":"IFERROR(IF($B$2=\"トン\",AppAn.Data!T133,(AppAn.Data!T133*ozton*AppAn.Data!T$6)/1000000),\"-\")","v":41.944984123700571},{"$f":"IFERROR(IF($B$2=\"トン\",AppAn.Data!U133,(AppAn.Data!U133*ozton*AppAn.Data!U$6)/1000000),\"-\")","v":39.061322514014876},{"$f":"IFERROR(IF($B$2=\"トン\",AppAn.Data!V133,(AppAn.Data!V133*ozton*AppAn.Data!V$6)/1000000),\"-\")","v":26.733989792202618},{"$f":"IFERROR(IF($B$2=\"トン\",AppAn.Data!W133,(AppAn.Data!W133*ozton*AppAn.Data!W$6)/1000000),\"-\")","v":41.595969323038204},{"$f":"IFERROR(IF($B$2=\"トン\",AppAn.Data!X133,(AppAn.Data!X133*ozton*AppAn.Data!X$6)/1000000),\"-\")","v":55.269421253820319},"▲",32.872059849339742,null,{"$f":"IFERROR(IF($B$2=\"トン\",AppQt.Data!M143,(AppQt.Data!M143*ozton*AppQt.Data!M$7)/1000000),\"-\")","v":23.273109850090236},{"$f":"IFERROR(IF($B$2=\"トン\",AppQt.Data!N143,(AppQt.Data!N143*ozton*AppQt.Data!N$7)/1000000),\"-\")","v":20.344170759473087},{"$f":"IFERROR(IF($B$2=\"トン\",AppQt.Data!O143,(AppQt.Data!O143*ozton*AppQt.Data!O$7)/1000000),\"-\")","v":18.428679841779676},{"$f":"IFERROR(IF($B$2=\"トン\",AppQt.Data!P143,(AppQt.Data!P143*ozton*AppQt.Data!P$7)/1000000),\"-\")","v":14.865081286584108},{"$f":"IFERROR(IF($B$2=\"トン\",AppQt.Data!Q143,(AppQt.Data!Q143*ozton*AppQt.Data!Q$7)/1000000),\"-\")","v":24.289901856114096},{"$f":"IFERROR(IF($B$2=\"トン\",AppQt.Data!R143,(AppQt.Data!R143*ozton*AppQt.Data!R$7)/1000000),\"-\")","v":19.170456473739712},{"$f":"IFERROR(IF($B$2=\"トン\",AppQt.Data!S143,(AppQt.Data!S143*ozton*AppQt.Data!S$7)/1000000),\"-\")","v":12.951594409134254},{"$f":"IFERROR(IF($B$2=\"トン\",AppQt.Data!T143,(AppQt.Data!T143*ozton*AppQt.Data!T$7)/1000000),\"-\")","v":11.810044978608328},{"$f":"IFERROR(IF($B$2=\"トン\",AppQt.Data!U143,(AppQt.Data!U143*ozton*AppQt.Data!U$7)/1000000),\"-\")","v":19.607305874495797},{"$f":"IFERROR(IF($B$2=\"トン\",AppQt.Data!V143,(AppQt.Data!V143*ozton*AppQt.Data!V$7)/1000000),\"-\")","v":16.564983145360522},{"$f":"IFERROR(IF($B$2=\"トン\",AppQt.Data!W143,(AppQt.Data!W143*ozton*AppQt.Data!W$7)/1000000),\"-\")","v":11.655031149102951},{"$f":"IFERROR(IF($B$2=\"トン\",AppQt.Data!X143,(AppQt.Data!X143*ozton*AppQt.Data!X$7)/1000000),\"-\")","v":12.199495311338231},{"$f":"IFERROR(IF($B$2=\"トン\",AppQt.Data!Y143,(AppQt.Data!Y143*ozton*AppQt.Data!Y$7)/1000000),\"-\")","v":20.409409708881093},{"$f":"IFERROR(IF($B$2=\"トン\",AppQt.Data!Z143,(AppQt.Data!Z143*ozton*AppQt.Data!Z$7)/1000000),\"-\")","v":27.430007485452791},{"$f":"IFERROR(IF($B$2=\"トン\",AppQt.Data!AA143,(AppQt.Data!AA143*ozton*AppQt.Data!AA$7)/1000000),\"-\")","v":16.187386457336785},{"$f":"IFERROR(IF($B$2=\"トン\",AppQt.Data!AB143,(AppQt.Data!AB143*ozton*AppQt.Data!AB$7)/1000000),\"-\")","v":14.45000084404648},{"$f":"IFERROR(IF($B$2=\"トン\",AppQt.Data!AC143,(AppQt.Data!AC143*ozton*AppQt.Data!AC$7)/1000000),\"-\")","v":21.191889650147175},{"$f":"IFERROR(IF($B$2=\"トン\",AppQt.Data!AD143,(AppQt.Data!AD143*ozton*AppQt.Data!AD$7)/1000000),\"-\")","v":19.725724669332223},{"$f":"IFERROR(IF($B$2=\"トン\",AppQt.Data!AE143,(AppQt.Data!AE143*ozton*AppQt.Data!AE$7)/1000000),\"-\")","v":12.446342214004932},{"$f":"IFERROR(IF($B$2=\"トン\",AppQt.Data!AF143,(AppQt.Data!AF143*ozton*AppQt.Data!AF$7)/1000000),\"-\")","v":12.590550997509263},{"$f":"IFERROR(IF($B$2=\"トン\",AppQt.Data!AG143,(AppQt.Data!AG143*ozton*AppQt.Data!AG$7)/1000000),\"-\")","v":19.187483318339787},{"$f":"IFERROR(IF($B$2=\"トン\",AppQt.Data!AH143,(AppQt.Data!AH143*ozton*AppQt.Data!AH$7)/1000000),\"-\")","v":17.169342684829363},{"$f":"IFERROR(IF($B$2=\"トン\",AppQt.Data!AI143,(AppQt.Data!AI143*ozton*AppQt.Data!AI$7)/1000000),\"-\")","v":11.766196871818817},{"$f":"IFERROR(IF($B$2=\"トン\",AppQt.Data!AJ143,(AppQt.Data!AJ143*ozton*AppQt.Data!AJ$7)/1000000),\"-\")","v":12.035411732057947},{"$f":"IFERROR(IF($B$2=\"トン\",AppQt.Data!AK143,(AppQt.Data!AK143*ozton*AppQt.Data!AK$7)/1000000),\"-\")","v":18.901840492006976},{"$f":"IFERROR(IF($B$2=\"トン\",AppQt.Data!AL143,(AppQt.Data!AL143*ozton*AppQt.Data!AL$7)/1000000),\"-\")","v":13.092583240688842},{"$f":"IFERROR(IF($B$2=\"トン\",AppQt.Data!AM143,(AppQt.Data!AM143*ozton*AppQt.Data!AM$7)/1000000),\"-\")","v":8.8436493005455947},{"$f":"IFERROR(IF($B$2=\"トン\",AppQt.Data!AN143,(AppQt.Data!AN143*ozton*AppQt.Data!AN$7)/1000000),\"-\")","v":10.389419020207356},{"$f":"IFERROR(IF($B$2=\"トン\",AppQt.Data!AO143,(AppQt.Data!AO143*ozton*AppQt.Data!AO$7)/1000000),\"-\")","v":17.488412899907935},{"$f":"IFERROR(IF($B$2=\"トン\",AppQt.Data!AP143,(AppQt.Data!AP143*ozton*AppQt.Data!AP$7)/1000000),\"-\")","v":13.929693907067321},{"$f":"IFERROR(IF($B$2=\"トン\",AppQt.Data!AQ143,(AppQt.Data!AQ143*ozton*AppQt.Data!AQ$7)/1000000),\"-\")","v":8.3828918203574805},{"$f":"IFERROR(IF($B$2=\"トン\",AppQt.Data!AR143,(AppQt.Data!AR143*ozton*AppQt.Data!AR$7)/1000000),\"-\")","v":12.430122627539733},{"$f":"IFERROR(IF($B$2=\"トン\",AppQt.Data!AS143,(AppQt.Data!AS143*ozton*AppQt.Data!AS$7)/1000000),\"-\")","v":11.773887987949699},{"$f":"IFERROR(IF($B$2=\"トン\",AppQt.Data!AT143,(AppQt.Data!AT143*ozton*AppQt.Data!AT$7)/1000000),\"-\")","v":11.274958360823074},{"$f":"IFERROR(IF($B$2=\"トン\",AppQt.Data!AU143,(AppQt.Data!AU143*ozton*AppQt.Data!AU$7)/1000000),\"-\")","v":8.2869779413833555},{"$f":"IFERROR(IF($B$2=\"トン\",AppQt.Data!AV143,(AppQt.Data!AV143*ozton*AppQt.Data!AV$7)/1000000),\"-\")","v":10.609159833544439},{"$f":"IFERROR(IF($B$2=\"トン\",AppQt.Data!AW143,(AppQt.Data!AW143*ozton*AppQt.Data!AW$7)/1000000),\"-\")","v":12.3147386423994},{"$f":"IFERROR(IF($B$2=\"トン\",AppQt.Data!AX143,(AppQt.Data!AX143*ozton*AppQt.Data!AX$7)/1000000),\"-\")","v":10.600502985168884},{"$f":"IFERROR(IF($B$2=\"トン\",AppQt.Data!AY143,(AppQt.Data!AY143*ozton*AppQt.Data!AY$7)/1000000),\"-\")","v":6.4436614984098535},{"$f":"IFERROR(IF($B$2=\"トン\",AppQt.Data!AZ143,(AppQt.Data!AZ143*ozton*AppQt.Data!AZ$7)/1000000),\"-\")","v":9.7024193880367431},{"$f":"IFERROR(IF($B$2=\"トン\",AppQt.Data!BA143,(AppQt.Data!BA143*ozton*AppQt.Data!BA$7)/1000000),\"-\")","v":11.313825314901131},{"$f":"IFERROR(IF($B$2=\"トン\",AppQt.Data!BB143,(AppQt.Data!BB143*ozton*AppQt.Data!BB$7)/1000000),\"-\")","v":2.1294514639712108},{"$f":"IFERROR(IF($B$2=\"トン\",AppQt.Data!BC143,(AppQt.Data!BC143*ozton*AppQt.Data!BC$7)/1000000),\"-\")","v":5.1947804236426247},{"$f":"IFERROR(IF($B$2=\"トン\",AppQt.Data!BD143,(AppQt.Data!BD143*ozton*AppQt.Data!BD$7)/1000000),\"-\")","v":8.0959325896876528},{"$f":"IFERROR(IF($B$2=\"トン\",AppQt.Data!BE143,(AppQt.Data!BE143*ozton*AppQt.Data!BE$7)/1000000),\"-\")","v":10.669497987039318},{"$f":"IFERROR(IF($B$2=\"トン\",AppQt.Data!BF143,(AppQt.Data!BF143*ozton*AppQt.Data!BF$7)/1000000),\"-\")","v":8.7761971877367859},{"$f":"IFERROR(IF($B$2=\"トン\",AppQt.Data!BG143,(AppQt.Data!BG143*ozton*AppQt.Data!BG$7)/1000000),\"-\")","v":10.121965431971985},{"$f":"IFERROR(IF($B$2=\"トン\",AppQt.Data!BH143,(AppQt.Data!BH143*ozton*AppQt.Data!BH$7)/1000000),\"-\")","v":12.028308716290116},{"$f":"IFERROR(IF($B$2=\"トン\",AppQt.Data!BI143,(AppQt.Data!BI143*ozton*AppQt.Data!BI$7)/1000000),\"-\")","v":14.461510078049823},{"$f":"IFERROR(IF($B$2=\"トン\",AppQt.Data!BJ143,(AppQt.Data!BJ143*ozton*AppQt.Data!BJ$7)/1000000),\"-\")","v":15.387407986341319},{"$f":"IFERROR(IF($B$2=\"トン\",AppQt.Data!BK143,(AppQt.Data!BK143*ozton*AppQt.Data!BK$7)/1000000),\"-\")","v":12.8559184088727},{"$f":"IFERROR(IF($B$2=\"トン\",AppQt.Data!BL143,(AppQt.Data!BL143*ozton*AppQt.Data!BL$7)/1000000),\"-\")","v":12.564584780556475},"▲",4.4584494538294717]
[null,"クウェート",{"$f":"IFERROR(IF($B$2=\"トン\",AppAn.Data!L134,(AppAn.Data!L134*ozton*AppAn.Data!L$6)/1000000),\"-\")","v":10.325047544770612},{"$f":"IFERROR(IF($B$2=\"トン\",AppAn.Data!M134,(AppAn.Data!M134*ozton*AppAn.Data!M$6)/1000000),\"-\")","v":9.6583240414213751},{"$f":"IFERROR(IF($B$2=\"トン\",AppAn.Data!N134,(AppAn.Data!N134*ozton*AppAn.Data!N$6)/1000000),\"-\")","v":9.305317103141352},{"$f":"IFERROR(IF($B$2=\"トン\",AppAn.Data!O134,(AppAn.Data!O134*ozton*AppAn.Data!O$6)/1000000),\"-\")","v":15.492936613620953},{"$f":"IFERROR(IF($B$2=\"トン\",AppAn.Data!P134,(AppAn.Data!P134*ozton*AppAn.Data!P$6)/1000000),\"-\")","v":17.764241511611072},{"$f":"IFERROR(IF($B$2=\"トン\",AppAn.Data!Q134,(AppAn.Data!Q134*ozton*AppAn.Data!Q$6)/1000000),\"-\")","v":16.165661183400001},{"$f":"IFERROR(IF($B$2=\"トン\",AppAn.Data!R134,(AppAn.Data!R134*ozton*AppAn.Data!R$6)/1000000),\"-\")","v":15.021358553835},{"$f":"IFERROR(IF($B$2=\"トン\",AppAn.Data!S134,(AppAn.Data!S134*ozton*AppAn.Data!S$6)/1000000),\"-\")","v":16.506703648797753},{"$f":"IFERROR(IF($B$2=\"トン\",AppAn.Data!T134,(AppAn.Data!T134*ozton*AppAn.Data!T$6)/1000000),\"-\")","v":17.002551092207639},{"$f":"IFERROR(IF($B$2=\"トン\",AppAn.Data!U134,(AppAn.Data!U134*ozton*AppAn.Data!U$6)/1000000),\"-\")","v":15.85331258084237},{"$f":"IFERROR(IF($B$2=\"トン\",AppAn.Data!V134,(AppAn.Data!V134*ozton*AppAn.Data!V$6)/1000000),\"-\")","v":13.032685966052126},{"$f":"IFERROR(IF($B$2=\"トン\",AppAn.Data!W134,(AppAn.Data!W134*ozton*AppAn.Data!W$6)/1000000),\"-\")","v":16.586966808709118},{"$f":"IFERROR(IF($B$2=\"トン\",AppAn.Data!X134,(AppAn.Data!X134*ozton*AppAn.Data!X$6)/1000000),\"-\")","v":18.862026103062682},"▲",13.715945299649523,null,{"$f":"IFERROR(IF($B$2=\"トン\",AppQt.Data!M144,(AppQt.Data!M144*ozton*AppQt.Data!M$7)/1000000),\"-\")","v":3.0609632633613666},{"$f":"IFERROR(IF($B$2=\"トン\",AppQt.Data!N144,(AppQt.Data!N144*ozton*AppQt.Data!N$7)/1000000),\"-\")","v":2.1220906966782493},{"$f":"IFERROR(IF($B$2=\"トン\",AppQt.Data!O144,(AppQt.Data!O144*ozton*AppQt.Data!O$7)/1000000),\"-\")","v":3.1528099482404199},{"$f":"IFERROR(IF($B$2=\"トン\",AppQt.Data!P144,(AppQt.Data!P144*ozton*AppQt.Data!P$7)/1000000),\"-\")","v":1.9891836364905764},{"$f":"IFERROR(IF($B$2=\"トン\",AppQt.Data!Q144,(AppQt.Data!Q144*ozton*AppQt.Data!Q$7)/1000000),\"-\")","v":2.9233371635140379},{"$f":"IFERROR(IF($B$2=\"トン\",AppQt.Data!R144,(AppQt.Data!R144*ozton*AppQt.Data!R$7)/1000000),\"-\")","v":2.0710033818864768},{"$f":"IFERROR(IF($B$2=\"トン\",AppQt.Data!S144,(AppQt.Data!S144*ozton*AppQt.Data!S$7)/1000000),\"-\")","v":2.7295827616015789},{"$f":"IFERROR(IF($B$2=\"トン\",AppQt.Data!T144,(AppQt.Data!T144*ozton*AppQt.Data!T$7)/1000000),\"-\")","v":1.9344007344192811},{"$f":"IFERROR(IF($B$2=\"トン\",AppQt.Data!U144,(AppQt.Data!U144*ozton*AppQt.Data!U$7)/1000000),\"-\")","v":2.6751667667268109},{"$f":"IFERROR(IF($B$2=\"トン\",AppQt.Data!V144,(AppQt.Data!V144*ozton*AppQt.Data!V$7)/1000000),\"-\")","v":2.1200188979318821},{"$f":"IFERROR(IF($B$2=\"トン\",AppQt.Data!W144,(AppQt.Data!W144*ozton*AppQt.Data!W$7)/1000000),\"-\")","v":2.5378767179229742},{"$f":"IFERROR(IF($B$2=\"トン\",AppQt.Data!X144,(AppQt.Data!X144*ozton*AppQt.Data!X$7)/1000000),\"-\")","v":1.9722547205596843},{"$f":"IFERROR(IF($B$2=\"トン\",AppQt.Data!Y144,(AppQt.Data!Y144*ozton*AppQt.Data!Y$7)/1000000),\"-\")","v":4.7816618174999999},{"$f":"IFERROR(IF($B$2=\"トン\",AppQt.Data!Z144,(AppQt.Data!Z144*ozton*AppQt.Data!Z$7)/1000000),\"-\")","v":4.7382398604037492},{"$f":"IFERROR(IF($B$2=\"トン\",AppQt.Data!AA144,(AppQt.Data!AA144*ozton*AppQt.Data!AA$7)/1000000),\"-\")","v":2.8556195086294567},{"$f":"IFERROR(IF($B$2=\"トン\",AppQt.Data!AB144,(AppQt.Data!AB144*ozton*AppQt.Data!AB$7)/1000000),\"-\")","v":3.1174154270877472},{"$f":"IFERROR(IF($B$2=\"トン\",AppQt.Data!AC144,(AppQt.Data!AC144*ozton*AppQt.Data!AC$7)/1000000),\"-\")","v":4.9445693420000012},{"$f":"IFERROR(IF($B$2=\"トン\",AppQt.Data!AD144,(AppQt.Data!AD144*ozton*AppQt.Data!AD$7)/1000000),\"-\")","v":4.6855247433185703},{"$f":"IFERROR(IF($B$2=\"トン\",AppQt.Data!AE144,(AppQt.Data!AE144*ozton*AppQt.Data!AE$7)/1000000),\"-\")","v":3.4012254792047534},{"$f":"IFERROR(IF($B$2=\"トン\",AppQt.Data!AF144,(AppQt.Data!AF144*ozton*AppQt.Data!AF$7)/1000000),\"-\")","v":4.732921947087747},{"$f":"IFERROR(IF($B$2=\"トン\",AppQt.Data!AG144,(AppQt.Data!AG144*ozton*AppQt.Data!AG$7)/1000000),\"-\")","v":4.5868251099000004},{"$f":"IFERROR(IF($B$2=\"トン\",AppQt.Data!AH144,(AppQt.Data!AH144*ozton*AppQt.Data!AH$7)/1000000),\"-\")","v":4.2435050080000005},{"$f":"IFERROR(IF($B$2=\"トン\",AppQt.Data!AI144,(AppQt.Data!AI144*ozton*AppQt.Data!AI$7)/1000000),\"-\")","v":2.9451994770000001},{"$f":"IFERROR(IF($B$2=\"トン\",AppQt.Data!AJ144,(AppQt.Data!AJ144*ozton*AppQt.Data!AJ$7)/1000000),\"-\")","v":4.3901315885000001},{"$f":"IFERROR(IF($B$2=\"トン\",AppQt.Data!AK144,(AppQt.Data!AK144*ozton*AppQt.Data!AK$7)/1000000),\"-\")","v":4.1148918493100002},{"$f":"IFERROR(IF($B$2=\"トン\",AppQt.Data!AL144,(AppQt.Data!AL144*ozton*AppQt.Data!AL$7)/1000000),\"-\")","v":4.005535257600001},{"$f":"IFERROR(IF($B$2=\"トン\",AppQt.Data!AM144,(AppQt.Data!AM144*ozton*AppQt.Data!AM$7)/1000000),\"-\")","v":2.8508286279500004},{"$f":"IFERROR(IF($B$2=\"トン\",AppQt.Data!AN144,(AppQt.Data!AN144*ozton*AppQt.Data!AN$7)/1000000),\"-\")","v":4.0501028189749997},{"$f":"IFERROR(IF($B$2=\"トン\",AppQt.Data!AO144,(AppQt.Data!AO144*ozton*AppQt.Data!AO$7)/1000000),\"-\")","v":4.6471143537290001},{"$f":"IFERROR(IF($B$2=\"トン\",AppQt.Data!AP144,(AppQt.Data!AP144*ozton*AppQt.Data!AP$7)/1000000),\"-\")","v":4.4495570760000005},{"$f":"IFERROR(IF($B$2=\"トン\",AppQt.Data!AQ144,(AppQt.Data!AQ144*ozton*AppQt.Data!AQ$7)/1000000),\"-\")","v":2.9801656450575003},{"$f":"IFERROR(IF($B$2=\"トン\",AppQt.Data!AR144,(AppQt.Data!AR144*ozton*AppQt.Data!AR$7)/1000000),\"-\")","v":4.4298665740112497},{"$f":"IFERROR(IF($B$2=\"トン\",AppQt.Data!AS144,(AppQt.Data!AS144*ozton*AppQt.Data!AS$7)/1000000),\"-\")","v":4.3843603013657004},{"$f":"IFERROR(IF($B$2=\"トン\",AppQt.Data!AT144,(AppQt.Data!AT144*ozton*AppQt.Data!AT$7)/1000000),\"-\")","v":4.9255643910000018},{"$f":"IFERROR(IF($B$2=\"トン\",AppQt.Data!AU144,(AppQt.Data!AU144*ozton*AppQt.Data!AU$7)/1000000),\"-\")","v":3.3438180618601248},{"$f":"IFERROR(IF($B$2=\"トン\",AppQt.Data!AV144,(AppQt.Data!AV144*ozton*AppQt.Data!AV$7)/1000000),\"-\")","v":4.3488083379818123},{"$f":"IFERROR(IF($B$2=\"トン\",AppQt.Data!AW144,(AppQt.Data!AW144*ozton*AppQt.Data!AW$7)/1000000),\"-\")","v":4.5749393785572758},{"$f":"IFERROR(IF($B$2=\"トン\",AppQt.Data!AX144,(AppQt.Data!AX144*ozton*AppQt.Data!AX$7)/1000000),\"-\")","v":4.4831269356568004},{"$f":"IFERROR(IF($B$2=\"トン\",AppQt.Data!AY144,(AppQt.Data!AY144*ozton*AppQt.Data!AY$7)/1000000),\"-\")","v":2.7592551141263058},{"$f":"IFERROR(IF($B$2=\"トン\",AppQt.Data!AZ144,(AppQt.Data!AZ144*ozton*AppQt.Data!AZ$7)/1000000),\"-\")","v":4.0359911525019916},{"$f":"IFERROR(IF($B$2=\"トン\",AppQt.Data!BA144,(AppQt.Data!BA144*ozton*AppQt.Data!BA$7)/1000000),\"-\")","v":4.1558296289004835},{"$f":"IFERROR(IF($B$2=\"トン\",AppQt.Data!BB144,(AppQt.Data!BB144*ozton*AppQt.Data!BB$7)/1000000),\"-\")","v":2.9652356890472813},{"$f":"IFERROR(IF($B$2=\"トン\",AppQt.Data!BC144,(AppQt.Data!BC144*ozton*AppQt.Data!BC$7)/1000000),\"-\")","v":2.5197110369774101},{"$f":"IFERROR(IF($B$2=\"トン\",AppQt.Data!BD144,(AppQt.Data!BD144*ozton*AppQt.Data!BD$7)/1000000),\"-\")","v":3.3919096111269522},{"$f":"IFERROR(IF($B$2=\"トン\",AppQt.Data!BE144,(AppQt.Data!BE144*ozton*AppQt.Data!BE$7)/1000000),\"-\")","v":4.5168111029939997},{"$f":"IFERROR(IF($B$2=\"トン\",AppQt.Data!BF144,(AppQt.Data!BF144*ozton*AppQt.Data!BF$7)/1000000),\"-\")","v":4.4375398136682707},{"$f":"IFERROR(IF($B$2=\"トン\",AppQt.Data!BG144,(AppQt.Data!BG144*ozton*AppQt.Data!BG$7)/1000000),\"-\")","v":3.7452384687798057},{"$f":"IFERROR(IF($B$2=\"トン\",AppQt.Data!BH144,(AppQt.Data!BH144*ozton*AppQt.Data!BH$7)/1000000),\"-\")","v":3.8873774232670426},{"$f":"IFERROR(IF($B$2=\"トン\",AppQt.Data!BI144,(AppQt.Data!BI144*ozton*AppQt.Data!BI$7)/1000000),\"-\")","v":4.1204427785141071},{"$f":"IFERROR(IF($B$2=\"トン\",AppQt.Data!BJ144,(AppQt.Data!BJ144*ozton*AppQt.Data!BJ$7)/1000000),\"-\")","v":4.8284654362951009},{"$f":"IFERROR(IF($B$2=\"トン\",AppQt.Data!BK144,(AppQt.Data!BK144*ozton*AppQt.Data!BK$7)/1000000),\"-\")","v":5.1264326099248514},{"$f":"IFERROR(IF($B$2=\"トン\",AppQt.Data!BL144,(AppQt.Data!BL144*ozton*AppQt.Data!BL$7)/1000000),\"-\")","v":4.7866852783286244},"▲",23.134050470092582]
[null,"エジプト",{"$f":"IFERROR(IF($B$2=\"トン\",AppAn.Data!L135,(AppAn.Data!L135*ozton*AppAn.Data!L$6)/1000000),\"-\")","v":55.339952257951467},{"$f":"IFERROR(IF($B$2=\"トン\",AppAn.Data!M135,(AppAn.Data!M135*ozton*AppAn.Data!M$6)/1000000),\"-\")","v":36.400470865255002},{"$f":"IFERROR(IF($B$2=\"トン\",AppAn.Data!N135,(AppAn.Data!N135*ozton*AppAn.Data!N$6)/1000000),\"-\")","v":44.211140198081374},{"$f":"IFERROR(IF($B$2=\"トン\",AppAn.Data!O135,(AppAn.Data!O135*ozton*AppAn.Data!O$6)/1000000),\"-\")","v":52.766046445798246},{"$f":"IFERROR(IF($B$2=\"トン\",AppAn.Data!P135,(AppAn.Data!P135*ozton*AppAn.Data!P$6)/1000000),\"-\")","v":51.135850546904891},{"$f":"IFERROR(IF($B$2=\"トン\",AppAn.Data!Q135,(AppAn.Data!Q135*ozton*AppAn.Data!Q$6)/1000000),\"-\")","v":43.147161847980684},{"$f":"IFERROR(IF($B$2=\"トン\",AppAn.Data!R135,(AppAn.Data!R135*ozton*AppAn.Data!R$6)/1000000),\"-\")","v":28.090440984897615},{"$f":"IFERROR(IF($B$2=\"トン\",AppAn.Data!S135,(AppAn.Data!S135*ozton*AppAn.Data!S$6)/1000000),\"-\")","v":24.487208028561138},{"$f":"IFERROR(IF($B$2=\"トン\",AppAn.Data!T135,(AppAn.Data!T135*ozton*AppAn.Data!T$6)/1000000),\"-\")","v":27.351633588699233},{"$f":"IFERROR(IF($B$2=\"トン\",AppAn.Data!U135,(AppAn.Data!U135*ozton*AppAn.Data!U$6)/1000000),\"-\")","v":29.146318491605314},{"$f":"IFERROR(IF($B$2=\"トン\",AppAn.Data!V135,(AppAn.Data!V135*ozton*AppAn.Data!V$6)/1000000),\"-\")","v":23.340610808467655},{"$f":"IFERROR(IF($B$2=\"トン\",AppAn.Data!W135,(AppAn.Data!W135*ozton*AppAn.Data!W$6)/1000000),\"-\")","v":34.12893651140007},{"$f":"IFERROR(IF($B$2=\"トン\",AppAn.Data!X135,(AppAn.Data!X135*ozton*AppAn.Data!X$6)/1000000),\"-\")","v":37.994149081255514},"▲",11.325323801297916,null,{"$f":"IFERROR(IF($B$2=\"トン\",AppQt.Data!M145,(AppQt.Data!M145*ozton*AppQt.Data!M$7)/1000000),\"-\")","v":18.315472302371699},{"$f":"IFERROR(IF($B$2=\"トン\",AppQt.Data!N145,(AppQt.Data!N145*ozton*AppQt.Data!N$7)/1000000),\"-\")","v":9.5314684270548629},{"$f":"IFERROR(IF($B$2=\"トン\",AppQt.Data!O145,(AppQt.Data!O145*ozton*AppQt.Data!O$7)/1000000),\"-\")","v":15.861200933128575},{"$f":"IFERROR(IF($B$2=\"トン\",AppQt.Data!P145,(AppQt.Data!P145*ozton*AppQt.Data!P$7)/1000000),\"-\")","v":11.631810595396338},{"$f":"IFERROR(IF($B$2=\"トン\",AppQt.Data!Q145,(AppQt.Data!Q145*ozton*AppQt.Data!Q$7)/1000000),\"-\")","v":9.0019295202075433},{"$f":"IFERROR(IF($B$2=\"トン\",AppQt.Data!R145,(AppQt.Data!R145*ozton*AppQt.Data!R$7)/1000000),\"-\")","v":8.3344845511525829},{"$f":"IFERROR(IF($B$2=\"トン\",AppQt.Data!S145,(AppQt.Data!S145*ozton*AppQt.Data!S$7)/1000000),\"-\")","v":9.5190837568970608},{"$f":"IFERROR(IF($B$2=\"トン\",AppQt.Data!T145,(AppQt.Data!T145*ozton*AppQt.Data!T$7)/1000000),\"-\")","v":9.5449730369978187},{"$f":"IFERROR(IF($B$2=\"トン\",AppQt.Data!U145,(AppQt.Data!U145*ozton*AppQt.Data!U$7)/1000000),\"-\")","v":10.309738819397497},{"$f":"IFERROR(IF($B$2=\"トン\",AppQt.Data!V145,(AppQt.Data!V145*ozton*AppQt.Data!V$7)/1000000),\"-\")","v":9.3382869265318735},{"$f":"IFERROR(IF($B$2=\"トン\",AppQt.Data!W145,(AppQt.Data!W145*ozton*AppQt.Data!W$7)/1000000),\"-\")","v":11.70451895131596},{"$f":"IFERROR(IF($B$2=\"トン\",AppQt.Data!X145,(AppQt.Data!X145*ozton*AppQt.Data!X$7)/1000000),\"-\")","v":12.858595500836042},{"$f":"IFERROR(IF($B$2=\"トン\",AppQt.Data!Y145,(AppQt.Data!Y145*ozton*AppQt.Data!Y$7)/1000000),\"-\")","v":12.655195005798646},{"$f":"IFERROR(IF($B$2=\"トン\",AppQt.Data!Z145,(AppQt.Data!Z145*ozton*AppQt.Data!Z$7)/1000000),\"-\")","v":15.843025738548752},{"$f":"IFERROR(IF($B$2=\"トン\",AppQt.Data!AA145,(AppQt.Data!AA145*ozton*AppQt.Data!AA$7)/1000000),\"-\")","v":12.70964246676072},{"$f":"IFERROR(IF($B$2=\"トン\",AppQt.Data!AB145,(AppQt.Data!AB145*ozton*AppQt.Data!AB$7)/1000000),\"-\")","v":11.558183234690128},{"$f":"IFERROR(IF($B$2=\"トン\",AppQt.Data!AC145,(AppQt.Data!AC145*ozton*AppQt.Data!AC$7)/1000000),\"-\")","v":14.714119360216213},{"$f":"IFERROR(IF($B$2=\"トン\",AppQt.Data!AD145,(AppQt.Data!AD145*ozton*AppQt.Data!AD$7)/1000000),\"-\")","v":12.995328595709045},{"$f":"IFERROR(IF($B$2=\"トン\",AppQt.Data!AE145,(AppQt.Data!AE145*ozton*AppQt.Data!AE$7)/1000000),\"-\")","v":12.534306952854669},{"$f":"IFERROR(IF($B$2=\"トン\",AppQt.Data!AF145,(AppQt.Data!AF145*ozton*AppQt.Data!AF$7)/1000000),\"-\")","v":10.892095638124967},{"$f":"IFERROR(IF($B$2=\"トン\",AppQt.Data!AG145,(AppQt.Data!AG145*ozton*AppQt.Data!AG$7)/1000000),\"-\")","v":10.431169298237435},{"$f":"IFERROR(IF($B$2=\"トン\",AppQt.Data!AH145,(AppQt.Data!AH145*ozton*AppQt.Data!AH$7)/1000000),\"-\")","v":10.067003941229531},{"$f":"IFERROR(IF($B$2=\"トン\",AppQt.Data!AI145,(AppQt.Data!AI145*ozton*AppQt.Data!AI$7)/1000000),\"-\")","v":13.261356650745727},{"$f":"IFERROR(IF($B$2=\"トン\",AppQt.Data!AJ145,(AppQt.Data!AJ145*ozton*AppQt.Data!AJ$7)/1000000),\"-\")","v":9.3876319577679901},{"$f":"IFERROR(IF($B$2=\"トン\",AppQt.Data!AK145,(AppQt.Data!AK145*ozton*AppQt.Data!AK$7)/1000000),\"-\")","v":7.1706034951500381},{"$f":"IFERROR(IF($B$2=\"トン\",AppQt.Data!AL145,(AppQt.Data!AL145*ozton*AppQt.Data!AL$7)/1000000),\"-\")","v":6.3501493792174015},{"$f":"IFERROR(IF($B$2=\"トン\",AppQt.Data!AM145,(AppQt.Data!AM145*ozton*AppQt.Data!AM$7)/1000000),\"-\")","v":7.7696583525989213},{"$f":"IFERROR(IF($B$2=\"トン\",AppQt.Data!AN145,(AppQt.Data!AN145*ozton*AppQt.Data!AN$7)/1000000),\"-\")","v":6.8000297579312523},{"$f":"IFERROR(IF($B$2=\"トン\",AppQt.Data!AO145,(AppQt.Data!AO145*ozton*AppQt.Data!AO$7)/1000000),\"-\")","v":6.2368465511223379},{"$f":"IFERROR(IF($B$2=\"トン\",AppQt.Data!AP145,(AppQt.Data!AP145*ozton*AppQt.Data!AP$7)/1000000),\"-\")","v":5.18040980871573},{"$f":"IFERROR(IF($B$2=\"トン\",AppQt.Data!AQ145,(AppQt.Data!AQ145*ozton*AppQt.Data!AQ$7)/1000000),\"-\")","v":7.0245478900581082},{"$f":"IFERROR(IF($B$2=\"トン\",AppQt.Data!AR145,(AppQt.Data!AR145*ozton*AppQt.Data!AR$7)/1000000),\"-\")","v":6.0454037786649621},{"$f":"IFERROR(IF($B$2=\"トン\",AppQt.Data!AS145,(AppQt.Data!AS145*ozton*AppQt.Data!AS$7)/1000000),\"-\")","v":6.5702316025948608},{"$f":"IFERROR(IF($B$2=\"トン\",AppQt.Data!AT145,(AppQt.Data!AT145*ozton*AppQt.Data!AT$7)/1000000),\"-\")","v":5.7111430541520516},{"$f":"IFERROR(IF($B$2=\"トン\",AppQt.Data!AU145,(AppQt.Data!AU145*ozton*AppQt.Data!AU$7)/1000000),\"-\")","v":8.178457735573808},{"$f":"IFERROR(IF($B$2=\"トン\",AppQt.Data!AV145,(AppQt.Data!AV145*ozton*AppQt.Data!AV$7)/1000000),\"-\")","v":6.8918011963785144},{"$f":"IFERROR(IF($B$2=\"トン\",AppQt.Data!AW145,(AppQt.Data!AW145*ozton*AppQt.Data!AW$7)/1000000),\"-\")","v":7.4999935082239899},{"$f":"IFERROR(IF($B$2=\"トン\",AppQt.Data!AX145,(AppQt.Data!AX145*ozton*AppQt.Data!AX$7)/1000000),\"-\")","v":6.0560406580559896},{"$f":"IFERROR(IF($B$2=\"トン\",AppQt.Data!AY145,(AppQt.Data!AY145*ozton*AppQt.Data!AY$7)/1000000),\"-\")","v":7.6540908706925856},{"$f":"IFERROR(IF($B$2=\"トン\",AppQt.Data!AZ145,(AppQt.Data!AZ145*ozton*AppQt.Data!AZ$7)/1000000),\"-\")","v":7.9361934546327468},{"$f":"IFERROR(IF($B$2=\"トン\",AppQt.Data!BA145,(AppQt.Data!BA145*ozton*AppQt.Data!BA$7)/1000000),\"-\")","v":7.7306222266978555},{"$f":"IFERROR(IF($B$2=\"トン\",AppQt.Data!BB145,(AppQt.Data!BB145*ozton*AppQt.Data!BB$7)/1000000),\"-\")","v":1.9910057863173374},{"$f":"IFERROR(IF($B$2=\"トン\",AppQt.Data!BC145,(AppQt.Data!BC145*ozton*AppQt.Data!BC$7)/1000000),\"-\")","v":6.2329155490251722},{"$f":"IFERROR(IF($B$2=\"トン\",AppQt.Data!BD145,(AppQt.Data!BD145*ozton*AppQt.Data!BD$7)/1000000),\"-\")","v":7.3860672464272898},{"$f":"IFERROR(IF($B$2=\"トン\",AppQt.Data!BE145,(AppQt.Data!BE145*ozton*AppQt.Data!BE$7)/1000000),\"-\")","v":8.8569245101015053},{"$f":"IFERROR(IF($B$2=\"トン\",AppQt.Data!BF145,(AppQt.Data!BF145*ozton*AppQt.Data!BF$7)/1000000),\"-\")","v":7.7697686483394852},{"$f":"IFERROR(IF($B$2=\"トン\",AppQt.Data!BG145,(AppQt.Data!BG145*ozton*AppQt.Data!BG$7)/1000000),\"-\")","v":8.9459706016902985},{"$f":"IFERROR(IF($B$2=\"トン\",AppQt.Data!BH145,(AppQt.Data!BH145*ozton*AppQt.Data!BH$7)/1000000),\"-\")","v":8.5562727512687839},{"$f":"IFERROR(IF($B$2=\"トン\",AppQt.Data!BI145,(AppQt.Data!BI145*ozton*AppQt.Data!BI$7)/1000000),\"-\")","v":9.5102043686880133},{"$f":"IFERROR(IF($B$2=\"トン\",AppQt.Data!BJ145,(AppQt.Data!BJ145*ozton*AppQt.Data!BJ$7)/1000000),\"-\")","v":7.8027427856425184},{"$f":"IFERROR(IF($B$2=\"トン\",AppQt.Data!BK145,(AppQt.Data!BK145*ozton*AppQt.Data!BK$7)/1000000),\"-\")","v":10.548019932180562},{"$f":"IFERROR(IF($B$2=\"トン\",AppQt.Data!BL145,(AppQt.Data!BL145*ozton*AppQt.Data!BL$7)/1000000),\"-\")","v":10.133181994744419},"▲",18.429861802170812]
[null,"イラン",{"$f":"IFERROR(IF($B$2=\"トン\",AppAn.Data!L136,(AppAn.Data!L136*ozton*AppAn.Data!L$6)/1000000),\"-\")","v":84.984190905526845},{"$f":"IFERROR(IF($B$2=\"トン\",AppAn.Data!M136,(AppAn.Data!M136*ozton*AppAn.Data!M$6)/1000000),\"-\")","v":98.152132220235146},{"$f":"IFERROR(IF($B$2=\"トン\",AppAn.Data!N136,(AppAn.Data!N136*ozton*AppAn.Data!N$6)/1000000),\"-\")","v":102.13612016050075},{"$f":"IFERROR(IF($B$2=\"トン\",AppAn.Data!O136,(AppAn.Data!O136*ozton*AppAn.Data!O$6)/1000000),\"-\")","v":127.69198832948497},{"$f":"IFERROR(IF($B$2=\"トン\",AppAn.Data!P136,(AppAn.Data!P136*ozton*AppAn.Data!P$6)/1000000),\"-\")","v":75.359242128200378},{"$f":"IFERROR(IF($B$2=\"トン\",AppAn.Data!Q136,(AppAn.Data!Q136*ozton*AppAn.Data!Q$6)/1000000),\"-\")","v":67.312271576907847},{"$f":"IFERROR(IF($B$2=\"トン\",AppAn.Data!R136,(AppAn.Data!R136*ozton*AppAn.Data!R$6)/1000000),\"-\")","v":45.139094572703684},{"$f":"IFERROR(IF($B$2=\"トン\",AppAn.Data!S136,(AppAn.Data!S136*ozton*AppAn.Data!S$6)/1000000),\"-\")","v":64.532725479332655},{"$f":"IFERROR(IF($B$2=\"トン\",AppAn.Data!T136,(AppAn.Data!T136*ozton*AppAn.Data!T$6)/1000000),\"-\")","v":91.151195911234254},{"$f":"IFERROR(IF($B$2=\"トン\",AppAn.Data!U136,(AppAn.Data!U136*ozton*AppAn.Data!U$6)/1000000),\"-\")","v":69.630895856334718},{"$f":"IFERROR(IF($B$2=\"トン\",AppAn.Data!V136,(AppAn.Data!V136*ozton*AppAn.Data!V$6)/1000000),\"-\")","v":56.261140300619942},{"$f":"IFERROR(IF($B$2=\"トン\",AppAn.Data!W136,(AppAn.Data!W136*ozton*AppAn.Data!W$6)/1000000),\"-\")","v":51.785496552335033},{"$f":"IFERROR(IF($B$2=\"トン\",AppAn.Data!X136,(AppAn.Data!X136*ozton*AppAn.Data!X$6)/1000000),\"-\")","v":71.686939899359402},"▲",38.43053494121029,null,{"$f":"IFERROR(IF($B$2=\"トン\",AppQt.Data!M146,(AppQt.Data!M146*ozton*AppQt.Data!M$7)/1000000),\"-\")","v":21.250650001416624},{"$f":"IFERROR(IF($B$2=\"トン\",AppQt.Data!N146,(AppQt.Data!N146*ozton*AppQt.Data!N$7)/1000000),\"-\")","v":21.489328815732762},{"$f":"IFERROR(IF($B$2=\"トン\",AppQt.Data!O146,(AppQt.Data!O146*ozton*AppQt.Data!O$7)/1000000),\"-\")","v":25.598893446878701},{"$f":"IFERROR(IF($B$2=\"トン\",AppQt.Data!P146,(AppQt.Data!P146*ozton*AppQt.Data!P$7)/1000000),\"-\")","v":16.645318641498744},{"$f":"IFERROR(IF($B$2=\"トン\",AppQt.Data!Q146,(AppQt.Data!Q146*ozton*AppQt.Data!Q$7)/1000000),\"-\")","v":21.563382434179569},{"$f":"IFERROR(IF($B$2=\"トン\",AppQt.Data!R146,(AppQt.Data!R146*ozton*AppQt.Data!R$7)/1000000),\"-\")","v":22.101540416516468},{"$f":"IFERROR(IF($B$2=\"トン\",AppQt.Data!S146,(AppQt.Data!S146*ozton*AppQt.Data!S$7)/1000000),\"-\")","v":30.198073856956373},{"$f":"IFERROR(IF($B$2=\"トン\",AppQt.Data!T146,(AppQt.Data!T146*ozton*AppQt.Data!T$7)/1000000),\"-\")","v":24.289135512582735},{"$f":"IFERROR(IF($B$2=\"トン\",AppQt.Data!U146,(AppQt.Data!U146*ozton*AppQt.Data!U$7)/1000000),\"-\")","v":22.716606349412608},{"$f":"IFERROR(IF($B$2=\"トン\",AppQt.Data!V146,(AppQt.Data!V146*ozton*AppQt.Data!V$7)/1000000),\"-\")","v":24.167654577755719},{"$f":"IFERROR(IF($B$2=\"トン\",AppQt.Data!W146,(AppQt.Data!W146*ozton*AppQt.Data!W$7)/1000000),\"-\")","v":27.60329813490938},{"$f":"IFERROR(IF($B$2=\"トン\",AppQt.Data!X146,(AppQt.Data!X146*ozton*AppQt.Data!X$7)/1000000),\"-\")","v":27.648561098423059},{"$f":"IFERROR(IF($B$2=\"トン\",AppQt.Data!Y146,(AppQt.Data!Y146*ozton*AppQt.Data!Y$7)/1000000),\"-\")","v":25.883521172805779},{"$f":"IFERROR(IF($B$2=\"トン\",AppQt.Data!Z146,(AppQt.Data!Z146*ozton*AppQt.Data!Z$7)/1000000),\"-\")","v":42.217283171104128},{"$f":"IFERROR(IF($B$2=\"トン\",AppQt.Data!AA146,(AppQt.Data!AA146*ozton*AppQt.Data!AA$7)/1000000),\"-\")","v":29.297958337904923},{"$f":"IFERROR(IF($B$2=\"トン\",AppQt.Data!AB146,(AppQt.Data!AB146*ozton*AppQt.Data!AB$7)/1000000),\"-\")","v":30.293225647670141},{"$f":"IFERROR(IF($B$2=\"トン\",AppQt.Data!AC146,(AppQt.Data!AC146*ozton*AppQt.Data!AC$7)/1000000),\"-\")","v":30.807595066049828},{"$f":"IFERROR(IF($B$2=\"トン\",AppQt.Data!AD146,(AppQt.Data!AD146*ozton*AppQt.Data!AD$7)/1000000),\"-\")","v":18.884649801942842},{"$f":"IFERROR(IF($B$2=\"トン\",AppQt.Data!AE146,(AppQt.Data!AE146*ozton*AppQt.Data!AE$7)/1000000),\"-\")","v":14.148547713637264},{"$f":"IFERROR(IF($B$2=\"トン\",AppQt.Data!AF146,(AppQt.Data!AF146*ozton*AppQt.Data!AF$7)/1000000),\"-\")","v":11.518449546570446},{"$f":"IFERROR(IF($B$2=\"トン\",AppQt.Data!AG146,(AppQt.Data!AG146*ozton*AppQt.Data!AG$7)/1000000),\"-\")","v":23.467570528761001},{"$f":"IFERROR(IF($B$2=\"トン\",AppQt.Data!AH146,(AppQt.Data!AH146*ozton*AppQt.Data!AH$7)/1000000),\"-\")","v":14.959123915292034},{"$f":"IFERROR(IF($B$2=\"トン\",AppQt.Data!AI146,(AppQt.Data!AI146*ozton*AppQt.Data!AI$7)/1000000),\"-\")","v":16.23652663458309},{"$f":"IFERROR(IF($B$2=\"トン\",AppQt.Data!AJ146,(AppQt.Data!AJ146*ozton*AppQt.Data!AJ$7)/1000000),\"-\")","v":12.649050498271718},{"$f":"IFERROR(IF($B$2=\"トン\",AppQt.Data!AK146,(AppQt.Data!AK146*ozton*AppQt.Data!AK$7)/1000000),\"-\")","v":11.222764827691689},{"$f":"IFERROR(IF($B$2=\"トン\",AppQt.Data!AL146,(AppQt.Data!AL146*ozton*AppQt.Data!AL$7)/1000000),\"-\")","v":9.979625839611538},{"$f":"IFERROR(IF($B$2=\"トン\",AppQt.Data!AM146,(AppQt.Data!AM146*ozton*AppQt.Data!AM$7)/1000000),\"-\")","v":11.739675267503085},{"$f":"IFERROR(IF($B$2=\"トン\",AppQt.Data!AN146,(AppQt.Data!AN146*ozton*AppQt.Data!AN$7)/1000000),\"-\")","v":12.197028637897368},{"$f":"IFERROR(IF($B$2=\"トン\",AppQt.Data!AO146,(AppQt.Data!AO146*ozton*AppQt.Data!AO$7)/1000000),\"-\")","v":15.364841461274327},{"$f":"IFERROR(IF($B$2=\"トン\",AppQt.Data!AP146,(AppQt.Data!AP146*ozton*AppQt.Data!AP$7)/1000000),\"-\")","v":15.175886274418243},{"$f":"IFERROR(IF($B$2=\"トン\",AppQt.Data!AQ146,(AppQt.Data!AQ146*ozton*AppQt.Data!AQ$7)/1000000),\"-\")","v":17.591443111426926},{"$f":"IFERROR(IF($B$2=\"トン\",AppQt.Data!AR146,(AppQt.Data!AR146*ozton*AppQt.Data!AR$7)/1000000),\"-\")","v":16.400554632213151},{"$f":"IFERROR(IF($B$2=\"トン\",AppQt.Data!AS146,(AppQt.Data!AS146*ozton*AppQt.Data!AS$7)/1000000),\"-\")","v":19.977735833119379},{"$f":"IFERROR(IF($B$2=\"トン\",AppQt.Data!AT146,(AppQt.Data!AT146*ozton*AppQt.Data!AT$7)/1000000),\"-\")","v":21.720002033656144},{"$f":"IFERROR(IF($B$2=\"トン\",AppQt.Data!AU146,(AppQt.Data!AU146*ozton*AppQt.Data!AU$7)/1000000),\"-\")","v":25.74489912989949},{"$f":"IFERROR(IF($B$2=\"トン\",AppQt.Data!AV146,(AppQt.Data!AV146*ozton*AppQt.Data!AV$7)/1000000),\"-\")","v":23.708558914559241},{"$f":"IFERROR(IF($B$2=\"トン\",AppQt.Data!AW146,(AppQt.Data!AW146*ozton*AppQt.Data!AW$7)/1000000),\"-\")","v":20.85671577745541},{"$f":"IFERROR(IF($B$2=\"トン\",AppQt.Data!AX146,(AppQt.Data!AX146*ozton*AppQt.Data!AX$7)/1000000),\"-\")","v":17.804220174752565},{"$f":"IFERROR(IF($B$2=\"トン\",AppQt.Data!AY146,(AppQt.Data!AY146*ozton*AppQt.Data!AY$7)/1000000),\"-\")","v":16.191323702160517},{"$f":"IFERROR(IF($B$2=\"トン\",AppQt.Data!AZ146,(AppQt.Data!AZ146*ozton*AppQt.Data!AZ$7)/1000000),\"-\")","v":14.778636201966222},{"$f":"IFERROR(IF($B$2=\"トン\",AppQt.Data!BA146,(AppQt.Data!BA146*ozton*AppQt.Data!BA$7)/1000000),\"-\")","v":16.580444218494424},{"$f":"IFERROR(IF($B$2=\"トン\",AppQt.Data!BB146,(AppQt.Data!BB146*ozton*AppQt.Data!BB$7)/1000000),\"-\")","v":9.9147687799124142},{"$f":"IFERROR(IF($B$2=\"トン\",AppQt.Data!BC146,(AppQt.Data!BC146*ozton*AppQt.Data!BC$7)/1000000),\"-\")","v":16.25802841582912},{"$f":"IFERROR(IF($B$2=\"トン\",AppQt.Data!BD146,(AppQt.Data!BD146*ozton*AppQt.Data!BD$7)/1000000),\"-\")","v":13.507898886383988},{"$f":"IFERROR(IF($B$2=\"トン\",AppQt.Data!BE146,(AppQt.Data!BE146*ozton*AppQt.Data!BE$7)/1000000),\"-\")","v":12.150487771739817},{"$f":"IFERROR(IF($B$2=\"トン\",AppQt.Data!BF146,(AppQt.Data!BF146*ozton*AppQt.Data!BF$7)/1000000),\"-\")","v":9.3629942135297153},{"$f":"IFERROR(IF($B$2=\"トン\",AppQt.Data!BG146,(AppQt.Data!BG146*ozton*AppQt.Data!BG$7)/1000000),\"-\")","v":15.415623044183128},{"$f":"IFERROR(IF($B$2=\"トン\",AppQt.Data!BH146,(AppQt.Data!BH146*ozton*AppQt.Data!BH$7)/1000000),\"-\")","v":14.856391522882369},{"$f":"IFERROR(IF($B$2=\"トン\",AppQt.Data!BI146,(AppQt.Data!BI146*ozton*AppQt.Data!BI$7)/1000000),\"-\")","v":17.727522141450709},{"$f":"IFERROR(IF($B$2=\"トン\",AppQt.Data!BJ146,(AppQt.Data!BJ146*ozton*AppQt.Data!BJ$7)/1000000),\"-\")","v":14.507906849231146},{"$f":"IFERROR(IF($B$2=\"トン\",AppQt.Data!BK146,(AppQt.Data!BK146*ozton*AppQt.Data!BK$7)/1000000),\"-\")","v":22.601604268893418},{"$f":"IFERROR(IF($B$2=\"トン\",AppQt.Data!BL146,(AppQt.Data!BL146*ozton*AppQt.Data!BL$7)/1000000),\"-\")","v":16.84990663978413},"▲",13.418568794658349]
[null,"その他中東",{"$f":"IFERROR(IF($B$2=\"トン\",AppAn.Data!L137,(AppAn.Data!L137*ozton*AppAn.Data!L$6)/1000000),\"-\")","v":15.172049328296952},{"$f":"IFERROR(IF($B$2=\"トン\",AppAn.Data!M137,(AppAn.Data!M137*ozton*AppAn.Data!M$6)/1000000),\"-\")","v":16.553207913275518},{"$f":"IFERROR(IF($B$2=\"トン\",AppAn.Data!N137,(AppAn.Data!N137*ozton*AppAn.Data!N$6)/1000000),\"-\")","v":18.61820368943269},{"$f":"IFERROR(IF($B$2=\"トン\",AppAn.Data!O137,(AppAn.Data!O137*ozton*AppAn.Data!O$6)/1000000),\"-\")","v":29.745628266137437},{"$f":"IFERROR(IF($B$2=\"トン\",AppAn.Data!P137,(AppAn.Data!P137*ozton*AppAn.Data!P$6)/1000000),\"-\")","v":34.599772667003727},{"$f":"IFERROR(IF($B$2=\"トン\",AppAn.Data!Q137,(AppAn.Data!Q137*ozton*AppAn.Data!Q$6)/1000000),\"-\")","v":31.628244746969671},{"$f":"IFERROR(IF($B$2=\"トン\",AppAn.Data!R137,(AppAn.Data!R137*ozton*AppAn.Data!R$6)/1000000),\"-\")","v":29.189639716482297},{"$f":"IFERROR(IF($B$2=\"トン\",AppAn.Data!S137,(AppAn.Data!S137*ozton*AppAn.Data!S$6)/1000000),\"-\")","v":29.555226958128152},{"$f":"IFERROR(IF($B$2=\"トン\",AppAn.Data!T137,(AppAn.Data!T137*ozton*AppAn.Data!T$6)/1000000),\"-\")","v":31.986808440990746},{"$f":"IFERROR(IF($B$2=\"トン\",AppAn.Data!U137,(AppAn.Data!U137*ozton*AppAn.Data!U$6)/1000000),\"-\")","v":31.464859620777737},{"$f":"IFERROR(IF($B$2=\"トン\",AppAn.Data!V137,(AppAn.Data!V137*ozton*AppAn.Data!V$6)/1000000),\"-\")","v":21.507833146827323},{"$f":"IFERROR(IF($B$2=\"トン\",AppAn.Data!W137,(AppAn.Data!W137*ozton*AppAn.Data!W$6)/1000000),\"-\")","v":31.5522945409218},{"$f":"IFERROR(IF($B$2=\"トン\",AppAn.Data!X137,(AppAn.Data!X137*ozton*AppAn.Data!X$6)/1000000),\"-\")","v":34.25090148832755},"▲",8.552807289199805,null,{"$f":"IFERROR(IF($B$2=\"トン\",AppQt.Data!M147,(AppQt.Data!M147*ozton*AppQt.Data!M$7)/1000000),\"-\")","v":3.8160571530538818},{"$f":"IFERROR(IF($B$2=\"トン\",AppQt.Data!N147,(AppQt.Data!N147*ozton*AppQt.Data!N$7)/1000000),\"-\")","v":3.9388665089282928},{"$f":"IFERROR(IF($B$2=\"トン\",AppQt.Data!O147,(AppQt.Data!O147*ozton*AppQt.Data!O$7)/1000000),\"-\")","v":4.4399397659711726},{"$f":"IFERROR(IF($B$2=\"トン\",AppQt.Data!P147,(AppQt.Data!P147*ozton*AppQt.Data!P$7)/1000000),\"-\")","v":2.977185900343605},{"$f":"IFERROR(IF($B$2=\"トン\",AppQt.Data!Q147,(AppQt.Data!Q147*ozton*AppQt.Data!Q$7)/1000000),\"-\")","v":4.1420711629761957},{"$f":"IFERROR(IF($B$2=\"トン\",AppQt.Data!R147,(AppQt.Data!R147*ozton*AppQt.Data!R$7)/1000000),\"-\")","v":4.3837147861492713},{"$f":"IFERROR(IF($B$2=\"トン\",AppQt.Data!S147,(AppQt.Data!S147*ozton*AppQt.Data!S$7)/1000000),\"-\")","v":4.5910671171825834},{"$f":"IFERROR(IF($B$2=\"トン\",AppQt.Data!T147,(AppQt.Data!T147*ozton*AppQt.Data!T$7)/1000000),\"-\")","v":3.4363548469674674},{"$f":"IFERROR(IF($B$2=\"トン\",AppQt.Data!U147,(AppQt.Data!U147*ozton*AppQt.Data!U$7)/1000000),\"-\")","v":4.4643578489887279},{"$f":"IFERROR(IF($B$2=\"トン\",AppQt.Data!V147,(AppQt.Data!V147*ozton*AppQt.Data!V$7)/1000000),\"-\")","v":4.7647632824912547},{"$f":"IFERROR(IF($B$2=\"トン\",AppQt.Data!W147,(AppQt.Data!W147*ozton*AppQt.Data!W$7)/1000000),\"-\")","v":4.8882795405868329},{"$f":"IFERROR(IF($B$2=\"トン\",AppQt.Data!X147,(AppQt.Data!X147*ozton*AppQt.Data!X$7)/1000000),\"-\")","v":4.5008030173658744},{"$f":"IFERROR(IF($B$2=\"トン\",AppQt.Data!Y147,(AppQt.Data!Y147*ozton*AppQt.Data!Y$7)/1000000),\"-\")","v":6.6623236004622308},{"$f":"IFERROR(IF($B$2=\"トン\",AppQt.Data!Z147,(AppQt.Data!Z147*ozton*AppQt.Data!Z$7)/1000000),\"-\")","v":8.0594517110912012},{"$f":"IFERROR(IF($B$2=\"トン\",AppQt.Data!AA147,(AppQt.Data!AA147*ozton*AppQt.Data!AA$7)/1000000),\"-\")","v":7.7871704350645032},{"$f":"IFERROR(IF($B$2=\"トン\",AppQt.Data!AB147,(AppQt.Data!AB147*ozton*AppQt.Data!AB$7)/1000000),\"-\")","v":7.2366825195195004},{"$f":"IFERROR(IF($B$2=\"トン\",AppQt.Data!AC147,(AppQt.Data!AC147*ozton*AppQt.Data!AC$7)/1000000),\"-\")","v":9.6351681608599282},{"$f":"IFERROR(IF($B$2=\"トン\",AppQt.Data!AD147,(AppQt.Data!AD147*ozton*AppQt.Data!AD$7)/1000000),\"-\")","v":9.3846635149832878},{"$f":"IFERROR(IF($B$2=\"トン\",AppQt.Data!AE147,(AppQt.Data!AE147*ozton*AppQt.Data!AE$7)/1000000),\"-\")","v":7.4801089436485668},{"$f":"IFERROR(IF($B$2=\"トン\",AppQt.Data!AF147,(AppQt.Data!AF147*ozton*AppQt.Data!AF$7)/1000000),\"-\")","v":8.0998320475119403},{"$f":"IFERROR(IF($B$2=\"トン\",AppQt.Data!AG147,(AppQt.Data!AG147*ozton*AppQt.Data!AG$7)/1000000),\"-\")","v":8.6819631784113351},{"$f":"IFERROR(IF($B$2=\"トン\",AppQt.Data!AH147,(AppQt.Data!AH147*ozton*AppQt.Data!AH$7)/1000000),\"-\")","v":9.0477566456296437},{"$f":"IFERROR(IF($B$2=\"トン\",AppQt.Data!AI147,(AppQt.Data!AI147*ozton*AppQt.Data!AI$7)/1000000),\"-\")","v":6.8293260793887489},{"$f":"IFERROR(IF($B$2=\"トン\",AppQt.Data!AJ147,(AppQt.Data!AJ147*ozton*AppQt.Data!AJ$7)/1000000),\"-\")","v":7.0691988435399411},{"$f":"IFERROR(IF($B$2=\"トン\",AppQt.Data!AK147,(AppQt.Data!AK147*ozton*AppQt.Data!AK$7)/1000000),\"-\")","v":8.1376110391212197},{"$f":"IFERROR(IF($B$2=\"トン\",AppQt.Data!AL147,(AppQt.Data!AL147*ozton*AppQt.Data!AL$7)/1000000),\"-\")","v":7.9718800906878249},{"$f":"IFERROR(IF($B$2=\"トン\",AppQt.Data!AM147,(AppQt.Data!AM147*ozton*AppQt.Data!AM$7)/1000000),\"-\")","v":5.7202315450711083},{"$f":"IFERROR(IF($B$2=\"トン\",AppQt.Data!AN147,(AppQt.Data!AN147*ozton*AppQt.Data!AN$7)/1000000),\"-\")","v":7.359917041602146},{"$f":"IFERROR(IF($B$2=\"トン\",AppQt.Data!AO147,(AppQt.Data!AO147*ozton*AppQt.Data!AO$7)/1000000),\"-\")","v":7.6710178327659015},{"$f":"IFERROR(IF($B$2=\"トン\",AppQt.Data!AP147,(AppQt.Data!AP147*ozton*AppQt.Data!AP$7)/1000000),\"-\")","v":8.1633383002440425},{"$f":"IFERROR(IF($B$2=\"トン\",AppQt.Data!AQ147,(AppQt.Data!AQ147*ozton*AppQt.Data!AQ$7)/1000000),\"-\")","v":5.9742558021258159},{"$f":"IFERROR(IF($B$2=\"トン\",AppQt.Data!AR147,(AppQt.Data!AR147*ozton*AppQt.Data!AR$7)/1000000),\"-\")","v":7.7466150229923922},{"$f":"IFERROR(IF($B$2=\"トン\",AppQt.Data!AS147,(AppQt.Data!AS147*ozton*AppQt.Data!AS$7)/1000000),\"-\")","v":7.4803790071531227},{"$f":"IFERROR(IF($B$2=\"トン\",AppQt.Data!AT147,(AppQt.Data!AT147*ozton*AppQt.Data!AT$7)/1000000),\"-\")","v":9.3398374653752434},{"$f":"IFERROR(IF($B$2=\"トン\",AppQt.Data!AU147,(AppQt.Data!AU147*ozton*AppQt.Data!AU$7)/1000000),\"-\")","v":7.4438847756133573},{"$f":"IFERROR(IF($B$2=\"トン\",AppQt.Data!AV147,(AppQt.Data!AV147*ozton*AppQt.Data!AV$7)/1000000),\"-\")","v":7.7227071928490236},{"$f":"IFERROR(IF($B$2=\"トン\",AppQt.Data!AW147,(AppQt.Data!AW147*ozton*AppQt.Data!AW$7)/1000000),\"-\")","v":7.7348928196272499},{"$f":"IFERROR(IF($B$2=\"トン\",AppQt.Data!AX147,(AppQt.Data!AX147*ozton*AppQt.Data!AX$7)/1000000),\"-\")","v":9.3941455551443305},{"$f":"IFERROR(IF($B$2=\"トン\",AppQt.Data!AY147,(AppQt.Data!AY147*ozton*AppQt.Data!AY$7)/1000000),\"-\")","v":7.0999675085098737},{"$f":"IFERROR(IF($B$2=\"トン\",AppQt.Data!AZ147,(AppQt.Data!AZ147*ozton*AppQt.Data!AZ$7)/1000000),\"-\")","v":7.2358537374962824},{"$f":"IFERROR(IF($B$2=\"トン\",AppQt.Data!BA147,(AppQt.Data!BA147*ozton*AppQt.Data!BA$7)/1000000),\"-\")","v":7.1235490748595449},{"$f":"IFERROR(IF($B$2=\"トン\",AppQt.Data!BB147,(AppQt.Data!BB147*ozton*AppQt.Data!BB$7)/1000000),\"-\")","v":3.2114278489810042},{"$f":"IFERROR(IF($B$2=\"トン\",AppQt.Data!BC147,(AppQt.Data!BC147*ozton*AppQt.Data!BC$7)/1000000),\"-\")","v":5.2045864911978148},{"$f":"IFERROR(IF($B$2=\"トン\",AppQt.Data!BD147,(AppQt.Data!BD147*ozton*AppQt.Data!BD$7)/1000000),\"-\")","v":5.9682697317889595},{"$f":"IFERROR(IF($B$2=\"トン\",AppQt.Data!BE147,(AppQt.Data!BE147*ozton*AppQt.Data!BE$7)/1000000),\"-\")","v":7.669372101984969},{"$f":"IFERROR(IF($B$2=\"トン\",AppQt.Data!BF147,(AppQt.Data!BF147*ozton*AppQt.Data!BF$7)/1000000),\"-\")","v":6.7803795979082393},{"$f":"IFERROR(IF($B$2=\"トン\",AppQt.Data!BG147,(AppQt.Data!BG147*ozton*AppQt.Data!BG$7)/1000000),\"-\")","v":7.3662803153757661},{"$f":"IFERROR(IF($B$2=\"トン\",AppQt.Data!BH147,(AppQt.Data!BH147*ozton*AppQt.Data!BH$7)/1000000),\"-\")","v":9.7362625256528261},{"$f":"IFERROR(IF($B$2=\"トン\",AppQt.Data!BI147,(AppQt.Data!BI147*ozton*AppQt.Data!BI$7)/1000000),\"-\")","v":7.2073124220495224},{"$f":"IFERROR(IF($B$2=\"トン\",AppQt.Data!BJ147,(AppQt.Data!BJ147*ozton*AppQt.Data!BJ$7)/1000000),\"-\")","v":8.6487625151923293},{"$f":"IFERROR(IF($B$2=\"トン\",AppQt.Data!BK147,(AppQt.Data!BK147*ozton*AppQt.Data!BK$7)/1000000),\"-\")","v":8.9934433481381255},{"$f":"IFERROR(IF($B$2=\"トン\",AppQt.Data!BL147,(AppQt.Data!BL147*ozton*AppQt.Data!BL$7)/1000000),\"-\")","v":9.4013832029475708},"▼",-3.4395058866061312]
[null,"トルコ",{"$f":"IFERROR(IF($B$2=\"トン\",AppAn.Data!L138,(AppAn.Data!L138*ozton*AppAn.Data!L$6)/1000000),\"-\")","v":108.75436767925923},{"$f":"IFERROR(IF($B$2=\"トン\",AppAn.Data!M138,(AppAn.Data!M138*ozton*AppAn.Data!M$6)/1000000),\"-\")","v":145.52727775710864},{"$f":"IFERROR(IF($B$2=\"トン\",AppAn.Data!N138,(AppAn.Data!N138*ozton*AppAn.Data!N$6)/1000000),\"-\")","v":113.95032381031507},{"$f":"IFERROR(IF($B$2=\"トン\",AppAn.Data!O138,(AppAn.Data!O138*ozton*AppAn.Data!O$6)/1000000),\"-\")","v":184.08426649782302},{"$f":"IFERROR(IF($B$2=\"トン\",AppAn.Data!P138,(AppAn.Data!P138*ozton*AppAn.Data!P$6)/1000000),\"-\")","v":116.68963015812867},{"$f":"IFERROR(IF($B$2=\"トン\",AppAn.Data!Q138,(AppAn.Data!Q138*ozton*AppAn.Data!Q$6)/1000000),\"-\")","v":72.12357134932698},{"$f":"IFERROR(IF($B$2=\"トン\",AppAn.Data!R138,(AppAn.Data!R138*ozton*AppAn.Data!R$6)/1000000),\"-\")","v":70.123098309328441},{"$f":"IFERROR(IF($B$2=\"トン\",AppAn.Data!S138,(AppAn.Data!S138*ozton*AppAn.Data!S$6)/1000000),\"-\")","v":93.570216312955353},{"$f":"IFERROR(IF($B$2=\"トン\",AppAn.Data!T138,(AppAn.Data!T138*ozton*AppAn.Data!T$6)/1000000),\"-\")","v":74.140012207433472},{"$f":"IFERROR(IF($B$2=\"トン\",AppAn.Data!U138,(AppAn.Data!U138*ozton*AppAn.Data!U$6)/1000000),\"-\")","v":89.324878345505851},{"$f":"IFERROR(IF($B$2=\"トン\",AppAn.Data!V138,(AppAn.Data!V138*ozton*AppAn.Data!V$6)/1000000),\"-\")","v":146.99240410865298},{"$f":"IFERROR(IF($B$2=\"トン\",AppAn.Data!W138,(AppAn.Data!W138*ozton*AppAn.Data!W$6)/1000000),\"-\")","v":95.304430585941475},{"$f":"IFERROR(IF($B$2=\"トン\",AppAn.Data!X138,(AppAn.Data!X138*ozton*AppAn.Data!X$6)/1000000),\"-\")","v":121.54157200194207},"▲",27.52982338249328,null,{"$f":"IFERROR(IF($B$2=\"トン\",AppQt.Data!M148,(AppQt.Data!M148*ozton*AppQt.Data!M$7)/1000000),\"-\")","v":26.618363783867913},{"$f":"IFERROR(IF($B$2=\"トン\",AppQt.Data!N148,(AppQt.Data!N148*ozton*AppQt.Data!N$7)/1000000),\"-\")","v":23.51025263189721},{"$f":"IFERROR(IF($B$2=\"トン\",AppQt.Data!O148,(AppQt.Data!O148*ozton*AppQt.Data!O$7)/1000000),\"-\")","v":43.902017849751346},{"$f":"IFERROR(IF($B$2=\"トン\",AppQt.Data!P148,(AppQt.Data!P148*ozton*AppQt.Data!P$7)/1000000),\"-\")","v":14.723733413742767},{"$f":"IFERROR(IF($B$2=\"トン\",AppQt.Data!Q148,(AppQt.Data!Q148*ozton*AppQt.Data!Q$7)/1000000),\"-\")","v":36.862244793882482},{"$f":"IFERROR(IF($B$2=\"トン\",AppQt.Data!R148,(AppQt.Data!R148*ozton*AppQt.Data!R$7)/1000000),\"-\")","v":37.795290322883957},{"$f":"IFERROR(IF($B$2=\"トン\",AppQt.Data!S148,(AppQt.Data!S148*ozton*AppQt.Data!S$7)/1000000),\"-\")","v":46.898829045429046},{"$f":"IFERROR(IF($B$2=\"トン\",AppQt.Data!T148,(AppQt.Data!T148*ozton*AppQt.Data!T$7)/1000000),\"-\")","v":23.970913594913149},{"$f":"IFERROR(IF($B$2=\"トン\",AppQt.Data!U148,(AppQt.Data!U148*ozton*AppQt.Data!U$7)/1000000),\"-\")","v":31.546571184721529},{"$f":"IFERROR(IF($B$2=\"トン\",AppQt.Data!V148,(AppQt.Data!V148*ozton*AppQt.Data!V$7)/1000000),\"-\")","v":38.737280542286626},{"$f":"IFERROR(IF($B$2=\"トン\",AppQt.Data!W148,(AppQt.Data!W148*ozton*AppQt.Data!W$7)/1000000),\"-\")","v":29.913852596026612},{"$f":"IFERROR(IF($B$2=\"トン\",AppQt.Data!X148,(AppQt.Data!X148*ozton*AppQt.Data!X$7)/1000000),\"-\")","v":13.752619487280324},{"$f":"IFERROR(IF($B$2=\"トン\",AppQt.Data!Y148,(AppQt.Data!Y148*ozton*AppQt.Data!Y$7)/1000000),\"-\")","v":48.141692706119215},{"$f":"IFERROR(IF($B$2=\"トン\",AppQt.Data!Z148,(AppQt.Data!Z148*ozton*AppQt.Data!Z$7)/1000000),\"-\")","v":64.69207128996031},{"$f":"IFERROR(IF($B$2=\"トン\",AppQt.Data!AA148,(AppQt.Data!AA148*ozton*AppQt.Data!AA$7)/1000000),\"-\")","v":31.622376511240756},{"$f":"IFERROR(IF($B$2=\"トン\",AppQt.Data!AB148,(AppQt.Data!AB148*ozton*AppQt.Data!AB$7)/1000000),\"-\")","v":39.628125990502745},{"$f":"IFERROR(IF($B$2=\"トン\",AppQt.Data!AC148,(AppQt.Data!AC148*ozton*AppQt.Data!AC$7)/1000000),\"-\")","v":27.005804880224453},{"$f":"IFERROR(IF($B$2=\"トン\",AppQt.Data!AD148,(AppQt.Data!AD148*ozton*AppQt.Data!AD$7)/1000000),\"-\")","v":32.071379958766478},{"$f":"IFERROR(IF($B$2=\"トン\",AppQt.Data!AE148,(AppQt.Data!AE148*ozton*AppQt.Data!AE$7)/1000000),\"-\")","v":22.336633395992589},{"$f":"IFERROR(IF($B$2=\"トン\",AppQt.Data!AF148,(AppQt.Data!AF148*ozton*AppQt.Data!AF$7)/1000000),\"-\")","v":35.275811923145135},{"$f":"IFERROR(IF($B$2=\"トン\",AppQt.Data!AG148,(AppQt.Data!AG148*ozton*AppQt.Data!AG$7)/1000000),\"-\")","v":15.639665130397564},{"$f":"IFERROR(IF($B$2=\"トン\",AppQt.Data!AH148,(AppQt.Data!AH148*ozton*AppQt.Data!AH$7)/1000000),\"-\")","v":16.05165343681243},{"$f":"IFERROR(IF($B$2=\"トン\",AppQt.Data!AI148,(AppQt.Data!AI148*ozton*AppQt.Data!AI$7)/1000000),\"-\")","v":21.23233731685918},{"$f":"IFERROR(IF($B$2=\"トン\",AppQt.Data!AJ148,(AppQt.Data!AJ148*ozton*AppQt.Data!AJ$7)/1000000),\"-\")","v":19.199915465257806},{"$f":"IFERROR(IF($B$2=\"トン\",AppQt.Data!AK148,(AppQt.Data!AK148*ozton*AppQt.Data!AK$7)/1000000),\"-\")","v":13.70502591730776},{"$f":"IFERROR(IF($B$2=\"トン\",AppQt.Data!AL148,(AppQt.Data!AL148*ozton*AppQt.Data!AL$7)/1000000),\"-\")","v":13.724215854490994},{"$f":"IFERROR(IF($B$2=\"トン\",AppQt.Data!AM148,(AppQt.Data!AM148*ozton*AppQt.Data!AM$7)/1000000),\"-\")","v":14.648897904995193},{"$f":"IFERROR(IF($B$2=\"トン\",AppQt.Data!AN148,(AppQt.Data!AN148*ozton*AppQt.Data!AN$7)/1000000),\"-\")","v":28.044958632534495},{"$f":"IFERROR(IF($B$2=\"トン\",AppQt.Data!AO148,(AppQt.Data!AO148*ozton*AppQt.Data!AO$7)/1000000),\"-\")","v":17.233771475295445},{"$f":"IFERROR(IF($B$2=\"トン\",AppQt.Data!AP148,(AppQt.Data!AP148*ozton*AppQt.Data!AP$7)/1000000),\"-\")","v":34.434870934801381},{"$f":"IFERROR(IF($B$2=\"トン\",AppQt.Data!AQ148,(AppQt.Data!AQ148*ozton*AppQt.Data!AQ$7)/1000000),\"-\")","v":25.35355678182551},{"$f":"IFERROR(IF($B$2=\"トン\",AppQt.Data!AR148,(AppQt.Data!AR148*ozton*AppQt.Data!AR$7)/1000000),\"-\")","v":16.548017121033023},{"$f":"IFERROR(IF($B$2=\"トン\",AppQt.Data!AS148,(AppQt.Data!AS148*ozton*AppQt.Data!AS$7)/1000000),\"-\")","v":23.188489458117481},{"$f":"IFERROR(IF($B$2=\"トン\",AppQt.Data!AT148,(AppQt.Data!AT148*ozton*AppQt.Data!AT$7)/1000000),\"-\")","v":21.538474603942724},{"$f":"IFERROR(IF($B$2=\"トン\",AppQt.Data!AU148,(AppQt.Data!AU148*ozton*AppQt.Data!AU$7)/1000000),\"-\")","v":11.838398349858092},{"$f":"IFERROR(IF($B$2=\"トン\",AppQt.Data!AV148,(AppQt.Data!AV148*ozton*AppQt.Data!AV$7)/1000000),\"-\")","v":17.574649795515178},{"$f":"IFERROR(IF($B$2=\"トン\",AppQt.Data!AW148,(AppQt.Data!AW148*ozton*AppQt.Data!AW$7)/1000000),\"-\")","v":26.156354462920259},{"$f":"IFERROR(IF($B$2=\"トン\",AppQt.Data!AX148,(AppQt.Data!AX148*ozton*AppQt.Data!AX$7)/1000000),\"-\")","v":19.111772640482723},{"$f":"IFERROR(IF($B$2=\"トン\",AppQt.Data!AY148,(AppQt.Data!AY148*ozton*AppQt.Data!AY$7)/1000000),\"-\")","v":14.969941926922488},{"$f":"IFERROR(IF($B$2=\"トン\",AppQt.Data!AZ148,(AppQt.Data!AZ148*ozton*AppQt.Data!AZ$7)/1000000),\"-\")","v":29.086809315180389},{"$f":"IFERROR(IF($B$2=\"トン\",AppQt.Data!BA148,(AppQt.Data!BA148*ozton*AppQt.Data!BA$7)/1000000),\"-\")","v":31.905580059485757},{"$f":"IFERROR(IF($B$2=\"トン\",AppQt.Data!BB148,(AppQt.Data!BB148*ozton*AppQt.Data!BB$7)/1000000),\"-\")","v":23.86684935515984},{"$f":"IFERROR(IF($B$2=\"トン\",AppQt.Data!BC148,(AppQt.Data!BC148*ozton*AppQt.Data!BC$7)/1000000),\"-\")","v":55.546705979924027},{"$f":"IFERROR(IF($B$2=\"トン\",AppQt.Data!BD148,(AppQt.Data!BD148*ozton*AppQt.Data!BD$7)/1000000),\"-\")","v":35.673268714083335},{"$f":"IFERROR(IF($B$2=\"トン\",AppQt.Data!BE148,(AppQt.Data!BE148*ozton*AppQt.Data!BE$7)/1000000),\"-\")","v":53.236789025088662},{"$f":"IFERROR(IF($B$2=\"トン\",AppQt.Data!BF148,(AppQt.Data!BF148*ozton*AppQt.Data!BF$7)/1000000),\"-\")","v":12.210225595368639},{"$f":"IFERROR(IF($B$2=\"トン\",AppQt.Data!BG148,(AppQt.Data!BG148*ozton*AppQt.Data!BG$7)/1000000),\"-\")","v":18.538913704154208},{"$f":"IFERROR(IF($B$2=\"トン\",AppQt.Data!BH148,(AppQt.Data!BH148*ozton*AppQt.Data!BH$7)/1000000),\"-\")","v":11.318502261329959},{"$f":"IFERROR(IF($B$2=\"トン\",AppQt.Data!BI148,(AppQt.Data!BI148*ozton*AppQt.Data!BI$7)/1000000),\"-\")","v":17.642055289132159},{"$f":"IFERROR(IF($B$2=\"トン\",AppQt.Data!BJ148,(AppQt.Data!BJ148*ozton*AppQt.Data!BJ$7)/1000000),\"-\")","v":17.801527236719345},{"$f":"IFERROR(IF($B$2=\"トン\",AppQt.Data!BK148,(AppQt.Data!BK148*ozton*AppQt.Data!BK$7)/1000000),\"-\")","v":46.964804498954877},{"$f":"IFERROR(IF($B$2=\"トン\",AppQt.Data!BL148,(AppQt.Data!BL148*ozton*AppQt.Data!BL$7)/1000000),\"-\")","v":39.133184977135691},"▲",245.74525916591918]
[null,"ロシア",{"$f":"IFERROR(IF($B$2=\"トン\",AppAn.Data!L139,(AppAn.Data!L139*ozton*AppAn.Data!L$6)/1000000),\"-\")","v":60.331146228484116},{"$f":"IFERROR(IF($B$2=\"トン\",AppAn.Data!M139,(AppAn.Data!M139*ozton*AppAn.Data!M$6)/1000000),\"-\")","v":64.351035548686241},{"$f":"IFERROR(IF($B$2=\"トン\",AppAn.Data!N139,(AppAn.Data!N139*ozton*AppAn.Data!N$6)/1000000),\"-\")","v":67.656104525862048},{"$f":"IFERROR(IF($B$2=\"トン\",AppAn.Data!O139,(AppAn.Data!O139*ozton*AppAn.Data!O$6)/1000000),\"-\")","v":79.704222187499994},{"$f":"IFERROR(IF($B$2=\"トン\",AppAn.Data!P139,(AppAn.Data!P139*ozton*AppAn.Data!P$6)/1000000),\"-\")","v":75.49502111755568},{"$f":"IFERROR(IF($B$2=\"トン\",AppAn.Data!Q139,(AppAn.Data!Q139*ozton*AppAn.Data!Q$6)/1000000),\"-\")","v":47.948042150967112},{"$f":"IFERROR(IF($B$2=\"トン\",AppAn.Data!R139,(AppAn.Data!R139*ozton*AppAn.Data!R$6)/1000000),\"-\")","v":41.998456520722797},{"$f":"IFERROR(IF($B$2=\"トン\",AppAn.Data!S139,(AppAn.Data!S139*ozton*AppAn.Data!S$6)/1000000),\"-\")","v":42.272228910012423},{"$f":"IFERROR(IF($B$2=\"トン\",AppAn.Data!T139,(AppAn.Data!T139*ozton*AppAn.Data!T$6)/1000000),\"-\")","v":45.604196167437614},{"$f":"IFERROR(IF($B$2=\"トン\",AppAn.Data!U139,(AppAn.Data!U139*ozton*AppAn.Data!U$6)/1000000),\"-\")","v":48.105793844758203},{"$f":"IFERROR(IF($B$2=\"トン\",AppAn.Data!V139,(AppAn.Data!V139*ozton*AppAn.Data!V$6)/1000000),\"-\")","v":34.813632727919995},{"$f":"IFERROR(IF($B$2=\"トン\",AppAn.Data!W139,(AppAn.Data!W139*ozton*AppAn.Data!W$6)/1000000),\"-\")","v":46.81433367896328},{"$f":"IFERROR(IF($B$2=\"トン\",AppAn.Data!X139,(AppAn.Data!X139*ozton*AppAn.Data!X$6)/1000000),\"-\")","v":60.683784228853838},"▲",29.62650423479807,null,{"$f":"IFERROR(IF($B$2=\"トン\",AppQt.Data!M149,(AppQt.Data!M149*ozton*AppQt.Data!M$7)/1000000),\"-\")","v":14.218584660319307},{"$f":"IFERROR(IF($B$2=\"トン\",AppQt.Data!N149,(AppQt.Data!N149*ozton*AppQt.Data!N$7)/1000000),\"-\")","v":15.340048634209213},{"$f":"IFERROR(IF($B$2=\"トン\",AppQt.Data!O149,(AppQt.Data!O149*ozton*AppQt.Data!O$7)/1000000),\"-\")","v":13.683515969046233},{"$f":"IFERROR(IF($B$2=\"トン\",AppQt.Data!P149,(AppQt.Data!P149*ozton*AppQt.Data!P$7)/1000000),\"-\")","v":17.088996964909363},{"$f":"IFERROR(IF($B$2=\"トン\",AppQt.Data!Q149,(AppQt.Data!Q149*ozton*AppQt.Data!Q$7)/1000000),\"-\")","v":14.938562596599692},{"$f":"IFERROR(IF($B$2=\"トン\",AppQt.Data!R149,(AppQt.Data!R149*ozton*AppQt.Data!R$7)/1000000),\"-\")","v":15.324309119010818},{"$f":"IFERROR(IF($B$2=\"トン\",AppQt.Data!S149,(AppQt.Data!S149*ozton*AppQt.Data!S$7)/1000000),\"-\")","v":15.70940030911901},{"$f":"IFERROR(IF($B$2=\"トン\",AppQt.Data!T149,(AppQt.Data!T149*ozton*AppQt.Data!T$7)/1000000),\"-\")","v":18.378763523956721},{"$f":"IFERROR(IF($B$2=\"トン\",AppQt.Data!U149,(AppQt.Data!U149*ozton*AppQt.Data!U$7)/1000000),\"-\")","v":16.303195043103447},{"$f":"IFERROR(IF($B$2=\"トン\",AppQt.Data!V149,(AppQt.Data!V149*ozton*AppQt.Data!V$7)/1000000),\"-\")","v":15.38286637931034},{"$f":"IFERROR(IF($B$2=\"トン\",AppQt.Data!W149,(AppQt.Data!W149*ozton*AppQt.Data!W$7)/1000000),\"-\")","v":16.70049568965517},{"$f":"IFERROR(IF($B$2=\"トン\",AppQt.Data!X149,(AppQt.Data!X149*ozton*AppQt.Data!X$7)/1000000),\"-\")","v":19.269547413793099},{"$f":"IFERROR(IF($B$2=\"トン\",AppQt.Data!Y149,(AppQt.Data!Y149*ozton*AppQt.Data!Y$7)/1000000),\"-\")","v":17.841102812499997},{"$f":"IFERROR(IF($B$2=\"トン\",AppQt.Data!Z149,(AppQt.Data!Z149*ozton*AppQt.Data!Z$7)/1000000),\"-\")","v":18.236422499999996},{"$f":"IFERROR(IF($B$2=\"トン\",AppQt.Data!AA149,(AppQt.Data!AA149*ozton*AppQt.Data!AA$7)/1000000),\"-\")","v":21.349296874999997},{"$f":"IFERROR(IF($B$2=\"トン\",AppQt.Data!AB149,(AppQt.Data!AB149*ozton*AppQt.Data!AB$7)/1000000),\"-\")","v":22.277399999999997},{"$f":"IFERROR(IF($B$2=\"トン\",AppQt.Data!AC149,(AppQt.Data!AC149*ozton*AppQt.Data!AC$7)/1000000),\"-\")","v":21.743681233522224},{"$f":"IFERROR(IF($B$2=\"トン\",AppQt.Data!AD149,(AppQt.Data!AD149*ozton*AppQt.Data!AD$7)/1000000),\"-\")","v":19.17330004110152},{"$f":"IFERROR(IF($B$2=\"トン\",AppQt.Data!AE149,(AppQt.Data!AE149*ozton*AppQt.Data!AE$7)/1000000),\"-\")","v":18.900979842931935},{"$f":"IFERROR(IF($B$2=\"トン\",AppQt.Data!AF149,(AppQt.Data!AF149*ozton*AppQt.Data!AF$7)/1000000),\"-\")","v":15.677059999999997},{"$f":"IFERROR(IF($B$2=\"トン\",AppQt.Data!AG149,(AppQt.Data!AG149*ozton*AppQt.Data!AG$7)/1000000),\"-\")","v":13.182608251807739},{"$f":"IFERROR(IF($B$2=\"トン\",AppQt.Data!AH149,(AppQt.Data!AH149*ozton*AppQt.Data!AH$7)/1000000),\"-\")","v":10.154978421701603},{"$f":"IFERROR(IF($B$2=\"トン\",AppQt.Data!AI149,(AppQt.Data!AI149*ozton*AppQt.Data!AI$7)/1000000),\"-\")","v":14.582515183246073},{"$f":"IFERROR(IF($B$2=\"トン\",AppQt.Data!AJ149,(AppQt.Data!AJ149*ozton*AppQt.Data!AJ$7)/1000000),\"-\")","v":10.027940294211701},{"$f":"IFERROR(IF($B$2=\"トン\",AppQt.Data!AK149,(AppQt.Data!AK149*ozton*AppQt.Data!AK$7)/1000000),\"-\")","v":10.760146320714588},{"$f":"IFERROR(IF($B$2=\"トン\",AppQt.Data!AL149,(AppQt.Data!AL149*ozton*AppQt.Data!AL$7)/1000000),\"-\")","v":9.6734140156185795},{"$f":"IFERROR(IF($B$2=\"トン\",AppQt.Data!AM149,(AppQt.Data!AM149*ozton*AppQt.Data!AM$7)/1000000),\"-\")","v":10.553250261780104},{"$f":"IFERROR(IF($B$2=\"トン\",AppQt.Data!AN149,(AppQt.Data!AN149*ozton*AppQt.Data!AN$7)/1000000),\"-\")","v":11.011645922609528},{"$f":"IFERROR(IF($B$2=\"トン\",AppQt.Data!AO149,(AppQt.Data!AO149*ozton*AppQt.Data!AO$7)/1000000),\"-\")","v":10.081522628668651},{"$f":"IFERROR(IF($B$2=\"トン\",AppQt.Data!AP149,(AppQt.Data!AP149*ozton*AppQt.Data!AP$7)/1000000),\"-\")","v":8.7959131113851203},{"$f":"IFERROR(IF($B$2=\"トン\",AppQt.Data!AQ149,(AppQt.Data!AQ149*ozton*AppQt.Data!AQ$7)/1000000),\"-\")","v":11.207068062827222},{"$f":"IFERROR(IF($B$2=\"トン\",AppQt.Data!AR149,(AppQt.Data!AR149*ozton*AppQt.Data!AR$7)/1000000),\"-\")","v":12.187725107131433},{"$f":"IFERROR(IF($B$2=\"トン\",AppQt.Data!AS149,(AppQt.Data!AS149*ozton*AppQt.Data!AS$7)/1000000),\"-\")","v":10.884548760102085},{"$f":"IFERROR(IF($B$2=\"トン\",AppQt.Data!AT149,(AppQt.Data!AT149*ozton*AppQt.Data!AT$7)/1000000),\"-\")","v":9.5282544225236325},{"$f":"IFERROR(IF($B$2=\"トン\",AppQt.Data!AU149,(AppQt.Data!AU149*ozton*AppQt.Data!AU$7)/1000000),\"-\")","v":12.084524869109945},{"$f":"IFERROR(IF($B$2=\"トン\",AppQt.Data!AV149,(AppQt.Data!AV149*ozton*AppQt.Data!AV$7)/1000000),\"-\")","v":13.10686811570195},{"$f":"IFERROR(IF($B$2=\"トン\",AppQt.Data!AW149,(AppQt.Data!AW149*ozton*AppQt.Data!AW$7)/1000000),\"-\")","v":11.558182710506166},{"$f":"IFERROR(IF($B$2=\"トン\",AppQt.Data!AX149,(AppQt.Data!AX149*ozton*AppQt.Data!AX$7)/1000000),\"-\")","v":10.086484599424578},{"$f":"IFERROR(IF($B$2=\"トン\",AppQt.Data!AY149,(AppQt.Data!AY149*ozton*AppQt.Data!AY$7)/1000000),\"-\")","v":12.666886125654447},{"$f":"IFERROR(IF($B$2=\"トン\",AppQt.Data!AZ149,(AppQt.Data!AZ149*ozton*AppQt.Data!AZ$7)/1000000),\"-\")","v":13.79424040917301},{"$f":"IFERROR(IF($B$2=\"トン\",AppQt.Data!BA149,(AppQt.Data!BA149*ozton*AppQt.Data!BA$7)/1000000),\"-\")","v":10.795302439455552},{"$f":"IFERROR(IF($B$2=\"トン\",AppQt.Data!BB149,(AppQt.Data!BB149*ozton*AppQt.Data!BB$7)/1000000),\"-\")","v":4.8614238397698326},{"$f":"IFERROR(IF($B$2=\"トン\",AppQt.Data!BC149,(AppQt.Data!BC149*ozton*AppQt.Data!BC$7)/1000000),\"-\")","v":9.0231976795396633},{"$f":"IFERROR(IF($B$2=\"トン\",AppQt.Data!BD149,(AppQt.Data!BD149*ozton*AppQt.Data!BD$7)/1000000),\"-\")","v":10.13370876915495},{"$f":"IFERROR(IF($B$2=\"トン\",AppQt.Data!BE149,(AppQt.Data!BE149*ozton*AppQt.Data!BE$7)/1000000),\"-\")","v":10.302611250441942},{"$f":"IFERROR(IF($B$2=\"トン\",AppQt.Data!BF149,(AppQt.Data!BF149*ozton*AppQt.Data!BF$7)/1000000),\"-\")","v":10.794044200459618},{"$f":"IFERROR(IF($B$2=\"トン\",AppQt.Data!BG149,(AppQt.Data!BG149*ozton*AppQt.Data!BG$7)/1000000),\"-\")","v":12.736569870505582},{"$f":"IFERROR(IF($B$2=\"トン\",AppQt.Data!BH149,(AppQt.Data!BH149*ozton*AppQt.Data!BH$7)/1000000),\"-\")","v":12.98110835755614},{"$f":"IFERROR(IF($B$2=\"トン\",AppQt.Data!BI149,(AppQt.Data!BI149*ozton*AppQt.Data!BI$7)/1000000),\"-\")","v":13.93551218604491},{"$f":"IFERROR(IF($B$2=\"トン\",AppQt.Data!BJ149,(AppQt.Data!BJ149*ozton*AppQt.Data!BJ$7)/1000000),\"-\")","v":15.032481610367695},{"$f":"IFERROR(IF($B$2=\"トン\",AppQt.Data!BK149,(AppQt.Data!BK149*ozton*AppQt.Data!BK$7)/1000000),\"-\")","v":16.093412932441232},{"$f":"IFERROR(IF($B$2=\"トン\",AppQt.Data!BL149,(AppQt.Data!BL149*ozton*AppQt.Data!BL$7)/1000000),\"-\")","v":15.622377499999999},"▲",20.347023302570388]
[null,"南北アメリカ",{"$f":"IFERROR(IF($B$2=\"トン\",AppAn.Data!L140,(AppAn.Data!L140*ozton*AppAn.Data!L$6)/1000000),\"-\")","v":303.83485301626143},{"$f":"IFERROR(IF($B$2=\"トン\",AppAn.Data!M140,(AppAn.Data!M140*ozton*AppAn.Data!M$6)/1000000),\"-\")","v":266.84714134054798},{"$f":"IFERROR(IF($B$2=\"トン\",AppAn.Data!N140,(AppAn.Data!N140*ozton*AppAn.Data!N$6)/1000000),\"-\")","v":224.19039659496505},{"$f":"IFERROR(IF($B$2=\"トン\",AppAn.Data!O140,(AppAn.Data!O140*ozton*AppAn.Data!O$6)/1000000),\"-\")","v":251.43142884519057},{"$f":"IFERROR(IF($B$2=\"トン\",AppAn.Data!P140,(AppAn.Data!P140*ozton*AppAn.Data!P$6)/1000000),\"-\")","v":224.61694803292073},{"$f":"IFERROR(IF($B$2=\"トン\",AppAn.Data!Q140,(AppAn.Data!Q140*ozton*AppAn.Data!Q$6)/1000000),\"-\")","v":248.48869334630047},{"$f":"IFERROR(IF($B$2=\"トン\",AppAn.Data!R140,(AppAn.Data!R140*ozton*AppAn.Data!R$6)/1000000),\"-\")","v":266.46774070005785},{"$f":"IFERROR(IF($B$2=\"トン\",AppAn.Data!S140,(AppAn.Data!S140*ozton*AppAn.Data!S$6)/1000000),\"-\")","v":215.38362360169472},{"$f":"IFERROR(IF($B$2=\"トン\",AppAn.Data!T140,(AppAn.Data!T140*ozton*AppAn.Data!T$6)/1000000),\"-\")","v":209.90550106842332},{"$f":"IFERROR(IF($B$2=\"トン\",AppAn.Data!U140,(AppAn.Data!U140*ozton*AppAn.Data!U$6)/1000000),\"-\")","v":205.89587304416767},{"$f":"IFERROR(IF($B$2=\"トン\",AppAn.Data!V140,(AppAn.Data!V140*ozton*AppAn.Data!V$6)/1000000),\"-\")","v":237.34041857416287},{"$f":"IFERROR(IF($B$2=\"トン\",AppAn.Data!W140,(AppAn.Data!W140*ozton*AppAn.Data!W$6)/1000000),\"-\")","v":321.29238876398875},{"$f":"IFERROR(IF($B$2=\"トン\",AppAn.Data!X140,(AppAn.Data!X140*ozton*AppAn.Data!X$6)/1000000),\"-\")","v":315.77708184171172},"▼",-1.7166005530023343,null,{"$f":"IFERROR(IF($B$2=\"トン\",AppQt.Data!M150,(AppQt.Data!M150*ozton*AppQt.Data!M$7)/1000000),\"-\")","v":53.233264949678492},{"$f":"IFERROR(IF($B$2=\"トン\",AppQt.Data!N150,(AppQt.Data!N150*ozton*AppQt.Data!N$7)/1000000),\"-\")","v":77.622723537252426},{"$f":"IFERROR(IF($B$2=\"トン\",AppQt.Data!O150,(AppQt.Data!O150*ozton*AppQt.Data!O$7)/1000000),\"-\")","v":71.141631559408779},{"$f":"IFERROR(IF($B$2=\"トン\",AppQt.Data!P150,(AppQt.Data!P150*ozton*AppQt.Data!P$7)/1000000),\"-\")","v":101.83723296992176},{"$f":"IFERROR(IF($B$2=\"トン\",AppQt.Data!Q150,(AppQt.Data!Q150*ozton*AppQt.Data!Q$7)/1000000),\"-\")","v":54.45929595962037},{"$f":"IFERROR(IF($B$2=\"トン\",AppQt.Data!R150,(AppQt.Data!R150*ozton*AppQt.Data!R$7)/1000000),\"-\")","v":61.261284904163134},{"$f":"IFERROR(IF($B$2=\"トン\",AppQt.Data!S150,(AppQt.Data!S150*ozton*AppQt.Data!S$7)/1000000),\"-\")","v":66.708732926154028},{"$f":"IFERROR(IF($B$2=\"トン\",AppQt.Data!T150,(AppQt.Data!T150*ozton*AppQt.Data!T$7)/1000000),\"-\")","v":84.417827550610411},{"$f":"IFERROR(IF($B$2=\"トン\",AppQt.Data!U150,(AppQt.Data!U150*ozton*AppQt.Data!U$7)/1000000),\"-\")","v":44.422965468023619},{"$f":"IFERROR(IF($B$2=\"トン\",AppQt.Data!V150,(AppQt.Data!V150*ozton*AppQt.Data!V$7)/1000000),\"-\")","v":49.768260514939882},{"$f":"IFERROR(IF($B$2=\"トン\",AppQt.Data!W150,(AppQt.Data!W150*ozton*AppQt.Data!W$7)/1000000),\"-\")","v":53.142213289235336},{"$f":"IFERROR(IF($B$2=\"トン\",AppQt.Data!X150,(AppQt.Data!X150*ozton*AppQt.Data!X$7)/1000000),\"-\")","v":76.856957322766249},{"$f":"IFERROR(IF($B$2=\"トン\",AppQt.Data!Y150,(AppQt.Data!Y150*ozton*AppQt.Data!Y$7)/1000000),\"-\")","v":56.409706429995126},{"$f":"IFERROR(IF($B$2=\"トン\",AppQt.Data!Z150,(AppQt.Data!Z150*ozton*AppQt.Data!Z$7)/1000000),\"-\")","v":66.361467380756636},{"$f":"IFERROR(IF($B$2=\"トン\",AppQt.Data!AA150,(AppQt.Data!AA150*ozton*AppQt.Data!AA$7)/1000000),\"-\")","v":50.831842412717037},{"$f":"IFERROR(IF($B$2=\"トン\",AppQt.Data!AB150,(AppQt.Data!AB150*ozton*AppQt.Data!AB$7)/1000000),\"-\")","v":77.828412621721753},{"$f":"IFERROR(IF($B$2=\"トン\",AppQt.Data!AC150,(AppQt.Data!AC150*ozton*AppQt.Data!AC$7)/1000000),\"-\")","v":45.913392196468365},{"$f":"IFERROR(IF($B$2=\"トン\",AppQt.Data!AD150,(AppQt.Data!AD150*ozton*AppQt.Data!AD$7)/1000000),\"-\")","v":51.918907850055014},{"$f":"IFERROR(IF($B$2=\"トン\",AppQt.Data!AE150,(AppQt.Data!AE150*ozton*AppQt.Data!AE$7)/1000000),\"-\")","v":50.355078208846251},{"$f":"IFERROR(IF($B$2=\"トン\",AppQt.Data!AF150,(AppQt.Data!AF150*ozton*AppQt.Data!AF$7)/1000000),\"-\")","v":76.429569777551094},{"$f":"IFERROR(IF($B$2=\"トン\",AppQt.Data!AG150,(AppQt.Data!AG150*ozton*AppQt.Data!AG$7)/1000000),\"-\")","v":46.192042110050039},{"$f":"IFERROR(IF($B$2=\"トン\",AppQt.Data!AH150,(AppQt.Data!AH150*ozton*AppQt.Data!AH$7)/1000000),\"-\")","v":52.765693604150727},{"$f":"IFERROR(IF($B$2=\"トン\",AppQt.Data!AI150,(AppQt.Data!AI150*ozton*AppQt.Data!AI$7)/1000000),\"-\")","v":70.923477041492305},{"$f":"IFERROR(IF($B$2=\"トン\",AppQt.Data!AJ150,(AppQt.Data!AJ150*ozton*AppQt.Data!AJ$7)/1000000),\"-\")","v":78.607480590607381},{"$f":"IFERROR(IF($B$2=\"トン\",AppQt.Data!AK150,(AppQt.Data!AK150*ozton*AppQt.Data!AK$7)/1000000),\"-\")","v":55.418765528634879},{"$f":"IFERROR(IF($B$2=\"トン\",AppQt.Data!AL150,(AppQt.Data!AL150*ozton*AppQt.Data!AL$7)/1000000),\"-\")","v":67.518823698937652},{"$f":"IFERROR(IF($B$2=\"トン\",AppQt.Data!AM150,(AppQt.Data!AM150*ozton*AppQt.Data!AM$7)/1000000),\"-\")","v":56.015818387590102},{"$f":"IFERROR(IF($B$2=\"トン\",AppQt.Data!AN150,(AppQt.Data!AN150*ozton*AppQt.Data!AN$7)/1000000),\"-\")","v":87.514333084895199},{"$f":"IFERROR(IF($B$2=\"トン\",AppQt.Data!AO150,(AppQt.Data!AO150*ozton*AppQt.Data!AO$7)/1000000),\"-\")","v":50.953707038425435},{"$f":"IFERROR(IF($B$2=\"トン\",AppQt.Data!AP150,(AppQt.Data!AP150*ozton*AppQt.Data!AP$7)/1000000),\"-\")","v":45.721453790055698},{"$f":"IFERROR(IF($B$2=\"トン\",AppQt.Data!AQ150,(AppQt.Data!AQ150*ozton*AppQt.Data!AQ$7)/1000000),\"-\")","v":46.444844854449073},{"$f":"IFERROR(IF($B$2=\"トン\",AppQt.Data!AR150,(AppQt.Data!AR150*ozton*AppQt.Data!AR$7)/1000000),\"-\")","v":72.26361791876451},{"$f":"IFERROR(IF($B$2=\"トン\",AppQt.Data!AS150,(AppQt.Data!AS150*ozton*AppQt.Data!AS$7)/1000000),\"-\")","v":41.369718890638637},{"$f":"IFERROR(IF($B$2=\"トン\",AppQt.Data!AT150,(AppQt.Data!AT150*ozton*AppQt.Data!AT$7)/1000000),\"-\")","v":47.383387495911514},{"$f":"IFERROR(IF($B$2=\"トン\",AppQt.Data!AU150,(AppQt.Data!AU150*ozton*AppQt.Data!AU$7)/1000000),\"-\")","v":49.077913460480914},{"$f":"IFERROR(IF($B$2=\"トン\",AppQt.Data!AV150,(AppQt.Data!AV150*ozton*AppQt.Data!AV$7)/1000000),\"-\")","v":72.074481221392205},{"$f":"IFERROR(IF($B$2=\"トン\",AppQt.Data!AW150,(AppQt.Data!AW150*ozton*AppQt.Data!AW$7)/1000000),\"-\")","v":43.242004263182892},{"$f":"IFERROR(IF($B$2=\"トン\",AppQt.Data!AX150,(AppQt.Data!AX150*ozton*AppQt.Data!AX$7)/1000000),\"-\")","v":45.755834788825709},{"$f":"IFERROR(IF($B$2=\"トン\",AppQt.Data!AY150,(AppQt.Data!AY150*ozton*AppQt.Data!AY$7)/1000000),\"-\")","v":46.559339593790391},{"$f":"IFERROR(IF($B$2=\"トン\",AppQt.Data!AZ150,(AppQt.Data!AZ150*ozton*AppQt.Data!AZ$7)/1000000),\"-\")","v":70.338694398368702},{"$f":"IFERROR(IF($B$2=\"トン\",AppQt.Data!BA150,(AppQt.Data!BA150*ozton*AppQt.Data!BA$7)/1000000),\"-\")","v":49.290789652268771},{"$f":"IFERROR(IF($B$2=\"トン\",AppQt.Data!BB150,(AppQt.Data!BB150*ozton*AppQt.Data!BB$7)/1000000),\"-\")","v":44.03129826505824},{"$f":"IFERROR(IF($B$2=\"トン\",AppQt.Data!BC150,(AppQt.Data!BC150*ozton*AppQt.Data!BC$7)/1000000),\"-\")","v":61.671707807799258},{"$f":"IFERROR(IF($B$2=\"トン\",AppQt.Data!BD150,(AppQt.Data!BD150*ozton*AppQt.Data!BD$7)/1000000),\"-\")","v":82.346622849036564},{"$f":"IFERROR(IF($B$2=\"トン\",AppQt.Data!BE150,(AppQt.Data!BE150*ozton*AppQt.Data!BE$7)/1000000),\"-\")","v":69.966494846438181},{"$f":"IFERROR(IF($B$2=\"トン\",AppQt.Data!BF150,(AppQt.Data!BF150*ozton*AppQt.Data!BF$7)/1000000),\"-\")","v":82.00001592825032},{"$f":"IFERROR(IF($B$2=\"トン\",AppQt.Data!BG150,(AppQt.Data!BG150*ozton*AppQt.Data!BG$7)/1000000),\"-\")","v":68.086819122795404},{"$f":"IFERROR(IF($B$2=\"トン\",AppQt.Data!BH150,(AppQt.Data!BH150*ozton*AppQt.Data!BH$7)/1000000),\"-\")","v":101.23905886650491},{"$f":"IFERROR(IF($B$2=\"トン\",AppQt.Data!BI150,(AppQt.Data!BI150*ozton*AppQt.Data!BI$7)/1000000),\"-\")","v":70.492211287153125},{"$f":"IFERROR(IF($B$2=\"トン\",AppQt.Data!BJ150,(AppQt.Data!BJ150*ozton*AppQt.Data!BJ$7)/1000000),\"-\")","v":80.512588251475876},{"$f":"IFERROR(IF($B$2=\"トン\",AppQt.Data!BK150,(AppQt.Data!BK150*ozton*AppQt.Data!BK$7)/1000000),\"-\")","v":67.687721174016261},{"$f":"IFERROR(IF($B$2=\"トン\",AppQt.Data!BL150,(AppQt.Data!BL150*ozton*AppQt.Data!BL$7)/1000000),\"-\")","v":97.084561129066472},"▼",-4.1036510848215251]
[null,"米国",{"$f":"IFERROR(IF($B$2=\"トン\",AppAn.Data!L141,(AppAn.Data!L141*ozton*AppAn.Data!L$6)/1000000),\"-\")","v":226.68297004756693},{"$f":"IFERROR(IF($B$2=\"トン\",AppAn.Data!M141,(AppAn.Data!M141*ozton*AppAn.Data!M$6)/1000000),\"-\")","v":198.49551548459601},{"$f":"IFERROR(IF($B$2=\"トン\",AppAn.Data!N141,(AppAn.Data!N141*ozton*AppAn.Data!N$6)/1000000),\"-\")","v":160.18638339940065},{"$f":"IFERROR(IF($B$2=\"トン\",AppAn.Data!O141,(AppAn.Data!O141*ozton*AppAn.Data!O$6)/1000000),\"-\")","v":187.77554729113817},{"$f":"IFERROR(IF($B$2=\"トン\",AppAn.Data!P141,(AppAn.Data!P141*ozton*AppAn.Data!P$6)/1000000),\"-\")","v":164.7460874154909},{"$f":"IFERROR(IF($B$2=\"トン\",AppAn.Data!Q141,(AppAn.Data!Q141*ozton*AppAn.Data!Q$6)/1000000),\"-\")","v":190.5501970917125},{"$f":"IFERROR(IF($B$2=\"トン\",AppAn.Data!R141,(AppAn.Data!R141*ozton*AppAn.Data!R$6)/1000000),\"-\")","v":210.09701837508399},{"$f":"IFERROR(IF($B$2=\"トン\",AppAn.Data!S141,(AppAn.Data!S141*ozton*AppAn.Data!S$6)/1000000),\"-\")","v":158.86519987054584},{"$f":"IFERROR(IF($B$2=\"トン\",AppAn.Data!T141,(AppAn.Data!T141*ozton*AppAn.Data!T$6)/1000000),\"-\")","v":154.44276413645275},{"$f":"IFERROR(IF($B$2=\"トン\",AppAn.Data!U141,(AppAn.Data!U141*ozton*AppAn.Data!U$6)/1000000),\"-\")","v":150.79977750967009},{"$f":"IFERROR(IF($B$2=\"トン\",AppAn.Data!V141,(AppAn.Data!V141*ozton*AppAn.Data!V$6)/1000000),\"-\")","v":187.32063801344287},{"$f":"IFERROR(IF($B$2=\"トン\",AppAn.Data!W141,(AppAn.Data!W141*ozton*AppAn.Data!W$6)/1000000),\"-\")","v":264.94223550282652},{"$f":"IFERROR(IF($B$2=\"トン\",AppAn.Data!X141,(AppAn.Data!X141*ozton*AppAn.Data!X$6)/1000000),\"-\")","v":256.55815723296348},"▼",-3.1644929144464706,null,{"$f":"IFERROR(IF($B$2=\"トン\",AppQt.Data!M151,(AppQt.Data!M151*ozton*AppQt.Data!M$7)/1000000),\"-\")","v":39.418925121035983},{"$f":"IFERROR(IF($B$2=\"トン\",AppQt.Data!N151,(AppQt.Data!N151*ozton*AppQt.Data!N$7)/1000000),\"-\")","v":56.669648101996458},{"$f":"IFERROR(IF($B$2=\"トン\",AppQt.Data!O151,(AppQt.Data!O151*ozton*AppQt.Data!O$7)/1000000),\"-\")","v":55.160011611738867},{"$f":"IFERROR(IF($B$2=\"トン\",AppQt.Data!P151,(AppQt.Data!P151*ozton*AppQt.Data!P$7)/1000000),\"-\")","v":75.434385212795632},{"$f":"IFERROR(IF($B$2=\"トン\",AppQt.Data!Q151,(AppQt.Data!Q151*ozton*AppQt.Data!Q$7)/1000000),\"-\")","v":41.879205774694647},{"$f":"IFERROR(IF($B$2=\"トン\",AppQt.Data!R151,(AppQt.Data!R151*ozton*AppQt.Data!R$7)/1000000),\"-\")","v":43.032207045733216},{"$f":"IFERROR(IF($B$2=\"トン\",AppQt.Data!S151,(AppQt.Data!S151*ozton*AppQt.Data!S$7)/1000000),\"-\")","v":51.937372422734121},{"$f":"IFERROR(IF($B$2=\"トン\",AppQt.Data!T151,(AppQt.Data!T151*ozton*AppQt.Data!T$7)/1000000),\"-\")","v":61.646730241434028},{"$f":"IFERROR(IF($B$2=\"トン\",AppQt.Data!U151,(AppQt.Data!U151*ozton*AppQt.Data!U$7)/1000000),\"-\")","v":33.400833111150391},{"$f":"IFERROR(IF($B$2=\"トン\",AppQt.Data!V151,(AppQt.Data!V151*ozton*AppQt.Data!V$7)/1000000),\"-\")","v":32.478218340817406},{"$f":"IFERROR(IF($B$2=\"トン\",AppQt.Data!W151,(AppQt.Data!W151*ozton*AppQt.Data!W$7)/1000000),\"-\")","v":37.992113335691563},{"$f":"IFERROR(IF($B$2=\"トン\",AppQt.Data!X151,(AppQt.Data!X151*ozton*AppQt.Data!X$7)/1000000),\"-\")","v":56.315218611741301},{"$f":"IFERROR(IF($B$2=\"トン\",AppQt.Data!Y151,(AppQt.Data!Y151*ozton*AppQt.Data!Y$7)/1000000),\"-\")","v":43.90639174520436},{"$f":"IFERROR(IF($B$2=\"トン\",AppQt.Data!Z151,(AppQt.Data!Z151*ozton*AppQt.Data!Z$7)/1000000),\"-\")","v":50.831062648660122},{"$f":"IFERROR(IF($B$2=\"トン\",AppQt.Data!AA151,(AppQt.Data!AA151*ozton*AppQt.Data!AA$7)/1000000),\"-\")","v":35.342731472841017},{"$f":"IFERROR(IF($B$2=\"トン\",AppQt.Data!AB151,(AppQt.Data!AB151*ozton*AppQt.Data!AB$7)/1000000),\"-\")","v":57.695361424432669},{"$f":"IFERROR(IF($B$2=\"トン\",AppQt.Data!AC151,(AppQt.Data!AC151*ozton*AppQt.Data!AC$7)/1000000),\"-\")","v":32.907847924716592},{"$f":"IFERROR(IF($B$2=\"トン\",AppQt.Data!AD151,(AppQt.Data!AD151*ozton*AppQt.Data!AD$7)/1000000),\"-\")","v":36.70297639773824},{"$f":"IFERROR(IF($B$2=\"トン\",AppQt.Data!AE151,(AppQt.Data!AE151*ozton*AppQt.Data!AE$7)/1000000),\"-\")","v":36.805762410712695},{"$f":"IFERROR(IF($B$2=\"トン\",AppQt.Data!AF151,(AppQt.Data!AF151*ozton*AppQt.Data!AF$7)/1000000),\"-\")","v":58.329500682323371},{"$f":"IFERROR(IF($B$2=\"トン\",AppQt.Data!AG151,(AppQt.Data!AG151*ozton*AppQt.Data!AG$7)/1000000),\"-\")","v":33.884436824273472},{"$f":"IFERROR(IF($B$2=\"トン\",AppQt.Data!AH151,(AppQt.Data!AH151*ozton*AppQt.Data!AH$7)/1000000),\"-\")","v":37.950561103020355},{"$f":"IFERROR(IF($B$2=\"トン\",AppQt.Data!AI151,(AppQt.Data!AI151*ozton*AppQt.Data!AI$7)/1000000),\"-\")","v":57.072651808202906},{"$f":"IFERROR(IF($B$2=\"トン\",AppQt.Data!AJ151,(AppQt.Data!AJ151*ozton*AppQt.Data!AJ$7)/1000000),\"-\")","v":61.642547356215779},{"$f":"IFERROR(IF($B$2=\"トン\",AppQt.Data!AK151,(AppQt.Data!AK151*ozton*AppQt.Data!AK$7)/1000000),\"-\")","v":43.2448979162684},{"$f":"IFERROR(IF($B$2=\"トン\",AppQt.Data!AL151,(AppQt.Data!AL151*ozton*AppQt.Data!AL$7)/1000000),\"-\")","v":52.887625079162675},{"$f":"IFERROR(IF($B$2=\"トン\",AppQt.Data!AM151,(AppQt.Data!AM151*ozton*AppQt.Data!AM$7)/1000000),\"-\")","v":43.068232941989066},{"$f":"IFERROR(IF($B$2=\"トン\",AppQt.Data!AN151,(AppQt.Data!AN151*ozton*AppQt.Data!AN$7)/1000000),\"-\")","v":70.896262437663836},{"$f":"IFERROR(IF($B$2=\"トン\",AppQt.Data!AO151,(AppQt.Data!AO151*ozton*AppQt.Data!AO$7)/1000000),\"-\")","v":38.203100584251189},{"$f":"IFERROR(IF($B$2=\"トン\",AppQt.Data!AP151,(AppQt.Data!AP151*ozton*AppQt.Data!AP$7)/1000000),\"-\")","v":31.668217488857593},{"$f":"IFERROR(IF($B$2=\"トン\",AppQt.Data!AQ151,(AppQt.Data!AQ151*ozton*AppQt.Data!AQ$7)/1000000),\"-\")","v":33.238229670956919},{"$f":"IFERROR(IF($B$2=\"トン\",AppQt.Data!AR151,(AppQt.Data!AR151*ozton*AppQt.Data!AR$7)/1000000),\"-\")","v":55.755652126480136},{"$f":"IFERROR(IF($B$2=\"トン\",AppQt.Data!AS151,(AppQt.Data!AS151*ozton*AppQt.Data!AS$7)/1000000),\"-\")","v":29.21602341508811},{"$f":"IFERROR(IF($B$2=\"トン\",AppQt.Data!AT151,(AppQt.Data!AT151*ozton*AppQt.Data!AT$7)/1000000),\"-\")","v":33.451273352522819},{"$f":"IFERROR(IF($B$2=\"トン\",AppQt.Data!AU151,(AppQt.Data!AU151*ozton*AppQt.Data!AU$7)/1000000),\"-\")","v":35.923196512499572},{"$f":"IFERROR(IF($B$2=\"トン\",AppQt.Data!AV151,(AppQt.Data!AV151*ozton*AppQt.Data!AV$7)/1000000),\"-\")","v":55.852270856342216},{"$f":"IFERROR(IF($B$2=\"トン\",AppQt.Data!AW151,(AppQt.Data!AW151*ozton*AppQt.Data!AW$7)/1000000),\"-\")","v":31.288997046470342},{"$f":"IFERROR(IF($B$2=\"トン\",AppQt.Data!AX151,(AppQt.Data!AX151*ozton*AppQt.Data!AX$7)/1000000),\"-\")","v":32.009505860467016},{"$f":"IFERROR(IF($B$2=\"トン\",AppQt.Data!AY151,(AppQt.Data!AY151*ozton*AppQt.Data!AY$7)/1000000),\"-\")","v":33.815043702555734},{"$f":"IFERROR(IF($B$2=\"トン\",AppQt.Data!AZ151,(AppQt.Data!AZ151*ozton*AppQt.Data!AZ$7)/1000000),\"-\")","v":53.686230900176994},{"$f":"IFERROR(IF($B$2=\"トン\",AppQt.Data!BA151,(AppQt.Data!BA151*ozton*AppQt.Data!BA$7)/1000000),\"-\")","v":37.694125408746856},{"$f":"IFERROR(IF($B$2=\"トン\",AppQt.Data!BB151,(AppQt.Data!BB151*ozton*AppQt.Data!BB$7)/1000000),\"-\")","v":32.760778579081403},{"$f":"IFERROR(IF($B$2=\"トン\",AppQt.Data!BC151,(AppQt.Data!BC151*ozton*AppQt.Data!BC$7)/1000000),\"-\")","v":50.06122368844516},{"$f":"IFERROR(IF($B$2=\"トン\",AppQt.Data!BD151,(AppQt.Data!BD151*ozton*AppQt.Data!BD$7)/1000000),\"-\")","v":66.804510337169461},{"$f":"IFERROR(IF($B$2=\"トン\",AppQt.Data!BE151,(AppQt.Data!BE151*ozton*AppQt.Data!BE$7)/1000000),\"-\")","v":58.202982040484926},{"$f":"IFERROR(IF($B$2=\"トン\",AppQt.Data!BF151,(AppQt.Data!BF151*ozton*AppQt.Data!BF$7)/1000000),\"-\")","v":67.415685492963206},{"$f":"IFERROR(IF($B$2=\"トン\",AppQt.Data!BG151,(AppQt.Data!BG151*ozton*AppQt.Data!BG$7)/1000000),\"-\")","v":56.219495594607324},{"$f":"IFERROR(IF($B$2=\"トン\",AppQt.Data!BH151,(AppQt.Data!BH151*ozton*AppQt.Data!BH$7)/1000000),\"-\")","v":83.104072374771079},{"$f":"IFERROR(IF($B$2=\"トン\",AppQt.Data!BI151,(AppQt.Data!BI151*ozton*AppQt.Data!BI$7)/1000000),\"-\")","v":57.636341350062331},{"$f":"IFERROR(IF($B$2=\"トン\",AppQt.Data!BJ151,(AppQt.Data!BJ151*ozton*AppQt.Data!BJ$7)/1000000),\"-\")","v":65.4444993127955},{"$f":"IFERROR(IF($B$2=\"トン\",AppQt.Data!BK151,(AppQt.Data!BK151*ozton*AppQt.Data!BK$7)/1000000),\"-\")","v":54.929170669139069},{"$f":"IFERROR(IF($B$2=\"トン\",AppQt.Data!BL151,(AppQt.Data!BL151*ozton*AppQt.Data!BL$7)/1000000),\"-\")","v":78.548145900966574},"▼",-5.4821940051972717]
[null,"カナダ",{"$f":"IFERROR(IF($B$2=\"トン\",AppAn.Data!L142,(AppAn.Data!L142*ozton*AppAn.Data!L$6)/1000000),\"-\")","v":20.438088538756137},{"$f":"IFERROR(IF($B$2=\"トン\",AppAn.Data!M142,(AppAn.Data!M142*ozton*AppAn.Data!M$6)/1000000),\"-\")","v":20.56001097454088},{"$f":"IFERROR(IF($B$2=\"トン\",AppAn.Data!N142,(AppAn.Data!N142*ozton*AppAn.Data!N$6)/1000000),\"-\")","v":17.58682040118012},{"$f":"IFERROR(IF($B$2=\"トン\",AppAn.Data!O142,(AppAn.Data!O142*ozton*AppAn.Data!O$6)/1000000),\"-\")","v":19.646597754002322},{"$f":"IFERROR(IF($B$2=\"トン\",AppAn.Data!P142,(AppAn.Data!P142*ozton*AppAn.Data!P$6)/1000000),\"-\")","v":18.360088823854355},{"$f":"IFERROR(IF($B$2=\"トン\",AppAn.Data!Q142,(AppAn.Data!Q142*ozton*AppAn.Data!Q$6)/1000000),\"-\")","v":17.535638550030534},{"$f":"IFERROR(IF($B$2=\"トン\",AppAn.Data!R142,(AppAn.Data!R142*ozton*AppAn.Data!R$6)/1000000),\"-\")","v":17.934076738023009},{"$f":"IFERROR(IF($B$2=\"トン\",AppAn.Data!S142,(AppAn.Data!S142*ozton*AppAn.Data!S$6)/1000000),\"-\")","v":17.013080619715257},{"$f":"IFERROR(IF($B$2=\"トン\",AppAn.Data!T142,(AppAn.Data!T142*ozton*AppAn.Data!T$6)/1000000),\"-\")","v":16.465125940264805},{"$f":"IFERROR(IF($B$2=\"トン\",AppAn.Data!U142,(AppAn.Data!U142*ozton*AppAn.Data!U$6)/1000000),\"-\")","v":17.401138203150072},{"$f":"IFERROR(IF($B$2=\"トン\",AppAn.Data!V142,(AppAn.Data!V142*ozton*AppAn.Data!V$6)/1000000),\"-\")","v":20.769937274988539},{"$f":"IFERROR(IF($B$2=\"トン\",AppAn.Data!W142,(AppAn.Data!W142*ozton*AppAn.Data!W$6)/1000000),\"-\")","v":25.986425666634155},{"$f":"IFERROR(IF($B$2=\"トン\",AppAn.Data!X142,(AppAn.Data!X142*ozton*AppAn.Data!X$6)/1000000),\"-\")","v":27.535094975021863},"▲",5.9595318273268916,null,{"$f":"IFERROR(IF($B$2=\"トン\",AppQt.Data!M152,(AppQt.Data!M152*ozton*AppQt.Data!M$7)/1000000),\"-\")","v":3.8292373405999451},{"$f":"IFERROR(IF($B$2=\"トン\",AppQt.Data!N152,(AppQt.Data!N152*ozton*AppQt.Data!N$7)/1000000),\"-\")","v":5.7302384364131775},{"$f":"IFERROR(IF($B$2=\"トン\",AppQt.Data!O152,(AppQt.Data!O152*ozton*AppQt.Data!O$7)/1000000),\"-\")","v":4.3928929964461227},{"$f":"IFERROR(IF($B$2=\"トン\",AppQt.Data!P152,(AppQt.Data!P152*ozton*AppQt.Data!P$7)/1000000),\"-\")","v":6.4857197652968903},{"$f":"IFERROR(IF($B$2=\"トン\",AppQt.Data!Q152,(AppQt.Data!Q152*ozton*AppQt.Data!Q$7)/1000000),\"-\")","v":4.3352433570838738},{"$f":"IFERROR(IF($B$2=\"トン\",AppQt.Data!R152,(AppQt.Data!R152*ozton*AppQt.Data!R$7)/1000000),\"-\")","v":4.5416012185690713},{"$f":"IFERROR(IF($B$2=\"トン\",AppQt.Data!S152,(AppQt.Data!S152*ozton*AppQt.Data!S$7)/1000000),\"-\")","v":5.1891296414090178},{"$f":"IFERROR(IF($B$2=\"トン\",AppQt.Data!T152,(AppQt.Data!T152*ozton*AppQt.Data!T$7)/1000000),\"-\")","v":6.4940367574789182},{"$f":"IFERROR(IF($B$2=\"トン\",AppQt.Data!U152,(AppQt.Data!U152*ozton*AppQt.Data!U$7)/1000000),\"-\")","v":3.3718909731031403},{"$f":"IFERROR(IF($B$2=\"トン\",AppQt.Data!V152,(AppQt.Data!V152*ozton*AppQt.Data!V$7)/1000000),\"-\")","v":4.2435231954192556},{"$f":"IFERROR(IF($B$2=\"トン\",AppQt.Data!W152,(AppQt.Data!W152*ozton*AppQt.Data!W$7)/1000000),\"-\")","v":3.9891046816040232},{"$f":"IFERROR(IF($B$2=\"トン\",AppQt.Data!X152,(AppQt.Data!X152*ozton*AppQt.Data!X$7)/1000000),\"-\")","v":5.9823015510537001},{"$f":"IFERROR(IF($B$2=\"トン\",AppQt.Data!Y152,(AppQt.Data!Y152*ozton*AppQt.Data!Y$7)/1000000),\"-\")","v":3.5165555533758557},{"$f":"IFERROR(IF($B$2=\"トン\",AppQt.Data!Z152,(AppQt.Data!Z152*ozton*AppQt.Data!Z$7)/1000000),\"-\")","v":5.113314398927522},{"$f":"IFERROR(IF($B$2=\"トン\",AppQt.Data!AA152,(AppQt.Data!AA152*ozton*AppQt.Data!AA$7)/1000000),\"-\")","v":4.3306052000064597},{"$f":"IFERROR(IF($B$2=\"トン\",AppQt.Data!AB152,(AppQt.Data!AB152*ozton*AppQt.Data!AB$7)/1000000),\"-\")","v":6.6861226016924844},{"$f":"IFERROR(IF($B$2=\"トン\",AppQt.Data!AC152,(AppQt.Data!AC152*ozton*AppQt.Data!AC$7)/1000000),\"-\")","v":3.865870980575175},{"$f":"IFERROR(IF($B$2=\"トン\",AppQt.Data!AD152,(AppQt.Data!AD152*ozton*AppQt.Data!AD$7)/1000000),\"-\")","v":4.284280320687964},{"$f":"IFERROR(IF($B$2=\"トン\",AppQt.Data!AE152,(AppQt.Data!AE152*ozton*AppQt.Data!AE$7)/1000000),\"-\")","v":3.3860215183463982},{"$f":"IFERROR(IF($B$2=\"トン\",AppQt.Data!AF152,(AppQt.Data!AF152*ozton*AppQt.Data!AF$7)/1000000),\"-\")","v":6.823916004244821},{"$f":"IFERROR(IF($B$2=\"トン\",AppQt.Data!AG152,(AppQt.Data!AG152*ozton*AppQt.Data!AG$7)/1000000),\"-\")","v":3.5795640384890173},{"$f":"IFERROR(IF($B$2=\"トン\",AppQt.Data!AH152,(AppQt.Data!AH152*ozton*AppQt.Data!AH$7)/1000000),\"-\")","v":4.1006625723556942},{"$f":"IFERROR(IF($B$2=\"トン\",AppQt.Data!AI152,(AppQt.Data!AI152*ozton*AppQt.Data!AI$7)/1000000),\"-\")","v":3.6785009590962394},{"$f":"IFERROR(IF($B$2=\"トン\",AppQt.Data!AJ152,(AppQt.Data!AJ152*ozton*AppQt.Data!AJ$7)/1000000),\"-\")","v":6.1769109800895796},{"$f":"IFERROR(IF($B$2=\"トン\",AppQt.Data!AK152,(AppQt.Data!AK152*ozton*AppQt.Data!AK$7)/1000000),\"-\")","v":3.7644963381582759},{"$f":"IFERROR(IF($B$2=\"トン\",AppQt.Data!AL152,(AppQt.Data!AL152*ozton*AppQt.Data!AL$7)/1000000),\"-\")","v":4.7075480635677849},{"$f":"IFERROR(IF($B$2=\"トン\",AppQt.Data!AM152,(AppQt.Data!AM152*ozton*AppQt.Data!AM$7)/1000000),\"-\")","v":3.2375171360100801},{"$f":"IFERROR(IF($B$2=\"トン\",AppQt.Data!AN152,(AppQt.Data!AN152*ozton*AppQt.Data!AN$7)/1000000),\"-\")","v":6.2245152002868664},{"$f":"IFERROR(IF($B$2=\"トン\",AppQt.Data!AO152,(AppQt.Data!AO152*ozton*AppQt.Data!AO$7)/1000000),\"-\")","v":4.0395105710288188},{"$f":"IFERROR(IF($B$2=\"トン\",AppQt.Data!AP152,(AppQt.Data!AP152*ozton*AppQt.Data!AP$7)/1000000),\"-\")","v":3.830868017298247},{"$f":"IFERROR(IF($B$2=\"トン\",AppQt.Data!AQ152,(AppQt.Data!AQ152*ozton*AppQt.Data!AQ$7)/1000000),\"-\")","v":3.1979417259788088},{"$f":"IFERROR(IF($B$2=\"トン\",AppQt.Data!AR152,(AppQt.Data!AR152*ozton*AppQt.Data!AR$7)/1000000),\"-\")","v":5.9447603054093818},{"$f":"IFERROR(IF($B$2=\"トン\",AppQt.Data!AS152,(AppQt.Data!AS152*ozton*AppQt.Data!AS$7)/1000000),\"-\")","v":3.3496533021789636},{"$f":"IFERROR(IF($B$2=\"トン\",AppQt.Data!AT152,(AppQt.Data!AT152*ozton*AppQt.Data!AT$7)/1000000),\"-\")","v":3.9837752823440908},{"$f":"IFERROR(IF($B$2=\"トン\",AppQt.Data!AU152,(AppQt.Data!AU152*ozton*AppQt.Data!AU$7)/1000000),\"-\")","v":3.2655739233837759},{"$f":"IFERROR(IF($B$2=\"トン\",AppQt.Data!AV152,(AppQt.Data!AV152*ozton*AppQt.Data!AV$7)/1000000),\"-\")","v":5.8661234323579761},{"$f":"IFERROR(IF($B$2=\"トン\",AppQt.Data!AW152,(AppQt.Data!AW152*ozton*AppQt.Data!AW$7)/1000000),\"-\")","v":3.7026124468977981},{"$f":"IFERROR(IF($B$2=\"トン\",AppQt.Data!AX152,(AppQt.Data!AX152*ozton*AppQt.Data!AX$7)/1000000),\"-\")","v":4.0970666830793938},{"$f":"IFERROR(IF($B$2=\"トン\",AppQt.Data!AY152,(AppQt.Data!AY152*ozton*AppQt.Data!AY$7)/1000000),\"-\")","v":3.2843554743413597},{"$f":"IFERROR(IF($B$2=\"トン\",AppQt.Data!AZ152,(AppQt.Data!AZ152*ozton*AppQt.Data!AZ$7)/1000000),\"-\")","v":6.3171035988315225},{"$f":"IFERROR(IF($B$2=\"トン\",AppQt.Data!BA152,(AppQt.Data!BA152*ozton*AppQt.Data!BA$7)/1000000),\"-\")","v":4.2830121950461555},{"$f":"IFERROR(IF($B$2=\"トン\",AppQt.Data!BB152,(AppQt.Data!BB152*ozton*AppQt.Data!BB$7)/1000000),\"-\")","v":4.0928401852067333},{"$f":"IFERROR(IF($B$2=\"トン\",AppQt.Data!BC152,(AppQt.Data!BC152*ozton*AppQt.Data!BC$7)/1000000),\"-\")","v":4.9058698414108193},{"$f":"IFERROR(IF($B$2=\"トン\",AppQt.Data!BD152,(AppQt.Data!BD152*ozton*AppQt.Data!BD$7)/1000000),\"-\")","v":7.4882150533248319},{"$f":"IFERROR(IF($B$2=\"トン\",AppQt.Data!BE152,(AppQt.Data!BE152*ozton*AppQt.Data!BE$7)/1000000),\"-\")","v":5.3542152488554038},{"$f":"IFERROR(IF($B$2=\"トン\",AppQt.Data!BF152,(AppQt.Data!BF152*ozton*AppQt.Data!BF$7)/1000000),\"-\")","v":6.8975620501066057},{"$f":"IFERROR(IF($B$2=\"トン\",AppQt.Data!BG152,(AppQt.Data!BG152*ozton*AppQt.Data!BG$7)/1000000),\"-\")","v":4.6177594877834212},{"$f":"IFERROR(IF($B$2=\"トン\",AppQt.Data!BH152,(AppQt.Data!BH152*ozton*AppQt.Data!BH$7)/1000000),\"-\")","v":9.1168888798887249},{"$f":"IFERROR(IF($B$2=\"トン\",AppQt.Data!BI152,(AppQt.Data!BI152*ozton*AppQt.Data!BI$7)/1000000),\"-\")","v":6.0511149513021127},{"$f":"IFERROR(IF($B$2=\"トン\",AppQt.Data!BJ152,(AppQt.Data!BJ152*ozton*AppQt.Data!BJ$7)/1000000),\"-\")","v":7.0544771297900351},{"$f":"IFERROR(IF($B$2=\"トン\",AppQt.Data!BK152,(AppQt.Data!BK152*ozton*AppQt.Data!BK$7)/1000000),\"-\")","v":5.2826682875024371},{"$f":"IFERROR(IF($B$2=\"トン\",AppQt.Data!BL152,(AppQt.Data!BL152*ozton*AppQt.Data!BL$7)/1000000),\"-\")","v":9.1468346064272801},"▲",0.32846431423128042]
[null,"メキシコ",{"$f":"IFERROR(IF($B$2=\"トン\",AppAn.Data!L143,(AppAn.Data!L143*ozton*AppAn.Data!L$6)/1000000),\"-\")","v":27.468809092407273},{"$f":"IFERROR(IF($B$2=\"トン\",AppAn.Data!M143,(AppAn.Data!M143*ozton*AppAn.Data!M$6)/1000000),\"-\")","v":21.859818709408849},{"$f":"IFERROR(IF($B$2=\"トン\",AppAn.Data!N143,(AppAn.Data!N143*ozton*AppAn.Data!N$6)/1000000),\"-\")","v":18.356200932073072},{"$f":"IFERROR(IF($B$2=\"トン\",AppAn.Data!O143,(AppAn.Data!O143*ozton*AppAn.Data!O$6)/1000000),\"-\")","v":18.385616519814228},{"$f":"IFERROR(IF($B$2=\"トン\",AppAn.Data!P143,(AppAn.Data!P143*ozton*AppAn.Data!P$6)/1000000),\"-\")","v":17.984940840562029},{"$f":"IFERROR(IF($B$2=\"トン\",AppAn.Data!Q143,(AppAn.Data!Q143*ozton*AppAn.Data!Q$6)/1000000),\"-\")","v":19.01558572248792},{"$f":"IFERROR(IF($B$2=\"トン\",AppAn.Data!R143,(AppAn.Data!R143*ozton*AppAn.Data!R$6)/1000000),\"-\")","v":18.227550448084273},{"$f":"IFERROR(IF($B$2=\"トン\",AppAn.Data!S143,(AppAn.Data!S143*ozton*AppAn.Data!S$6)/1000000),\"-\")","v":19.310204111433613},{"$f":"IFERROR(IF($B$2=\"トン\",AppAn.Data!T143,(AppAn.Data!T143*ozton*AppAn.Data!T$6)/1000000),\"-\")","v":18.879738041705757},{"$f":"IFERROR(IF($B$2=\"トン\",AppAn.Data!U143,(AppAn.Data!U143*ozton*AppAn.Data!U$6)/1000000),\"-\")","v":18.067457123247529},{"$f":"IFERROR(IF($B$2=\"トン\",AppAn.Data!V143,(AppAn.Data!V143*ozton*AppAn.Data!V$6)/1000000),\"-\")","v":13.271835773161415},{"$f":"IFERROR(IF($B$2=\"トン\",AppAn.Data!W143,(AppAn.Data!W143*ozton*AppAn.Data!W$6)/1000000),\"-\")","v":14.120659590787096},{"$f":"IFERROR(IF($B$2=\"トン\",AppAn.Data!X143,(AppAn.Data!X143*ozton*AppAn.Data!X$6)/1000000),\"-\")","v":14.643955313465373},"▲",3.7058872449534652,null,{"$f":"IFERROR(IF($B$2=\"トン\",AppQt.Data!M153,(AppQt.Data!M153*ozton*AppQt.Data!M$7)/1000000),\"-\")","v":5.8555758739273207},{"$f":"IFERROR(IF($B$2=\"トン\",AppQt.Data!N153,(AppQt.Data!N153*ozton*AppQt.Data!N$7)/1000000),\"-\")","v":7.4715616215588048},{"$f":"IFERROR(IF($B$2=\"トン\",AppQt.Data!O153,(AppQt.Data!O153*ozton*AppQt.Data!O$7)/1000000),\"-\")","v":5.2670627056681756},{"$f":"IFERROR(IF($B$2=\"トン\",AppQt.Data!P153,(AppQt.Data!P153*ozton*AppQt.Data!P$7)/1000000),\"-\")","v":8.8746088912529739},{"$f":"IFERROR(IF($B$2=\"トン\",AppQt.Data!Q153,(AppQt.Data!Q153*ozton*AppQt.Data!Q$7)/1000000),\"-\")","v":4.1911626917058395},{"$f":"IFERROR(IF($B$2=\"トン\",AppQt.Data!R153,(AppQt.Data!R153*ozton*AppQt.Data!R$7)/1000000),\"-\")","v":6.0648084922942891},{"$f":"IFERROR(IF($B$2=\"トン\",AppQt.Data!S153,(AppQt.Data!S153*ozton*AppQt.Data!S$7)/1000000),\"-\")","v":4.3127773982172242},{"$f":"IFERROR(IF($B$2=\"トン\",AppQt.Data!T153,(AppQt.Data!T153*ozton*AppQt.Data!T$7)/1000000),\"-\")","v":7.2910701271914977},{"$f":"IFERROR(IF($B$2=\"トン\",AppQt.Data!U153,(AppQt.Data!U153*ozton*AppQt.Data!U$7)/1000000),\"-\")","v":3.6701483295501003},{"$f":"IFERROR(IF($B$2=\"トン\",AppQt.Data!V153,(AppQt.Data!V153*ozton*AppQt.Data!V$7)/1000000),\"-\")","v":4.9375487832697562},{"$f":"IFERROR(IF($B$2=\"トン\",AppQt.Data!W153,(AppQt.Data!W153*ozton*AppQt.Data!W$7)/1000000),\"-\")","v":4.9679616636026482},{"$f":"IFERROR(IF($B$2=\"トン\",AppQt.Data!X153,(AppQt.Data!X153*ozton*AppQt.Data!X$7)/1000000),\"-\")","v":4.7805421556505694},{"$f":"IFERROR(IF($B$2=\"トン\",AppQt.Data!Y153,(AppQt.Data!Y153*ozton*AppQt.Data!Y$7)/1000000),\"-\")","v":4.0570208250020112},{"$f":"IFERROR(IF($B$2=\"トン\",AppQt.Data!Z153,(AppQt.Data!Z153*ozton*AppQt.Data!Z$7)/1000000),\"-\")","v":4.4478124256712475},{"$f":"IFERROR(IF($B$2=\"トン\",AppQt.Data!AA153,(AppQt.Data!AA153*ozton*AppQt.Data!AA$7)/1000000),\"-\")","v":4.9155767329184243},{"$f":"IFERROR(IF($B$2=\"トン\",AppQt.Data!AB153,(AppQt.Data!AB153*ozton*AppQt.Data!AB$7)/1000000),\"-\")","v":4.9652065362225457},{"$f":"IFERROR(IF($B$2=\"トン\",AppQt.Data!AC153,(AppQt.Data!AC153*ozton*AppQt.Data!AC$7)/1000000),\"-\")","v":4.4716770364317897},{"$f":"IFERROR(IF($B$2=\"トン\",AppQt.Data!AD153,(AppQt.Data!AD153*ozton*AppQt.Data!AD$7)/1000000),\"-\")","v":4.2637012651817576},{"$f":"IFERROR(IF($B$2=\"トン\",AppQt.Data!AE153,(AppQt.Data!AE153*ozton*AppQt.Data!AE$7)/1000000),\"-\")","v":4.629673773172752},{"$f":"IFERROR(IF($B$2=\"トン\",AppQt.Data!AF153,(AppQt.Data!AF153*ozton*AppQt.Data!AF$7)/1000000),\"-\")","v":4.6198887657757304},{"$f":"IFERROR(IF($B$2=\"トン\",AppQt.Data!AG153,(AppQt.Data!AG153*ozton*AppQt.Data!AG$7)/1000000),\"-\")","v":4.5152454436832699},{"$f":"IFERROR(IF($B$2=\"トン\",AppQt.Data!AH153,(AppQt.Data!AH153*ozton*AppQt.Data!AH$7)/1000000),\"-\")","v":4.5892360534086674},{"$f":"IFERROR(IF($B$2=\"トン\",AppQt.Data!AI153,(AppQt.Data!AI153*ozton*AppQt.Data!AI$7)/1000000),\"-\")","v":5.1662585632945381},{"$f":"IFERROR(IF($B$2=\"トン\",AppQt.Data!AJ153,(AppQt.Data!AJ153*ozton*AppQt.Data!AJ$7)/1000000),\"-\")","v":4.7448456621014428},{"$f":"IFERROR(IF($B$2=\"トン\",AppQt.Data!AK153,(AppQt.Data!AK153*ozton*AppQt.Data!AK$7)/1000000),\"-\")","v":4.4958239415384114},{"$f":"IFERROR(IF($B$2=\"トン\",AppQt.Data!AL153,(AppQt.Data!AL153*ozton*AppQt.Data!AL$7)/1000000),\"-\")","v":4.340508750010418},{"$f":"IFERROR(IF($B$2=\"トン\",AppQt.Data!AM153,(AppQt.Data!AM153*ozton*AppQt.Data!AM$7)/1000000),\"-\")","v":4.7947803095909487},{"$f":"IFERROR(IF($B$2=\"トン\",AppQt.Data!AN153,(AppQt.Data!AN153*ozton*AppQt.Data!AN$7)/1000000),\"-\")","v":4.5964374469444911},{"$f":"IFERROR(IF($B$2=\"トン\",AppQt.Data!AO153,(AppQt.Data!AO153*ozton*AppQt.Data!AO$7)/1000000),\"-\")","v":4.8165958831454239},{"$f":"IFERROR(IF($B$2=\"トン\",AppQt.Data!AP153,(AppQt.Data!AP153*ozton*AppQt.Data!AP$7)/1000000),\"-\")","v":4.685435283899853},{"$f":"IFERROR(IF($B$2=\"トン\",AppQt.Data!AQ153,(AppQt.Data!AQ153*ozton*AppQt.Data!AQ$7)/1000000),\"-\")","v":5.1168854575133444},{"$f":"IFERROR(IF($B$2=\"トン\",AppQt.Data!AR153,(AppQt.Data!AR153*ozton*AppQt.Data!AR$7)/1000000),\"-\")","v":4.6912874868749936},{"$f":"IFERROR(IF($B$2=\"トン\",AppQt.Data!AS153,(AppQt.Data!AS153*ozton*AppQt.Data!AS$7)/1000000),\"-\")","v":4.940682173371564},{"$f":"IFERROR(IF($B$2=\"トン\",AppQt.Data!AT153,(AppQt.Data!AT153*ozton*AppQt.Data!AT$7)/1000000),\"-\")","v":4.4946142710446093},{"$f":"IFERROR(IF($B$2=\"トン\",AppQt.Data!AU153,(AppQt.Data!AU153*ozton*AppQt.Data!AU$7)/1000000),\"-\")","v":4.9420992645975721},{"$f":"IFERROR(IF($B$2=\"トン\",AppQt.Data!AV153,(AppQt.Data!AV153*ozton*AppQt.Data!AV$7)/1000000),\"-\")","v":4.5023423326920131},{"$f":"IFERROR(IF($B$2=\"トン\",AppQt.Data!AW153,(AppQt.Data!AW153*ozton*AppQt.Data!AW$7)/1000000),\"-\")","v":4.5027027698147544},{"$f":"IFERROR(IF($B$2=\"トン\",AppQt.Data!AX153,(AppQt.Data!AX153*ozton*AppQt.Data!AX$7)/1000000),\"-\")","v":4.4382238847792994},{"$f":"IFERROR(IF($B$2=\"トン\",AppQt.Data!AY153,(AppQt.Data!AY153*ozton*AppQt.Data!AY$7)/1000000),\"-\")","v":4.732503907293296},{"$f":"IFERROR(IF($B$2=\"トン\",AppQt.Data!AZ153,(AppQt.Data!AZ153*ozton*AppQt.Data!AZ$7)/1000000),\"-\")","v":4.3940265613601763},{"$f":"IFERROR(IF($B$2=\"トン\",AppQt.Data!BA153,(AppQt.Data!BA153*ozton*AppQt.Data!BA$7)/1000000),\"-\")","v":3.7533446484757564},{"$f":"IFERROR(IF($B$2=\"トン\",AppQt.Data!BB153,(AppQt.Data!BB153*ozton*AppQt.Data!BB$7)/1000000),\"-\")","v":3.1312910609201023},{"$f":"IFERROR(IF($B$2=\"トン\",AppQt.Data!BC153,(AppQt.Data!BC153*ozton*AppQt.Data!BC$7)/1000000),\"-\")","v":3.1995937712232765},{"$f":"IFERROR(IF($B$2=\"トン\",AppQt.Data!BD153,(AppQt.Data!BD153*ozton*AppQt.Data!BD$7)/1000000),\"-\")","v":3.1876062925422799},{"$f":"IFERROR(IF($B$2=\"トン\",AppQt.Data!BE153,(AppQt.Data!BE153*ozton*AppQt.Data!BE$7)/1000000),\"-\")","v":3.1590947439728403},{"$f":"IFERROR(IF($B$2=\"トン\",AppQt.Data!BF153,(AppQt.Data!BF153*ozton*AppQt.Data!BF$7)/1000000),\"-\")","v":3.5212208732204933},{"$f":"IFERROR(IF($B$2=\"トン\",AppQt.Data!BG153,(AppQt.Data!BG153*ozton*AppQt.Data!BG$7)/1000000),\"-\")","v":3.5240644733486661},{"$f":"IFERROR(IF($B$2=\"トン\",AppQt.Data!BH153,(AppQt.Data!BH153*ozton*AppQt.Data!BH$7)/1000000),\"-\")","v":3.9162795002450954},{"$f":"IFERROR(IF($B$2=\"トン\",AppQt.Data!BI153,(AppQt.Data!BI153*ozton*AppQt.Data!BI$7)/1000000),\"-\")","v":3.3604195883949348},{"$f":"IFERROR(IF($B$2=\"トン\",AppQt.Data!BJ153,(AppQt.Data!BJ153*ozton*AppQt.Data!BJ$7)/1000000),\"-\")","v":3.5936433867235431},{"$f":"IFERROR(IF($B$2=\"トン\",AppQt.Data!BK153,(AppQt.Data!BK153*ozton*AppQt.Data!BK$7)/1000000),\"-\")","v":3.5965438588542806},{"$f":"IFERROR(IF($B$2=\"トン\",AppQt.Data!BL153,(AppQt.Data!BL153*ozton*AppQt.Data!BL$7)/1000000),\"-\")","v":4.0933484794926152},"▲",4.5213570491186461]
[null,"ブラジル",{"$f":"IFERROR(IF($B$2=\"トン\",AppAn.Data!L144,(AppAn.Data!L144*ozton*AppAn.Data!L$6)/1000000),\"-\")","v":29.24498533753108},{"$f":"IFERROR(IF($B$2=\"トン\",AppAn.Data!M144,(AppAn.Data!M144*ozton*AppAn.Data!M$6)/1000000),\"-\")","v":25.931796172002201},{"$f":"IFERROR(IF($B$2=\"トン\",AppAn.Data!N144,(AppAn.Data!N144*ozton*AppAn.Data!N$6)/1000000),\"-\")","v":28.060991862311209},{"$f":"IFERROR(IF($B$2=\"トン\",AppAn.Data!O144,(AppAn.Data!O144*ozton*AppAn.Data!O$6)/1000000),\"-\")","v":25.623667280235857},{"$f":"IFERROR(IF($B$2=\"トン\",AppAn.Data!P144,(AppAn.Data!P144*ozton*AppAn.Data!P$6)/1000000),\"-\")","v":23.525830953013436},{"$f":"IFERROR(IF($B$2=\"トン\",AppAn.Data!Q144,(AppAn.Data!Q144*ozton*AppAn.Data!Q$6)/1000000),\"-\")","v":21.387271982069489},{"$f":"IFERROR(IF($B$2=\"トン\",AppAn.Data!R144,(AppAn.Data!R144*ozton*AppAn.Data!R$6)/1000000),\"-\")","v":20.209095138866559},{"$f":"IFERROR(IF($B$2=\"トン\",AppAn.Data!S144,(AppAn.Data!S144*ozton*AppAn.Data!S$6)/1000000),\"-\")","v":20.195139000000001},{"$f":"IFERROR(IF($B$2=\"トン\",AppAn.Data!T144,(AppAn.Data!T144*ozton*AppAn.Data!T$6)/1000000),\"-\")","v":20.117872949999999},{"$f":"IFERROR(IF($B$2=\"トン\",AppAn.Data!U144,(AppAn.Data!U144*ozton*AppAn.Data!U$6)/1000000),\"-\")","v":19.627500208099995},{"$f":"IFERROR(IF($B$2=\"トン\",AppAn.Data!V144,(AppAn.Data!V144*ozton*AppAn.Data!V$6)/1000000),\"-\")","v":15.978007512569997},{"$f":"IFERROR(IF($B$2=\"トン\",AppAn.Data!W144,(AppAn.Data!W144*ozton*AppAn.Data!W$6)/1000000),\"-\")","v":16.243068003740998},{"$f":"IFERROR(IF($B$2=\"トン\",AppAn.Data!X144,(AppAn.Data!X144*ozton*AppAn.Data!X$6)/1000000),\"-\")","v":17.039874320261031},"▲",4.9055161028477956,null,{"$f":"IFERROR(IF($B$2=\"トン\",AppQt.Data!M154,(AppQt.Data!M154*ozton*AppQt.Data!M$7)/1000000),\"-\")","v":4.1295266141152362},{"$f":"IFERROR(IF($B$2=\"トン\",AppQt.Data!N154,(AppQt.Data!N154*ozton*AppQt.Data!N$7)/1000000),\"-\")","v":7.7512753772839913},{"$f":"IFERROR(IF($B$2=\"トン\",AppQt.Data!O154,(AppQt.Data!O154*ozton*AppQt.Data!O$7)/1000000),\"-\")","v":6.3216642455556036},{"$f":"IFERROR(IF($B$2=\"トン\",AppQt.Data!P154,(AppQt.Data!P154*ozton*AppQt.Data!P$7)/1000000),\"-\")","v":11.042519100576248},{"$f":"IFERROR(IF($B$2=\"トン\",AppQt.Data!Q154,(AppQt.Data!Q154*ozton*AppQt.Data!Q$7)/1000000),\"-\")","v":4.0536841361360061},{"$f":"IFERROR(IF($B$2=\"トン\",AppQt.Data!R154,(AppQt.Data!R154*ozton*AppQt.Data!R$7)/1000000),\"-\")","v":7.6226681475665483},{"$f":"IFERROR(IF($B$2=\"トン\",AppQt.Data!S154,(AppQt.Data!S154*ozton*AppQt.Data!S$7)/1000000),\"-\")","v":5.2694534637936759},{"$f":"IFERROR(IF($B$2=\"トン\",AppQt.Data!T154,(AppQt.Data!T154*ozton*AppQt.Data!T$7)/1000000),\"-\")","v":8.9859904245059692},{"$f":"IFERROR(IF($B$2=\"トン\",AppQt.Data!U154,(AppQt.Data!U154*ozton*AppQt.Data!U$7)/1000000),\"-\")","v":3.9800930542199873},{"$f":"IFERROR(IF($B$2=\"トン\",AppQt.Data!V154,(AppQt.Data!V154*ozton*AppQt.Data!V$7)/1000000),\"-\")","v":8.1089701954334501},{"$f":"IFERROR(IF($B$2=\"トン\",AppQt.Data!W154,(AppQt.Data!W154*ozton*AppQt.Data!W$7)/1000000),\"-\")","v":6.1930336083371014},{"$f":"IFERROR(IF($B$2=\"トン\",AppQt.Data!X154,(AppQt.Data!X154*ozton*AppQt.Data!X$7)/1000000),\"-\")","v":9.7788950043206704},{"$f":"IFERROR(IF($B$2=\"トン\",AppQt.Data!Y154,(AppQt.Data!Y154*ozton*AppQt.Data!Y$7)/1000000),\"-\")","v":4.929738306412891},{"$f":"IFERROR(IF($B$2=\"トン\",AppQt.Data!Z154,(AppQt.Data!Z154*ozton*AppQt.Data!Z$7)/1000000),\"-\")","v":5.9692779074977533},{"$f":"IFERROR(IF($B$2=\"トン\",AppQt.Data!AA154,(AppQt.Data!AA154*ozton*AppQt.Data!AA$7)/1000000),\"-\")","v":6.2429290069511438},{"$f":"IFERROR(IF($B$2=\"トン\",AppQt.Data!AB154,(AppQt.Data!AB154*ozton*AppQt.Data!AB$7)/1000000),\"-\")","v":8.4817220593740643},{"$f":"IFERROR(IF($B$2=\"トン\",AppQt.Data!AC154,(AppQt.Data!AC154*ozton*AppQt.Data!AC$7)/1000000),\"-\")","v":4.6679962547448088},{"$f":"IFERROR(IF($B$2=\"トン\",AppQt.Data!AD154,(AppQt.Data!AD154*ozton*AppQt.Data!AD$7)/1000000),\"-\")","v":6.6679498664470493},{"$f":"IFERROR(IF($B$2=\"トン\",AppQt.Data!AE154,(AppQt.Data!AE154*ozton*AppQt.Data!AE$7)/1000000),\"-\")","v":5.5336205066144117},{"$f":"IFERROR(IF($B$2=\"トン\",AppQt.Data!AF154,(AppQt.Data!AF154*ozton*AppQt.Data!AF$7)/1000000),\"-\")","v":6.6562643252071698},{"$f":"IFERROR(IF($B$2=\"トン\",AppQt.Data!AG154,(AppQt.Data!AG154*ozton*AppQt.Data!AG$7)/1000000),\"-\")","v":4.2127958036042816},{"$f":"IFERROR(IF($B$2=\"トン\",AppQt.Data!AH154,(AppQt.Data!AH154*ozton*AppQt.Data!AH$7)/1000000),\"-\")","v":6.125233875366014},{"$f":"IFERROR(IF($B$2=\"トン\",AppQt.Data!AI154,(AppQt.Data!AI154*ozton*AppQt.Data!AI$7)/1000000),\"-\")","v":5.0060657108986151},{"$f":"IFERROR(IF($B$2=\"トン\",AppQt.Data!AJ154,(AppQt.Data!AJ154*ozton*AppQt.Data!AJ$7)/1000000),\"-\")","v":6.0431765922005773},{"$f":"IFERROR(IF($B$2=\"トン\",AppQt.Data!AK154,(AppQt.Data!AK154*ozton*AppQt.Data!AK$7)/1000000),\"-\")","v":3.9135473326697876},{"$f":"IFERROR(IF($B$2=\"トン\",AppQt.Data!AL154,(AppQt.Data!AL154*ozton*AppQt.Data!AL$7)/1000000),\"-\")","v":5.5831418061967728},{"$f":"IFERROR(IF($B$2=\"トン\",AppQt.Data!AM154,(AppQt.Data!AM154*ozton*AppQt.Data!AM$7)/1000000),\"-\")","v":4.9152880000000003},{"$f":"IFERROR(IF($B$2=\"トン\",AppQt.Data!AN154,(AppQt.Data!AN154*ozton*AppQt.Data!AN$7)/1000000),\"-\")","v":5.7971179999999993},{"$f":"IFERROR(IF($B$2=\"トン\",AppQt.Data!AO154,(AppQt.Data!AO154*ozton*AppQt.Data!AO$7)/1000000),\"-\")","v":3.8944999999999999},{"$f":"IFERROR(IF($B$2=\"トン\",AppQt.Data!AP154,(AppQt.Data!AP154*ozton*AppQt.Data!AP$7)/1000000),\"-\")","v":5.5369329999999994},{"$f":"IFERROR(IF($B$2=\"トン\",AppQt.Data!AQ154,(AppQt.Data!AQ154*ozton*AppQt.Data!AQ$7)/1000000),\"-\")","v":4.891788},{"$f":"IFERROR(IF($B$2=\"トン\",AppQt.Data!AR154,(AppQt.Data!AR154*ozton*AppQt.Data!AR$7)/1000000),\"-\")","v":5.8719179999999991},{"$f":"IFERROR(IF($B$2=\"トン\",AppQt.Data!AS154,(AppQt.Data!AS154*ozton*AppQt.Data!AS$7)/1000000),\"-\")","v":3.8633599999999992},{"$f":"IFERROR(IF($B$2=\"トン\",AppQt.Data!AT154,(AppQt.Data!AT154*ozton*AppQt.Data!AT$7)/1000000),\"-\")","v":5.4537245900000002},{"$f":"IFERROR(IF($B$2=\"トン\",AppQt.Data!AU154,(AppQt.Data!AU154*ozton*AppQt.Data!AU$7)/1000000),\"-\")","v":4.9470437600000006},{"$f":"IFERROR(IF($B$2=\"トン\",AppQt.Data!AV154,(AppQt.Data!AV154*ozton*AppQt.Data!AV$7)/1000000),\"-\")","v":5.8537445999999997},{"$f":"IFERROR(IF($B$2=\"トン\",AppQt.Data!AW154,(AppQt.Data!AW154*ozton*AppQt.Data!AW$7)/1000000),\"-\")","v":3.7476919999999998},{"$f":"IFERROR(IF($B$2=\"トン\",AppQt.Data!AX154,(AppQt.Data!AX154*ozton*AppQt.Data!AX$7)/1000000),\"-\")","v":5.211038360499999},{"$f":"IFERROR(IF($B$2=\"トン\",AppQt.Data!AY154,(AppQt.Data!AY154*ozton*AppQt.Data!AY$7)/1000000),\"-\")","v":4.7274365095999986},{"$f":"IFERROR(IF($B$2=\"トン\",AppQt.Data!AZ154,(AppQt.Data!AZ154*ozton*AppQt.Data!AZ$7)/1000000),\"-\")","v":5.9413333379999997},{"$f":"IFERROR(IF($B$2=\"トン\",AppQt.Data!BA154,(AppQt.Data!BA154*ozton*AppQt.Data!BA$7)/1000000),\"-\")","v":3.5603073999999992},{"$f":"IFERROR(IF($B$2=\"トン\",AppQt.Data!BB154,(AppQt.Data!BB154*ozton*AppQt.Data!BB$7)/1000000),\"-\")","v":4.0463884398499994},{"$f":"IFERROR(IF($B$2=\"トン\",AppQt.Data!BC154,(AppQt.Data!BC154*ozton*AppQt.Data!BC$7)/1000000),\"-\")","v":3.5050205067199998},{"$f":"IFERROR(IF($B$2=\"トン\",AppQt.Data!BD154,(AppQt.Data!BD154*ozton*AppQt.Data!BD$7)/1000000),\"-\")","v":4.8662911659999999},{"$f":"IFERROR(IF($B$2=\"トン\",AppQt.Data!BE154,(AppQt.Data!BE154*ozton*AppQt.Data!BE$7)/1000000),\"-\")","v":3.2502028131249991},{"$f":"IFERROR(IF($B$2=\"トン\",AppQt.Data!BF154,(AppQt.Data!BF154*ozton*AppQt.Data!BF$7)/1000000),\"-\")","v":4.1655475119600007},{"$f":"IFERROR(IF($B$2=\"トン\",AppQt.Data!BG154,(AppQt.Data!BG154*ozton*AppQt.Data!BG$7)/1000000),\"-\")","v":3.7254995670559996},{"$f":"IFERROR(IF($B$2=\"トン\",AppQt.Data!BH154,(AppQt.Data!BH154*ozton*AppQt.Data!BH$7)/1000000),\"-\")","v":5.1018181116000001},{"$f":"IFERROR(IF($B$2=\"トン\",AppQt.Data!BI154,(AppQt.Data!BI154*ozton*AppQt.Data!BI$7)/1000000),\"-\")","v":3.4443353973937496},{"$f":"IFERROR(IF($B$2=\"トン\",AppQt.Data!BJ154,(AppQt.Data!BJ154*ozton*AppQt.Data!BJ$7)/1000000),\"-\")","v":4.4199684221668001},{"$f":"IFERROR(IF($B$2=\"トン\",AppQt.Data!BK154,(AppQt.Data!BK154*ozton*AppQt.Data!BK$7)/1000000),\"-\")","v":3.8793383585204797},{"$f":"IFERROR(IF($B$2=\"トン\",AppQt.Data!BL154,(AppQt.Data!BL154*ozton*AppQt.Data!BL$7)/1000000),\"-\")","v":5.2962321421800009},"▲",3.810681336090016]
[null,"ヨーロッパ（CISを除く）",{"$f":"IFERROR(IF($B$2=\"トン\",AppAn.Data!L145,(AppAn.Data!L145*ozton*AppAn.Data!L$6)/1000000),\"-\")","v":394.47466448685066},{"$f":"IFERROR(IF($B$2=\"トン\",AppAn.Data!M145,(AppAn.Data!M145*ozton*AppAn.Data!M$6)/1000000),\"-\")","v":421.58934046307866},{"$f":"IFERROR(IF($B$2=\"トン\",AppAn.Data!N145,(AppAn.Data!N145*ozton*AppAn.Data!N$6)/1000000),\"-\")","v":317.32938653683885},{"$f":"IFERROR(IF($B$2=\"トン\",AppAn.Data!O145,(AppAn.Data!O145*ozton*AppAn.Data!O$6)/1000000),\"-\")","v":336.47188572021059},{"$f":"IFERROR(IF($B$2=\"トン\",AppAn.Data!P145,(AppAn.Data!P145*ozton*AppAn.Data!P$6)/1000000),\"-\")","v":274.43943574080333},{"$f":"IFERROR(IF($B$2=\"トン\",AppAn.Data!Q145,(AppAn.Data!Q145*ozton*AppAn.Data!Q$6)/1000000),\"-\")","v":297.55880136286373},{"$f":"IFERROR(IF($B$2=\"トン\",AppAn.Data!R145,(AppAn.Data!R145*ozton*AppAn.Data!R$6)/1000000),\"-\")","v":278.04603448713635},{"$f":"IFERROR(IF($B$2=\"トン\",AppAn.Data!S145,(AppAn.Data!S145*ozton*AppAn.Data!S$6)/1000000),\"-\")","v":266.51859848188388},{"$f":"IFERROR(IF($B$2=\"トン\",AppAn.Data!T145,(AppAn.Data!T145*ozton*AppAn.Data!T$6)/1000000),\"-\")","v":245.18628983601437},{"$f":"IFERROR(IF($B$2=\"トン\",AppAn.Data!U145,(AppAn.Data!U145*ozton*AppAn.Data!U$6)/1000000),\"-\")","v":225.03791337121237},{"$f":"IFERROR(IF($B$2=\"トン\",AppAn.Data!V145,(AppAn.Data!V145*ozton*AppAn.Data!V$6)/1000000),\"-\")","v":312.35486321465237},{"$f":"IFERROR(IF($B$2=\"トン\",AppAn.Data!W145,(AppAn.Data!W145*ozton*AppAn.Data!W$6)/1000000),\"-\")","v":344.02291904630295},{"$f":"IFERROR(IF($B$2=\"トン\",AppAn.Data!X145,(AppAn.Data!X145*ozton*AppAn.Data!X$6)/1000000),\"-\")","v":384.77397199266841},"▲",11.845447117109265,null,{"$f":"IFERROR(IF($B$2=\"トン\",AppQt.Data!M155,(AppQt.Data!M155*ozton*AppQt.Data!M$7)/1000000),\"-\")","v":65.358174583983086},{"$f":"IFERROR(IF($B$2=\"トン\",AppQt.Data!N155,(AppQt.Data!N155*ozton*AppQt.Data!N$7)/1000000),\"-\")","v":133.07776762927779},{"$f":"IFERROR(IF($B$2=\"トン\",AppQt.Data!O155,(AppQt.Data!O155*ozton*AppQt.Data!O$7)/1000000),\"-\")","v":69.545260502551685},{"$f":"IFERROR(IF($B$2=\"トン\",AppQt.Data!P155,(AppQt.Data!P155*ozton*AppQt.Data!P$7)/1000000),\"-\")","v":126.49346177103814},{"$f":"IFERROR(IF($B$2=\"トン\",AppQt.Data!Q155,(AppQt.Data!Q155*ozton*AppQt.Data!Q$7)/1000000),\"-\")","v":92.058126763075393},{"$f":"IFERROR(IF($B$2=\"トン\",AppQt.Data!R155,(AppQt.Data!R155*ozton*AppQt.Data!R$7)/1000000),\"-\")","v":75.743358641890751},{"$f":"IFERROR(IF($B$2=\"トン\",AppQt.Data!S155,(AppQt.Data!S155*ozton*AppQt.Data!S$7)/1000000),\"-\")","v":131.00510110866111},{"$f":"IFERROR(IF($B$2=\"トン\",AppQt.Data!T155,(AppQt.Data!T155*ozton*AppQt.Data!T$7)/1000000),\"-\")","v":122.78275394945143},{"$f":"IFERROR(IF($B$2=\"トン\",AppQt.Data!U155,(AppQt.Data!U155*ozton*AppQt.Data!U$7)/1000000),\"-\")","v":69.70740216963938},{"$f":"IFERROR(IF($B$2=\"トン\",AppQt.Data!V155,(AppQt.Data!V155*ozton*AppQt.Data!V$7)/1000000),\"-\")","v":81.83053684768069},{"$f":"IFERROR(IF($B$2=\"トン\",AppQt.Data!W155,(AppQt.Data!W155*ozton*AppQt.Data!W$7)/1000000),\"-\")","v":70.903058231644707},{"$f":"IFERROR(IF($B$2=\"トン\",AppQt.Data!X155,(AppQt.Data!X155*ozton*AppQt.Data!X$7)/1000000),\"-\")","v":94.888389287874048},{"$f":"IFERROR(IF($B$2=\"トン\",AppQt.Data!Y155,(AppQt.Data!Y155*ozton*AppQt.Data!Y$7)/1000000),\"-\")","v":58.201215440003025},{"$f":"IFERROR(IF($B$2=\"トン\",AppQt.Data!Z155,(AppQt.Data!Z155*ozton*AppQt.Data!Z$7)/1000000),\"-\")","v":94.615667691409669},{"$f":"IFERROR(IF($B$2=\"トン\",AppQt.Data!AA155,(AppQt.Data!AA155*ozton*AppQt.Data!AA$7)/1000000),\"-\")","v":71.109891062068527},{"$f":"IFERROR(IF($B$2=\"トン\",AppQt.Data!AB155,(AppQt.Data!AB155*ozton*AppQt.Data!AB$7)/1000000),\"-\")","v":112.5451115267294},{"$f":"IFERROR(IF($B$2=\"トン\",AppQt.Data!AC155,(AppQt.Data!AC155*ozton*AppQt.Data!AC$7)/1000000),\"-\")","v":65.056194280245123},{"$f":"IFERROR(IF($B$2=\"トン\",AppQt.Data!AD155,(AppQt.Data!AD155*ozton*AppQt.Data!AD$7)/1000000),\"-\")","v":54.012223144526338},{"$f":"IFERROR(IF($B$2=\"トン\",AppQt.Data!AE155,(AppQt.Data!AE155*ozton*AppQt.Data!AE$7)/1000000),\"-\")","v":57.884120822243219},{"$f":"IFERROR(IF($B$2=\"トン\",AppQt.Data!AF155,(AppQt.Data!AF155*ozton*AppQt.Data!AF$7)/1000000),\"-\")","v":97.486897493788689},{"$f":"IFERROR(IF($B$2=\"トン\",AppQt.Data!AG155,(AppQt.Data!AG155*ozton*AppQt.Data!AG$7)/1000000),\"-\")","v":71.191485061950814},{"$f":"IFERROR(IF($B$2=\"トン\",AppQt.Data!AH155,(AppQt.Data!AH155*ozton*AppQt.Data!AH$7)/1000000),\"-\")","v":60.53183962902267},{"$f":"IFERROR(IF($B$2=\"トン\",AppQt.Data!AI155,(AppQt.Data!AI155*ozton*AppQt.Data!AI$7)/1000000),\"-\")","v":71.653129716092593},{"$f":"IFERROR(IF($B$2=\"トン\",AppQt.Data!AJ155,(AppQt.Data!AJ155*ozton*AppQt.Data!AJ$7)/1000000),\"-\")","v":94.182346955797655},{"$f":"IFERROR(IF($B$2=\"トン\",AppQt.Data!AK155,(AppQt.Data!AK155*ozton*AppQt.Data!AK$7)/1000000),\"-\")","v":68.934514016775097},{"$f":"IFERROR(IF($B$2=\"トン\",AppQt.Data!AL155,(AppQt.Data!AL155*ozton*AppQt.Data!AL$7)/1000000),\"-\")","v":55.95323959361491},{"$f":"IFERROR(IF($B$2=\"トン\",AppQt.Data!AM155,(AppQt.Data!AM155*ozton*AppQt.Data!AM$7)/1000000),\"-\")","v":46.276366184067811},{"$f":"IFERROR(IF($B$2=\"トン\",AppQt.Data!AN155,(AppQt.Data!AN155*ozton*AppQt.Data!AN$7)/1000000),\"-\")","v":106.88191469267848},{"$f":"IFERROR(IF($B$2=\"トン\",AppQt.Data!AO155,(AppQt.Data!AO155*ozton*AppQt.Data!AO$7)/1000000),\"-\")","v":77.518903453397812},{"$f":"IFERROR(IF($B$2=\"トン\",AppQt.Data!AP155,(AppQt.Data!AP155*ozton*AppQt.Data!AP$7)/1000000),\"-\")","v":54.032811277027605},{"$f":"IFERROR(IF($B$2=\"トン\",AppQt.Data!AQ155,(AppQt.Data!AQ155*ozton*AppQt.Data!AQ$7)/1000000),\"-\")","v":59.133550827925411},{"$f":"IFERROR(IF($B$2=\"トン\",AppQt.Data!AR155,(AppQt.Data!AR155*ozton*AppQt.Data!AR$7)/1000000),\"-\")","v":75.83333292353305},{"$f":"IFERROR(IF($B$2=\"トン\",AppQt.Data!AS155,(AppQt.Data!AS155*ozton*AppQt.Data!AS$7)/1000000),\"-\")","v":53.089418489091734},{"$f":"IFERROR(IF($B$2=\"トン\",AppQt.Data!AT155,(AppQt.Data!AT155*ozton*AppQt.Data!AT$7)/1000000),\"-\")","v":47.941953156866347},{"$f":"IFERROR(IF($B$2=\"トン\",AppQt.Data!AU155,(AppQt.Data!AU155*ozton*AppQt.Data!AU$7)/1000000),\"-\")","v":64.461704139983368},{"$f":"IFERROR(IF($B$2=\"トン\",AppQt.Data!AV155,(AppQt.Data!AV155*ozton*AppQt.Data!AV$7)/1000000),\"-\")","v":79.69321405007291},{"$f":"IFERROR(IF($B$2=\"トン\",AppQt.Data!AW155,(AppQt.Data!AW155*ozton*AppQt.Data!AW$7)/1000000),\"-\")","v":56.199292240286979},{"$f":"IFERROR(IF($B$2=\"トン\",AppQt.Data!AX155,(AppQt.Data!AX155*ozton*AppQt.Data!AX$7)/1000000),\"-\")","v":44.52722069616641},{"$f":"IFERROR(IF($B$2=\"トン\",AppQt.Data!AY155,(AppQt.Data!AY155*ozton*AppQt.Data!AY$7)/1000000),\"-\")","v":44.92317607862195},{"$f":"IFERROR(IF($B$2=\"トン\",AppQt.Data!AZ155,(AppQt.Data!AZ155*ozton*AppQt.Data!AZ$7)/1000000),\"-\")","v":79.388224356137073},{"$f":"IFERROR(IF($B$2=\"トン\",AppQt.Data!BA155,(AppQt.Data!BA155*ozton*AppQt.Data!BA$7)/1000000),\"-\")","v":85.491790021999535},{"$f":"IFERROR(IF($B$2=\"トン\",AppQt.Data!BB155,(AppQt.Data!BB155*ozton*AppQt.Data!BB$7)/1000000),\"-\")","v":79.497912573899015},{"$f":"IFERROR(IF($B$2=\"トン\",AppQt.Data!BC155,(AppQt.Data!BC155*ozton*AppQt.Data!BC$7)/1000000),\"-\")","v":59.398544844804476},{"$f":"IFERROR(IF($B$2=\"トン\",AppQt.Data!BD155,(AppQt.Data!BD155*ozton*AppQt.Data!BD$7)/1000000),\"-\")","v":87.966615773949314},{"$f":"IFERROR(IF($B$2=\"トン\",AppQt.Data!BE155,(AppQt.Data!BE155*ozton*AppQt.Data!BE$7)/1000000),\"-\")","v":86.173308098350702},{"$f":"IFERROR(IF($B$2=\"トン\",AppQt.Data!BF155,(AppQt.Data!BF155*ozton*AppQt.Data!BF$7)/1000000),\"-\")","v":87.261049096390039},{"$f":"IFERROR(IF($B$2=\"トン\",AppQt.Data!BG155,(AppQt.Data!BG155*ozton*AppQt.Data!BG$7)/1000000),\"-\")","v":71.545923469438776},{"$f":"IFERROR(IF($B$2=\"トン\",AppQt.Data!BH155,(AppQt.Data!BH155*ozton*AppQt.Data!BH$7)/1000000),\"-\")","v":99.042638382123414},{"$f":"IFERROR(IF($B$2=\"トン\",AppQt.Data!BI155,(AppQt.Data!BI155*ozton*AppQt.Data!BI$7)/1000000),\"-\")","v":92.535651846455977},{"$f":"IFERROR(IF($B$2=\"トン\",AppQt.Data!BJ155,(AppQt.Data!BJ155*ozton*AppQt.Data!BJ$7)/1000000),\"-\")","v":94.694464032642827},{"$f":"IFERROR(IF($B$2=\"トン\",AppQt.Data!BK155,(AppQt.Data!BK155*ozton*AppQt.Data!BK$7)/1000000),\"-\")","v":85.88875930791238},{"$f":"IFERROR(IF($B$2=\"トン\",AppQt.Data!BL155,(AppQt.Data!BL155*ozton*AppQt.Data!BL$7)/1000000),\"-\")","v":111.65509680565719},"▲",12.734372417334816]
[null,"フランス",{"$f":"IFERROR(IF($B$2=\"トン\",AppAn.Data!L146,(AppAn.Data!L146*ozton*AppAn.Data!L$6)/1000000),\"-\")","v":22.020128288373389},{"$f":"IFERROR(IF($B$2=\"トン\",AppAn.Data!M146,(AppAn.Data!M146*ozton*AppAn.Data!M$6)/1000000),\"-\")","v":25.670580350474729},{"$f":"IFERROR(IF($B$2=\"トン\",AppAn.Data!N146,(AppAn.Data!N146*ozton*AppAn.Data!N$6)/1000000),\"-\")","v":18.374692709251899},{"$f":"IFERROR(IF($B$2=\"トン\",AppAn.Data!O146,(AppAn.Data!O146*ozton*AppAn.Data!O$6)/1000000),\"-\")","v":16.806056320086508},{"$f":"IFERROR(IF($B$2=\"トン\",AppAn.Data!P146,(AppAn.Data!P146*ozton*AppAn.Data!P$6)/1000000),\"-\")","v":15.134299999999998},{"$f":"IFERROR(IF($B$2=\"トン\",AppAn.Data!Q146,(AppAn.Data!Q146*ozton*AppAn.Data!Q$6)/1000000),\"-\")","v":13.053345},{"$f":"IFERROR(IF($B$2=\"トン\",AppAn.Data!R146,(AppAn.Data!R146*ozton*AppAn.Data!R$6)/1000000),\"-\")","v":9.1606950000000005},{"$f":"IFERROR(IF($B$2=\"トン\",AppAn.Data!S146,(AppAn.Data!S146*ozton*AppAn.Data!S$6)/1000000),\"-\")","v":13.201499999999999},{"$f":"IFERROR(IF($B$2=\"トン\",AppAn.Data!T146,(AppAn.Data!T146*ozton*AppAn.Data!T$6)/1000000),\"-\")","v":11.807349999999998},{"$f":"IFERROR(IF($B$2=\"トン\",AppAn.Data!U146,(AppAn.Data!U146*ozton*AppAn.Data!U$6)/1000000),\"-\")","v":12.94985},{"$f":"IFERROR(IF($B$2=\"トン\",AppAn.Data!V146,(AppAn.Data!V146*ozton*AppAn.Data!V$6)/1000000),\"-\")","v":14.041650000000001},{"$f":"IFERROR(IF($B$2=\"トン\",AppAn.Data!W146,(AppAn.Data!W146*ozton*AppAn.Data!W$6)/1000000),\"-\")","v":17.049250000000001},{"$f":"IFERROR(IF($B$2=\"トン\",AppAn.Data!X146,(AppAn.Data!X146*ozton*AppAn.Data!X$6)/1000000),\"-\")","v":19.856249999999999},"▲",16.464067334340204,null,{"$f":"IFERROR(IF($B$2=\"トン\",AppQt.Data!M156,(AppQt.Data!M156*ozton*AppQt.Data!M$7)/1000000),\"-\")","v":4.2179973093719036},{"$f":"IFERROR(IF($B$2=\"トン\",AppQt.Data!N156,(AppQt.Data!N156*ozton*AppQt.Data!N$7)/1000000),\"-\")","v":4.2032745385282455},{"$f":"IFERROR(IF($B$2=\"トン\",AppQt.Data!O156,(AppQt.Data!O156*ozton*AppQt.Data!O$7)/1000000),\"-\")","v":2.8742282349479678},{"$f":"IFERROR(IF($B$2=\"トン\",AppQt.Data!P156,(AppQt.Data!P156*ozton*AppQt.Data!P$7)/1000000),\"-\")","v":10.724628205525272},{"$f":"IFERROR(IF($B$2=\"トン\",AppQt.Data!Q156,(AppQt.Data!Q156*ozton*AppQt.Data!Q$7)/1000000),\"-\")","v":4.3813175547049932},{"$f":"IFERROR(IF($B$2=\"トン\",AppQt.Data!R156,(AppQt.Data!R156*ozton*AppQt.Data!R$7)/1000000),\"-\")","v":4.6115075803114216},{"$f":"IFERROR(IF($B$2=\"トン\",AppQt.Data!S156,(AppQt.Data!S156*ozton*AppQt.Data!S$7)/1000000),\"-\")","v":6.1779611295226342},{"$f":"IFERROR(IF($B$2=\"トン\",AppQt.Data!T156,(AppQt.Data!T156*ozton*AppQt.Data!T$7)/1000000),\"-\")","v":10.499794085935678},{"$f":"IFERROR(IF($B$2=\"トン\",AppQt.Data!U156,(AppQt.Data!U156*ozton*AppQt.Data!U$7)/1000000),\"-\")","v":3.8213223070213029},{"$f":"IFERROR(IF($B$2=\"トン\",AppQt.Data!V156,(AppQt.Data!V156*ozton*AppQt.Data!V$7)/1000000),\"-\")","v":3.8531265173786831},{"$f":"IFERROR(IF($B$2=\"トン\",AppQt.Data!W156,(AppQt.Data!W156*ozton*AppQt.Data!W$7)/1000000),\"-\")","v":2.5439184502753922},{"$f":"IFERROR(IF($B$2=\"トン\",AppQt.Data!X156,(AppQt.Data!X156*ozton*AppQt.Data!X$7)/1000000),\"-\")","v":8.1563254345765213},{"$f":"IFERROR(IF($B$2=\"トン\",AppQt.Data!Y156,(AppQt.Data!Y156*ozton*AppQt.Data!Y$7)/1000000),\"-\")","v":3.3876440387985998},{"$f":"IFERROR(IF($B$2=\"トン\",AppQt.Data!Z156,(AppQt.Data!Z156*ozton*AppQt.Data!Z$7)/1000000),\"-\")","v":3.5352543982122584},{"$f":"IFERROR(IF($B$2=\"トン\",AppQt.Data!AA156,(AppQt.Data!AA156*ozton*AppQt.Data!AA$7)/1000000),\"-\")","v":2.5473266595608535},{"$f":"IFERROR(IF($B$2=\"トン\",AppQt.Data!AB156,(AppQt.Data!AB156*ozton*AppQt.Data!AB$7)/1000000),\"-\")","v":7.3358312235147984},{"$f":"IFERROR(IF($B$2=\"トン\",AppQt.Data!AC156,(AppQt.Data!AC156*ozton*AppQt.Data!AC$7)/1000000),\"-\")","v":2.9099999999999993},{"$f":"IFERROR(IF($B$2=\"トン\",AppQt.Data!AD156,(AppQt.Data!AD156*ozton*AppQt.Data!AD$7)/1000000),\"-\")","v":2.8467999999999996},{"$f":"IFERROR(IF($B$2=\"トン\",AppQt.Data!AE156,(AppQt.Data!AE156*ozton*AppQt.Data!AE$7)/1000000),\"-\")","v":2.2049999999999996},{"$f":"IFERROR(IF($B$2=\"トン\",AppQt.Data!AF156,(AppQt.Data!AF156*ozton*AppQt.Data!AF$7)/1000000),\"-\")","v":7.1725000000000003},{"$f":"IFERROR(IF($B$2=\"トン\",AppQt.Data!AG156,(AppQt.Data!AG156*ozton*AppQt.Data!AG$7)/1000000),\"-\")","v":3.5599999999999996},{"$f":"IFERROR(IF($B$2=\"トン\",AppQt.Data!AH156,(AppQt.Data!AH156*ozton*AppQt.Data!AH$7)/1000000),\"-\")","v":2.2683449999999996},{"$f":"IFERROR(IF($B$2=\"トン\",AppQt.Data!AI156,(AppQt.Data!AI156*ozton*AppQt.Data!AI$7)/1000000),\"-\")","v":0.90200000000000036},{"$f":"IFERROR(IF($B$2=\"トン\",AppQt.Data!AJ156,(AppQt.Data!AJ156*ozton*AppQt.Data!AJ$7)/1000000),\"-\")","v":6.3230000000000004},{"$f":"IFERROR(IF($B$2=\"トン\",AppQt.Data!AK156,(AppQt.Data!AK156*ozton*AppQt.Data!AK$7)/1000000),\"-\")","v":2.6870000000000003},{"$f":"IFERROR(IF($B$2=\"トン\",AppQt.Data!AL156,(AppQt.Data!AL156*ozton*AppQt.Data!AL$7)/1000000),\"-\")","v":-0.72480500000000081},{"$f":"IFERROR(IF($B$2=\"トン\",AppQt.Data!AM156,(AppQt.Data!AM156*ozton*AppQt.Data!AM$7)/1000000),\"-\")","v":1.1399999999999995},{"$f":"IFERROR(IF($B$2=\"トン\",AppQt.Data!AN156,(AppQt.Data!AN156*ozton*AppQt.Data!AN$7)/1000000),\"-\")","v":6.0585000000000004},{"$f":"IFERROR(IF($B$2=\"トン\",AppQt.Data!AO156,(AppQt.Data!AO156*ozton*AppQt.Data!AO$7)/1000000),\"-\")","v":3.8689999999999989},{"$f":"IFERROR(IF($B$2=\"トン\",AppQt.Data!AP156,(AppQt.Data!AP156*ozton*AppQt.Data!AP$7)/1000000),\"-\")","v":3.3235000000000001},{"$f":"IFERROR(IF($B$2=\"トン\",AppQt.Data!AQ156,(AppQt.Data!AQ156*ozton*AppQt.Data!AQ$7)/1000000),\"-\")","v":1.7810000000000004},{"$f":"IFERROR(IF($B$2=\"トン\",AppQt.Data!AR156,(AppQt.Data!AR156*ozton*AppQt.Data!AR$7)/1000000),\"-\")","v":4.2280000000000006},{"$f":"IFERROR(IF($B$2=\"トン\",AppQt.Data!AS156,(AppQt.Data!AS156*ozton*AppQt.Data!AS$7)/1000000),\"-\")","v":2.4919999999999991},{"$f":"IFERROR(IF($B$2=\"トン\",AppQt.Data!AT156,(AppQt.Data!AT156*ozton*AppQt.Data!AT$7)/1000000),\"-\")","v":1.7134999999999996},{"$f":"IFERROR(IF($B$2=\"トン\",AppQt.Data!AU156,(AppQt.Data!AU156*ozton*AppQt.Data!AU$7)/1000000),\"-\")","v":1.5179999999999996},{"$f":"IFERROR(IF($B$2=\"トン\",AppQt.Data!AV156,(AppQt.Data!AV156*ozton*AppQt.Data!AV$7)/1000000),\"-\")","v":6.08385},{"$f":"IFERROR(IF($B$2=\"トン\",AppQt.Data!AW156,(AppQt.Data!AW156*ozton*AppQt.Data!AW$7)/1000000),\"-\")","v":3.0890000000000004},{"$f":"IFERROR(IF($B$2=\"トン\",AppQt.Data!AX156,(AppQt.Data!AX156*ozton*AppQt.Data!AX$7)/1000000),\"-\")","v":1.7789999999999999},{"$f":"IFERROR(IF($B$2=\"トン\",AppQt.Data!AY156,(AppQt.Data!AY156*ozton*AppQt.Data!AY$7)/1000000),\"-\")","v":2.4409999999999998},{"$f":"IFERROR(IF($B$2=\"トン\",AppQt.Data!AZ156,(AppQt.Data!AZ156*ozton*AppQt.Data!AZ$7)/1000000),\"-\")","v":5.6408499999999995},{"$f":"IFERROR(IF($B$2=\"トン\",AppQt.Data!BA156,(AppQt.Data!BA156*ozton*AppQt.Data!BA$7)/1000000),\"-\")","v":3.2469999999999999},{"$f":"IFERROR(IF($B$2=\"トン\",AppQt.Data!BB156,(AppQt.Data!BB156*ozton*AppQt.Data!BB$7)/1000000),\"-\")","v":2.4556499999999994},{"$f":"IFERROR(IF($B$2=\"トン\",AppQt.Data!BC156,(AppQt.Data!BC156*ozton*AppQt.Data!BC$7)/1000000),\"-\")","v":3.1950000000000003},{"$f":"IFERROR(IF($B$2=\"トン\",AppQt.Data!BD156,(AppQt.Data!BD156*ozton*AppQt.Data!BD$7)/1000000),\"-\")","v":5.1440000000000001},{"$f":"IFERROR(IF($B$2=\"トン\",AppQt.Data!BE156,(AppQt.Data!BE156*ozton*AppQt.Data!BE$7)/1000000),\"-\")","v":3.7879999999999998},{"$f":"IFERROR(IF($B$2=\"トン\",AppQt.Data!BF156,(AppQt.Data!BF156*ozton*AppQt.Data!BF$7)/1000000),\"-\")","v":2.9215},{"$f":"IFERROR(IF($B$2=\"トン\",AppQt.Data!BG156,(AppQt.Data!BG156*ozton*AppQt.Data!BG$7)/1000000),\"-\")","v":3.1869999999999994},{"$f":"IFERROR(IF($B$2=\"トン\",AppQt.Data!BH156,(AppQt.Data!BH156*ozton*AppQt.Data!BH$7)/1000000),\"-\")","v":7.1527500000000002},{"$f":"IFERROR(IF($B$2=\"トン\",AppQt.Data!BI156,(AppQt.Data!BI156*ozton*AppQt.Data!BI$7)/1000000),\"-\")","v":4.4399999999999995},{"$f":"IFERROR(IF($B$2=\"トン\",AppQt.Data!BJ156,(AppQt.Data!BJ156*ozton*AppQt.Data!BJ$7)/1000000),\"-\")","v":4.2580000000000009},{"$f":"IFERROR(IF($B$2=\"トン\",AppQt.Data!BK156,(AppQt.Data!BK156*ozton*AppQt.Data!BK$7)/1000000),\"-\")","v":3.4599999999999991},{"$f":"IFERROR(IF($B$2=\"トン\",AppQt.Data!BL156,(AppQt.Data!BL156*ozton*AppQt.Data!BL$7)/1000000),\"-\")","v":7.6982499999999989},"▲",7.6264373842228395]
[null,"ドイツ",{"$f":"IFERROR(IF($B$2=\"トン\",AppAn.Data!L147,(AppAn.Data!L147*ozton*AppAn.Data!L$6)/1000000),\"-\")","v":136.62928187718859},{"$f":"IFERROR(IF($B$2=\"トン\",AppAn.Data!M147,(AppAn.Data!M147*ozton*AppAn.Data!M$6)/1000000),\"-\")","v":154.4217017489824},{"$f":"IFERROR(IF($B$2=\"トン\",AppAn.Data!N147,(AppAn.Data!N147*ozton*AppAn.Data!N$6)/1000000),\"-\")","v":118.92508493632414},{"$f":"IFERROR(IF($B$2=\"トン\",AppAn.Data!O147,(AppAn.Data!O147*ozton*AppAn.Data!O$6)/1000000),\"-\")","v":143.383622863921},{"$f":"IFERROR(IF($B$2=\"トン\",AppAn.Data!P147,(AppAn.Data!P147*ozton*AppAn.Data!P$6)/1000000),\"-\")","v":111.25629071346872},{"$f":"IFERROR(IF($B$2=\"トン\",AppAn.Data!Q147,(AppAn.Data!Q147*ozton*AppAn.Data!Q$6)/1000000),\"-\")","v":126.13630445667822},{"$f":"IFERROR(IF($B$2=\"トン\",AppAn.Data!R147,(AppAn.Data!R147*ozton*AppAn.Data!R$6)/1000000),\"-\")","v":121.11517333474239},{"$f":"IFERROR(IF($B$2=\"トン\",AppAn.Data!S147,(AppAn.Data!S147*ozton*AppAn.Data!S$6)/1000000),\"-\")","v":116.97127356402456},{"$f":"IFERROR(IF($B$2=\"トン\",AppAn.Data!T147,(AppAn.Data!T147*ozton*AppAn.Data!T$6)/1000000),\"-\")","v":106.88795458631864},{"$f":"IFERROR(IF($B$2=\"トン\",AppAn.Data!U147,(AppAn.Data!U147*ozton*AppAn.Data!U$6)/1000000),\"-\")","v":96.218999999999994},{"$f":"IFERROR(IF($B$2=\"トン\",AppAn.Data!V147,(AppAn.Data!V147*ozton*AppAn.Data!V$6)/1000000),\"-\")","v":166.0445},{"$f":"IFERROR(IF($B$2=\"トン\",AppAn.Data!W147,(AppAn.Data!W147*ozton*AppAn.Data!W$6)/1000000),\"-\")","v":173.68673524769332},{"$f":"IFERROR(IF($B$2=\"トン\",AppAn.Data!X147,(AppAn.Data!X147*ozton*AppAn.Data!X$6)/1000000),\"-\")","v":196.40567074657196},"▲",13.080409086208755,null,{"$f":"IFERROR(IF($B$2=\"トン\",AppQt.Data!M157,(AppQt.Data!M157*ozton*AppQt.Data!M$7)/1000000),\"-\")","v":20.856085526314491},{"$f":"IFERROR(IF($B$2=\"トン\",AppQt.Data!N157,(AppQt.Data!N157*ozton*AppQt.Data!N$7)/1000000),\"-\")","v":50.960398365736239},{"$f":"IFERROR(IF($B$2=\"トン\",AppQt.Data!O157,(AppQt.Data!O157*ozton*AppQt.Data!O$7)/1000000),\"-\")","v":24.691190678664032},{"$f":"IFERROR(IF($B$2=\"トン\",AppQt.Data!P157,(AppQt.Data!P157*ozton*AppQt.Data!P$7)/1000000),\"-\")","v":40.121607306473827},{"$f":"IFERROR(IF($B$2=\"トン\",AppQt.Data!Q157,(AppQt.Data!Q157*ozton*AppQt.Data!Q$7)/1000000),\"-\")","v":36.739781404228019},{"$f":"IFERROR(IF($B$2=\"トン\",AppQt.Data!R157,(AppQt.Data!R157*ozton*AppQt.Data!R$7)/1000000),\"-\")","v":22.442285803815256},{"$f":"IFERROR(IF($B$2=\"トン\",AppQt.Data!S157,(AppQt.Data!S157*ozton*AppQt.Data!S$7)/1000000),\"-\")","v":54.093054253799771},{"$f":"IFERROR(IF($B$2=\"トン\",AppQt.Data!T157,(AppQt.Data!T157*ozton*AppQt.Data!T$7)/1000000),\"-\")","v":41.146580287139358},{"$f":"IFERROR(IF($B$2=\"トン\",AppQt.Data!U157,(AppQt.Data!U157*ozton*AppQt.Data!U$7)/1000000),\"-\")","v":22.567517104412239},{"$f":"IFERROR(IF($B$2=\"トン\",AppQt.Data!V157,(AppQt.Data!V157*ozton*AppQt.Data!V$7)/1000000),\"-\")","v":34.726921656272125},{"$f":"IFERROR(IF($B$2=\"トン\",AppQt.Data!W157,(AppQt.Data!W157*ozton*AppQt.Data!W$7)/1000000),\"-\")","v":29.672916510569575},{"$f":"IFERROR(IF($B$2=\"トン\",AppQt.Data!X157,(AppQt.Data!X157*ozton*AppQt.Data!X$7)/1000000),\"-\")","v":31.957729665070197},{"$f":"IFERROR(IF($B$2=\"トン\",AppQt.Data!Y157,(AppQt.Data!Y157*ozton*AppQt.Data!Y$7)/1000000),\"-\")","v":23.069170524407532},{"$f":"IFERROR(IF($B$2=\"トン\",AppQt.Data!Z157,(AppQt.Data!Z157*ozton*AppQt.Data!Z$7)/1000000),\"-\")","v":42.395521832044821},{"$f":"IFERROR(IF($B$2=\"トン\",AppQt.Data!AA157,(AppQt.Data!AA157*ozton*AppQt.Data!AA$7)/1000000),\"-\")","v":32.314744442110261},{"$f":"IFERROR(IF($B$2=\"トン\",AppQt.Data!AB157,(AppQt.Data!AB157*ozton*AppQt.Data!AB$7)/1000000),\"-\")","v":45.604186065358391},{"$f":"IFERROR(IF($B$2=\"トン\",AppQt.Data!AC157,(AppQt.Data!AC157*ozton*AppQt.Data!AC$7)/1000000),\"-\")","v":28.519656418055895},{"$f":"IFERROR(IF($B$2=\"トン\",AppQt.Data!AD157,(AppQt.Data!AD157*ozton*AppQt.Data!AD$7)/1000000),\"-\")","v":21.482947073603675},{"$f":"IFERROR(IF($B$2=\"トン\",AppQt.Data!AE157,(AppQt.Data!AE157*ozton*AppQt.Data!AE$7)/1000000),\"-\")","v":25.048577150468205},{"$f":"IFERROR(IF($B$2=\"トン\",AppQt.Data!AF157,(AppQt.Data!AF157*ozton*AppQt.Data!AF$7)/1000000),\"-\")","v":36.205110071340947},{"$f":"IFERROR(IF($B$2=\"トン\",AppQt.Data!AG157,(AppQt.Data!AG157*ozton*AppQt.Data!AG$7)/1000000),\"-\")","v":32.660415467485002},{"$f":"IFERROR(IF($B$2=\"トン\",AppQt.Data!AH157,(AppQt.Data!AH157*ozton*AppQt.Data!AH$7)/1000000),\"-\")","v":25.186128964386398},{"$f":"IFERROR(IF($B$2=\"トン\",AppQt.Data!AI157,(AppQt.Data!AI157*ozton*AppQt.Data!AI$7)/1000000),\"-\")","v":31.407473664141911},{"$f":"IFERROR(IF($B$2=\"トン\",AppQt.Data!AJ157,(AppQt.Data!AJ157*ozton*AppQt.Data!AJ$7)/1000000),\"-\")","v":36.882286360664921},{"$f":"IFERROR(IF($B$2=\"トン\",AppQt.Data!AK157,(AppQt.Data!AK157*ozton*AppQt.Data!AK$7)/1000000),\"-\")","v":32.005580761960658},{"$f":"IFERROR(IF($B$2=\"トン\",AppQt.Data!AL157,(AppQt.Data!AL157*ozton*AppQt.Data!AL$7)/1000000),\"-\")","v":24.034235192088037},{"$f":"IFERROR(IF($B$2=\"トン\",AppQt.Data!AM157,(AppQt.Data!AM157*ozton*AppQt.Data!AM$7)/1000000),\"-\")","v":18.498899220467965},{"$f":"IFERROR(IF($B$2=\"トン\",AppQt.Data!AN157,(AppQt.Data!AN157*ozton*AppQt.Data!AN$7)/1000000),\"-\")","v":46.576458160225712},{"$f":"IFERROR(IF($B$2=\"トン\",AppQt.Data!AO157,(AppQt.Data!AO157*ozton*AppQt.Data!AO$7)/1000000),\"-\")","v":37.973192518307485},{"$f":"IFERROR(IF($B$2=\"トン\",AppQt.Data!AP157,(AppQt.Data!AP157*ozton*AppQt.Data!AP$7)/1000000),\"-\")","v":22.568651508815773},{"$f":"IFERROR(IF($B$2=\"トン\",AppQt.Data!AQ157,(AppQt.Data!AQ157*ozton*AppQt.Data!AQ$7)/1000000),\"-\")","v":26.969429536901295},{"$f":"IFERROR(IF($B$2=\"トン\",AppQt.Data!AR157,(AppQt.Data!AR157*ozton*AppQt.Data!AR$7)/1000000),\"-\")","v":29.46},{"$f":"IFERROR(IF($B$2=\"トン\",AppQt.Data!AS157,(AppQt.Data!AS157*ozton*AppQt.Data!AS$7)/1000000),\"-\")","v":25.235379200000001},{"$f":"IFERROR(IF($B$2=\"トン\",AppQt.Data!AT157,(AppQt.Data!AT157*ozton*AppQt.Data!AT$7)/1000000),\"-\")","v":20.990000000000002},{"$f":"IFERROR(IF($B$2=\"トン\",AppQt.Data!AU157,(AppQt.Data!AU157*ozton*AppQt.Data!AU$7)/1000000),\"-\")","v":30.122575386318644},{"$f":"IFERROR(IF($B$2=\"トン\",AppQt.Data!AV157,(AppQt.Data!AV157*ozton*AppQt.Data!AV$7)/1000000),\"-\")","v":30.54},{"$f":"IFERROR(IF($B$2=\"トン\",AppQt.Data!AW157,(AppQt.Data!AW157*ozton*AppQt.Data!AW$7)/1000000),\"-\")","v":24.599999999999998},{"$f":"IFERROR(IF($B$2=\"トン\",AppQt.Data!AX157,(AppQt.Data!AX157*ozton*AppQt.Data!AX$7)/1000000),\"-\")","v":18.568999999999999},{"$f":"IFERROR(IF($B$2=\"トン\",AppQt.Data!AY157,(AppQt.Data!AY157*ozton*AppQt.Data!AY$7)/1000000),\"-\")","v":19.03},{"$f":"IFERROR(IF($B$2=\"トン\",AppQt.Data!AZ157,(AppQt.Data!AZ157*ozton*AppQt.Data!AZ$7)/1000000),\"-\")","v":34.020000000000003},{"$f":"IFERROR(IF($B$2=\"トン\",AppQt.Data!BA157,(AppQt.Data!BA157*ozton*AppQt.Data!BA$7)/1000000),\"-\")","v":47.657000000000004},{"$f":"IFERROR(IF($B$2=\"トン\",AppQt.Data!BB157,(AppQt.Data!BB157*ozton*AppQt.Data!BB$7)/1000000),\"-\")","v":45.06},{"$f":"IFERROR(IF($B$2=\"トン\",AppQt.Data!BC157,(AppQt.Data!BC157*ozton*AppQt.Data!BC$7)/1000000),\"-\")","v":30.7075},{"$f":"IFERROR(IF($B$2=\"トン\",AppQt.Data!BD157,(AppQt.Data!BD157*ozton*AppQt.Data!BD$7)/1000000),\"-\")","v":42.62},{"$f":"IFERROR(IF($B$2=\"トン\",AppQt.Data!BE157,(AppQt.Data!BE157*ozton*AppQt.Data!BE$7)/1000000),\"-\")","v":45.582126113928695},{"$f":"IFERROR(IF($B$2=\"トン\",AppQt.Data!BF157,(AppQt.Data!BF157*ozton*AppQt.Data!BF$7)/1000000),\"-\")","v":46.852233835280202},{"$f":"IFERROR(IF($B$2=\"トン\",AppQt.Data!BG157,(AppQt.Data!BG157*ozton*AppQt.Data!BG$7)/1000000),\"-\")","v":35.83493587544335},{"$f":"IFERROR(IF($B$2=\"トン\",AppQt.Data!BH157,(AppQt.Data!BH157*ozton*AppQt.Data!BH$7)/1000000),\"-\")","v":45.417439423041074},{"$f":"IFERROR(IF($B$2=\"トン\",AppQt.Data!BI157,(AppQt.Data!BI157*ozton*AppQt.Data!BI$7)/1000000),\"-\")","v":48.597910421106704},{"$f":"IFERROR(IF($B$2=\"トン\",AppQt.Data!BJ157,(AppQt.Data!BJ157*ozton*AppQt.Data!BJ$7)/1000000),\"-\")","v":51.493158936746298},{"$f":"IFERROR(IF($B$2=\"トン\",AppQt.Data!BK157,(AppQt.Data!BK157*ozton*AppQt.Data!BK$7)/1000000),\"-\")","v":44.152969889334599},{"$f":"IFERROR(IF($B$2=\"トン\",AppQt.Data!BL157,(AppQt.Data!BL157*ozton*AppQt.Data!BL$7)/1000000),\"-\")","v":52.161631499384349},"▲",14.849344573401524]
[null,"イタリア",{"$f":"IFERROR(IF($B$2=\"トン\",AppAn.Data!L148,(AppAn.Data!L148*ozton*AppAn.Data!L$6)/1000000),\"-\")","v":34.21341869627507},{"$f":"IFERROR(IF($B$2=\"トン\",AppAn.Data!M148,(AppAn.Data!M148*ozton*AppAn.Data!M$6)/1000000),\"-\")","v":26.919944519927537},{"$f":"IFERROR(IF($B$2=\"トン\",AppAn.Data!N148,(AppAn.Data!N148*ozton*AppAn.Data!N$6)/1000000),\"-\")","v":22.559438202247179},{"$f":"IFERROR(IF($B$2=\"トン\",AppAn.Data!O148,(AppAn.Data!O148*ozton*AppAn.Data!O$6)/1000000),\"-\")","v":21.114062500000003},{"$f":"IFERROR(IF($B$2=\"トン\",AppAn.Data!P148,(AppAn.Data!P148*ozton*AppAn.Data!P$6)/1000000),\"-\")","v":19.890000000000004},{"$f":"IFERROR(IF($B$2=\"トン\",AppAn.Data!Q148,(AppAn.Data!Q148*ozton*AppAn.Data!Q$6)/1000000),\"-\")","v":19.229999999999997},{"$f":"IFERROR(IF($B$2=\"トン\",AppAn.Data!R148,(AppAn.Data!R148*ozton*AppAn.Data!R$6)/1000000),\"-\")","v":18.957000000000001},{"$f":"IFERROR(IF($B$2=\"トン\",AppAn.Data!S148,(AppAn.Data!S148*ozton*AppAn.Data!S$6)/1000000),\"-\")","v":18.825000000000006},{"$f":"IFERROR(IF($B$2=\"トン\",AppAn.Data!T148,(AppAn.Data!T148*ozton*AppAn.Data!T$6)/1000000),\"-\")","v":18.542000000000002},{"$f":"IFERROR(IF($B$2=\"トン\",AppAn.Data!U148,(AppAn.Data!U148*ozton*AppAn.Data!U$6)/1000000),\"-\")","v":18.169350000000001},{"$f":"IFERROR(IF($B$2=\"トン\",AppAn.Data!V148,(AppAn.Data!V148*ozton*AppAn.Data!V$6)/1000000),\"-\")","v":13.795349999999999},{"$f":"IFERROR(IF($B$2=\"トン\",AppAn.Data!W148,(AppAn.Data!W148*ozton*AppAn.Data!W$6)/1000000),\"-\")","v":17.284000000000006},{"$f":"IFERROR(IF($B$2=\"トン\",AppAn.Data!X148,(AppAn.Data!X148*ozton*AppAn.Data!X$6)/1000000),\"-\")","v":17.838000000000005},"▲",3.2052765563526764,null,{"$f":"IFERROR(IF($B$2=\"トン\",AppQt.Data!M158,(AppQt.Data!M158*ozton*AppQt.Data!M$7)/1000000),\"-\")","v":5.1661590257879615},{"$f":"IFERROR(IF($B$2=\"トン\",AppQt.Data!N158,(AppQt.Data!N158*ozton*AppQt.Data!N$7)/1000000),\"-\")","v":6.514095988538684},{"$f":"IFERROR(IF($B$2=\"トン\",AppQt.Data!O158,(AppQt.Data!O158*ozton*AppQt.Data!O$7)/1000000),\"-\")","v":5.1965247134670483},{"$f":"IFERROR(IF($B$2=\"トン\",AppQt.Data!P158,(AppQt.Data!P158*ozton*AppQt.Data!P$7)/1000000),\"-\")","v":17.336638968481381},{"$f":"IFERROR(IF($B$2=\"トン\",AppQt.Data!Q158,(AppQt.Data!Q158*ozton*AppQt.Data!Q$7)/1000000),\"-\")","v":3.929800724637678},{"$f":"IFERROR(IF($B$2=\"トン\",AppQt.Data!R158,(AppQt.Data!R158*ozton*AppQt.Data!R$7)/1000000),\"-\")","v":5.4820652173913054},{"$f":"IFERROR(IF($B$2=\"トン\",AppQt.Data!S158,(AppQt.Data!S158*ozton*AppQt.Data!S$7)/1000000),\"-\")","v":3.7554064764492754},{"$f":"IFERROR(IF($B$2=\"トン\",AppQt.Data!T158,(AppQt.Data!T158*ozton*AppQt.Data!T$7)/1000000),\"-\")","v":13.752672101449278},{"$f":"IFERROR(IF($B$2=\"トン\",AppQt.Data!U158,(AppQt.Data!U158*ozton*AppQt.Data!U$7)/1000000),\"-\")","v":3.3881109550561765},{"$f":"IFERROR(IF($B$2=\"トン\",AppQt.Data!V158,(AppQt.Data!V158*ozton*AppQt.Data!V$7)/1000000),\"-\")","v":4.6075140449438203},{"$f":"IFERROR(IF($B$2=\"トン\",AppQt.Data!W158,(AppQt.Data!W158*ozton*AppQt.Data!W$7)/1000000),\"-\")","v":3.0924087078651668},{"$f":"IFERROR(IF($B$2=\"トン\",AppQt.Data!X158,(AppQt.Data!X158*ozton*AppQt.Data!X$7)/1000000),\"-\")","v":11.471404494382014},{"$f":"IFERROR(IF($B$2=\"トン\",AppQt.Data!Y158,(AppQt.Data!Y158*ozton*AppQt.Data!Y$7)/1000000),\"-\")","v":3.2323437500000014},{"$f":"IFERROR(IF($B$2=\"トン\",AppQt.Data!Z158,(AppQt.Data!Z158*ozton*AppQt.Data!Z$7)/1000000),\"-\")","v":4.3290625},{"$f":"IFERROR(IF($B$2=\"トン\",AppQt.Data!AA158,(AppQt.Data!AA158*ozton*AppQt.Data!AA$7)/1000000),\"-\")","v":3.1851562500000004},{"$f":"IFERROR(IF($B$2=\"トン\",AppQt.Data!AB158,(AppQt.Data!AB158*ozton*AppQt.Data!AB$7)/1000000),\"-\")","v":10.3675},{"$f":"IFERROR(IF($B$2=\"トン\",AppQt.Data!AC158,(AppQt.Data!AC158*ozton*AppQt.Data!AC$7)/1000000),\"-\")","v":3.0450000000000039},{"$f":"IFERROR(IF($B$2=\"トン\",AppQt.Data!AD158,(AppQt.Data!AD158*ozton*AppQt.Data!AD$7)/1000000),\"-\")","v":4.1449999999999996},{"$f":"IFERROR(IF($B$2=\"トン\",AppQt.Data!AE158,(AppQt.Data!AE158*ozton*AppQt.Data!AE$7)/1000000),\"-\")","v":3.0250000000000004},{"$f":"IFERROR(IF($B$2=\"トン\",AppQt.Data!AF158,(AppQt.Data!AF158*ozton*AppQt.Data!AF$7)/1000000),\"-\")","v":9.6750000000000007},{"$f":"IFERROR(IF($B$2=\"トン\",AppQt.Data!AG158,(AppQt.Data!AG158*ozton*AppQt.Data!AG$7)/1000000),\"-\")","v":2.8700000000000014},{"$f":"IFERROR(IF($B$2=\"トン\",AppQt.Data!AH158,(AppQt.Data!AH158*ozton*AppQt.Data!AH$7)/1000000),\"-\")","v":3.9899999999999993},{"$f":"IFERROR(IF($B$2=\"トン\",AppQt.Data!AI158,(AppQt.Data!AI158*ozton*AppQt.Data!AI$7)/1000000),\"-\")","v":2.9700000000000029},{"$f":"IFERROR(IF($B$2=\"トン\",AppQt.Data!AJ158,(AppQt.Data!AJ158*ozton*AppQt.Data!AJ$7)/1000000),\"-\")","v":9.399999999999995},{"$f":"IFERROR(IF($B$2=\"トン\",AppQt.Data!AK158,(AppQt.Data!AK158*ozton*AppQt.Data!AK$7)/1000000),\"-\")","v":2.8099999999999965},{"$f":"IFERROR(IF($B$2=\"トン\",AppQt.Data!AL158,(AppQt.Data!AL158*ozton*AppQt.Data!AL$7)/1000000),\"-\")","v":3.9899999999999993},{"$f":"IFERROR(IF($B$2=\"トン\",AppQt.Data!AM158,(AppQt.Data!AM158*ozton*AppQt.Data!AM$7)/1000000),\"-\")","v":2.9500000000000037},{"$f":"IFERROR(IF($B$2=\"トン\",AppQt.Data!AN158,(AppQt.Data!AN158*ozton*AppQt.Data!AN$7)/1000000),\"-\")","v":9.2070000000000007},{"$f":"IFERROR(IF($B$2=\"トン\",AppQt.Data!AO158,(AppQt.Data!AO158*ozton*AppQt.Data!AO$7)/1000000),\"-\")","v":2.7549999999999994},{"$f":"IFERROR(IF($B$2=\"トン\",AppQt.Data!AP158,(AppQt.Data!AP158*ozton*AppQt.Data!AP$7)/1000000),\"-\")","v":3.9350000000000023},{"$f":"IFERROR(IF($B$2=\"トン\",AppQt.Data!AQ158,(AppQt.Data!AQ158*ozton*AppQt.Data!AQ$7)/1000000),\"-\")","v":2.9300000000000037},{"$f":"IFERROR(IF($B$2=\"トン\",AppQt.Data!AR158,(AppQt.Data!AR158*ozton*AppQt.Data!AR$7)/1000000),\"-\")","v":9.2050000000000018},{"$f":"IFERROR(IF($B$2=\"トン\",AppQt.Data!AS158,(AppQt.Data!AS158*ozton*AppQt.Data!AS$7)/1000000),\"-\")","v":2.6917500000000012},{"$f":"IFERROR(IF($B$2=\"トン\",AppQt.Data!AT158,(AppQt.Data!AT158*ozton*AppQt.Data!AT$7)/1000000),\"-\")","v":3.9117499999999987},{"$f":"IFERROR(IF($B$2=\"トン\",AppQt.Data!AU158,(AppQt.Data!AU158*ozton*AppQt.Data!AU$7)/1000000),\"-\")","v":2.8617500000000025},{"$f":"IFERROR(IF($B$2=\"トン\",AppQt.Data!AV158,(AppQt.Data!AV158*ozton*AppQt.Data!AV$7)/1000000),\"-\")","v":9.0767499999999988},{"$f":"IFERROR(IF($B$2=\"トン\",AppQt.Data!AW158,(AppQt.Data!AW158*ozton*AppQt.Data!AW$7)/1000000),\"-\")","v":2.6573374999999988},{"$f":"IFERROR(IF($B$2=\"トン\",AppQt.Data!AX158,(AppQt.Data!AX158*ozton*AppQt.Data!AX$7)/1000000),\"-\")","v":3.8173375000000025},{"$f":"IFERROR(IF($B$2=\"トン\",AppQt.Data!AY158,(AppQt.Data!AY158*ozton*AppQt.Data!AY$7)/1000000),\"-\")","v":2.8073374999999956},{"$f":"IFERROR(IF($B$2=\"トン\",AppQt.Data!AZ158,(AppQt.Data!AZ158*ozton*AppQt.Data!AZ$7)/1000000),\"-\")","v":8.8873375000000046},{"$f":"IFERROR(IF($B$2=\"トン\",AppQt.Data!BA158,(AppQt.Data!BA158*ozton*AppQt.Data!BA$7)/1000000),\"-\")","v":2.0000000000000009},{"$f":"IFERROR(IF($B$2=\"トン\",AppQt.Data!BB158,(AppQt.Data!BB158*ozton*AppQt.Data!BB$7)/1000000),\"-\")","v":1.7560000000000016},{"$f":"IFERROR(IF($B$2=\"トン\",AppQt.Data!BC158,(AppQt.Data!BC158*ozton*AppQt.Data!BC$7)/1000000),\"-\")","v":2.4300000000000015},{"$f":"IFERROR(IF($B$2=\"トン\",AppQt.Data!BD158,(AppQt.Data!BD158*ozton*AppQt.Data!BD$7)/1000000),\"-\")","v":7.6093499999999956},{"$f":"IFERROR(IF($B$2=\"トン\",AppQt.Data!BE158,(AppQt.Data!BE158*ozton*AppQt.Data!BE$7)/1000000),\"-\")","v":2.2300000000000004},{"$f":"IFERROR(IF($B$2=\"トン\",AppQt.Data!BF158,(AppQt.Data!BF158*ozton*AppQt.Data!BF$7)/1000000),\"-\")","v":3.4439999999999964},{"$f":"IFERROR(IF($B$2=\"トン\",AppQt.Data!BG158,(AppQt.Data!BG158*ozton*AppQt.Data!BG$7)/1000000),\"-\")","v":2.7100000000000009},{"$f":"IFERROR(IF($B$2=\"トン\",AppQt.Data!BH158,(AppQt.Data!BH158*ozton*AppQt.Data!BH$7)/1000000),\"-\")","v":8.9000000000000075},{"$f":"IFERROR(IF($B$2=\"トン\",AppQt.Data!BI158,(AppQt.Data!BI158*ozton*AppQt.Data!BI$7)/1000000),\"-\")","v":2.4040000000000084},{"$f":"IFERROR(IF($B$2=\"トン\",AppQt.Data!BJ158,(AppQt.Data!BJ158*ozton*AppQt.Data!BJ$7)/1000000),\"-\")","v":3.7250000000000005},{"$f":"IFERROR(IF($B$2=\"トン\",AppQt.Data!BK158,(AppQt.Data!BK158*ozton*AppQt.Data!BK$7)/1000000),\"-\")","v":2.7589999999999968},{"$f":"IFERROR(IF($B$2=\"トン\",AppQt.Data!BL158,(AppQt.Data!BL158*ozton*AppQt.Data!BL$7)/1000000),\"-\")","v":8.9499999999999993},"▲",0.56179775280889022]
[null,"スペイン",{"$f":"IFERROR(IF($B$2=\"トン\",AppAn.Data!L149,(AppAn.Data!L149*ozton*AppAn.Data!L$6)/1000000),\"-\")","v":11.578406659511643},{"$f":"IFERROR(IF($B$2=\"トン\",AppAn.Data!M149,(AppAn.Data!M149*ozton*AppAn.Data!M$6)/1000000),\"-\")","v":8.1675658284118811},{"$f":"IFERROR(IF($B$2=\"トン\",AppAn.Data!N149,(AppAn.Data!N149*ozton*AppAn.Data!N$6)/1000000),\"-\")","v":8.3786363556876537},{"$f":"IFERROR(IF($B$2=\"トン\",AppAn.Data!O149,(AppAn.Data!O149*ozton*AppAn.Data!O$6)/1000000),\"-\")","v":7.7720768627497634},{"$f":"IFERROR(IF($B$2=\"トン\",AppAn.Data!P149,(AppAn.Data!P149*ozton*AppAn.Data!P$6)/1000000),\"-\")","v":8.3072592303392145},{"$f":"IFERROR(IF($B$2=\"トン\",AppAn.Data!Q149,(AppAn.Data!Q149*ozton*AppAn.Data!Q$6)/1000000),\"-\")","v":8.4916112014424865},{"$f":"IFERROR(IF($B$2=\"トン\",AppAn.Data!R149,(AppAn.Data!R149*ozton*AppAn.Data!R$6)/1000000),\"-\")","v":8.2612979621166485},{"$f":"IFERROR(IF($B$2=\"トン\",AppAn.Data!S149,(AppAn.Data!S149*ozton*AppAn.Data!S$6)/1000000),\"-\")","v":8.3863806759580175},{"$f":"IFERROR(IF($B$2=\"トン\",AppAn.Data!T149,(AppAn.Data!T149*ozton*AppAn.Data!T$6)/1000000),\"-\")","v":8.6882324632167798},{"$f":"IFERROR(IF($B$2=\"トン\",AppAn.Data!U149,(AppAn.Data!U149*ozton*AppAn.Data!U$6)/1000000),\"-\")","v":8.8489928470720631},{"$f":"IFERROR(IF($B$2=\"トン\",AppAn.Data!V149,(AppAn.Data!V149*ozton*AppAn.Data!V$6)/1000000),\"-\")","v":6.8964507913436224},{"$f":"IFERROR(IF($B$2=\"トン\",AppAn.Data!W149,(AppAn.Data!W149*ozton*AppAn.Data!W$6)/1000000),\"-\")","v":7.7548471227972247},{"$f":"IFERROR(IF($B$2=\"トン\",AppAn.Data!X149,(AppAn.Data!X149*ozton*AppAn.Data!X$6)/1000000),\"-\")","v":8.0769632819116701},"▲",4.1537396419783379,null,{"$f":"IFERROR(IF($B$2=\"トン\",AppQt.Data!M159,(AppQt.Data!M159*ozton*AppQt.Data!M$7)/1000000),\"-\")","v":2.5197539974238747},{"$f":"IFERROR(IF($B$2=\"トン\",AppQt.Data!N159,(AppQt.Data!N159*ozton*AppQt.Data!N$7)/1000000),\"-\")","v":3.1901258394162899},{"$f":"IFERROR(IF($B$2=\"トン\",AppQt.Data!O159,(AppQt.Data!O159*ozton*AppQt.Data!O$7)/1000000),\"-\")","v":2.4500028381282268},{"$f":"IFERROR(IF($B$2=\"トン\",AppQt.Data!P159,(AppQt.Data!P159*ozton*AppQt.Data!P$7)/1000000),\"-\")","v":3.4185239845432518},{"$f":"IFERROR(IF($B$2=\"トン\",AppQt.Data!Q159,(AppQt.Data!Q159*ozton*AppQt.Data!Q$7)/1000000),\"-\")","v":1.8657364239373999},{"$f":"IFERROR(IF($B$2=\"トン\",AppQt.Data!R159,(AppQt.Data!R159*ozton*AppQt.Data!R$7)/1000000),\"-\")","v":2.2659193643848479},{"$f":"IFERROR(IF($B$2=\"トン\",AppQt.Data!S159,(AppQt.Data!S159*ozton*AppQt.Data!S$7)/1000000),\"-\")","v":1.6739858603231963},{"$f":"IFERROR(IF($B$2=\"トン\",AppQt.Data!T159,(AppQt.Data!T159*ozton*AppQt.Data!T$7)/1000000),\"-\")","v":2.3619241797664356},{"$f":"IFERROR(IF($B$2=\"トン\",AppQt.Data!U159,(AppQt.Data!U159*ozton*AppQt.Data!U$7)/1000000),\"-\")","v":1.8105107474736559},{"$f":"IFERROR(IF($B$2=\"トン\",AppQt.Data!V159,(AppQt.Data!V159*ozton*AppQt.Data!V$7)/1000000),\"-\")","v":2.3012973610735834},{"$f":"IFERROR(IF($B$2=\"トン\",AppQt.Data!W159,(AppQt.Data!W159*ozton*AppQt.Data!W$7)/1000000),\"-\")","v":1.7338845938575167},{"$f":"IFERROR(IF($B$2=\"トン\",AppQt.Data!X159,(AppQt.Data!X159*ozton*AppQt.Data!X$7)/1000000),\"-\")","v":2.5329436532828971},{"$f":"IFERROR(IF($B$2=\"トン\",AppQt.Data!Y159,(AppQt.Data!Y159*ozton*AppQt.Data!Y$7)/1000000),\"-\")","v":1.5520026779597229},{"$f":"IFERROR(IF($B$2=\"トン\",AppQt.Data!Z159,(AppQt.Data!Z159*ozton*AppQt.Data!Z$7)/1000000),\"-\")","v":1.8751986063796322},{"$f":"IFERROR(IF($B$2=\"トン\",AppQt.Data!AA159,(AppQt.Data!AA159*ozton*AppQt.Data!AA$7)/1000000),\"-\")","v":2.0114049664369196},{"$f":"IFERROR(IF($B$2=\"トン\",AppQt.Data!AB159,(AppQt.Data!AB159*ozton*AppQt.Data!AB$7)/1000000),\"-\")","v":2.3334706119734894},{"$f":"IFERROR(IF($B$2=\"トン\",AppQt.Data!AC159,(AppQt.Data!AC159*ozton*AppQt.Data!AC$7)/1000000),\"-\")","v":1.7555847500504751},{"$f":"IFERROR(IF($B$2=\"トン\",AppQt.Data!AD159,(AppQt.Data!AD159*ozton*AppQt.Data!AD$7)/1000000),\"-\")","v":2.175067750143945},{"$f":"IFERROR(IF($B$2=\"トン\",AppQt.Data!AE159,(AppQt.Data!AE159*ozton*AppQt.Data!AE$7)/1000000),\"-\")","v":1.8541870827348239},{"$f":"IFERROR(IF($B$2=\"トン\",AppQt.Data!AF159,(AppQt.Data!AF159*ozton*AppQt.Data!AF$7)/1000000),\"-\")","v":2.5224196474099707},{"$f":"IFERROR(IF($B$2=\"トン\",AppQt.Data!AG159,(AppQt.Data!AG159*ozton*AppQt.Data!AG$7)/1000000),\"-\")","v":1.7447138123488874},{"$f":"IFERROR(IF($B$2=\"トン\",AppQt.Data!AH159,(AppQt.Data!AH159*ozton*AppQt.Data!AH$7)/1000000),\"-\")","v":2.0690891085570624},{"$f":"IFERROR(IF($B$2=\"トン\",AppQt.Data!AI159,(AppQt.Data!AI159*ozton*AppQt.Data!AI$7)/1000000),\"-\")","v":2.0321162443184386},{"$f":"IFERROR(IF($B$2=\"トン\",AppQt.Data!AJ159,(AppQt.Data!AJ159*ozton*AppQt.Data!AJ$7)/1000000),\"-\")","v":2.6456920362180978},{"$f":"IFERROR(IF($B$2=\"トン\",AppQt.Data!AK159,(AppQt.Data!AK159*ozton*AppQt.Data!AK$7)/1000000),\"-\")","v":1.7265888805341267},{"$f":"IFERROR(IF($B$2=\"トン\",AppQt.Data!AL159,(AppQt.Data!AL159*ozton*AppQt.Data!AL$7)/1000000),\"-\")","v":2.0599714368889823},{"$f":"IFERROR(IF($B$2=\"トン\",AppQt.Data!AM159,(AppQt.Data!AM159*ozton*AppQt.Data!AM$7)/1000000),\"-\")","v":1.8884212705207328},{"$f":"IFERROR(IF($B$2=\"トン\",AppQt.Data!AN159,(AppQt.Data!AN159*ozton*AppQt.Data!AN$7)/1000000),\"-\")","v":2.586316374172807},{"$f":"IFERROR(IF($B$2=\"トン\",AppQt.Data!AO159,(AppQt.Data!AO159*ozton*AppQt.Data!AO$7)/1000000),\"-\")","v":1.7476713739399079},{"$f":"IFERROR(IF($B$2=\"トン\",AppQt.Data!AP159,(AppQt.Data!AP159*ozton*AppQt.Data!AP$7)/1000000),\"-\")","v":2.088426033614267},{"$f":"IFERROR(IF($B$2=\"トン\",AppQt.Data!AQ159,(AppQt.Data!AQ159*ozton*AppQt.Data!AQ$7)/1000000),\"-\")","v":1.9068417884619502},{"$f":"IFERROR(IF($B$2=\"トン\",AppQt.Data!AR159,(AppQt.Data!AR159*ozton*AppQt.Data!AR$7)/1000000),\"-\")","v":2.6434414799418926},{"$f":"IFERROR(IF($B$2=\"トン\",AppQt.Data!AS159,(AppQt.Data!AS159*ozton*AppQt.Data!AS$7)/1000000),\"-\")","v":1.807060819437585},{"$f":"IFERROR(IF($B$2=\"トン\",AppQt.Data!AT159,(AppQt.Data!AT159*ozton*AppQt.Data!AT$7)/1000000),\"-\")","v":2.1823724999040639},{"$f":"IFERROR(IF($B$2=\"トン\",AppQt.Data!AU159,(AppQt.Data!AU159*ozton*AppQt.Data!AU$7)/1000000),\"-\")","v":1.9831650958800837},{"$f":"IFERROR(IF($B$2=\"トン\",AppQt.Data!AV159,(AppQt.Data!AV159*ozton*AppQt.Data!AV$7)/1000000),\"-\")","v":2.7156340479950472},{"$f":"IFERROR(IF($B$2=\"トン\",AppQt.Data!AW159,(AppQt.Data!AW159*ozton*AppQt.Data!AW$7)/1000000),\"-\")","v":1.8449958119434569},{"$f":"IFERROR(IF($B$2=\"トン\",AppQt.Data!AX159,(AppQt.Data!AX159*ozton*AppQt.Data!AX$7)/1000000),\"-\")","v":2.2279831146804452},{"$f":"IFERROR(IF($B$2=\"トン\",AppQt.Data!AY159,(AppQt.Data!AY159*ozton*AppQt.Data!AY$7)/1000000),\"-\")","v":2.0205453617331877},{"$f":"IFERROR(IF($B$2=\"トン\",AppQt.Data!AZ159,(AppQt.Data!AZ159*ozton*AppQt.Data!AZ$7)/1000000),\"-\")","v":2.755468558714973},{"$f":"IFERROR(IF($B$2=\"トン\",AppQt.Data!BA159,(AppQt.Data!BA159*ozton*AppQt.Data!BA$7)/1000000),\"-\")","v":1.7193162472671137},{"$f":"IFERROR(IF($B$2=\"トン\",AppQt.Data!BB159,(AppQt.Data!BB159*ozton*AppQt.Data!BB$7)/1000000),\"-\")","v":1.5719659535410746},{"$f":"IFERROR(IF($B$2=\"トン\",AppQt.Data!BC159,(AppQt.Data!BC159*ozton*AppQt.Data!BC$7)/1000000),\"-\")","v":1.5010821958154554},{"$f":"IFERROR(IF($B$2=\"トン\",AppQt.Data!BD159,(AppQt.Data!BD159*ozton*AppQt.Data!BD$7)/1000000),\"-\")","v":2.1040863947199782},{"$f":"IFERROR(IF($B$2=\"トン\",AppQt.Data!BE159,(AppQt.Data!BE159*ozton*AppQt.Data!BE$7)/1000000),\"-\")","v":1.5949574876926018},{"$f":"IFERROR(IF($B$2=\"トン\",AppQt.Data!BF159,(AppQt.Data!BF159*ozton*AppQt.Data!BF$7)/1000000),\"-\")","v":1.9021506663341916},{"$f":"IFERROR(IF($B$2=\"トン\",AppQt.Data!BG159,(AppQt.Data!BG159*ozton*AppQt.Data!BG$7)/1000000),\"-\")","v":1.7928671177909401},{"$f":"IFERROR(IF($B$2=\"トン\",AppQt.Data!BH159,(AppQt.Data!BH159*ozton*AppQt.Data!BH$7)/1000000),\"-\")","v":2.4648718509794909},{"$f":"IFERROR(IF($B$2=\"トン\",AppQt.Data!BI159,(AppQt.Data!BI159*ozton*AppQt.Data!BI$7)/1000000),\"-\")","v":1.7038853309283053},{"$f":"IFERROR(IF($B$2=\"トン\",AppQt.Data!BJ159,(AppQt.Data!BJ159*ozton*AppQt.Data!BJ$7)/1000000),\"-\")","v":1.987076551594757},{"$f":"IFERROR(IF($B$2=\"トン\",AppQt.Data!BK159,(AppQt.Data!BK159*ozton*AppQt.Data!BK$7)/1000000),\"-\")","v":1.8500092487428466},{"$f":"IFERROR(IF($B$2=\"トン\",AppQt.Data!BL159,(AppQt.Data!BL159*ozton*AppQt.Data!BL$7)/1000000),\"-\")","v":2.5359921506457614},"▲",2.8853548568055887]
[null,"英国",{"$f":"IFERROR(IF($B$2=\"トン\",AppAn.Data!L150,(AppAn.Data!L150*ozton*AppAn.Data!L$6)/1000000),\"-\")","v":40.825102387131068},{"$f":"IFERROR(IF($B$2=\"トン\",AppAn.Data!M150,(AppAn.Data!M150*ozton*AppAn.Data!M$6)/1000000),\"-\")","v":38.789229639306086},{"$f":"IFERROR(IF($B$2=\"トン\",AppAn.Data!N150,(AppAn.Data!N150*ozton*AppAn.Data!N$6)/1000000),\"-\")","v":34.997902984161811},{"$f":"IFERROR(IF($B$2=\"トン\",AppAn.Data!O150,(AppAn.Data!O150*ozton*AppAn.Data!O$6)/1000000),\"-\")","v":32.659971593632264},{"$f":"IFERROR(IF($B$2=\"トン\",AppAn.Data!P150,(AppAn.Data!P150*ozton*AppAn.Data!P$6)/1000000),\"-\")","v":33.322527211048794},{"$f":"IFERROR(IF($B$2=\"トン\",AppAn.Data!Q150,(AppAn.Data!Q150*ozton*AppAn.Data!Q$6)/1000000),\"-\")","v":34.381235278729285},{"$f":"IFERROR(IF($B$2=\"トン\",AppAn.Data!R150,(AppAn.Data!R150*ozton*AppAn.Data!R$6)/1000000),\"-\")","v":37.129927148131159},{"$f":"IFERROR(IF($B$2=\"トン\",AppAn.Data!S150,(AppAn.Data!S150*ozton*AppAn.Data!S$6)/1000000),\"-\")","v":33.551039087834639},{"$f":"IFERROR(IF($B$2=\"トン\",AppAn.Data!T150,(AppAn.Data!T150*ozton*AppAn.Data!T$6)/1000000),\"-\")","v":34.626350385371921},{"$f":"IFERROR(IF($B$2=\"トン\",AppAn.Data!U150,(AppAn.Data!U150*ozton*AppAn.Data!U$6)/1000000),\"-\")","v":32.229166968538337},{"$f":"IFERROR(IF($B$2=\"トン\",AppAn.Data!V150,(AppAn.Data!V150*ozton*AppAn.Data!V$6)/1000000),\"-\")","v":29.602947396276448},{"$f":"IFERROR(IF($B$2=\"トン\",AppAn.Data!W150,(AppAn.Data!W150*ozton*AppAn.Data!W$6)/1000000),\"-\")","v":34.759018125500376},{"$f":"IFERROR(IF($B$2=\"トン\",AppAn.Data!X150,(AppAn.Data!X150*ozton*AppAn.Data!X$6)/1000000),\"-\")","v":35.609380975656762},"▲",2.4464524489330453,null,{"$f":"IFERROR(IF($B$2=\"トン\",AppQt.Data!M160,(AppQt.Data!M160*ozton*AppQt.Data!M$7)/1000000),\"-\")","v":6.7914736609609436},{"$f":"IFERROR(IF($B$2=\"トン\",AppQt.Data!N160,(AppQt.Data!N160*ozton*AppQt.Data!N$7)/1000000),\"-\")","v":10.788352262747361},{"$f":"IFERROR(IF($B$2=\"トン\",AppQt.Data!O160,(AppQt.Data!O160*ozton*AppQt.Data!O$7)/1000000),\"-\")","v":6.4991920229756204},{"$f":"IFERROR(IF($B$2=\"トン\",AppQt.Data!P160,(AppQt.Data!P160*ozton*AppQt.Data!P$7)/1000000),\"-\")","v":16.746084440447145},{"$f":"IFERROR(IF($B$2=\"トン\",AppQt.Data!Q160,(AppQt.Data!Q160*ozton*AppQt.Data!Q$7)/1000000),\"-\")","v":6.9193469938453527},{"$f":"IFERROR(IF($B$2=\"トン\",AppQt.Data!R160,(AppQt.Data!R160*ozton*AppQt.Data!R$7)/1000000),\"-\")","v":8.5112511363862726},{"$f":"IFERROR(IF($B$2=\"トン\",AppQt.Data!S160,(AppQt.Data!S160*ozton*AppQt.Data!S$7)/1000000),\"-\")","v":9.4598892175648039},{"$f":"IFERROR(IF($B$2=\"トン\",AppQt.Data!T160,(AppQt.Data!T160*ozton*AppQt.Data!T$7)/1000000),\"-\")","v":13.898742291509656},{"$f":"IFERROR(IF($B$2=\"トン\",AppQt.Data!U160,(AppQt.Data!U160*ozton*AppQt.Data!U$7)/1000000),\"-\")","v":6.9585691102010507},{"$f":"IFERROR(IF($B$2=\"トン\",AppQt.Data!V160,(AppQt.Data!V160*ozton*AppQt.Data!V$7)/1000000),\"-\")","v":9.2541188412052158},{"$f":"IFERROR(IF($B$2=\"トン\",AppQt.Data!W160,(AppQt.Data!W160*ozton*AppQt.Data!W$7)/1000000),\"-\")","v":5.4790935226381059},{"$f":"IFERROR(IF($B$2=\"トン\",AppQt.Data!X160,(AppQt.Data!X160*ozton*AppQt.Data!X$7)/1000000),\"-\")","v":13.306121510117439},{"$f":"IFERROR(IF($B$2=\"トン\",AppQt.Data!Y160,(AppQt.Data!Y160*ozton*AppQt.Data!Y$7)/1000000),\"-\")","v":5.921507805918619},{"$f":"IFERROR(IF($B$2=\"トン\",AppQt.Data!Z160,(AppQt.Data!Z160*ozton*AppQt.Data!Z$7)/1000000),\"-\")","v":6.3891097449294234},{"$f":"IFERROR(IF($B$2=\"トン\",AppQt.Data!AA160,(AppQt.Data!AA160*ozton*AppQt.Data!AA$7)/1000000),\"-\")","v":6.3883126998872566},{"$f":"IFERROR(IF($B$2=\"トン\",AppQt.Data!AB160,(AppQt.Data!AB160*ozton*AppQt.Data!AB$7)/1000000),\"-\")","v":13.961041342896962},{"$f":"IFERROR(IF($B$2=\"トン\",AppQt.Data!AC160,(AppQt.Data!AC160*ozton*AppQt.Data!AC$7)/1000000),\"-\")","v":6.359676904940299},{"$f":"IFERROR(IF($B$2=\"トン\",AppQt.Data!AD160,(AppQt.Data!AD160*ozton*AppQt.Data!AD$7)/1000000),\"-\")","v":5.6351608234426118},{"$f":"IFERROR(IF($B$2=\"トン\",AppQt.Data!AE160,(AppQt.Data!AE160*ozton*AppQt.Data!AE$7)/1000000),\"-\")","v":6.4431852330381574},{"$f":"IFERROR(IF($B$2=\"トン\",AppQt.Data!AF160,(AppQt.Data!AF160*ozton*AppQt.Data!AF$7)/1000000),\"-\")","v":14.884504249627728},{"$f":"IFERROR(IF($B$2=\"トン\",AppQt.Data!AG160,(AppQt.Data!AG160*ozton*AppQt.Data!AG$7)/1000000),\"-\")","v":5.8862797391959472},{"$f":"IFERROR(IF($B$2=\"トン\",AppQt.Data!AH160,(AppQt.Data!AH160*ozton*AppQt.Data!AH$7)/1000000),\"-\")","v":6.1014235244534074},{"$f":"IFERROR(IF($B$2=\"トン\",AppQt.Data!AI160,(AppQt.Data!AI160*ozton*AppQt.Data!AI$7)/1000000),\"-\")","v":7.484304851565156},{"$f":"IFERROR(IF($B$2=\"トン\",AppQt.Data!AJ160,(AppQt.Data!AJ160*ozton*AppQt.Data!AJ$7)/1000000),\"-\")","v":14.909227163514778},{"$f":"IFERROR(IF($B$2=\"トン\",AppQt.Data!AK160,(AppQt.Data!AK160*ozton*AppQt.Data!AK$7)/1000000),\"-\")","v":7.0505577745451991},{"$f":"IFERROR(IF($B$2=\"トン\",AppQt.Data!AL160,(AppQt.Data!AL160*ozton*AppQt.Data!AL$7)/1000000),\"-\")","v":7.3273878612184049},{"$f":"IFERROR(IF($B$2=\"トン\",AppQt.Data!AM160,(AppQt.Data!AM160*ozton*AppQt.Data!AM$7)/1000000),\"-\")","v":7.4256070671091017},{"$f":"IFERROR(IF($B$2=\"トン\",AppQt.Data!AN160,(AppQt.Data!AN160*ozton*AppQt.Data!AN$7)/1000000),\"-\")","v":15.326374445258455},{"$f":"IFERROR(IF($B$2=\"トン\",AppQt.Data!AO160,(AppQt.Data!AO160*ozton*AppQt.Data!AO$7)/1000000),\"-\")","v":7.0846951992354334},{"$f":"IFERROR(IF($B$2=\"トン\",AppQt.Data!AP160,(AppQt.Data!AP160*ozton*AppQt.Data!AP$7)/1000000),\"-\")","v":5.9416908348842252},{"$f":"IFERROR(IF($B$2=\"トン\",AppQt.Data!AQ160,(AppQt.Data!AQ160*ozton*AppQt.Data!AQ$7)/1000000),\"-\")","v":7.1694494250738314},{"$f":"IFERROR(IF($B$2=\"トン\",AppQt.Data!AR160,(AppQt.Data!AR160*ozton*AppQt.Data!AR$7)/1000000),\"-\")","v":13.355203628641148},{"$f":"IFERROR(IF($B$2=\"トン\",AppQt.Data!AS160,(AppQt.Data!AS160*ozton*AppQt.Data!AS$7)/1000000),\"-\")","v":6.0317705513091386},{"$f":"IFERROR(IF($B$2=\"トン\",AppQt.Data!AT160,(AppQt.Data!AT160*ozton*AppQt.Data!AT$7)/1000000),\"-\")","v":6.6244600157272835},{"$f":"IFERROR(IF($B$2=\"トン\",AppQt.Data!AU160,(AppQt.Data!AU160*ozton*AppQt.Data!AU$7)/1000000),\"-\")","v":8.3613934690968854},{"$f":"IFERROR(IF($B$2=\"トン\",AppQt.Data!AV160,(AppQt.Data!AV160*ozton*AppQt.Data!AV$7)/1000000),\"-\")","v":13.60872634923861},{"$f":"IFERROR(IF($B$2=\"トン\",AppQt.Data!AW160,(AppQt.Data!AW160*ozton*AppQt.Data!AW$7)/1000000),\"-\")","v":7.457523272171021},{"$f":"IFERROR(IF($B$2=\"トン\",AppQt.Data!AX160,(AppQt.Data!AX160*ozton*AppQt.Data!AX$7)/1000000),\"-\")","v":5.9457440847084619},{"$f":"IFERROR(IF($B$2=\"トン\",AppQt.Data!AY160,(AppQt.Data!AY160*ozton*AppQt.Data!AY$7)/1000000),\"-\")","v":6.808531076226263},{"$f":"IFERROR(IF($B$2=\"トン\",AppQt.Data!AZ160,(AppQt.Data!AZ160*ozton*AppQt.Data!AZ$7)/1000000),\"-\")","v":12.017368535432592},{"$f":"IFERROR(IF($B$2=\"トン\",AppQt.Data!BA160,(AppQt.Data!BA160*ozton*AppQt.Data!BA$7)/1000000),\"-\")","v":6.8022661805488962},{"$f":"IFERROR(IF($B$2=\"トン\",AppQt.Data!BB160,(AppQt.Data!BB160*ozton*AppQt.Data!BB$7)/1000000),\"-\")","v":5.803592330347942},{"$f":"IFERROR(IF($B$2=\"トン\",AppQt.Data!BC160,(AppQt.Data!BC160*ozton*AppQt.Data!BC$7)/1000000),\"-\")","v":6.427373865701524},{"$f":"IFERROR(IF($B$2=\"トン\",AppQt.Data!BD160,(AppQt.Data!BD160*ozton*AppQt.Data!BD$7)/1000000),\"-\")","v":10.569715019678089},{"$f":"IFERROR(IF($B$2=\"トン\",AppQt.Data!BE160,(AppQt.Data!BE160*ozton*AppQt.Data!BE$7)/1000000),\"-\")","v":5.9962690052049004},{"$f":"IFERROR(IF($B$2=\"トン\",AppQt.Data!BF160,(AppQt.Data!BF160*ozton*AppQt.Data!BF$7)/1000000),\"-\")","v":7.5635041724056533},{"$f":"IFERROR(IF($B$2=\"トン\",AppQt.Data!BG160,(AppQt.Data!BG160*ozton*AppQt.Data!BG$7)/1000000),\"-\")","v":8.3429966788719927},{"$f":"IFERROR(IF($B$2=\"トン\",AppQt.Data!BH160,(AppQt.Data!BH160*ozton*AppQt.Data!BH$7)/1000000),\"-\")","v":12.856248269017829},{"$f":"IFERROR(IF($B$2=\"トン\",AppQt.Data!BI160,(AppQt.Data!BI160*ozton*AppQt.Data!BI$7)/1000000),\"-\")","v":7.0544653362989553},{"$f":"IFERROR(IF($B$2=\"トン\",AppQt.Data!BJ160,(AppQt.Data!BJ160*ozton*AppQt.Data!BJ$7)/1000000),\"-\")","v":8.1478537881157731},{"$f":"IFERROR(IF($B$2=\"トン\",AppQt.Data!BK160,(AppQt.Data!BK160*ozton*AppQt.Data!BK$7)/1000000),\"-\")","v":8.6091498597800893},{"$f":"IFERROR(IF($B$2=\"トン\",AppQt.Data!BL160,(AppQt.Data!BL160*ozton*AppQt.Data!BL$7)/1000000),\"-\")","v":11.797911991461948},"▼",-8.2320771613158534]
[null,"スイス",{"$f":"IFERROR(IF($B$2=\"トン\",AppAn.Data!L151,(AppAn.Data!L151*ozton*AppAn.Data!L$6)/1000000),\"-\")","v":86.88024417475728},{"$f":"IFERROR(IF($B$2=\"トン\",AppAn.Data!M151,(AppAn.Data!M151*ozton*AppAn.Data!M$6)/1000000),\"-\")","v":96.756150637949958},{"$f":"IFERROR(IF($B$2=\"トン\",AppAn.Data!N151,(AppAn.Data!N151*ozton*AppAn.Data!N$6)/1000000),\"-\")","v":62.192186448371622},{"$f":"IFERROR(IF($B$2=\"トン\",AppAn.Data!O151,(AppAn.Data!O151*ozton*AppAn.Data!O$6)/1000000),\"-\")","v":61.736001026527774},{"$f":"IFERROR(IF($B$2=\"トン\",AppAn.Data!P151,(AppAn.Data!P151*ozton*AppAn.Data!P$6)/1000000),\"-\")","v":47.727366666666668},{"$f":"IFERROR(IF($B$2=\"トン\",AppAn.Data!Q151,(AppAn.Data!Q151*ozton*AppAn.Data!Q$6)/1000000),\"-\")","v":50.347677777777776},{"$f":"IFERROR(IF($B$2=\"トン\",AppAn.Data!R151,(AppAn.Data!R151*ozton*AppAn.Data!R$6)/1000000),\"-\")","v":45.620800000000003},{"$f":"IFERROR(IF($B$2=\"トン\",AppAn.Data!S151,(AppAn.Data!S151*ozton*AppAn.Data!S$6)/1000000),\"-\")","v":42.48},{"$f":"IFERROR(IF($B$2=\"トン\",AppAn.Data!T151,(AppAn.Data!T151*ozton*AppAn.Data!T$6)/1000000),\"-\")","v":36.550000000000004},{"$f":"IFERROR(IF($B$2=\"トン\",AppAn.Data!U151,(AppAn.Data!U151*ozton*AppAn.Data!U$6)/1000000),\"-\")","v":29.82},{"$f":"IFERROR(IF($B$2=\"トン\",AppAn.Data!V151,(AppAn.Data!V151*ozton*AppAn.Data!V$6)/1000000),\"-\")","v":42.9},{"$f":"IFERROR(IF($B$2=\"トン\",AppAn.Data!W151,(AppAn.Data!W151*ozton*AppAn.Data!W$6)/1000000),\"-\")","v":43.8},{"$f":"IFERROR(IF($B$2=\"トン\",AppAn.Data!X151,(AppAn.Data!X151*ozton*AppAn.Data!X$6)/1000000),\"-\")","v":48.725000000000001},"▲",11.244292237442943,null,{"$f":"IFERROR(IF($B$2=\"トン\",AppQt.Data!M161,(AppQt.Data!M161*ozton*AppQt.Data!M$7)/1000000),\"-\")","v":13.661360841423948},{"$f":"IFERROR(IF($B$2=\"トン\",AppQt.Data!N161,(AppQt.Data!N161*ozton*AppQt.Data!N$7)/1000000),\"-\")","v":33.972940291262141},{"$f":"IFERROR(IF($B$2=\"トン\",AppQt.Data!O161,(AppQt.Data!O161*ozton*AppQt.Data!O$7)/1000000),\"-\")","v":15.580899029126215},{"$f":"IFERROR(IF($B$2=\"トン\",AppQt.Data!P161,(AppQt.Data!P161*ozton*AppQt.Data!P$7)/1000000),\"-\")","v":23.665044012944982},{"$f":"IFERROR(IF($B$2=\"トン\",AppQt.Data!Q161,(AppQt.Data!Q161*ozton*AppQt.Data!Q$7)/1000000),\"-\")","v":24.597273753684618},{"$f":"IFERROR(IF($B$2=\"トン\",AppQt.Data!R161,(AppQt.Data!R161*ozton*AppQt.Data!R$7)/1000000),\"-\")","v":17.407180432256816},{"$f":"IFERROR(IF($B$2=\"トン\",AppQt.Data!S161,(AppQt.Data!S161*ozton*AppQt.Data!S$7)/1000000),\"-\")","v":30.273841426942354},{"$f":"IFERROR(IF($B$2=\"トン\",AppQt.Data!T161,(AppQt.Data!T161*ozton*AppQt.Data!T$7)/1000000),\"-\")","v":24.477855025066162},{"$f":"IFERROR(IF($B$2=\"トン\",AppQt.Data!U161,(AppQt.Data!U161*ozton*AppQt.Data!U$7)/1000000),\"-\")","v":21.424346328748893},{"$f":"IFERROR(IF($B$2=\"トン\",AppQt.Data!V161,(AppQt.Data!V161*ozton*AppQt.Data!V$7)/1000000),\"-\")","v":13.501880627855009},{"$f":"IFERROR(IF($B$2=\"トン\",AppQt.Data!W161,(AppQt.Data!W161*ozton*AppQt.Data!W$7)/1000000),\"-\")","v":13.197918798678892},{"$f":"IFERROR(IF($B$2=\"トン\",AppQt.Data!X161,(AppQt.Data!X161*ozton*AppQt.Data!X$7)/1000000),\"-\")","v":14.068040693088832},{"$f":"IFERROR(IF($B$2=\"トン\",AppQt.Data!Y161,(AppQt.Data!Y161*ozton*AppQt.Data!Y$7)/1000000),\"-\")","v":11.635592022499999},{"$f":"IFERROR(IF($B$2=\"トン\",AppQt.Data!Z161,(AppQt.Data!Z161*ozton*AppQt.Data!Z$7)/1000000),\"-\")","v":19.521125793611109},{"$f":"IFERROR(IF($B$2=\"トン\",AppQt.Data!AA161,(AppQt.Data!AA161*ozton*AppQt.Data!AA$7)/1000000),\"-\")","v":12.450136177083332},{"$f":"IFERROR(IF($B$2=\"トン\",AppQt.Data!AB161,(AppQt.Data!AB161*ozton*AppQt.Data!AB$7)/1000000),\"-\")","v":18.129147033333332},{"$f":"IFERROR(IF($B$2=\"トン\",AppQt.Data!AC161,(AppQt.Data!AC161*ozton*AppQt.Data!AC$7)/1000000),\"-\")","v":12.488649999999998},{"$f":"IFERROR(IF($B$2=\"トン\",AppQt.Data!AD161,(AppQt.Data!AD161*ozton*AppQt.Data!AD$7)/1000000),\"-\")","v":9.7897777777777772},{"$f":"IFERROR(IF($B$2=\"トン\",AppQt.Data!AE161,(AppQt.Data!AE161*ozton*AppQt.Data!AE$7)/1000000),\"-\")","v":10.447605555555555},{"$f":"IFERROR(IF($B$2=\"トン\",AppQt.Data!AF161,(AppQt.Data!AF161*ozton*AppQt.Data!AF$7)/1000000),\"-\")","v":15.001333333333331},{"$f":"IFERROR(IF($B$2=\"トン\",AppQt.Data!AG161,(AppQt.Data!AG161*ozton*AppQt.Data!AG$7)/1000000),\"-\")","v":13.8409},{"$f":"IFERROR(IF($B$2=\"トン\",AppQt.Data!AH161,(AppQt.Data!AH161*ozton*AppQt.Data!AH$7)/1000000),\"-\")","v":10.986055555555556},{"$f":"IFERROR(IF($B$2=\"トン\",AppQt.Data!AI161,(AppQt.Data!AI161*ozton*AppQt.Data!AI$7)/1000000),\"-\")","v":13.620722222222222},{"$f":"IFERROR(IF($B$2=\"トン\",AppQt.Data!AJ161,(AppQt.Data!AJ161*ozton*AppQt.Data!AJ$7)/1000000),\"-\")","v":11.9},{"$f":"IFERROR(IF($B$2=\"トン\",AppQt.Data!AK161,(AppQt.Data!AK161*ozton*AppQt.Data!AK$7)/1000000),\"-\")","v":11.68},{"$f":"IFERROR(IF($B$2=\"トン\",AppQt.Data!AL161,(AppQt.Data!AL161*ozton*AppQt.Data!AL$7)/1000000),\"-\")","v":10.7},{"$f":"IFERROR(IF($B$2=\"トン\",AppQt.Data!AM161,(AppQt.Data!AM161*ozton*AppQt.Data!AM$7)/1000000),\"-\")","v":8.3000000000000007},{"$f":"IFERROR(IF($B$2=\"トン\",AppQt.Data!AN161,(AppQt.Data!AN161*ozton*AppQt.Data!AN$7)/1000000),\"-\")","v":14.940799999999999},{"$f":"IFERROR(IF($B$2=\"トン\",AppQt.Data!AO161,(AppQt.Data!AO161*ozton*AppQt.Data!AO$7)/1000000),\"-\")","v":13.4},{"$f":"IFERROR(IF($B$2=\"トン\",AppQt.Data!AP161,(AppQt.Data!AP161*ozton*AppQt.Data!AP$7)/1000000),\"-\")","v":9},{"$f":"IFERROR(IF($B$2=\"トン\",AppQt.Data!AQ161,(AppQt.Data!AQ161*ozton*AppQt.Data!AQ$7)/1000000),\"-\")","v":10.45},{"$f":"IFERROR(IF($B$2=\"トン\",AppQt.Data!AR161,(AppQt.Data!AR161*ozton*AppQt.Data!AR$7)/1000000),\"-\")","v":9.6300000000000008},{"$f":"IFERROR(IF($B$2=\"トン\",AppQt.Data!AS161,(AppQt.Data!AS161*ozton*AppQt.Data!AS$7)/1000000),\"-\")","v":8.23},{"$f":"IFERROR(IF($B$2=\"トン\",AppQt.Data!AT161,(AppQt.Data!AT161*ozton*AppQt.Data!AT$7)/1000000),\"-\")","v":7.05},{"$f":"IFERROR(IF($B$2=\"トン\",AppQt.Data!AU161,(AppQt.Data!AU161*ozton*AppQt.Data!AU$7)/1000000),\"-\")","v":11.14},{"$f":"IFERROR(IF($B$2=\"トン\",AppQt.Data!AV161,(AppQt.Data!AV161*ozton*AppQt.Data!AV$7)/1000000),\"-\")","v":10.130000000000001},{"$f":"IFERROR(IF($B$2=\"トン\",AppQt.Data!AW161,(AppQt.Data!AW161*ozton*AppQt.Data!AW$7)/1000000),\"-\")","v":8.91},{"$f":"IFERROR(IF($B$2=\"トン\",AppQt.Data!AX161,(AppQt.Data!AX161*ozton*AppQt.Data!AX$7)/1000000),\"-\")","v":6.74},{"$f":"IFERROR(IF($B$2=\"トン\",AppQt.Data!AY161,(AppQt.Data!AY161*ozton*AppQt.Data!AY$7)/1000000),\"-\")","v":6.4850000000000003},{"$f":"IFERROR(IF($B$2=\"トン\",AppQt.Data!AZ161,(AppQt.Data!AZ161*ozton*AppQt.Data!AZ$7)/1000000),\"-\")","v":7.6850000000000005},{"$f":"IFERROR(IF($B$2=\"トン\",AppQt.Data!BA161,(AppQt.Data!BA161*ozton*AppQt.Data!BA$7)/1000000),\"-\")","v":14},{"$f":"IFERROR(IF($B$2=\"トン\",AppQt.Data!BB161,(AppQt.Data!BB161*ozton*AppQt.Data!BB$7)/1000000),\"-\")","v":11.8},{"$f":"IFERROR(IF($B$2=\"トン\",AppQt.Data!BC161,(AppQt.Data!BC161*ozton*AppQt.Data!BC$7)/1000000),\"-\")","v":7.5},{"$f":"IFERROR(IF($B$2=\"トン\",AppQt.Data!BD161,(AppQt.Data!BD161*ozton*AppQt.Data!BD$7)/1000000),\"-\")","v":9.6},{"$f":"IFERROR(IF($B$2=\"トン\",AppQt.Data!BE161,(AppQt.Data!BE161*ozton*AppQt.Data!BE$7)/1000000),\"-\")","v":13},{"$f":"IFERROR(IF($B$2=\"トン\",AppQt.Data!BF161,(AppQt.Data!BF161*ozton*AppQt.Data!BF$7)/1000000),\"-\")","v":12},{"$f":"IFERROR(IF($B$2=\"トン\",AppQt.Data!BG161,(AppQt.Data!BG161*ozton*AppQt.Data!BG$7)/1000000),\"-\")","v":9.1},{"$f":"IFERROR(IF($B$2=\"トン\",AppQt.Data!BH161,(AppQt.Data!BH161*ozton*AppQt.Data!BH$7)/1000000),\"-\")","v":9.6999999999999993},{"$f":"IFERROR(IF($B$2=\"トン\",AppQt.Data!BI161,(AppQt.Data!BI161*ozton*AppQt.Data!BI$7)/1000000),\"-\")","v":13.5},{"$f":"IFERROR(IF($B$2=\"トン\",AppQt.Data!BJ161,(AppQt.Data!BJ161*ozton*AppQt.Data!BJ$7)/1000000),\"-\")","v":11.600000000000001},{"$f":"IFERROR(IF($B$2=\"トン\",AppQt.Data!BK161,(AppQt.Data!BK161*ozton*AppQt.Data!BK$7)/1000000),\"-\")","v":11},{"$f":"IFERROR(IF($B$2=\"トン\",AppQt.Data!BL161,(AppQt.Data!BL161*ozton*AppQt.Data!BL$7)/1000000),\"-\")","v":12.625},"▲",30.154639175257735]
[null,"オーストリア",{"$f":"IFERROR(IF($B$2=\"トン\",AppAn.Data!L152,(AppAn.Data!L152*ozton*AppAn.Data!L$6)/1000000),\"-\")","v":13.737271684931248},{"$f":"IFERROR(IF($B$2=\"トン\",AppAn.Data!M152,(AppAn.Data!M152*ozton*AppAn.Data!M$6)/1000000),\"-\")","v":15.099401812444784},{"$f":"IFERROR(IF($B$2=\"トン\",AppAn.Data!N152,(AppAn.Data!N152*ozton*AppAn.Data!N$6)/1000000),\"-\")","v":10.416386255550757},{"$f":"IFERROR(IF($B$2=\"トン\",AppAn.Data!O152,(AppAn.Data!O152*ozton*AppAn.Data!O$6)/1000000),\"-\")","v":12.986976769970804},{"$f":"IFERROR(IF($B$2=\"トン\",AppAn.Data!P152,(AppAn.Data!P152*ozton*AppAn.Data!P$6)/1000000),\"-\")","v":10.231152840524683},{"$f":"IFERROR(IF($B$2=\"トン\",AppAn.Data!Q152,(AppAn.Data!Q152*ozton*AppAn.Data!Q$6)/1000000),\"-\")","v":12.200331129905001},{"$f":"IFERROR(IF($B$2=\"トン\",AppAn.Data!R152,(AppAn.Data!R152*ozton*AppAn.Data!R$6)/1000000),\"-\")","v":10.837013815435},{"$f":"IFERROR(IF($B$2=\"トン\",AppAn.Data!S152,(AppAn.Data!S152*ozton*AppAn.Data!S$6)/1000000),\"-\")","v":9.6828970717000011},{"$f":"IFERROR(IF($B$2=\"トン\",AppAn.Data!T152,(AppAn.Data!T152*ozton*AppAn.Data!T$6)/1000000),\"-\")","v":8.1812401231949998},{"$f":"IFERROR(IF($B$2=\"トン\",AppAn.Data!U152,(AppAn.Data!U152*ozton*AppAn.Data!U$6)/1000000),\"-\")","v":6.2393288379899996},{"$f":"IFERROR(IF($B$2=\"トン\",AppAn.Data!V152,(AppAn.Data!V152*ozton*AppAn.Data!V$6)/1000000),\"-\")","v":11.567192839265003},{"$f":"IFERROR(IF($B$2=\"トン\",AppAn.Data!W152,(AppAn.Data!W152*ozton*AppAn.Data!W$6)/1000000),\"-\")","v":12.245203467255001},{"$f":"IFERROR(IF($B$2=\"トン\",AppAn.Data!X152,(AppAn.Data!X152*ozton*AppAn.Data!X$6)/1000000),\"-\")","v":14.219125138759999},"▲",16.119958127143242,null,{"$f":"IFERROR(IF($B$2=\"トン\",AppQt.Data!M162,(AppQt.Data!M162*ozton*AppQt.Data!M$7)/1000000),\"-\")","v":2.3814544718774999},{"$f":"IFERROR(IF($B$2=\"トン\",AppQt.Data!N162,(AppQt.Data!N162*ozton*AppQt.Data!N$7)/1000000),\"-\")","v":6.0057268987106243},{"$f":"IFERROR(IF($B$2=\"トン\",AppQt.Data!O162,(AppQt.Data!O162*ozton*AppQt.Data!O$7)/1000000),\"-\")","v":2.5397270336018751},{"$f":"IFERROR(IF($B$2=\"トン\",AppQt.Data!P162,(AppQt.Data!P162*ozton*AppQt.Data!P$7)/1000000),\"-\")","v":2.81036328074125},{"$f":"IFERROR(IF($B$2=\"トン\",AppQt.Data!Q162,(AppQt.Data!Q162*ozton*AppQt.Data!Q$7)/1000000),\"-\")","v":2.3333286008264325},{"$f":"IFERROR(IF($B$2=\"トン\",AppQt.Data!R162,(AppQt.Data!R162*ozton*AppQt.Data!R$7)/1000000),\"-\")","v":1.7399957407437898},{"$f":"IFERROR(IF($B$2=\"トン\",AppQt.Data!S162,(AppQt.Data!S162*ozton*AppQt.Data!S$7)/1000000),\"-\")","v":6.4394259482299763},{"$f":"IFERROR(IF($B$2=\"トン\",AppQt.Data!T162,(AppQt.Data!T162*ozton*AppQt.Data!T$7)/1000000),\"-\")","v":4.5866515226445852},{"$f":"IFERROR(IF($B$2=\"トン\",AppQt.Data!U162,(AppQt.Data!U162*ozton*AppQt.Data!U$7)/1000000),\"-\")","v":1.5005490260597749},{"$f":"IFERROR(IF($B$2=\"トン\",AppQt.Data!V162,(AppQt.Data!V162*ozton*AppQt.Data!V$7)/1000000),\"-\")","v":2.5010167149255089},{"$f":"IFERROR(IF($B$2=\"トン\",AppQt.Data!W162,(AppQt.Data!W162*ozton*AppQt.Data!W$7)/1000000),\"-\")","v":3.2576129694265172},{"$f":"IFERROR(IF($B$2=\"トン\",AppQt.Data!X162,(AppQt.Data!X162*ozton*AppQt.Data!X$7)/1000000),\"-\")","v":3.1572075451389554},{"$f":"IFERROR(IF($B$2=\"トン\",AppQt.Data!Y162,(AppQt.Data!Y162*ozton*AppQt.Data!Y$7)/1000000),\"-\")","v":1.9666199864846505},{"$f":"IFERROR(IF($B$2=\"トン\",AppQt.Data!Z162,(AppQt.Data!Z162*ozton*AppQt.Data!Z$7)/1000000),\"-\")","v":4.0714811478213333},{"$f":"IFERROR(IF($B$2=\"トン\",AppQt.Data!AA162,(AppQt.Data!AA162*ozton*AppQt.Data!AA$7)/1000000),\"-\")","v":2.9313896827738839},{"$f":"IFERROR(IF($B$2=\"トン\",AppQt.Data!AB162,(AppQt.Data!AB162*ozton*AppQt.Data!AB$7)/1000000),\"-\")","v":4.0174859528909348},{"$f":"IFERROR(IF($B$2=\"トン\",AppQt.Data!AC162,(AppQt.Data!AC162*ozton*AppQt.Data!AC$7)/1000000),\"-\")","v":2.8556504023252742},{"$f":"IFERROR(IF($B$2=\"トン\",AppQt.Data!AD162,(AppQt.Data!AD162*ozton*AppQt.Data!AD$7)/1000000),\"-\")","v":1.9366831031933327},{"$f":"IFERROR(IF($B$2=\"トン\",AppQt.Data!AE162,(AppQt.Data!AE162*ozton*AppQt.Data!AE$7)/1000000),\"-\")","v":2.3242501153182551},{"$f":"IFERROR(IF($B$2=\"トン\",AppQt.Data!AF162,(AppQt.Data!AF162*ozton*AppQt.Data!AF$7)/1000000),\"-\")","v":3.1145692196878221},{"$f":"IFERROR(IF($B$2=\"トン\",AppQt.Data!AG162,(AppQt.Data!AG162*ozton*AppQt.Data!AG$7)/1000000),\"-\")","v":2.9500669322249999},{"$f":"IFERROR(IF($B$2=\"トン\",AppQt.Data!AH162,(AppQt.Data!AH162*ozton*AppQt.Data!AH$7)/1000000),\"-\")","v":2.4713552112250001},{"$f":"IFERROR(IF($B$2=\"トン\",AppQt.Data!AI162,(AppQt.Data!AI162*ozton*AppQt.Data!AI$7)/1000000),\"-\")","v":3.5291816543149999},{"$f":"IFERROR(IF($B$2=\"トン\",AppQt.Data!AJ162,(AppQt.Data!AJ162*ozton*AppQt.Data!AJ$7)/1000000),\"-\")","v":3.2497273321400009},{"$f":"IFERROR(IF($B$2=\"トン\",AppQt.Data!AK162,(AppQt.Data!AK162*ozton*AppQt.Data!AK$7)/1000000),\"-\")","v":2.9198248286499999},{"$f":"IFERROR(IF($B$2=\"トン\",AppQt.Data!AL162,(AppQt.Data!AL162*ozton*AppQt.Data!AL$7)/1000000),\"-\")","v":2.3386774427000003},{"$f":"IFERROR(IF($B$2=\"トン\",AppQt.Data!AM162,(AppQt.Data!AM162*ozton*AppQt.Data!AM$7)/1000000),\"-\")","v":1.8930666683500004},{"$f":"IFERROR(IF($B$2=\"トン\",AppQt.Data!AN162,(AppQt.Data!AN162*ozton*AppQt.Data!AN$7)/1000000),\"-\")","v":3.6854448757350005},{"$f":"IFERROR(IF($B$2=\"トン\",AppQt.Data!AO162,(AppQt.Data!AO162*ozton*AppQt.Data!AO$7)/1000000),\"-\")","v":2.9797330191000002},{"$f":"IFERROR(IF($B$2=\"トン\",AppQt.Data!AP162,(AppQt.Data!AP162*ozton*AppQt.Data!AP$7)/1000000),\"-\")","v":2.0146741102750001},{"$f":"IFERROR(IF($B$2=\"トン\",AppQt.Data!AQ162,(AppQt.Data!AQ162*ozton*AppQt.Data!AQ$7)/1000000),\"-\")","v":2.585582648375},{"$f":"IFERROR(IF($B$2=\"トン\",AppQt.Data!AR162,(AppQt.Data!AR162*ozton*AppQt.Data!AR$7)/1000000),\"-\")","v":2.1029072939500009},{"$f":"IFERROR(IF($B$2=\"トン\",AppQt.Data!AS162,(AppQt.Data!AS162*ozton*AppQt.Data!AS$7)/1000000),\"-\")","v":1.7945149677000001},{"$f":"IFERROR(IF($B$2=\"トン\",AppQt.Data!AT162,(AppQt.Data!AT162*ozton*AppQt.Data!AT$7)/1000000),\"-\")","v":1.3884758821249998},{"$f":"IFERROR(IF($B$2=\"トン\",AppQt.Data!AU162,(AppQt.Data!AU162*ozton*AppQt.Data!AU$7)/1000000),\"-\")","v":2.7618739412150002},{"$f":"IFERROR(IF($B$2=\"トン\",AppQt.Data!AV162,(AppQt.Data!AV162*ozton*AppQt.Data!AV$7)/1000000),\"-\")","v":2.2363753321549997},{"$f":"IFERROR(IF($B$2=\"トン\",AppQt.Data!AW162,(AppQt.Data!AW162*ozton*AppQt.Data!AW$7)/1000000),\"-\")","v":1.7472593751274998},{"$f":"IFERROR(IF($B$2=\"トン\",AppQt.Data!AX162,(AppQt.Data!AX162*ozton*AppQt.Data!AX$7)/1000000),\"-\")","v":1.1708960164675002},{"$f":"IFERROR(IF($B$2=\"トン\",AppQt.Data!AY162,(AppQt.Data!AY162*ozton*AppQt.Data!AY$7)/1000000),\"-\")","v":1.0536976843499999},{"$f":"IFERROR(IF($B$2=\"トン\",AppQt.Data!AZ162,(AppQt.Data!AZ162*ozton*AppQt.Data!AZ$7)/1000000),\"-\")","v":2.2674757620450001},{"$f":"IFERROR(IF($B$2=\"トン\",AppQt.Data!BA162,(AppQt.Data!BA162*ozton*AppQt.Data!BA$7)/1000000),\"-\")","v":2.7858122384150006},{"$f":"IFERROR(IF($B$2=\"トン\",AppQt.Data!BB162,(AppQt.Data!BB162*ozton*AppQt.Data!BB$7)/1000000),\"-\")","v":3.2508528174000002},{"$f":"IFERROR(IF($B$2=\"トン\",AppQt.Data!BC162,(AppQt.Data!BC162*ozton*AppQt.Data!BC$7)/1000000),\"-\")","v":2.4058208290500014},{"$f":"IFERROR(IF($B$2=\"トン\",AppQt.Data!BD162,(AppQt.Data!BD162*ozton*AppQt.Data!BD$7)/1000000),\"-\")","v":3.1247069544000001},{"$f":"IFERROR(IF($B$2=\"トン\",AppQt.Data!BE162,(AppQt.Data!BE162*ozton*AppQt.Data!BE$7)/1000000),\"-\")","v":3.166558770505},{"$f":"IFERROR(IF($B$2=\"トン\",AppQt.Data!BF162,(AppQt.Data!BF162*ozton*AppQt.Data!BF$7)/1000000),\"-\")","v":2.934395785025},{"$f":"IFERROR(IF($B$2=\"トン\",AppQt.Data!BG162,(AppQt.Data!BG162*ozton*AppQt.Data!BG$7)/1000000),\"-\")","v":2.5423694281499998},{"$f":"IFERROR(IF($B$2=\"トン\",AppQt.Data!BH162,(AppQt.Data!BH162*ozton*AppQt.Data!BH$7)/1000000),\"-\")","v":3.6018794835750012},{"$f":"IFERROR(IF($B$2=\"トン\",AppQt.Data!BI162,(AppQt.Data!BI162*ozton*AppQt.Data!BI$7)/1000000),\"-\")","v":3.7127748489799997},{"$f":"IFERROR(IF($B$2=\"トン\",AppQt.Data!BJ162,(AppQt.Data!BJ162*ozton*AppQt.Data!BJ$7)/1000000),\"-\")","v":2.9922642580800005},{"$f":"IFERROR(IF($B$2=\"トン\",AppQt.Data!BK162,(AppQt.Data!BK162*ozton*AppQt.Data!BK$7)/1000000),\"-\")","v":3.2773180787842842},{"$f":"IFERROR(IF($B$2=\"トン\",AppQt.Data!BL162,(AppQt.Data!BL162*ozton*AppQt.Data!BL$7)/1000000),\"-\")","v":4.2367679529157156},"▲",17.62658834744142]
[null,"その他ヨーロッパ",{"$f":"IFERROR(IF($B$2=\"トン\",AppAn.Data!L153,(AppAn.Data!L153*ozton*AppAn.Data!L$6)/1000000),\"-\")","v":48.590810718682434},{"$f":"IFERROR(IF($B$2=\"トン\",AppAn.Data!M153,(AppAn.Data!M153*ozton*AppAn.Data!M$6)/1000000),\"-\")","v":55.764765925581301},{"$f":"IFERROR(IF($B$2=\"トン\",AppAn.Data!N153,(AppAn.Data!N153*ozton*AppAn.Data!N$6)/1000000),\"-\")","v":41.485058645243797},{"$f":"IFERROR(IF($B$2=\"トン\",AppAn.Data!O153,(AppAn.Data!O153*ozton*AppAn.Data!O$6)/1000000),\"-\")","v":40.013117783322507},{"$f":"IFERROR(IF($B$2=\"トン\",AppAn.Data!P153,(AppAn.Data!P153*ozton*AppAn.Data!P$6)/1000000),\"-\")","v":28.570539078755267},{"$f":"IFERROR(IF($B$2=\"トン\",AppAn.Data!Q153,(AppAn.Data!Q153*ozton*AppAn.Data!Q$6)/1000000),\"-\")","v":33.718296518330938},{"$f":"IFERROR(IF($B$2=\"トン\",AppAn.Data!R153,(AppAn.Data!R153*ozton*AppAn.Data!R$6)/1000000),\"-\")","v":26.964127226711117},{"$f":"IFERROR(IF($B$2=\"トン\",AppAn.Data!S153,(AppAn.Data!S153*ozton*AppAn.Data!S$6)/1000000),\"-\")","v":23.42050808236667},{"$f":"IFERROR(IF($B$2=\"トン\",AppAn.Data!T153,(AppAn.Data!T153*ozton*AppAn.Data!T$6)/1000000),\"-\")","v":19.903162277911999},{"$f":"IFERROR(IF($B$2=\"トン\",AppAn.Data!U153,(AppAn.Data!U153*ozton*AppAn.Data!U$6)/1000000),\"-\")","v":20.562224717612001},{"$f":"IFERROR(IF($B$2=\"トン\",AppAn.Data!V153,(AppAn.Data!V153*ozton*AppAn.Data!V$6)/1000000),\"-\")","v":27.50677218776725},{"$f":"IFERROR(IF($B$2=\"トン\",AppAn.Data!W153,(AppAn.Data!W153*ozton*AppAn.Data!W$6)/1000000),\"-\")","v":37.443865083056998},{"$f":"IFERROR(IF($B$2=\"トン\",AppAn.Data!X153,(AppAn.Data!X153*ozton*AppAn.Data!X$6)/1000000),\"-\")","v":44.043581849768003},"▲",17.625629063857829,null,{"$f":"IFERROR(IF($B$2=\"トン\",AppQt.Data!M163,(AppQt.Data!M163*ozton*AppQt.Data!M$7)/1000000),\"-\")","v":9.763889750822468},{"$f":"IFERROR(IF($B$2=\"トン\",AppQt.Data!N163,(AppQt.Data!N163*ozton*AppQt.Data!N$7)/1000000),\"-\")","v":17.442853444338219},{"$f":"IFERROR(IF($B$2=\"トン\",AppQt.Data!O163,(AppQt.Data!O163*ozton*AppQt.Data!O$7)/1000000),\"-\")","v":9.7134959516407058},{"$f":"IFERROR(IF($B$2=\"トン\",AppQt.Data!P163,(AppQt.Data!P163*ozton*AppQt.Data!P$7)/1000000),\"-\")","v":11.670571571881037},{"$f":"IFERROR(IF($B$2=\"トン\",AppQt.Data!Q163,(AppQt.Data!Q163*ozton*AppQt.Data!Q$7)/1000000),\"-\")","v":11.291541307210903},{"$f":"IFERROR(IF($B$2=\"トン\",AppQt.Data!R163,(AppQt.Data!R163*ozton*AppQt.Data!R$7)/1000000),\"-\")","v":13.28315336660104},{"$f":"IFERROR(IF($B$2=\"トン\",AppQt.Data!S163,(AppQt.Data!S163*ozton*AppQt.Data!S$7)/1000000),\"-\")","v":19.131536795829078},{"$f":"IFERROR(IF($B$2=\"トン\",AppQt.Data!T163,(AppQt.Data!T163*ozton*AppQt.Data!T$7)/1000000),\"-\")","v":12.058534455940279},{"$f":"IFERROR(IF($B$2=\"トン\",AppQt.Data!U163,(AppQt.Data!U163*ozton*AppQt.Data!U$7)/1000000),\"-\")","v":8.2364765906662871},{"$f":"IFERROR(IF($B$2=\"トン\",AppQt.Data!V163,(AppQt.Data!V163*ozton*AppQt.Data!V$7)/1000000),\"-\")","v":11.084661084026756},{"$f":"IFERROR(IF($B$2=\"トン\",AppQt.Data!W163,(AppQt.Data!W163*ozton*AppQt.Data!W$7)/1000000),\"-\")","v":11.925304678333546},{"$f":"IFERROR(IF($B$2=\"トン\",AppQt.Data!X163,(AppQt.Data!X163*ozton*AppQt.Data!X$7)/1000000),\"-\")","v":10.238616292217205},{"$f":"IFERROR(IF($B$2=\"トン\",AppQt.Data!Y163,(AppQt.Data!Y163*ozton*AppQt.Data!Y$7)/1000000),\"-\")","v":7.4363346339338987},{"$f":"IFERROR(IF($B$2=\"トン\",AppQt.Data!Z163,(AppQt.Data!Z163*ozton*AppQt.Data!Z$7)/1000000),\"-\")","v":12.498913668411095},{"$f":"IFERROR(IF($B$2=\"トン\",AppQt.Data!AA163,(AppQt.Data!AA163*ozton*AppQt.Data!AA$7)/1000000),\"-\")","v":9.2814201842160262},{"$f":"IFERROR(IF($B$2=\"トン\",AppQt.Data!AB163,(AppQt.Data!AB163*ozton*AppQt.Data!AB$7)/1000000),\"-\")","v":10.796449296761487},{"$f":"IFERROR(IF($B$2=\"トン\",AppQt.Data!AC163,(AppQt.Data!AC163*ozton*AppQt.Data!AC$7)/1000000),\"-\")","v":7.1219758048731778},{"$f":"IFERROR(IF($B$2=\"トン\",AppQt.Data!AD163,(AppQt.Data!AD163*ozton*AppQt.Data!AD$7)/1000000),\"-\")","v":6.0007866163649997},{"$f":"IFERROR(IF($B$2=\"トン\",AppQt.Data!AE163,(AppQt.Data!AE163*ozton*AppQt.Data!AE$7)/1000000),\"-\")","v":6.5363156851282138},{"$f":"IFERROR(IF($B$2=\"トン\",AppQt.Data!AF163,(AppQt.Data!AF163*ozton*AppQt.Data!AF$7)/1000000),\"-\")","v":8.9114609723888751},{"$f":"IFERROR(IF($B$2=\"トン\",AppQt.Data!AG163,(AppQt.Data!AG163*ozton*AppQt.Data!AG$7)/1000000),\"-\")","v":7.6791091106959826},{"$f":"IFERROR(IF($B$2=\"トン\",AppQt.Data!AH163,(AppQt.Data!AH163*ozton*AppQt.Data!AH$7)/1000000),\"-\")","v":7.4594422648452392},{"$f":"IFERROR(IF($B$2=\"トン\",AppQt.Data!AI163,(AppQt.Data!AI163*ozton*AppQt.Data!AI$7)/1000000),\"-\")","v":9.7073310795298582},{"$f":"IFERROR(IF($B$2=\"トン\",AppQt.Data!AJ163,(AppQt.Data!AJ163*ozton*AppQt.Data!AJ$7)/1000000),\"-\")","v":8.8724140632598587},{"$f":"IFERROR(IF($B$2=\"トン\",AppQt.Data!AK163,(AppQt.Data!AK163*ozton*AppQt.Data!AK$7)/1000000),\"-\")","v":8.0549617710851287},{"$f":"IFERROR(IF($B$2=\"トン\",AppQt.Data!AL163,(AppQt.Data!AL163*ozton*AppQt.Data!AL$7)/1000000),\"-\")","v":6.2277726607194879},{"$f":"IFERROR(IF($B$2=\"トン\",AppQt.Data!AM163,(AppQt.Data!AM163*ozton*AppQt.Data!AM$7)/1000000),\"-\")","v":4.1803719576200002},{"$f":"IFERROR(IF($B$2=\"トン\",AppQt.Data!AN163,(AppQt.Data!AN163*ozton*AppQt.Data!AN$7)/1000000),\"-\")","v":8.5010208372865002},{"$f":"IFERROR(IF($B$2=\"トン\",AppQt.Data!AO163,(AppQt.Data!AO163*ozton*AppQt.Data!AO$7)/1000000),\"-\")","v":7.7096113428150002},{"$f":"IFERROR(IF($B$2=\"トン\",AppQt.Data!AP163,(AppQt.Data!AP163*ozton*AppQt.Data!AP$7)/1000000),\"-\")","v":5.160868789438334},{"$f":"IFERROR(IF($B$2=\"トン\",AppQt.Data!AQ163,(AppQt.Data!AQ163*ozton*AppQt.Data!AQ$7)/1000000),\"-\")","v":5.3412474291133334},{"$f":"IFERROR(IF($B$2=\"トン\",AppQt.Data!AR163,(AppQt.Data!AR163*ozton*AppQt.Data!AR$7)/1000000),\"-\")","v":5.2087805210000004},{"$f":"IFERROR(IF($B$2=\"トン\",AppQt.Data!AS163,(AppQt.Data!AS163*ozton*AppQt.Data!AS$7)/1000000),\"-\")","v":4.8069429506450003},{"$f":"IFERROR(IF($B$2=\"トン\",AppQt.Data!AT163,(AppQt.Data!AT163*ozton*AppQt.Data!AT$7)/1000000),\"-\")","v":4.0813947591100002},{"$f":"IFERROR(IF($B$2=\"トン\",AppQt.Data!AU163,(AppQt.Data!AU163*ozton*AppQt.Data!AU$7)/1000000),\"-\")","v":5.7129462474727495},{"$f":"IFERROR(IF($B$2=\"トン\",AppQt.Data!AV163,(AppQt.Data!AV163*ozton*AppQt.Data!AV$7)/1000000),\"-\")","v":5.3018783206842492},{"$f":"IFERROR(IF($B$2=\"トン\",AppQt.Data!AW163,(AppQt.Data!AW163*ozton*AppQt.Data!AW$7)/1000000),\"-\")","v":5.8931762810450001},{"$f":"IFERROR(IF($B$2=\"トン\",AppQt.Data!AX163,(AppQt.Data!AX163*ozton*AppQt.Data!AX$7)/1000000),\"-\")","v":4.2772599803100002},{"$f":"IFERROR(IF($B$2=\"トン\",AppQt.Data!AY163,(AppQt.Data!AY163*ozton*AppQt.Data!AY$7)/1000000),\"-\")","v":4.2770644563125},{"$f":"IFERROR(IF($B$2=\"トン\",AppQt.Data!AZ163,(AppQt.Data!AZ163*ozton*AppQt.Data!AZ$7)/1000000),\"-\")","v":6.1147239999445002},{"$f":"IFERROR(IF($B$2=\"トン\",AppQt.Data!BA163,(AppQt.Data!BA163*ozton*AppQt.Data!BA$7)/1000000),\"-\")","v":7.2803953557685004},{"$f":"IFERROR(IF($B$2=\"トン\",AppQt.Data!BB163,(AppQt.Data!BB163*ozton*AppQt.Data!BB$7)/1000000),\"-\")","v":7.7998514726100003},{"$f":"IFERROR(IF($B$2=\"トン\",AppQt.Data!BC163,(AppQt.Data!BC163*ozton*AppQt.Data!BC$7)/1000000),\"-\")","v":5.2317679542374993},{"$f":"IFERROR(IF($B$2=\"トン\",AppQt.Data!BD163,(AppQt.Data!BD163*ozton*AppQt.Data!BD$7)/1000000),\"-\")","v":7.1947574051512504},{"$f":"IFERROR(IF($B$2=\"トン\",AppQt.Data!BE163,(AppQt.Data!BE163*ozton*AppQt.Data!BE$7)/1000000),\"-\")","v":10.8153967210195},{"$f":"IFERROR(IF($B$2=\"トン\",AppQt.Data!BF163,(AppQt.Data!BF163*ozton*AppQt.Data!BF$7)/1000000),\"-\")","v":9.6432646373450002},{"$f":"IFERROR(IF($B$2=\"トン\",AppQt.Data!BG163,(AppQt.Data!BG163*ozton*AppQt.Data!BG$7)/1000000),\"-\")","v":8.0357543691825004},{"$f":"IFERROR(IF($B$2=\"トン\",AppQt.Data!BH163,(AppQt.Data!BH163*ozton*AppQt.Data!BH$7)/1000000),\"-\")","v":8.9494493555099996},{"$f":"IFERROR(IF($B$2=\"トン\",AppQt.Data!BI163,(AppQt.Data!BI163*ozton*AppQt.Data!BI$7)/1000000),\"-\")","v":11.122615909142},{"$f":"IFERROR(IF($B$2=\"トン\",AppQt.Data!BJ163,(AppQt.Data!BJ163*ozton*AppQt.Data!BJ$7)/1000000),\"-\")","v":10.491110498106},{"$f":"IFERROR(IF($B$2=\"トン\",AppQt.Data!BK163,(AppQt.Data!BK163*ozton*AppQt.Data!BK$7)/1000000),\"-\")","v":10.780312231270569},{"$f":"IFERROR(IF($B$2=\"トン\",AppQt.Data!BL163,(AppQt.Data!BL163*ozton*AppQt.Data!BL$7)/1000000),\"-\")","v":11.649543211249428},"▲",30.170502658658371]
[null,"上記合計",{"$f":"IFERROR(IF($B$2=\"トン\",AppAn.Data!L154,(AppAn.Data!L154*ozton*AppAn.Data!L$6)/1000000),\"-\")","v":3137.545644017996},{"$f":"IFERROR(IF($B$2=\"トン\",AppAn.Data!M154,(AppAn.Data!M154*ozton*AppAn.Data!M$6)/1000000),\"-\")","v":3388.2165644417564},{"$f":"IFERROR(IF($B$2=\"トン\",AppAn.Data!N154,(AppAn.Data!N154*ozton*AppAn.Data!N$6)/1000000),\"-\")","v":3219.7524081307074},{"$f":"IFERROR(IF($B$2=\"トン\",AppAn.Data!O154,(AppAn.Data!O154*ozton*AppAn.Data!O$6)/1000000),\"-\")","v":4145.8994974300658},{"$f":"IFERROR(IF($B$2=\"トン\",AppAn.Data!P154,(AppAn.Data!P154*ozton*AppAn.Data!P$6)/1000000),\"-\")","v":3321.6225889018938},{"$f":"IFERROR(IF($B$2=\"トン\",AppAn.Data!Q154,(AppAn.Data!Q154*ozton*AppAn.Data!Q$6)/1000000),\"-\")","v":3267.6724591580883},{"$f":"IFERROR(IF($B$2=\"トン\",AppAn.Data!R154,(AppAn.Data!R154*ozton*AppAn.Data!R$6)/1000000),\"-\")","v":2898.3376978151737},{"$f":"IFERROR(IF($B$2=\"トン\",AppAn.Data!S154,(AppAn.Data!S154*ozton*AppAn.Data!S$6)/1000000),\"-\")","v":2994.7600936179447},{"$f":"IFERROR(IF($B$2=\"トン\",AppAn.Data!T154,(AppAn.Data!T154*ozton*AppAn.Data!T$6)/1000000),\"-\")","v":3011.7516243041505},{"$f":"IFERROR(IF($B$2=\"トン\",AppAn.Data!U154,(AppAn.Data!U154*ozton*AppAn.Data!U$6)/1000000),\"-\")","v":2661.2026373088274},{"$f":"IFERROR(IF($B$2=\"トン\",AppAn.Data!V154,(AppAn.Data!V154*ozton*AppAn.Data!V$6)/1000000),\"-\")","v":2082.5073848399124},{"$f":"IFERROR(IF($B$2=\"トン\",AppAn.Data!W154,(AppAn.Data!W154*ozton*AppAn.Data!W$6)/1000000),\"-\")","v":3100.3480759738095},{"$f":"IFERROR(IF($B$2=\"トン\",AppAn.Data!X154,(AppAn.Data!X154*ozton*AppAn.Data!X$6)/1000000),\"-\")","v":3045.8521301194428},"▼",-1.757736374076313,null,{"$f":"IFERROR(IF($B$2=\"トン\",AppQt.Data!M164,(AppQt.Data!M164*ozton*AppQt.Data!M$7)/1000000),\"-\")","v":763.53118495038211},{"$f":"IFERROR(IF($B$2=\"トン\",AppQt.Data!N164,(AppQt.Data!N164*ozton*AppQt.Data!N$7)/1000000),\"-\")","v":697.29388087888958},{"$f":"IFERROR(IF($B$2=\"トン\",AppQt.Data!O164,(AppQt.Data!O164*ozton*AppQt.Data!O$7)/1000000),\"-\")","v":806.77041216459509},{"$f":"IFERROR(IF($B$2=\"トン\",AppQt.Data!P164,(AppQt.Data!P164*ozton*AppQt.Data!P$7)/1000000),\"-\")","v":869.95016602413011},{"$f":"IFERROR(IF($B$2=\"トン\",AppQt.Data!Q164,(AppQt.Data!Q164*ozton*AppQt.Data!Q$7)/1000000),\"-\")","v":930.43896991658562},{"$f":"IFERROR(IF($B$2=\"トン\",AppQt.Data!R164,(AppQt.Data!R164*ozton*AppQt.Data!R$7)/1000000),\"-\")","v":809.14016331559833},{"$f":"IFERROR(IF($B$2=\"トン\",AppQt.Data!S164,(AppQt.Data!S164*ozton*AppQt.Data!S$7)/1000000),\"-\")","v":844.39819631784792},{"$f":"IFERROR(IF($B$2=\"トン\",AppQt.Data!T164,(AppQt.Data!T164*ozton*AppQt.Data!T$7)/1000000),\"-\")","v":804.23923489172512},{"$f":"IFERROR(IF($B$2=\"トン\",AppQt.Data!U164,(AppQt.Data!U164*ozton*AppQt.Data!U$7)/1000000),\"-\")","v":838.65365982917865},{"$f":"IFERROR(IF($B$2=\"トン\",AppQt.Data!V164,(AppQt.Data!V164*ozton*AppQt.Data!V$7)/1000000),\"-\")","v":734.36003306055022},{"$f":"IFERROR(IF($B$2=\"トン\",AppQt.Data!W164,(AppQt.Data!W164*ozton*AppQt.Data!W$7)/1000000),\"-\")","v":760.34089902814844},{"$f":"IFERROR(IF($B$2=\"トン\",AppQt.Data!X164,(AppQt.Data!X164*ozton*AppQt.Data!X$7)/1000000),\"-\")","v":886.39781621282941},{"$f":"IFERROR(IF($B$2=\"トン\",AppQt.Data!Y164,(AppQt.Data!Y164*ozton*AppQt.Data!Y$7)/1000000),\"-\")","v":993.43172926341663},{"$f":"IFERROR(IF($B$2=\"トン\",AppQt.Data!Z164,(AppQt.Data!Z164*ozton*AppQt.Data!Z$7)/1000000),\"-\")","v":1358.7935275808256},{"$f":"IFERROR(IF($B$2=\"トン\",AppQt.Data!AA164,(AppQt.Data!AA164*ozton*AppQt.Data!AA$7)/1000000),\"-\")","v":901.35100494099015},{"$f":"IFERROR(IF($B$2=\"トン\",AppQt.Data!AB164,(AppQt.Data!AB164*ozton*AppQt.Data!AB$7)/1000000),\"-\")","v":892.32323564483431},{"$f":"IFERROR(IF($B$2=\"トン\",AppQt.Data!AC164,(AppQt.Data!AC164*ozton*AppQt.Data!AC$7)/1000000),\"-\")","v":858.1666829481519},{"$f":"IFERROR(IF($B$2=\"トン\",AppQt.Data!AD164,(AppQt.Data!AD164*ozton*AppQt.Data!AD$7)/1000000),\"-\")","v":784.31970402701381},{"$f":"IFERROR(IF($B$2=\"トン\",AppQt.Data!AE164,(AppQt.Data!AE164*ozton*AppQt.Data!AE$7)/1000000),\"-\")","v":786.35999281953809},{"$f":"IFERROR(IF($B$2=\"トン\",AppQt.Data!AF164,(AppQt.Data!AF164*ozton*AppQt.Data!AF$7)/1000000),\"-\")","v":892.77620910718974},{"$f":"IFERROR(IF($B$2=\"トン\",AppQt.Data!AG164,(AppQt.Data!AG164*ozton*AppQt.Data!AG$7)/1000000),\"-\")","v":821.70373996488797},{"$f":"IFERROR(IF($B$2=\"トン\",AppQt.Data!AH164,(AppQt.Data!AH164*ozton*AppQt.Data!AH$7)/1000000),\"-\")","v":687.82089819627151},{"$f":"IFERROR(IF($B$2=\"トン\",AppQt.Data!AI164,(AppQt.Data!AI164*ozton*AppQt.Data!AI$7)/1000000),\"-\")","v":875.73831823524824},{"$f":"IFERROR(IF($B$2=\"トン\",AppQt.Data!AJ164,(AppQt.Data!AJ164*ozton*AppQt.Data!AJ$7)/1000000),\"-\")","v":882.40950276167962},{"$f":"IFERROR(IF($B$2=\"トン\",AppQt.Data!AK164,(AppQt.Data!AK164*ozton*AppQt.Data!AK$7)/1000000),\"-\")","v":698.2943733283455},{"$f":"IFERROR(IF($B$2=\"トン\",AppQt.Data!AL164,(AppQt.Data!AL164*ozton*AppQt.Data!AL$7)/1000000),\"-\")","v":614.26964824765378},{"$f":"IFERROR(IF($B$2=\"トン\",AppQt.Data!AM164,(AppQt.Data!AM164*ozton*AppQt.Data!AM$7)/1000000),\"-\")","v":645.84104754490818},{"$f":"IFERROR(IF($B$2=\"トン\",AppQt.Data!AN164,(AppQt.Data!AN164*ozton*AppQt.Data!AN$7)/1000000),\"-\")","v":939.9326286942669},{"$f":"IFERROR(IF($B$2=\"トン\",AppQt.Data!AO164,(AppQt.Data!AO164*ozton*AppQt.Data!AO$7)/1000000),\"-\")","v":770.08740265851907},{"$f":"IFERROR(IF($B$2=\"トン\",AppQt.Data!AP164,(AppQt.Data!AP164*ozton*AppQt.Data!AP$7)/1000000),\"-\")","v":707.0045023214376},{"$f":"IFERROR(IF($B$2=\"トン\",AppQt.Data!AQ164,(AppQt.Data!AQ164*ozton*AppQt.Data!AQ$7)/1000000),\"-\")","v":677.72079447818294},{"$f":"IFERROR(IF($B$2=\"トン\",AppQt.Data!AR164,(AppQt.Data!AR164*ozton*AppQt.Data!AR$7)/1000000),\"-\")","v":839.94739415980507},{"$f":"IFERROR(IF($B$2=\"トン\",AppQt.Data!AS164,(AppQt.Data!AS164*ozton*AppQt.Data!AS$7)/1000000),\"-\")","v":715.93103739622222},{"$f":"IFERROR(IF($B$2=\"トン\",AppQt.Data!AT164,(AppQt.Data!AT164*ozton*AppQt.Data!AT$7)/1000000),\"-\")","v":694.41292722731259},{"$f":"IFERROR(IF($B$2=\"トン\",AppQt.Data!AU164,(AppQt.Data!AU164*ozton*AppQt.Data!AU$7)/1000000),\"-\")","v":761.8750314465658},{"$f":"IFERROR(IF($B$2=\"トン\",AppQt.Data!AV164,(AppQt.Data!AV164*ozton*AppQt.Data!AV$7)/1000000),\"-\")","v":839.53262823405032},{"$f":"IFERROR(IF($B$2=\"トン\",AppQt.Data!AW164,(AppQt.Data!AW164*ozton*AppQt.Data!AW$7)/1000000),\"-\")","v":719.6536762639347},{"$f":"IFERROR(IF($B$2=\"トン\",AppQt.Data!AX164,(AppQt.Data!AX164*ozton*AppQt.Data!AX$7)/1000000),\"-\")","v":667.43755674115596},{"$f":"IFERROR(IF($B$2=\"トン\",AppQt.Data!AY164,(AppQt.Data!AY164*ozton*AppQt.Data!AY$7)/1000000),\"-\")","v":542.41829121639762},{"$f":"IFERROR(IF($B$2=\"トン\",AppQt.Data!AZ164,(AppQt.Data!AZ164*ozton*AppQt.Data!AZ$7)/1000000),\"-\")","v":731.69311308734018},{"$f":"IFERROR(IF($B$2=\"トン\",AppQt.Data!BA164,(AppQt.Data!BA164*ozton*AppQt.Data!BA$7)/1000000),\"-\")","v":497.74572207168899},{"$f":"IFERROR(IF($B$2=\"トン\",AppQt.Data!BB164,(AppQt.Data!BB164*ozton*AppQt.Data!BB$7)/1000000),\"-\")","v":364.45908855397204},{"$f":"IFERROR(IF($B$2=\"トン\",AppQt.Data!BC164,(AppQt.Data!BC164*ozton*AppQt.Data!BC$7)/1000000),\"-\")","v":507.74523575332051},{"$f":"IFERROR(IF($B$2=\"トン\",AppQt.Data!BD164,(AppQt.Data!BD164*ozton*AppQt.Data!BD$7)/1000000),\"-\")","v":712.5573384609304},{"$f":"IFERROR(IF($B$2=\"トン\",AppQt.Data!BE164,(AppQt.Data!BE164*ozton*AppQt.Data!BE$7)/1000000),\"-\")","v":815.59254290737363},{"$f":"IFERROR(IF($B$2=\"トン\",AppQt.Data!BF164,(AppQt.Data!BF164*ozton*AppQt.Data!BF$7)/1000000),\"-\")","v":632.19769084688483},{"$f":"IFERROR(IF($B$2=\"トン\",AppQt.Data!BG164,(AppQt.Data!BG164*ozton*AppQt.Data!BG$7)/1000000),\"-\")","v":684.98721276868901},{"$f":"IFERROR(IF($B$2=\"トン\",AppQt.Data!BH164,(AppQt.Data!BH164*ozton*AppQt.Data!BH$7)/1000000),\"-\")","v":967.57062945086136},{"$f":"IFERROR(IF($B$2=\"トン\",AppQt.Data!BI164,(AppQt.Data!BI164*ozton*AppQt.Data!BI$7)/1000000),\"-\")","v":695.70325518145569},{"$f":"IFERROR(IF($B$2=\"トン\",AppQt.Data!BJ164,(AppQt.Data!BJ164*ozton*AppQt.Data!BJ$7)/1000000),\"-\")","v":658.5743155033897},{"$f":"IFERROR(IF($B$2=\"トン\",AppQt.Data!BK164,(AppQt.Data!BK164*ozton*AppQt.Data!BK$7)/1000000),\"-\")","v":805.71090470627996},{"$f":"IFERROR(IF($B$2=\"トン\",AppQt.Data!BL164,(AppQt.Data!BL164*ozton*AppQt.Data!BL$7)/1000000),\"-\")","v":885.86365472831756},"▼",-8.4445488769038022]
[null,"その他&在庫変動分",{"$f":"IFERROR(IF($B$2=\"トン\",AppAn.Data!L155,(AppAn.Data!L155*ozton*AppAn.Data!L$6)/1000000),\"-\")","v":123.99627934290848},{"$f":"IFERROR(IF($B$2=\"トン\",AppAn.Data!M155,(AppAn.Data!M155*ozton*AppAn.Data!M$6)/1000000),\"-\")","v":218.20173373493051},{"$f":"IFERROR(IF($B$2=\"トン\",AppAn.Data!N155,(AppAn.Data!N155*ozton*AppAn.Data!N$6)/1000000),\"-\")","v":259.80287970535551},{"$f":"IFERROR(IF($B$2=\"トン\",AppAn.Data!O155,(AppAn.Data!O155*ozton*AppAn.Data!O$6)/1000000),\"-\")","v":311.78601189824144},{"$f":"IFERROR(IF($B$2=\"トン\",AppAn.Data!P155,(AppAn.Data!P155*ozton*AppAn.Data!P$6)/1000000),\"-\")","v":279.24436331003562},{"$f":"IFERROR(IF($B$2=\"トン\",AppAn.Data!Q155,(AppAn.Data!Q155*ozton*AppAn.Data!Q$6)/1000000),\"-\")","v":283.88536379555239},{"$f":"IFERROR(IF($B$2=\"トン\",AppAn.Data!R155,(AppAn.Data!R155*ozton*AppAn.Data!R$6)/1000000),\"-\")","v":279.77225279105636},{"$f":"IFERROR(IF($B$2=\"トン\",AppAn.Data!S155,(AppAn.Data!S155*ozton*AppAn.Data!S$6)/1000000),\"-\")","v":291.3099237785982},{"$f":"IFERROR(IF($B$2=\"トン\",AppAn.Data!T155,(AppAn.Data!T155*ozton*AppAn.Data!T$6)/1000000),\"-\")","v":328.91794616343583},{"$f":"IFERROR(IF($B$2=\"トン\",AppAn.Data!U155,(AppAn.Data!U155*ozton*AppAn.Data!U$6)/1000000),\"-\")","v":336.39033605262296},{"$f":"IFERROR(IF($B$2=\"トン\",AppAn.Data!V155,(AppAn.Data!V155*ozton*AppAn.Data!V$6)/1000000),\"-\")","v":219.30939210559742},{"$f":"IFERROR(IF($B$2=\"トン\",AppAn.Data!W155,(AppAn.Data!W155*ozton*AppAn.Data!W$6)/1000000),\"-\")","v":238.27401180929462},{"$f":"IFERROR(IF($B$2=\"トン\",AppAn.Data!X155,(AppAn.Data!X155*ozton*AppAn.Data!X$6)/1000000),\"-\")","v":257.43349112260182},"▲",8.0409437721818087,null,{"$f":"IFERROR(IF($B$2=\"トン\",AppQt.Data!M165,(AppQt.Data!M165*ozton*AppQt.Data!M$7)/1000000),\"-\")","v":23.481120166550774},{"$f":"IFERROR(IF($B$2=\"トン\",AppQt.Data!N165,(AppQt.Data!N165*ozton*AppQt.Data!N$7)/1000000),\"-\")","v":31.681123472242788},{"$f":"IFERROR(IF($B$2=\"トン\",AppQt.Data!O165,(AppQt.Data!O165*ozton*AppQt.Data!O$7)/1000000),\"-\")","v":34.178334174176207},{"$f":"IFERROR(IF($B$2=\"トン\",AppQt.Data!P165,(AppQt.Data!P165*ozton*AppQt.Data!P$7)/1000000),\"-\")","v":34.65570152993871},{"$f":"IFERROR(IF($B$2=\"トン\",AppQt.Data!Q165,(AppQt.Data!Q165*ozton*AppQt.Data!Q$7)/1000000),\"-\")","v":45.972668877257675},{"$f":"IFERROR(IF($B$2=\"トン\",AppQt.Data!R165,(AppQt.Data!R165*ozton*AppQt.Data!R$7)/1000000),\"-\")","v":47.447522219251539},{"$f":"IFERROR(IF($B$2=\"トン\",AppQt.Data!S165,(AppQt.Data!S165*ozton*AppQt.Data!S$7)/1000000),\"-\")","v":58.310619363498475},{"$f":"IFERROR(IF($B$2=\"トン\",AppQt.Data!T165,(AppQt.Data!T165*ozton*AppQt.Data!T$7)/1000000),\"-\")","v":66.470923274922811},{"$f":"IFERROR(IF($B$2=\"トン\",AppQt.Data!U165,(AppQt.Data!U165*ozton*AppQt.Data!U$7)/1000000),\"-\")","v":48.970966716334367},{"$f":"IFERROR(IF($B$2=\"トン\",AppQt.Data!V165,(AppQt.Data!V165*ozton*AppQt.Data!V$7)/1000000),\"-\")","v":61.608754138968195},{"$f":"IFERROR(IF($B$2=\"トン\",AppQt.Data!W165,(AppQt.Data!W165*ozton*AppQt.Data!W$7)/1000000),\"-\")","v":62.412113473133402},{"$f":"IFERROR(IF($B$2=\"トン\",AppQt.Data!X165,(AppQt.Data!X165*ozton*AppQt.Data!X$7)/1000000),\"-\")","v":86.811045376919523},{"$f":"IFERROR(IF($B$2=\"トン\",AppQt.Data!Y165,(AppQt.Data!Y165*ozton*AppQt.Data!Y$7)/1000000),\"-\")","v":65.878736104209423},{"$f":"IFERROR(IF($B$2=\"トン\",AppQt.Data!Z165,(AppQt.Data!Z165*ozton*AppQt.Data!Z$7)/1000000),\"-\")","v":74.871562541360447},{"$f":"IFERROR(IF($B$2=\"トン\",AppQt.Data!AA165,(AppQt.Data!AA165*ozton*AppQt.Data!AA$7)/1000000),\"-\")","v":74.578383430812167},{"$f":"IFERROR(IF($B$2=\"トン\",AppQt.Data!AB165,(AppQt.Data!AB165*ozton*AppQt.Data!AB$7)/1000000),\"-\")","v":96.457329821859389},{"$f":"IFERROR(IF($B$2=\"トン\",AppQt.Data!AC165,(AppQt.Data!AC165*ozton*AppQt.Data!AC$7)/1000000),\"-\")","v":62.086786455822335},{"$f":"IFERROR(IF($B$2=\"トン\",AppQt.Data!AD165,(AppQt.Data!AD165*ozton*AppQt.Data!AD$7)/1000000),\"-\")","v":67.528540170424549},{"$f":"IFERROR(IF($B$2=\"トン\",AppQt.Data!AE165,(AppQt.Data!AE165*ozton*AppQt.Data!AE$7)/1000000),\"-\")","v":64.779505277388552},{"$f":"IFERROR(IF($B$2=\"トン\",AppQt.Data!AF165,(AppQt.Data!AF165*ozton*AppQt.Data!AF$7)/1000000),\"-\")","v":84.84953140640016},{"$f":"IFERROR(IF($B$2=\"トン\",AppQt.Data!AG165,(AppQt.Data!AG165*ozton*AppQt.Data!AG$7)/1000000),\"-\")","v":60.991296625757116},{"$f":"IFERROR(IF($B$2=\"トン\",AppQt.Data!AH165,(AppQt.Data!AH165*ozton*AppQt.Data!AH$7)/1000000),\"-\")","v":63.785130287398545},{"$f":"IFERROR(IF($B$2=\"トン\",AppQt.Data!AI165,(AppQt.Data!AI165*ozton*AppQt.Data!AI$7)/1000000),\"-\")","v":70.715183649390156},{"$f":"IFERROR(IF($B$2=\"トン\",AppQt.Data!AJ165,(AppQt.Data!AJ165*ozton*AppQt.Data!AJ$7)/1000000),\"-\")","v":88.393753233006578},{"$f":"IFERROR(IF($B$2=\"トン\",AppQt.Data!AK165,(AppQt.Data!AK165*ozton*AppQt.Data!AK$7)/1000000),\"-\")","v":65.588910474384647},{"$f":"IFERROR(IF($B$2=\"トン\",AppQt.Data!AL165,(AppQt.Data!AL165*ozton*AppQt.Data!AL$7)/1000000),\"-\")","v":68.681373698728464},{"$f":"IFERROR(IF($B$2=\"トン\",AppQt.Data!AM165,(AppQt.Data!AM165*ozton*AppQt.Data!AM$7)/1000000),\"-\")","v":62.290495536763956},{"$f":"IFERROR(IF($B$2=\"トン\",AppQt.Data!AN165,(AppQt.Data!AN165*ozton*AppQt.Data!AN$7)/1000000),\"-\")","v":83.211473081179292},{"$f":"IFERROR(IF($B$2=\"トン\",AppQt.Data!AO165,(AppQt.Data!AO165*ozton*AppQt.Data!AO$7)/1000000),\"-\")","v":63.05133614938245},{"$f":"IFERROR(IF($B$2=\"トン\",AppQt.Data!AP165,(AppQt.Data!AP165*ozton*AppQt.Data!AP$7)/1000000),\"-\")","v":73.857257266446481},{"$f":"IFERROR(IF($B$2=\"トン\",AppQt.Data!AQ165,(AppQt.Data!AQ165*ozton*AppQt.Data!AQ$7)/1000000),\"-\")","v":70.000375657681644},{"$f":"IFERROR(IF($B$2=\"トン\",AppQt.Data!AR165,(AppQt.Data!AR165*ozton*AppQt.Data!AR$7)/1000000),\"-\")","v":84.400954705087628},{"$f":"IFERROR(IF($B$2=\"トン\",AppQt.Data!AS165,(AppQt.Data!AS165*ozton*AppQt.Data!AS$7)/1000000),\"-\")","v":74.834127625392227},{"$f":"IFERROR(IF($B$2=\"トン\",AppQt.Data!AT165,(AppQt.Data!AT165*ozton*AppQt.Data!AT$7)/1000000),\"-\")","v":76.179098161654565},{"$f":"IFERROR(IF($B$2=\"トン\",AppQt.Data!AU165,(AppQt.Data!AU165*ozton*AppQt.Data!AU$7)/1000000),\"-\")","v":83.910772355256825},{"$f":"IFERROR(IF($B$2=\"トン\",AppQt.Data!AV165,(AppQt.Data!AV165*ozton*AppQt.Data!AV$7)/1000000),\"-\")","v":93.993948021132212},{"$f":"IFERROR(IF($B$2=\"トン\",AppQt.Data!AW165,(AppQt.Data!AW165*ozton*AppQt.Data!AW$7)/1000000),\"-\")","v":74.717890914676502},{"$f":"IFERROR(IF($B$2=\"トン\",AppQt.Data!AX165,(AppQt.Data!AX165*ozton*AppQt.Data!AX$7)/1000000),\"-\")","v":82.884765676799674},{"$f":"IFERROR(IF($B$2=\"トン\",AppQt.Data!AY165,(AppQt.Data!AY165*ozton*AppQt.Data!AY$7)/1000000),\"-\")","v":77.715727752338125},{"$f":"IFERROR(IF($B$2=\"トン\",AppQt.Data!AZ165,(AppQt.Data!AZ165*ozton*AppQt.Data!AZ$7)/1000000),\"-\")","v":101.07195170880865},{"$f":"IFERROR(IF($B$2=\"トン\",AppQt.Data!BA165,(AppQt.Data!BA165*ozton*AppQt.Data!BA$7)/1000000),\"-\")","v":67.199611202199293},{"$f":"IFERROR(IF($B$2=\"トン\",AppQt.Data!BB165,(AppQt.Data!BB165*ozton*AppQt.Data!BB$7)/1000000),\"-\")","v":37.919321908206484},{"$f":"IFERROR(IF($B$2=\"トン\",AppQt.Data!BC165,(AppQt.Data!BC165*ozton*AppQt.Data!BC$7)/1000000),\"-\")","v":46.754184358800501},{"$f":"IFERROR(IF($B$2=\"トン\",AppQt.Data!BD165,(AppQt.Data!BD165*ozton*AppQt.Data!BD$7)/1000000),\"-\")","v":67.436274636391147},{"$f":"IFERROR(IF($B$2=\"トン\",AppQt.Data!BE165,(AppQt.Data!BE165*ozton*AppQt.Data!BE$7)/1000000),\"-\")","v":51.172632862832529},{"$f":"IFERROR(IF($B$2=\"トン\",AppQt.Data!BF165,(AppQt.Data!BF165*ozton*AppQt.Data!BF$7)/1000000),\"-\")","v":53.57420962510281},{"$f":"IFERROR(IF($B$2=\"トン\",AppQt.Data!BG165,(AppQt.Data!BG165*ozton*AppQt.Data!BG$7)/1000000),\"-\")","v":53.826755591607252},{"$f":"IFERROR(IF($B$2=\"トン\",AppQt.Data!BH165,(AppQt.Data!BH165*ozton*AppQt.Data!BH$7)/1000000),\"-\")","v":79.700413729752029},{"$f":"IFERROR(IF($B$2=\"トン\",AppQt.Data!BI165,(AppQt.Data!BI165*ozton*AppQt.Data!BI$7)/1000000),\"-\")","v":62.146318592367322},{"$f":"IFERROR(IF($B$2=\"トン\",AppQt.Data!BJ165,(AppQt.Data!BJ165*ozton*AppQt.Data!BJ$7)/1000000),\"-\")","v":56.746407100797427},{"$f":"IFERROR(IF($B$2=\"トン\",AppQt.Data!BK165,(AppQt.Data!BK165*ozton*AppQt.Data!BK$7)/1000000),\"-\")","v":60.380471264611799},{"$f":"IFERROR(IF($B$2=\"トン\",AppQt.Data!BL165,(AppQt.Data!BL165*ozton*AppQt.Data!BL$7)/1000000),\"-\")","v":78.160294164825245},"▼",-1.9323859097507556]
[null,"世界合計",{"$f":"IFERROR(IF($B$2=\"トン\",AppAn.Data!L156,(AppAn.Data!L156*ozton*AppAn.Data!L$6)/1000000),\"-\")","v":3261.5419233609045},{"$f":"IFERROR(IF($B$2=\"トン\",AppAn.Data!M156,(AppAn.Data!M156*ozton*AppAn.Data!M$6)/1000000),\"-\")","v":3606.4182981766871},{"$f":"IFERROR(IF($B$2=\"トン\",AppAn.Data!N156,(AppAn.Data!N156*ozton*AppAn.Data!N$6)/1000000),\"-\")","v":3479.5552878360631},{"$f":"IFERROR(IF($B$2=\"トン\",AppAn.Data!O156,(AppAn.Data!O156*ozton*AppAn.Data!O$6)/1000000),\"-\")","v":4457.6855093283066},{"$f":"IFERROR(IF($B$2=\"トン\",AppAn.Data!P156,(AppAn.Data!P156*ozton*AppAn.Data!P$6)/1000000),\"-\")","v":3600.8669522119289},{"$f":"IFERROR(IF($B$2=\"トン\",AppAn.Data!Q156,(AppAn.Data!Q156*ozton*AppAn.Data!Q$6)/1000000),\"-\")","v":3551.5578229536409},{"$f":"IFERROR(IF($B$2=\"トン\",AppAn.Data!R156,(AppAn.Data!R156*ozton*AppAn.Data!R$6)/1000000),\"-\")","v":3178.1099506062301},{"$f":"IFERROR(IF($B$2=\"トン\",AppAn.Data!S156,(AppAn.Data!S156*ozton*AppAn.Data!S$6)/1000000),\"-\")","v":3286.0700173965429},{"$f":"IFERROR(IF($B$2=\"トン\",AppAn.Data!T156,(AppAn.Data!T156*ozton*AppAn.Data!T$6)/1000000),\"-\")","v":3340.6695704675863},{"$f":"IFERROR(IF($B$2=\"トン\",AppAn.Data!U156,(AppAn.Data!U156*ozton*AppAn.Data!U$6)/1000000),\"-\")","v":2997.5929733614503},{"$f":"IFERROR(IF($B$2=\"トン\",AppAn.Data!V156,(AppAn.Data!V156*ozton*AppAn.Data!V$6)/1000000),\"-\")","v":2301.8167769455099},{"$f":"IFERROR(IF($B$2=\"トン\",AppAn.Data!W156,(AppAn.Data!W156*ozton*AppAn.Data!W$6)/1000000),\"-\")","v":3338.6220877831042},{"$f":"IFERROR(IF($B$2=\"トン\",AppAn.Data!X156,(AppAn.Data!X156*ozton*AppAn.Data!X$6)/1000000),\"-\")","v":3303.2856212420447},"▼",-1.058414687615139,null,{"$f":"IFERROR(IF($B$2=\"トン\",AppQt.Data!M166,(AppQt.Data!M166*ozton*AppQt.Data!M$7)/1000000),\"-\")","v":787.01230511693291},{"$f":"IFERROR(IF($B$2=\"トン\",AppQt.Data!N166,(AppQt.Data!N166*ozton*AppQt.Data!N$7)/1000000),\"-\")","v":728.97500435113238},{"$f":"IFERROR(IF($B$2=\"トン\",AppQt.Data!O166,(AppQt.Data!O166*ozton*AppQt.Data!O$7)/1000000),\"-\")","v":840.94874633877134},{"$f":"IFERROR(IF($B$2=\"トン\",AppQt.Data!P166,(AppQt.Data!P166*ozton*AppQt.Data!P$7)/1000000),\"-\")","v":904.60586755406894},{"$f":"IFERROR(IF($B$2=\"トン\",AppQt.Data!Q166,(AppQt.Data!Q166*ozton*AppQt.Data!Q$7)/1000000),\"-\")","v":976.41163879384328},{"$f":"IFERROR(IF($B$2=\"トン\",AppQt.Data!R166,(AppQt.Data!R166*ozton*AppQt.Data!R$7)/1000000),\"-\")","v":856.58768553484981},{"$f":"IFERROR(IF($B$2=\"トン\",AppQt.Data!S166,(AppQt.Data!S166*ozton*AppQt.Data!S$7)/1000000),\"-\")","v":902.70881568134644},{"$f":"IFERROR(IF($B$2=\"トン\",AppQt.Data!T166,(AppQt.Data!T166*ozton*AppQt.Data!T$7)/1000000),\"-\")","v":870.71015816664794},{"$f":"IFERROR(IF($B$2=\"トン\",AppQt.Data!U166,(AppQt.Data!U166*ozton*AppQt.Data!U$7)/1000000),\"-\")","v":887.62462654551291},{"$f":"IFERROR(IF($B$2=\"トン\",AppQt.Data!V166,(AppQt.Data!V166*ozton*AppQt.Data!V$7)/1000000),\"-\")","v":795.96878719951837},{"$f":"IFERROR(IF($B$2=\"トン\",AppQt.Data!W166,(AppQt.Data!W166*ozton*AppQt.Data!W$7)/1000000),\"-\")","v":822.75301250128177},{"$f":"IFERROR(IF($B$2=\"トン\",AppQt.Data!X166,(AppQt.Data!X166*ozton*AppQt.Data!X$7)/1000000),\"-\")","v":973.20886158974895},{"$f":"IFERROR(IF($B$2=\"トン\",AppQt.Data!Y166,(AppQt.Data!Y166*ozton*AppQt.Data!Y$7)/1000000),\"-\")","v":1059.310465367626},{"$f":"IFERROR(IF($B$2=\"トン\",AppQt.Data!Z166,(AppQt.Data!Z166*ozton*AppQt.Data!Z$7)/1000000),\"-\")","v":1433.665090122186},{"$f":"IFERROR(IF($B$2=\"トン\",AppQt.Data!AA166,(AppQt.Data!AA166*ozton*AppQt.Data!AA$7)/1000000),\"-\")","v":975.92938837180236},{"$f":"IFERROR(IF($B$2=\"トン\",AppQt.Data!AB166,(AppQt.Data!AB166*ozton*AppQt.Data!AB$7)/1000000),\"-\")","v":988.78056546669382},{"$f":"IFERROR(IF($B$2=\"トン\",AppQt.Data!AC166,(AppQt.Data!AC166*ozton*AppQt.Data!AC$7)/1000000),\"-\")","v":920.25346940397412},{"$f":"IFERROR(IF($B$2=\"トン\",AppQt.Data!AD166,(AppQt.Data!AD166*ozton*AppQt.Data!AD$7)/1000000),\"-\")","v":851.84824419743836},{"$f":"IFERROR(IF($B$2=\"トン\",AppQt.Data!AE166,(AppQt.Data!AE166*ozton*AppQt.Data!AE$7)/1000000),\"-\")","v":851.13949809692667},{"$f":"IFERROR(IF($B$2=\"トン\",AppQt.Data!AF166,(AppQt.Data!AF166*ozton*AppQt.Data!AF$7)/1000000),\"-\")","v":977.62574051359002},{"$f":"IFERROR(IF($B$2=\"トン\",AppQt.Data!AG166,(AppQt.Data!AG166*ozton*AppQt.Data!AG$7)/1000000),\"-\")","v":882.69503659064503},{"$f":"IFERROR(IF($B$2=\"トン\",AppQt.Data!AH166,(AppQt.Data!AH166*ozton*AppQt.Data!AH$7)/1000000),\"-\")","v":751.60602848367},{"$f":"IFERROR(IF($B$2=\"トン\",AppQt.Data!AI166,(AppQt.Data!AI166*ozton*AppQt.Data!AI$7)/1000000),\"-\")","v":946.4535018846384},{"$f":"IFERROR(IF($B$2=\"トン\",AppQt.Data!AJ166,(AppQt.Data!AJ166*ozton*AppQt.Data!AJ$7)/1000000),\"-\")","v":970.8032559946862},{"$f":"IFERROR(IF($B$2=\"トン\",AppQt.Data!AK166,(AppQt.Data!AK166*ozton*AppQt.Data!AK$7)/1000000),\"-\")","v":763.88328380273015},{"$f":"IFERROR(IF($B$2=\"トン\",AppQt.Data!AL166,(AppQt.Data!AL166*ozton*AppQt.Data!AL$7)/1000000),\"-\")","v":682.9510219463823},{"$f":"IFERROR(IF($B$2=\"トン\",AppQt.Data!AM166,(AppQt.Data!AM166*ozton*AppQt.Data!AM$7)/1000000),\"-\")","v":708.13154308167213},{"$f":"IFERROR(IF($B$2=\"トン\",AppQt.Data!AN166,(AppQt.Data!AN166*ozton*AppQt.Data!AN$7)/1000000),\"-\")","v":1023.1441017754462},{"$f":"IFERROR(IF($B$2=\"トン\",AppQt.Data!AO166,(AppQt.Data!AO166*ozton*AppQt.Data!AO$7)/1000000),\"-\")","v":833.13873880790152},{"$f":"IFERROR(IF($B$2=\"トン\",AppQt.Data!AP166,(AppQt.Data!AP166*ozton*AppQt.Data!AP$7)/1000000),\"-\")","v":780.86175958788408},{"$f":"IFERROR(IF($B$2=\"トン\",AppQt.Data!AQ166,(AppQt.Data!AQ166*ozton*AppQt.Data!AQ$7)/1000000),\"-\")","v":747.72117013586467},{"$f":"IFERROR(IF($B$2=\"トン\",AppQt.Data!AR166,(AppQt.Data!AR166*ozton*AppQt.Data!AR$7)/1000000),\"-\")","v":924.34834886489273},{"$f":"IFERROR(IF($B$2=\"トン\",AppQt.Data!AS166,(AppQt.Data!AS166*ozton*AppQt.Data!AS$7)/1000000),\"-\")","v":790.76516502161439},{"$f":"IFERROR(IF($B$2=\"トン\",AppQt.Data!AT166,(AppQt.Data!AT166*ozton*AppQt.Data!AT$7)/1000000),\"-\")","v":770.59202538896704},{"$f":"IFERROR(IF($B$2=\"トン\",AppQt.Data!AU166,(AppQt.Data!AU166*ozton*AppQt.Data!AU$7)/1000000),\"-\")","v":845.78580380182257},{"$f":"IFERROR(IF($B$2=\"トン\",AppQt.Data!AV166,(AppQt.Data!AV166*ozton*AppQt.Data!AV$7)/1000000),\"-\")","v":933.52657625518259},{"$f":"IFERROR(IF($B$2=\"トン\",AppQt.Data!AW166,(AppQt.Data!AW166*ozton*AppQt.Data!AW$7)/1000000),\"-\")","v":794.37156717861126},{"$f":"IFERROR(IF($B$2=\"トン\",AppQt.Data!AX166,(AppQt.Data!AX166*ozton*AppQt.Data!AX$7)/1000000),\"-\")","v":750.32232241795555},{"$f":"IFERROR(IF($B$2=\"トン\",AppQt.Data!AY166,(AppQt.Data!AY166*ozton*AppQt.Data!AY$7)/1000000),\"-\")","v":620.13401896873575},{"$f":"IFERROR(IF($B$2=\"トン\",AppQt.Data!AZ166,(AppQt.Data!AZ166*ozton*AppQt.Data!AZ$7)/1000000),\"-\")","v":832.76506479614886},{"$f":"IFERROR(IF($B$2=\"トン\",AppQt.Data!BA166,(AppQt.Data!BA166*ozton*AppQt.Data!BA$7)/1000000),\"-\")","v":564.94533327388831},{"$f":"IFERROR(IF($B$2=\"トン\",AppQt.Data!BB166,(AppQt.Data!BB166*ozton*AppQt.Data!BB$7)/1000000),\"-\")","v":402.37841046217852},{"$f":"IFERROR(IF($B$2=\"トン\",AppQt.Data!BC166,(AppQt.Data!BC166*ozton*AppQt.Data!BC$7)/1000000),\"-\")","v":554.49942011212102},{"$f":"IFERROR(IF($B$2=\"トン\",AppQt.Data!BD166,(AppQt.Data!BD166*ozton*AppQt.Data!BD$7)/1000000),\"-\")","v":779.99361309732149},{"$f":"IFERROR(IF($B$2=\"トン\",AppQt.Data!BE166,(AppQt.Data!BE166*ozton*AppQt.Data!BE$7)/1000000),\"-\")","v":866.76517577020604},{"$f":"IFERROR(IF($B$2=\"トン\",AppQt.Data!BF166,(AppQt.Data!BF166*ozton*AppQt.Data!BF$7)/1000000),\"-\")","v":685.77190047198758},{"$f":"IFERROR(IF($B$2=\"トン\",AppQt.Data!BG166,(AppQt.Data!BG166*ozton*AppQt.Data!BG$7)/1000000),\"-\")","v":738.81396836029626},{"$f":"IFERROR(IF($B$2=\"トン\",AppQt.Data!BH166,(AppQt.Data!BH166*ozton*AppQt.Data!BH$7)/1000000),\"-\")","v":1047.2710431806133},{"$f":"IFERROR(IF($B$2=\"トン\",AppQt.Data!BI166,(AppQt.Data!BI166*ozton*AppQt.Data!BI$7)/1000000),\"-\")","v":757.84957377382295},{"$f":"IFERROR(IF($B$2=\"トン\",AppQt.Data!BJ166,(AppQt.Data!BJ166*ozton*AppQt.Data!BJ$7)/1000000),\"-\")","v":715.32072260418715},{"$f":"IFERROR(IF($B$2=\"トン\",AppQt.Data!BK166,(AppQt.Data!BK166*ozton*AppQt.Data!BK$7)/1000000),\"-\")","v":866.0913759708917},{"$f":"IFERROR(IF($B$2=\"トン\",AppQt.Data!BL166,(AppQt.Data!BL166*ozton*AppQt.Data!BL$7)/1000000),\"-\")","v":964.0239488931428},"▼",-7.9489540773174721]
[null,"出所：Metals Focus, Refinitiv GFMS, ICE Benchmark Administration, ワールド・ゴールド・カウンシル"]

{"sheet":"国民一人当たりの需要","index":10,"n_rows":44,"n_cols":15,"rows_kept":44,"cut":false,"hidden":false,"merged":[]}
["▲"]
["▼"]
[]
[null,"国別1人当り消費者需要（グラム）"]
[null,null,2010,2011,2012,2013,2014,2015,2016,2017,2018,2019,2020,2021,2022]
[null,"インド",0.81157529903318093,0.77903840752010123,0.72220383390753606,0.74839926847666116,0.64329493104864854,0.65430464249988973,0.5028889776443739,0.57610382390073955,0.56216839449279865,0.50526693543402401,0.32345523239036106,0.57222325949715558,0.55021984364935372]
[null,"パキスタン",0.19047069499049643,0.22031957139831726,0.21287383383864764,0.2343782346916192,0.18580140391577835,0.19167780116460151,0.21101794608407584,0.21898726447332573,0.19152474388668694,0.17779009450631278,0.13178025650453024,0.18504408640543415,0.19507137274333786]
[null,"スリランカ",0,0,0,0,0.43904610645875441,0.50838578922269917,0.49384979955666636,0.52142392417459427,0.4432289737425012,0.36174144472641379,0.19491440992465442,0.18480113859877492,0.17469735966126629]
[null,"中華圏","","","","","","","","","","","","",""]
[null,"中国",0.48156986341771479,0.60502475116306187,0.63000984382390346,0.98408957137566044,0.73034143623825865,0.71971264057657913,0.66749816422148311,0.69391178270804466,0.7075145192331137,0.60218425618805604,0.43385394183752968,0.67877185665110262,0.55868042218526737]
[null,"香港",3.4301688815289708,6.1606424291874715,6.923901380453688,11.859849535431978,8.4698745346753075,7.2294117647058833,5.8085103686635948,6.2013298459878623,6.9600628582131403,5.262063668852214,2.3970647637000138,3.3295961096852627,3.3115218564490014]
[null,"台湾",0.27329427729701206,0.55794690466853814,0.53046699672574393,0.80258232745993185,0.72373631504748892,0.58565050442660782,0.5446405960820303,0.51632297662841609,0.50557531177220449,0.45824683302969954,0.46025211154025725,0.43700534759358289,0.4812719636581812]
[null,"日本",-0.14934373784297028,-0.28442090047925217,4.0293963209654997E-2,0.16392754420859887,0.10784245245557091,0.25730338817493681,0.26801253866630192,0.10516171543219498,0.22898597365032894,-2.4682882526828105E-2,3.5823080806421728E-2,0.12420533889608085,3.4107946519785895E-2]
[null,"インドネシア",0.21277026530082024,0.25131721946212293,0.2512681181870649,0.35412352416577653,0.25135409294923189,0.23091185060565622,0.23008257630178011,0.22493726969153188,0.24245857956120204,0.20436991437718877,0.13922572255273458,0.17179496515870446,0.18090440049602302]
[null,"マレーシア",0.59309783911673786,0.70193887891688767,0.69970043501469381,0.94653121519413841,0.87455126319159382,0.70896984449304101,0.6121923166651021,0.59514296183942728,0.58418257056389344,0.54130922731605324,0.40121225141173578,0.45448776758409787,0.55966631938153044]
[null,"シンガポール",1.9496300011703076,2.5182643127097899,2.790288731877641,3.8621702013294898,3.7519129736401746,3.2631258927968152,3.0492653630191304,2.9636501422275257,2.9058075738437243,2.6262272089761574,1.6598663383749559,2.0998716538320501,2.8095275590551183]
[null,"韓国",0.38683200354630221,0.53183443849492851,0.55716803138812898,0.80915231687124467,0.78171369736142027,0.89268842497304712,0.76437971025811235,0.80210807600950118,0.79446222739168348,0.75226504394861393,0.68269156570723044,0.76612513530230397,0.62742610312633174]
[null,"タイ",1.0610180280697856,1.6819681127469324,1.6217977019662977,2.2570428864920395,1.5885533102470817,1.3127612613694242,1.1820618168528281,1.0896829783085031,1.1602665114767625,0.66783556673279409,-1.1675658687652923,0.52473030073603955,0.54122379105421969]
[null,"ベトナム",0.93587721999299933,1.1771506280355151,0.94869047110361437,1.110173324517554,0.73460525300620538,0.69141530371921112,0.62924619432892837,0.57509053088233919,0.62840157744644876,0.58423475717745177,0.40787703111166634,0.43644397300598203,0.59462677460850422]
[null,"オーストラリア",null,null,null,null,null,null,null,null,null,null,null,1.1139186769141505,1.1889954347874256]
[null,"中東","","","","","","","","","","","","",""]
[null,"サウジアラビア",3.0643280598627096,2.5533029397586211,2.2581870290506982,2.8246908713922458,2.769429001679502,2.7180299861213606,1.8942895753777267,1.6673112307944411,1.4830754263763941,1.3444131173055569,0.88809580676400413,1.2475073971103476,1.3851723835863246]
[null,"UAE",9.3067572286939875,8.1274717319033112,7.0404428196454951,9.0609403643594444,7.4956821833155587,6.7298841712770905,5.6164337302322958,5.613835044590763,4.4779528262731469,4.1099876382591409,2.7031334471387884,4.0832403379835291,5.2417888139055684]
[null,"クウェート",2.8824811682776699,2.6124760728756762,2.4442650651802871,3.980713415627172,4.3981781410277474,3.8646094151087742,3.4699372958731813,3.7194014530864701,3.6786133907848635,3.319370305871518,2.7901275885361003,3.5023156268389188,3.9173470619029449]
[null,"エジプト",0.70317601344283942,0.45217976230130436,0.53589260846159237,0.62371213292905736,0.58912270215328222,0.48479957132562568,0.30868616466920457,0.25721857172858337,0.28168520688670684,0.29470493924777869,0.23201402394103038,0.33426970138491746,0.36483022297685386]
[null,"イラン",1.1460036261651205,1.3060829304089838,1.3432247055485516,1.6579929927480648,0.96651586672053835,0.85270169213209845,0.56476108616349729,0.7960124026067924,1.1104624032848576,0.83816907440667732,0.66947262310645117,0.61038291100216924,0.83658466448079594]
[null,"その他中東","","","","","","","","","","","","",""]
[null,"トルコ",1.4751755582282222,1.9475306160953458,1.5067412935897904,2.4010573707129832,1.50187435850145,0.91595955536921014,0.87857042296972299,1.1578895981110906,0.90410238777905305,1.0741973224160406,1.7579879459020376,1.1254656422524973,1.4185193156315454]
[null,"ロシア",0.42229479738553261,0.44983108397191474,0.47197433169764308,0.55478448208356823,0.51614527622468287,0.32718988809558236,0.28608523283236692,0.28780112275335257,0.31069549987694328,0.32781002831200351,0.23817058601172597,0.32161979196583684,0.41720831771893024]
[null,"南北アメリカ","","","","","","","","","","","","",""]
[null,"米国",0.73185628467883046,0.63631778615583567,0.50987654145534278,0.59360463340974534,0.51706297306654936,0.59375119838128576,0.65001042127548636,0.48839522832804305,0.4722688133142095,0.45898996950107618,0.56552358155697446,0.79757915216259267,0.77043334854720946]
[null,"カナダ",0.6018637298650138,0.599452183058513,0.50733651813587544,0.56078660027408578,0.5187638117047455,0.49149724059730182,0.49745025901539469,0.46617565747952483,0.44496732535915479,0.46353591377597425,0.54664922423972995,0.67981022515131473,0.71071148272002327]
[null,"メキシコ",0.24148615893245018,0.1894806895334788,0.15697647372984427,0.15521313353550095,0.1499544827288056,0.15670291823917923,0.14853563499233405,0.15567472397602114,0.15064261810374183,0.14273773580912583,0.10385498132247258,0.10948624190356895,0.11254365509357178]
[null,"ブラジル",0.15005816244737358,0.13189861941772396,0.14149707214437238,0.12811577408569758,0.11662732603443142,0.10510955583002167,9.8505511090855091E-2,9.765304997461377E-2,9.6490913211347992E-2,9.3398907470009077E-2,7.5454804173529899E-2,7.639877899684866E-2,7.9658710025482707E-2]
[null,"ヨーロッパ（CISを除く）","","","","","","","","","","","","",""]
[null,"フランス",0.35083451427345475,0.40701728794156855,0.28993140477865281,0.26383962322343729,0.23637002561379392,0.20300376354955599,0.14209457258527355,0.20423428580268879,0.18208855098389981,0.19893159438991045,0.2150856258807671,0.2605046831787553,0.3025529872464916]
[null,"ドイツ",1.7018033490339242,1.9236347320367533,1.4786895399040625,1.7779384329529178,1.3738227864300989,1.5441417172460516,1.4707546337507729,1.4151405635823289,1.2892668152644999,1.1579675784963834,1.9966630992893304,2.0876813217906309,2.3580376356261339]
[null,"イタリア",0.57318510129460665,0.449054922932,0.37533380254965776,0.35028389767241241,0.32959931064196474,0.31893191806949162,0.3150887573964497,0.31340003662576799,0.30935299809803463,0.30374893424946087,0.23130648379470498,0.29178202444459461,0.30138884195586801]
[null,"スペイン",0.24866643742776606,0.17475962488043226,0.1791608509534203,0.1668078222640689,0.17882379141834495,0.18296942903345156,0.1778535621553638,0.18022437143442324,0.18592806315600119,0.18785676355104688,0.14562992633127,0.16360782132106635,0.16967340885893054]
[null,"英国",0.65049557659545998,0.61292928244143297,0.54937450724686931,0.50946824936249757,0.51585255059908042,0.52804846073919964,0.56559113983870279,0.50804117334698118,0.52119860294677456,0.48249422831172567,0.44130152198500988,0.51608763233657073,0.52679716219386885]
[null,"スイス",11.158520957456625,12.294301224644213,7.8179995535350875,7.6795622622873214,5.8633128583128578,6.1116384775161174,5.4786597814338904,5.0451306413301662,4.3081093823668084,3.4897600936220012,4.9848942598187307,5.0519031141868513,5.5781339439038353]
[null,"オーストリア",1.6430177831516859,1.7999048530748343,1.2362195888382099,1.5320250996780469,1.1974663905108476,1.4137116025382386,1.2399329308278031,1.0984568430743054,0.92079236051716373,0.70429267840501186,1.2995385731114484,1.3687909084792087,1.5816601934104559]
[null,"その他ヨーロッパ","","","","",""]
[null,"出所：Metals Focus, Refinitiv GFMS, IMF WEO, ワールド・ゴールド・カウンシル"]

{"sheet":"価格","index":11,"n_rows":14,"n_cols":72,"rows_kept":14,"cut":false,"hidden":false,"merged":[]}
["▲"]
["▼"]
[]
[null,"年間および四半期平均価格"]
[null,null,2010,2011,2012,2013,2014,2015,2016,2017,2018,2019,2020,2021,2022,null,"前年同期比%",null,"2010年第1四半期","2010年第2四半期","2010年第3四半期","2010年第4四半期","2011年第1四半期","2011年第2四半期","2011年第3四半期","2011年第4四半期","2012年第1四半期","2012年第2四半期","2012年第3四半期","2012年第4四半期","2013年第1四半期","2013年第2四半期","2013年第3四半期","2013年第4四半期","2014年第1四半期","2014年第2四半期","2014年第3四半期","2014年第4四半期","2015年第1四半期","2015年第2四半期","2015年第3四半期","2015年第4四半期","2016年第1四半期","2016年第2四半期","2016年第3四半期","2016年第4四半期","2017年第1四半期","2017年第2四半期","2017年第3四半期","2017年第4四半期","2018年第1四半期","2018年第2四半期","2018年第3四半期","2018年第4四半期","2019年第1四半期","2019年第2四半期","2019年第3四半期","2019年第4四半期","2020年第1四半期","2020年第2四半期","2020年第3四半期","2020年第4四半期","2021年第1四半期","2021年第2四半期","2021年第3四半期","2021年第4四半期","2022年第1四半期","2022年第2四半期","2022年第3四半期","2022年第4四半期",null,"前年同期比%"]
[null,"米ドル/オンス",1224.52,1571.52,1668.98,1411.23,1266.4000000000001,1160.06,1250.8,1257.1500000000001,1268.49,1392.6,1769.59,1798.61,1800.09,"▲",8.2285765118617071E-2,null,1109.1199999999999,1196.74,1226.75,1366.78,1386.27,1506.13,1702.12,1688.01,1690.57,1609.49,1652,1721.79,1631.77,1414.8,1326.28,1276.1600000000001,1293.06,1288.3900000000001,1281.94,1201.4000000000001,1218.45,1192.3499999999999,1124.31,1106.45,1182.56,1259.6199999999999,1334.78,1221.55,1219.49,1256.5899999999999,1277.9100000000001,1275.42,1329.28,1305.99,1213.19,1226.28,1303.79,1309.3900000000001,1472.47,1480.96,1582.8,1711.13,1908.56,1874.23,1794.01,1816.48,1789.52,1795.25,1877.16,1870.58,1728.91,1725.85,"▼",-3.8657568583762791]
[null,"ユーロ/オンス",925.18935999999997,1129.9245900000001,1298.7161000000001,1063.7691500000001,952.82570999999996,1045.29709,1129.4534799999999,1114.0590400000001,1073.6976999999999,1244.8750500000001,1549.0447099999999,1520.62257,1710.02116,"▲",12.455332028907073,null,802.43462,944.83171000000004,948.75427999999999,1005.89333,1012.3323799999999,1047.74657,1206.7613699999999,1250.3278499999999,1289.2899,1254.6768199999999,1320.2419199999999,1328.84483,1235.5876499999999,1083.2170900000001,1001.46777,937.81866000000002,943.48690999999997,939.72796000000005,967.00121999999999,960.34020999999996,1083.0982899999999,1077.9857500000001,1011.54357,1010.11151,1072.2665300000001,1115.68652,1195.9323999999999,1130.9580800000001,1144.09176,1140.41615,1087.6826699999999,1083.8657599999999,1081.52469,1096.3759399999999,1043.0148899999999,1074.7388100000001,1148.24881,1165.02044,1324.6387400000001,1338.0031799999999,1436.5892899999999,1552.65717,1632.5073299999999,1574.07241,1488.90113,1506.0895599999999,1518.11751,1569.78052,1674.1819,1757.59727,1716.3688099999999,1693.5794900000001,"▲",7.8863872001673219]
[null,"英ポンド/オンス",792.40733,980.75635999999997,1052.9800299999999,903.81239000000005,768.14916000000005,758.98199,927.34223999999995,976.05850999999996,949.60551999999996,1092.9256,1378.98099,1307.5317399999999,1457.5654500000001,"▲",11.474574988137576,null,712.36563000000001,803.58326999999997,791.02653999999995,864.19195999999999,864.57411000000002,924.85829999999999,1058.0663,1073.3501100000001,1075.8479400000001,1016.55603,1045.29573,1072.55566,1051.59321,921.35350000000005,855.48590999999999,789.15531999999996,781.13715999999999,765.43371000000002,767.58439999999996,758.21542999999997,804.88891000000001,777.66746999999998,725.96852999999999,728.56142999999997,826.91449,879.06858,1016.82497,983.92228999999998,984.03683999999998,981.4076,976.44748000000004,961.93059000000005,955.14935000000003,960.34325999999999,930.64621,952.80542000000003,1001.04052,1019.25371,1194.7508800000001,1152.0240200000001,1238.4590700000001,1378.23343,1477.5934199999999,1421.3874000000001,1301.3777,1298.5379600000001,1298.6956499999999,1331.89741,1400.4487799999999,1491.2716399999999,1468.76602,1471.64975,"▲",10.492725562098659]
[null,"スイスフラン/キロ",40954.232160367799,44649.532367739965,50323.667111418326,42090.263796678832,37205.891619914153,35863.234684199524,39575.501470895557,39771.870368286531,39882.12644879194,44476.979439612915,53307.743180027966,52849.737489350067,55241.607214622149,"▲",4.5257930103325128,null,37726.947449643929,42700.537238574434,40639.192373848608,42845.714790939921,41937.571012908513,42088.454675518835,45147.12910122655,49439.277894770683,50061.736139019718,48464.65478161622,51088.443744273158,51603.644605912516,48792.453260887036,42865.674281029467,39744.184416544762,37072.26325011655,37107.488224797846,36831.486488658833,37668.271737907315,37189.495394408987,37292.44265114858,36082.710627421358,34875.897889305066,35230.1503046281,37774.341472824599,39294.289067146783,41860.191939813842,39262.115196039034,39338.007298214034,39741.632292185765,39560.854887713605,40478.7027183436,40520.082627357049,41381.096339640229,38388.623145305188,39276.591058884042,41790.599771729874,42177.151124471522,46679.184657675178,47160.659089813045,49269.711768771995,52985.031588084938,56436.816435449386,54513.059945022265,52220.106097384538,53136.656967865354,52828.158567363811,53229.855160994746,55768.072081920036,58044.801067403991,53725.485877795101,53531.325735045895,"▲",0.56635617951494854]
[null,"円/グラム",3443.6333126497016,4015.7601520729177,4278.1729194463642,4410.4050688829229,4297.4539383027641,4513.8009056858546,4353.5017509283516,4531.7017441767011,4502.2017190991373,4876.8400501551268,6069.5868063079715,6348.1845219991319,7588.0608327037144,"▲",19.53119520089388,null,3234.1323204784026,3538.5146870930921,3381.2426514700915,3628.5718870866622,3667.2802501326219,3948.592530744128,4246.9523468419948,4195.3797980934623,4312.8434443069109,4144.401076084685,4174.7521397913415,4478.5975465783595,4834.6540161075127,4492.4496346070382,4216.7840136962086,4107.101371871333,4271.1136280482906,4228.9238162907714,4282.4116343819833,4407.4140463291915,4666.7902091404503,4656.3882698088637,4416.1688183001916,4320.4126853891039,4374.4498908482965,4367.2678926808885,4392.3098014692878,4276.6398675390228,4451.3366576108801,4490.7677814393874,4558.70027810375,4628.6268439243177,4628.2253881395982,4584.4262237368785,4348.2857900236304,4450.8018647419094,4617.3132534923716,4624.1221286993423,5081.4136023277115,5174.7223164595625,5544.8721439709352,5915.7587769865122,6511.7575906248494,6299.0085353738323,6115.2651826964811,6388.6322648576524,6333.6055678621369,6560.3496519684286,7023.2697284871474,7806.3746150754741,7679.8453341263848,7860.3363171347282,"▲",19.815813700970033]
[null,"インド・ルピー/10グラム",17997.307569887635,23624.084041988845,28639.382770427765,26440.155287990096,24835.057244361567,23903.214718600797,27013.528381050364,26319.746041442275,27861.263844904915,31542.489751957179,42181.733695564806,42750.132653881403,45437.485781342926,"▲",6.2861866399788413,null,16369.077563618244,17590.665327053226,18324.420563602165,19708.941855418201,20176.25010047101,21669.937724050353,25100.097191634381,27534.271995113086,27287.803880592219,28004.731750446088,29302.077901200828,29964.666934589353,28420.799395566421,25380.94407381806,26503.475332358095,25452.338482807398,25671.550886556175,24777.903708585851,24970.787242593273,23899.005899657597,24377.916504573441,24332.811484238111,23476.093622904176,23445.976915781182,25676.986062661759,27099.401353545421,28733.924220746856,26450.084041988845,26249.421608500652,26048.142588454677,26414.106997604773,26566.130821290208,27503.781471538572,28143.650328741136,27345.740704422333,28474.278457408327,29554.50222643754,29282.985869757424,33329.011075923932,33912.635941292778,36874.377996045463,41734.383654572637,45639.983281624241,44474.844856688149,42045.83831401611,43076.614979021651,42635.26394135708,43264.996961756711,45433.630909704698,46430.331120291929,44354.470011413505,45601.176748597427,"▲",5.3996994126816578]
[null,"人民元/グラム",266.30953011718941,326.27879691996077,338.53135820727567,279.19187229732989,250.84625813815163,234.23356053177295,267.04523735270948,273.11237127654442,269.41475653865319,309.74727828057934,392.41506486408286,372.96651662996129,388.92011735013745,"▲",4.2774887312483578,null,243.45889497966468,262.55406529811756,266.93791631166908,292.56482550195312,293.38013406851314,314.70110405581369,351.06742006526594,345.2298924558329,343.01157233108813,327.62407446107352,337.3037275547768,345.72928802224828,326.50130371180092,279.96667416850198,261.20033533203662,249.96973427427781,253.70951564936422,258.12088060829166,254.12283215715274,237.34441140064624,244.31215393765976,237.83725754336328,227.81832333981706,227.17248862668185,248.6867532592795,264.65861848345043,286.06207661517192,267.9057032166798,270.0669198000225,277.14172585078853,273.99287507836738,271.35443760348511,271.7581873422605,267.82365553715823,265.3892532994679,272.77998778272541,282.75440738180589,287.40964393074734,332.2196723841368,335.59309949041102,355.15235680871928,389.95641197935925,424.51325188483611,399.64746796984264,373.67602906425321,376.9992084492099,372.191051167875,369.09090070249329,383.11134373945055,397.64382143488677,380.58719597472953,395.08138762518689,"▲",7.0417577006709475]
[null,"トルコ・リラ/グラム",59.260295786647809,85.365362740527587,96.565851110003692,85.988412558072241,88.982769141736469,101.35430128442135,121.28797627276674,147.33749320815986,196.23778963782212,254.27021685662385,402.09297024450626,513.68954169144945,955.69850820647196,"▲",86.045934487900809,null,53.843760027006603,59.364243895381549,59.681596926390924,64.220237272332696,70.302792290256718,76.043743630138081,95.288217724693354,99.517059494912147,97.588256627067693,93.45411609625927,95.768413201086702,99.344983040493844,93.626769977655258,83.617639493947621,84.006782837944286,82.798342630250602,92.049568055042045,87.476511003584804,89.101734209976371,87.223748131239248,96.504404327487265,102.33597151445979,103.14501712025978,103.43922195251338,111.89717813107849,117.34866204767953,127.22904817785781,128.57054318645811,144.92995707878535,144.39041844165448,144.3565196842799,155.93808703200605,163.04368575883743,183.91091549182568,220.09047341939009,217.67203112189944,225.34853440931084,247.07484013053192,268.59942707412347,275.71514073978813,311.20931213529019,377.90360441750931,444.08676290449631,475.68182294597074,426.68146350089216,490.85665632485092,491.7814438889514,647.53375632967357,844.5766762582989,950.06394264311086,996.90650216213612,1032.7712585400357,"▲",59.493037767474988]
[null,"出所：ICE Benchmark Administration, Refinitiv Datastream, ワールド・ゴールド・カウンシル"]

{"sheet":"インドにおける供給量","index":12,"n_rows":16,"n_cols":62,"rows_kept":16,"cut":false,"hidden":false,"merged":[[12,1,14,14]]}
["▲"]
["▼"]
[]
[null,"インドにおける推定供給量（トン）"]
[null,null,2012,2013,2014,2015,2016,2017,2018,2019,2020,2021,2022,null,"前年同期比%",null,"2012年第1四半期","2012年第2四半期","2012年第3四半期","2012年第4四半期","2013年第1四半期","2013年第2四半期","2013年第3四半期","2013年第4四半期","2014年第1四半期","2014年第2四半期","2014年第3四半期","2014年第4四半期","2015年第1四半期","2015年第2四半期","2015年第3四半期","2015年第4四半期","2016年第1四半期","2016年第2四半期","2016年第3四半期","2016年第4四半期","2017年第1四半期","2017年第2四半期","2017年第3四半期","2017年第4四半期","2018年第1四半期","2018年第2四半期","2018年第3四半期","2018年第4四半期","2018年第1四半期","2019年第2四半期","2019年第3四半期","2019年第4四半期","2020年第1四半期","2020年第2四半期","2020年第3四半期","2020年第4四半期","2021年第1四半期","2021年第2四半期","2021年第3四半期","2021年第4四半期","2022年第1四半期","2022年第2四半期","2022年第3四半期","2022年第4四半期",null,"前年同期比%"]
[null,"供給"]
[null,"金地金輸入",974.4516000000001,959.37571000000003,994.77,1065.02,642.07000000000005,975.34249999999997,871.68537500000002,827.44687499999998,399.57056249999994,1003.4108225,763.71326440223993,"▼",-23.888277136632141,null,271.27020000000005,178.36619999999999,207.46680000000001,317.34840000000003,302.11829999999998,382.62990000000008,140.01291000000001,134.6146,189.41,223.94200000000001,242.10299999999998,339.315,249.24,235.92999999999998,304.8,275.05,151.4,142.92000000000002,114.31,233.44,281.08,272.55,172.76249999999999,248.95,176.23000000000002,229.27250000000001,268.42287499999998,197.76,212.94499999999999,298.00624999999997,135.85062500000001,180.64500000000001,118.057,13.412312500000001,99.525249999999986,168.57599999999999,326.36279999999999,140.13396,286.46406250000001,250.45,145.69675999999998,187.16673075224003,219.67495601999997,211.17481763000001,"▼",-15.681845625873425]
[null,"内ドーレ1",23.192099999999996,36.886400000000002,84.144000000000005,229.01000000000002,141.87,250.63,275.90100000000001,211.48000000000002,107.608,219.584,248.62968040224001,"▲",13.227594179102308,null,0.42749999999999999,2.3250000000000002,2.8499999999999996,17.589599999999997,15.193999999999999,8.6,9.4068000000000005,3.6856000000000004,6.98,19.72,21.244,36.200000000000003,38.549999999999997,56.7,67.3,66.460000000000008,34.800000000000004,36.67,11.059999999999999,59.34,62.179999999999993,70.8,45.45,72.2,59.68,69.210000000000008,89.751000000000005,57.26,67.400000000000006,75.5,8.7100000000000009,59.87,31.020000000000003,3.048,25.197999999999997,48.341999999999999,46.9,34,55.1,83.584000000000003,51.7,70.269992752239986,73.048252020000007,53.611435630000003,"▼",-35.859212732101838]
[null,"ネット金地金輸入",842.80339240000001,876.42585919999999,898.61499454999989,913.61999999999989,551.49860400000011,879.01451652000003,755.65619812800003,646.80803919279992,349.46556249999998,924.56082249999997,673.30326440224007,"▼",-27.175881995341623,null,228.14062030000005,147.29484929999998,176.42901190000001,290.9389109,275.60109339999997,361.93339830000008,116.3846874,122.5066801,176.12091670000001,205.97607785,224.20299999999997,292.315,220.24,202.92999999999998,262.90000000000003,227.55,127.4,120.34860400000002,95.81,207.94,260.18,243.75,148.16343687999998,226.92107963999999,157.42000000000002,193.13249999999999,236.78418663199997,168.31951149599999,177.20599999999999,247.41024999999996,83.646789192800014,138.54500000000002,83.057000000000002,10.912312500000001,89.025249999999986,166.471,313.86279999999999,131.63396,270.71406250000001,208.35,130.69675999999998,176.96673075224004,200.77495601999996,164.86481763,"▼",-20.871217840172783]
[null,"スクラップ",118,95.75,92.5,80.2,79.5,88.399000000000001,86.977098800000007,119.52834204,95.51901051000003,75.229235650800007,97.570529802900012,"▲",29.697622152914182,null,21,24.5,32,40.499999999999993,14,15.749999999999998,30.249999999999996,35.749999999999993,30,22.5,17.5,22.5,18,24,18.2,20,14,23.759999999999998,25.74,16,14.489999999999997,29.568000000000005,26.741,17.600000000000001,14.071399999999995,31.980748800000008,22.972950000000001,17.952000000000002,16.059749999999998,37.884887040000002,36.501465000000003,29.082240000000002,18.549011249999996,13.776322560000004,41.478937500000008,21.714739200000007,14.839209,19.700141260800006,20.739468750000004,19.950416640000004,27.823516874999999,23.281985126400009,15.969390937500002,30.495636864000009,"▲",52.857142857142868]
[null,"その他供給源からの国内供給2",10,9.59,9.9300000000000015,9.2000000000000011,9.9,8.8000000000000007,10.5,11.100000000000001,9,6.9,11.8,"▲",71.014492753623188,null,2.5,2.5,2.5,2.5,1.99,2.5099999999999998,2.5299999999999998,2.56,3.55,2.68,1.8,1.9,2.4,2.5,2.2000000000000002,2.1,3.3,2.2000000000000002,2.2000000000000002,2.2000000000000002,2.2000000000000002,2.2000000000000002,2.2000000000000002,2.2000000000000002,2.2000000000000002,2.6,2.2000000000000002,3.5,3.6,2.6,2.1,2.8,2,0.8,4.2,2,1.1000000000000001,1.7,1.5,2.6,2.6,2.6,3.3,3.3,"▲",26.923076923076916]
[null,"供給合計3",970.80339240000001,981.76585920000002,1001.04499455,1003.02,640.89860399999998,976.21351651999998,853.13329692800005,777.43638123279993,453.98457301000002,1006.6900581508,782.67379420513998,"▼",-22.252754175119005,null,251.64062030000005,174.29484929999998,210.92901190000001,333.9389109,291.59109339999998,380.19339830000007,149.16468739999999,160.81668009999999,209.67091670000002,231.15607785,243.50299999999999,316.71499999999997,240.64000000000001,229.42999999999998,283.3,249.65,144.70000000000002,146.30860400000003,123.75,226.14,276.87,275.51800000000003,177.10443687999998,246.72107964,173.69140000000002,227.7132488,261.95713663199996,189.77151149599999,196.86574999999999,287.89513703999995,122.24825419280002,170.42724000000001,103.60601124999999,25.488635060000007,134.70418749999999,190.1857392,329.802009,153.03410126080001,292.95353125000003,230.90041664,161.12027687499997,202.84871587864006,220.04434695749995,198.66045449400002,"▼",-13.962712850477764]
[null,"1 ドーレに含まれる高純度金の量\n2 国内鉱山採掘、輸入銅精鉱からの回収および投資売り戻しによる国内供給\n3 かかる供給は宝飾品、投資および工業用の3つの分野で消費される。結果として表に示す供給合計数値はインドの宝飾品と投資需要に合致しない。"]
[]
[]
[null,"出所：Metals Focus, ワールド・ゴールド・カウンシル"]

{"sheet":"ETFs","index":13,"n_rows":17,"n_cols":18,"rows_kept":17,"cut":false,"hidden":false,"merged":[[3,8,3,13],[10,8,10,17]]}
["▲"]
["▼"]
[]
[null,"金の現物の裏付けがあるETFの保有残高上位10銘柄（トン）",null,null,null,null,null,null,"金の現物の裏付けがあるETFの地域別保有残高（トン）"]
[null,null,"ファンド","国","12月末準備高",null,"前年同期比%",null,null,"2021年第4四半期","2022年第1四半期","2022年第2四半期","2022年第3四半期","2022年第4四半期",null,"年同比公吨变化",null,"前年同期比%"]
[null,1,"SPDR Gold Shares","米国",917.34029014999999,"▼",-5.9470748963485143,null,"北米",1801.7020673400004,1972.7716925400002,1929.6257569099998,1779.3348236000002,1727.1248721299999,"▼",-74.577195210000582,"▼",-4.1392634532581134]
[null,2,"iShares Gold Trust","米国",448.72474595,"▼",-8.5810608190468702,null,"ヨーロッパ",1580.6329418099992,1693.2623744400007,1690.1439729999995,1597.0170741900015,1565.9159887200003,"▼",-14.716953089998924,"▼",-0.93107974031886309]
[null,3,"Invesco Physical Gold ETC","英国",251.92845159999999,"▲",3.6346023117871162,null,"アジア",140.01828051000001,125.08440999999999,123.75751899000002,124.30705857,118.71931910000004,"▼",-21.298961409999976,"▼",-15.211557614063697]
[null,4,"iShares Physical Gold ETC","英国",233.1533609,"▲",6.0242796057556447,null,"その他",60.542638869999998,62.443807580000012,62.66997559,61.442318599999993,60.771242039999997,"▲",0.22860316999999952,"▲",0.37759036319984229]
[null,5,"Xetra-Gold","ドイツ",231.03283769999999,"▼",-2.7417847512550164,null,"世界合計",3582.8959285300002,3853.5622845599996,3806.1972244900003,3562.1012749599986,3472.5314219899979,"▼",-110.36450654000237,"▼",-3.0803157206210852]
[null,6,"Sprott Physical Gold Trust","米国",97.980000619999998,"▲",15.216369496707415,null,"出所：各ETPプロバイダー、Bloomberg、ICE Benchmark Administration、ワールド・ゴールド・カウンシル\n"]
[null,7,"SPDR Gold MiniShares Trust","米国",88.392265879999997,"▲",18.763209455912055]
[null,8,"WisdomTree Physical Gold","英国",81.306707320000001,"▼",-14.924951638176109]
[null,9,"Amundi Physical Gold ETC","フランス",71.524824769999995,"▲",4.8605280851058641]
[null,10,"ZKB Gold ETF ‡","スイス",71.149597229999998,"▼",-0.14193310895910249]
[null,null,"世界合計",null,3472.5314219899979,"▲",1.4103359722058117]
[null,"出所：各ETPプロバイダー、Bloomberg、ICE Benchmark Administration、ワールド・ゴールド・カウンシル\n"]